{"text_format":"3","workbook":"xlsx","n_sheets":5,"sheets":["INICIO","DASHBOARD","DATA","FX","xDASHBOARD"],"not_rendered":{"charts":2,"images":13,"macros":1,"defined_names":7,"pivot_tables":1},"read":"whole","date_system":"1900"}

{"sheet":"INICIO","index":0,"n_rows":25,"n_cols":6,"rows_kept":25}
[null,"EXCEL NO CONVENCIONAL"]
[null,"www.excelnoconvencional.pe"]
[null,"informes@excelnoconvencional.pe"]
[null,"Whatsapp 998401784"]
[]
[{"$nulls":5},"PROGRAMAS DE EXCEL"]
[]
[{"$nulls":5},"Programa Integral de Excel (Básico, intermedio y avanzado) 42 horas"]
[{"$nulls":5},"http://excelnoconvencional.pe/programa-integral-de-excel/"]
[{"$nulls":5},"Tablas Dinamicas Empresariales (2 módulos) 28 horas"]
[{"$nulls":5},"http://excelnoconvencional.pe/tablas-dinamicas-empresariales/"]
[{"$nulls":5},"Programa Avanzado: Buscando datos en Excel (1 módulo) 16 horas"]
[{"$nulls":5},"http://excelnoconvencional.pe/buscando-datos-en-excel/"]
[{"$nulls":5},"Programa Avanzado: Matemática financiera y analisis de EEFF (2 módulos) 27 horas"]
[{"$nulls":5},"http://excelnoconvencional.pe/matematica-financiera-y-analisis-de-eeff/"]
[]
[{"$nulls":5},"MEJORA DE SISTEMAS DE TRABAJO BASADOS EN EXCEL"]
[]
[{"$nulls":5},"Mejoras de sistemas de trabajo productivos"]
[{"$nulls":5},"Mejoras de sistemas de trabajo administrativos"]
[{"$nulls":5},"Mejoras de sistemas de trabajo operativos"]
[{"$nulls":5},"Mejoras de sistemas de trabajo contables"]
[]
[{"$nulls":5},"CURSOS PERSONALES Y ASESORIAS A DOMICILIO"]
[{"$nulls":5},"https://www.linkedin.com/in/martin-cruz-9a905349/"]

{"sheet":"DASHBOARD","index":1,"n_rows":26,"n_cols":3,"rows_kept":26}
[null,"EXCEL NO CONVENCIONAL"]
[null,"www.excelnoconvencional.pe"]
[null,"informes@excelnoconvencional.pe"]
[null,"Whatsapp 998401784"]
[]
[]
[null,null,0]
{"$rows_empty":10}
["Selecciona el slicer"]
[]
[]
[]
[]
[]
[]
["Selecciona la barra"]
["de desplazamiento"]

{"sheet":"DATA","index":2,"n_rows":5001,"n_cols":8,"rows_kept":5001}
["FECHA EMISION","CLIENTE","REGION","DOCUMENTO","FECHA VCTO","DIAS DE ATRASO","TOTAL","ATRASADO"]
["2017-10-17","CUEROS TAURO S.A.C.","Centro","0001-003595","2017-12-16",87,{"v":20030,"d":"20,030"},{"$f":"IF(t.base[[#This Row],[DIAS DE ATRASO]]=0,0,t.base[[#This Row],[TOTAL]])","v":20030}]
["2017-05-29","GRIFOS AQP S.R.L.","Sur","0002-002767","2017-07-28",228,{"v":12369,"d":"12,369"},{"$f":"IF(t.base[[#This Row],[DIAS DE ATRASO]]=0,0,t.base[[#This Row],[TOTAL]])","v":12369}]
["2017-11-19","MEDICAL MED SAC","Centro","0002-005907","2017-12-19",84,{"v":19607,"d":"19,607"},{"$f":"IF(t.base[[#This Row],[DIAS DE ATRASO]]=0,0,t.base[[#This Row],[TOTAL]])","v":19607}]
["2018-02-25","DDP ADUANAS S.A.C.","Sur","0001-006058","2018-03-12",1,{"v":37079,"d":"37,079"},{"$f":"IF(t.base[[#This Row],[DIAS DE ATRASO]]=0,0,t.base[[#This Row],[TOTAL]])","v":37079}]
["2018-02-26","NEGOCIOS A & D SRL","Norte","0001-009295","2018-03-13",0,{"v":39224,"d":"39,224"},{"$f":"IF(t.base[[#This Row],[DIAS DE ATRASO]]=0,0,t.base[[#This Row],[TOTAL]])","v":0}]
["2017-12-13","MOSOQ INN E.I.R.L.","Sur","0001-007691","2018-03-13",0,{"v":25838,"d":"25,838"},{"$f":"IF(t.base[[#This Row],[DIAS DE ATRASO]]=0,0,t.base[[#This Row],[TOTAL]])","v":0}]
["2018-02-26","TRANSVED S.R.L.","Sur","0002-009090","2018-03-13",0,{"v":10058,"d":"10,058"},{"$f":"IF(t.base[[#This Row],[DIAS DE ATRASO]]=0,0,t.base[[#This Row],[TOTAL]])","v":0}]
["2018-02-26","TRANSEQUIP E.I.R.L.","Centro","0002-006201","2018-03-13",0,{"v":12829,"d":"12,829"},{"$f":"IF(t.base[[#This Row],[DIAS DE ATRASO]]=0,0,t.base[[#This Row],[TOTAL]])","v":0}]
["2017-12-26","PRU SAC","Centro","0002-002572","2018-01-25",47,{"v":15551,"d":"15,551"},{"$f":"IF(t.base[[#This Row],[DIAS DE ATRASO]]=0,0,t.base[[#This Row],[TOTAL]])","v":15551}]
["2017-11-13","CAPITEX S.A.C","Centro","0001-001909","2018-01-12",60,{"v":14034,"d":"14,034"},{"$f":"IF(t.base[[#This Row],[DIAS DE ATRASO]]=0,0,t.base[[#This Row],[TOTAL]])","v":14034}]
["2018-01-27","LOAYZA KARI ENRIQUE","Centro","0002-007296","2018-03-13",0,{"v":13689,"d":"13,689"},{"$f":"IF(t.base[[#This Row],[DIAS DE ATRASO]]=0,0,t.base[[#This Row],[TOTAL]])","v":0}]
["2017-06-01","RV COMPUTER S.A.C.","Centro","0002-002800","2017-07-16",240,{"v":17009,"d":"17,009"},{"$f":"IF(t.base[[#This Row],[DIAS DE ATRASO]]=0,0,t.base[[#This Row],[TOTAL]])","v":17009}]
["2018-01-28","COPY  GRAPH S.A.C.","Centro","0002-007463","2018-02-12",29,{"v":26974,"d":"26,974"},{"$f":"IF(t.base[[#This Row],[DIAS DE ATRASO]]=0,0,t.base[[#This Row],[TOTAL]])","v":26974}]
["2018-01-27","ALI & CIA S.A.C","Norte","0002-006575","2018-03-13",0,{"v":33917,"d":"33,917"},{"$f":"IF(t.base[[#This Row],[DIAS DE ATRASO]]=0,0,t.base[[#This Row],[TOTAL]])","v":0}]
["2018-02-26","MULTIMUELLES S.A.","Centro","0001-001221","2018-03-13",0,{"v":25034,"d":"25,034"},{"$f":"IF(t.base[[#This Row],[DIAS DE ATRASO]]=0,0,t.base[[#This Row],[TOTAL]])","v":0}]
["2017-12-13","FEMMEGIN E.I.R.L.","Centro","0001-001000","2018-03-13",0,{"v":21014,"d":"21,014"},{"$f":"IF(t.base[[#This Row],[DIAS DE ATRASO]]=0,0,t.base[[#This Row],[TOTAL]])","v":0}]
["2018-02-23","MIYAGUI S.A.C.","Centro","0001-004992","2018-02-23",18,{"v":23412,"d":"23,412"},{"$f":"IF(t.base[[#This Row],[DIAS DE ATRASO]]=0,0,t.base[[#This Row],[TOTAL]])","v":23412}]
["2017-10-31","LAURA PARI ALIPIO","Centro","0001-004819","2017-12-30",73,{"v":24407,"d":"24,407"},{"$f":"IF(t.base[[#This Row],[DIAS DE ATRASO]]=0,0,t.base[[#This Row],[TOTAL]])","v":24407}]
["2018-02-11","ORTIZ LOPEZ OSCAR","Centro","0001-007325","2018-03-13",0,{"v":28865,"d":"28,865"},{"$f":"IF(t.base[[#This Row],[DIAS DE ATRASO]]=0,0,t.base[[#This Row],[TOTAL]])","v":0}]
["2018-01-12","JADE TRES SAC","Centro","0001-003216","2018-03-13",0,{"v":24128,"d":"24,128"},{"$f":"IF(t.base[[#This Row],[DIAS DE ATRASO]]=0,0,t.base[[#This Row],[TOTAL]])","v":0}]
["2018-03-11","T-MOVIL S.A.C.","Norte","0002-007124","2018-03-11",2,{"v":63086,"d":"63,086"},{"$f":"IF(t.base[[#This Row],[DIAS DE ATRASO]]=0,0,t.base[[#This Row],[TOTAL]])","v":63086}]
["2018-02-11","PERUVIANDENT S.A.C.","Centro","0001-002508","2018-03-13",0,{"v":14033,"d":"14,033"},{"$f":"IF(t.base[[#This Row],[DIAS DE ATRASO]]=0,0,t.base[[#This Row],[TOTAL]])","v":0}]
["2017-10-07","PRO MAKEUP E.I.R.L.","Centro","0002-003349","2018-01-05",67,{"v":12155,"d":"12,155"},{"$f":"IF(t.base[[#This Row],[DIAS DE ATRASO]]=0,0,t.base[[#This Row],[TOTAL]])","v":12155}]
["2018-02-11","S A RINCON GAUCHO","Centro","0001-005590","2018-03-13",0,{"v":20459,"d":"20,459"},{"$f":"IF(t.base[[#This Row],[DIAS DE ATRASO]]=0,0,t.base[[#This Row],[TOTAL]])","v":0}]
["2018-02-26","LUMOGA   E.I.R.L.","Centro","0002-008292","2018-03-13",0,{"v":29016,"d":"29,016"},{"$f":"IF(t.base[[#This Row],[DIAS DE ATRASO]]=0,0,t.base[[#This Row],[TOTAL]])","v":0}]
["2018-03-13","PIGMOOL E.I.R.L.","Sur","0001-008137","2018-03-13",0,{"v":21118,"d":"21,118"},{"$f":"IF(t.base[[#This Row],[DIAS DE ATRASO]]=0,0,t.base[[#This Row],[TOTAL]])","v":0}]
["2018-01-12","F Y F CORP. S.A.C.","Centro","0002-002789","2018-03-13",0,{"v":24456,"d":"24,456"},{"$f":"IF(t.base[[#This Row],[DIAS DE ATRASO]]=0,0,t.base[[#This Row],[TOTAL]])","v":0}]
["2017-08-22","TECENG S.A.C.","Centro","0002-009646","2017-10-21",143,{"v":15611,"d":"15,611"},{"$f":"IF(t.base[[#This Row],[DIAS DE ATRASO]]=0,0,t.base[[#This Row],[TOTAL]])","v":15611}]
["2018-02-13","CELEKSA S R L","Centro","0002-007114","2018-02-13",28,{"v":29313,"d":"29,313"},{"$f":"IF(t.base[[#This Row],[DIAS DE ATRASO]]=0,0,t.base[[#This Row],[TOTAL]])","v":29313}]
["2017-12-17","CARBOTEC II S.R.L.","Centro","0002-008176","2018-01-01",71,{"v":19165,"d":"19,165"},{"$f":"IF(t.base[[#This Row],[DIAS DE ATRASO]]=0,0,t.base[[#This Row],[TOTAL]])","v":19165}]
["2018-01-22","RIFUSE EIRL","Sur","0001-008072","2018-02-21",20,{"v":21516,"d":"21,516"},{"$f":"IF(t.base[[#This Row],[DIAS DE ATRASO]]=0,0,t.base[[#This Row],[TOTAL]])","v":21516}]
["2018-01-27","ZELA KID'S E.I.R.L.","Norte","0002-003469","2018-03-13",0,{"v":28832,"d":"28,832"},{"$f":"IF(t.base[[#This Row],[DIAS DE ATRASO]]=0,0,t.base[[#This Row],[TOTAL]])","v":0}]
["2018-01-12","ROL EMPRESARIAL S A","Centro","0001-008402","2018-03-13",0,{"v":23394,"d":"23,394"},{"$f":"IF(t.base[[#This Row],[DIAS DE ATRASO]]=0,0,t.base[[#This Row],[TOTAL]])","v":0}]
["2018-01-27","ZHOU YA S.A.C","Centro","0002-005162","2018-03-13",0,{"v":11203,"d":"11,203"},{"$f":"IF(t.base[[#This Row],[DIAS DE ATRASO]]=0,0,t.base[[#This Row],[TOTAL]])","v":0}]
["2017-10-23","DS GLOBAL S.A.C","Centro","0002-008583","2017-12-07",96,{"v":17640,"d":"17,640"},{"$f":"IF(t.base[[#This Row],[DIAS DE ATRASO]]=0,0,t.base[[#This Row],[TOTAL]])","v":17640}]
["2018-02-25","NATURMEDIZIN S.A.C.","Centro","0001-006278","2018-03-12",1,{"v":21959,"d":"21,959"},{"$f":"IF(t.base[[#This Row],[DIAS DE ATRASO]]=0,0,t.base[[#This Row],[TOTAL]])","v":21959}]
["2018-03-12","DELGADO DIAZ ABEL","Centro","0001-008541","2018-03-12",1,{"v":23260,"d":"23,260"},{"$f":"IF(t.base[[#This Row],[DIAS DE ATRASO]]=0,0,t.base[[#This Row],[TOTAL]])","v":23260}]
["2018-02-26","KORPAK E.I.R.L.","Centro","0001-008649","2018-03-13",0,{"v":20397,"d":"20,397"},{"$f":"IF(t.base[[#This Row],[DIAS DE ATRASO]]=0,0,t.base[[#This Row],[TOTAL]])","v":0}]
["2018-02-27","PUROCORAZON S.A.C.","Centro","0001-004060","2018-02-27",14,{"v":21372,"d":"21,372"},{"$f":"IF(t.base[[#This Row],[DIAS DE ATRASO]]=0,0,t.base[[#This Row],[TOTAL]])","v":21372}]
["2018-01-27","CARROTEK S.A.C","Centro","0001-002629","2018-03-13",0,{"v":23209,"d":"23,209"},{"$f":"IF(t.base[[#This Row],[DIAS DE ATRASO]]=0,0,t.base[[#This Row],[TOTAL]])","v":0}]
["2018-01-27","EYE BUSINESS S.A.C","Centro","0002-002303","2018-03-13",0,{"v":11383,"d":"11,383"},{"$f":"IF(t.base[[#This Row],[DIAS DE ATRASO]]=0,0,t.base[[#This Row],[TOTAL]])","v":0}]
["2018-03-13","CORTES ROMAN NAHUM","Centro","0001-003757","2018-03-13",0,{"v":26574,"d":"26,574"},{"$f":"IF(t.base[[#This Row],[DIAS DE ATRASO]]=0,0,t.base[[#This Row],[TOTAL]])","v":0}]
["2018-02-26","CASINOS AMERICA SAC","Norte","0001-003710","2018-03-13",0,{"v":46592,"d":"46,592"},{"$f":"IF(t.base[[#This Row],[DIAS DE ATRASO]]=0,0,t.base[[#This Row],[TOTAL]])","v":0}]
["2018-01-12","2M SERVICIOS S.A.C.","Sur","0002-001878","2018-03-13",0,{"v":20933,"d":"20,933"},{"$f":"IF(t.base[[#This Row],[DIAS DE ATRASO]]=0,0,t.base[[#This Row],[TOTAL]])","v":0}]
["2018-01-26","G & M PNEUMATIC SAC","Centro","0002-007791","2018-02-25",16,{"v":13757,"d":"13,757"},{"$f":"IF(t.base[[#This Row],[DIAS DE ATRASO]]=0,0,t.base[[#This Row],[TOTAL]])","v":13757}]
["2018-02-20","AGROVISION E.I.R.L.","Centro","0001-009219","2018-02-20",21,{"v":15736,"d":"15,736"},{"$f":"IF(t.base[[#This Row],[DIAS DE ATRASO]]=0,0,t.base[[#This Row],[TOTAL]])","v":15736}]
["2017-12-13","MAC HARE S.A.C.","Centro","0002-001578","2018-01-27",45,{"v":29116,"d":"29,116"},{"$f":"IF(t.base[[#This Row],[DIAS DE ATRASO]]=0,0,t.base[[#This Row],[TOTAL]])","v":29116}]
["2017-12-13","ESCOBAR VILLA EDGAR","Centro","0001-007068","2018-03-13",0,{"v":21818,"d":"21,818"},{"$f":"IF(t.base[[#This Row],[DIAS DE ATRASO]]=0,0,t.base[[#This Row],[TOTAL]])","v":0}]
["2017-12-13","ERIKA LENS E.I.R.L.","Centro","0001-008728","2018-03-13",0,{"v":13581,"d":"13,581"},{"$f":"IF(t.base[[#This Row],[DIAS DE ATRASO]]=0,0,t.base[[#This Row],[TOTAL]])","v":0}]
["2018-01-21","RASCH S.A.C.","Sur","0002-008593","2018-03-07",6,{"v":13891,"d":"13,891"},{"$f":"IF(t.base[[#This Row],[DIAS DE ATRASO]]=0,0,t.base[[#This Row],[TOTAL]])","v":13891}]
["2017-09-20","CAPIRENA S.A.C.","Centro","0001-005662","2017-09-20",174,{"v":20078,"d":"20,078"},{"$f":"IF(t.base[[#This Row],[DIAS DE ATRASO]]=0,0,t.base[[#This Row],[TOTAL]])","v":20078}]
["2018-02-11","MAMANI SOSA ANA","Centro","0001-007966","2018-03-13",0,{"v":27670,"d":"27,670"},{"$f":"IF(t.base[[#This Row],[DIAS DE ATRASO]]=0,0,t.base[[#This Row],[TOTAL]])","v":0}]
["2018-01-17","R.K.S. E.I.R.L.","Centro","0001-002315","2018-02-16",25,{"v":18762,"d":"18,762"},{"$f":"IF(t.base[[#This Row],[DIAS DE ATRASO]]=0,0,t.base[[#This Row],[TOTAL]])","v":18762}]
["2017-12-26","SORUM S.R.L.","Sur","0002-004470","2017-12-26",77,{"v":16889,"d":"16,889"},{"$f":"IF(t.base[[#This Row],[DIAS DE ATRASO]]=0,0,t.base[[#This Row],[TOTAL]])","v":16889}]
["2018-01-27","BENING S.A.C.","Norte","0001-009038","2018-03-13",0,{"v":45084,"d":"45,084"},{"$f":"IF(t.base[[#This Row],[DIAS DE ATRASO]]=0,0,t.base[[#This Row],[TOTAL]])","v":0}]
["2018-02-26","MAMANI ANCCO DAMIAN","Centro","0002-003282","2018-03-13",0,{"v":15184,"d":"15,184"},{"$f":"IF(t.base[[#This Row],[DIAS DE ATRASO]]=0,0,t.base[[#This Row],[TOTAL]])","v":0}]
["2018-02-10","CONSORCIO LIPESOL","Centro","0001-004631","2018-03-12",1,{"v":12210,"d":"12,210"},{"$f":"IF(t.base[[#This Row],[DIAS DE ATRASO]]=0,0,t.base[[#This Row],[TOTAL]])","v":12210}]
["2018-02-08","PEREZ RUBIO IRENE","Centro","0001-007006","2018-02-23",18,{"v":29730,"d":"29,730"},{"$f":"IF(t.base[[#This Row],[DIAS DE ATRASO]]=0,0,t.base[[#This Row],[TOTAL]])","v":29730}]
["2018-02-21","AITER'S SRL","Centro","0001-003171","2018-02-21",20,{"v":22696,"d":"22,696"},{"$f":"IF(t.base[[#This Row],[DIAS DE ATRASO]]=0,0,t.base[[#This Row],[TOTAL]])","v":22696}]
["2018-02-11","ROSA ELENA S.R.L.","Norte","0001-002353","2018-03-13",0,{"v":68088,"d":"68,088"},{"$f":"IF(t.base[[#This Row],[DIAS DE ATRASO]]=0,0,t.base[[#This Row],[TOTAL]])","v":0}]
["2017-11-27","DISGAR S.A.C.","Sur","0001-001858","2018-02-25",16,{"v":27359,"d":"27,359"},{"$f":"IF(t.base[[#This Row],[DIAS DE ATRASO]]=0,0,t.base[[#This Row],[TOTAL]])","v":27359}]
["2017-11-27","CYPRESS PERU S.A.C.","Centro","0001-009381","2018-01-26",46,{"v":12667,"d":"12,667"},{"$f":"IF(t.base[[#This Row],[DIAS DE ATRASO]]=0,0,t.base[[#This Row],[TOTAL]])","v":12667}]
["2018-01-12","M Y W SALAS S A","Centro","0001-006958","2018-03-13",0,{"v":18780,"d":"18,780"},{"$f":"IF(t.base[[#This Row],[DIAS DE ATRASO]]=0,0,t.base[[#This Row],[TOTAL]])","v":0}]
["2018-02-26","SCORAL S.A.C.","Centro","0001-007159","2018-03-13",0,{"v":10036,"d":"10,036"},{"$f":"IF(t.base[[#This Row],[DIAS DE ATRASO]]=0,0,t.base[[#This Row],[TOTAL]])","v":0}]
["2018-01-12","CLORINA S.A.C.","Centro","0001-005105","2018-03-13",0,{"v":19369,"d":"19,369"},{"$f":"IF(t.base[[#This Row],[DIAS DE ATRASO]]=0,0,t.base[[#This Row],[TOTAL]])","v":0}]
["2017-10-07","BODEGA OJEDA","Norte","0001-001716","2018-01-05",67,{"v":34638,"d":"34,638"},{"$f":"IF(t.base[[#This Row],[DIAS DE ATRASO]]=0,0,t.base[[#This Row],[TOTAL]])","v":34638}]
["2017-12-13","HATHOR S.R.L.","Centro","0001-009328","2018-03-13",0,{"v":25255,"d":"25,255"},{"$f":"IF(t.base[[#This Row],[DIAS DE ATRASO]]=0,0,t.base[[#This Row],[TOTAL]])","v":0}]
["2018-01-11","FE GOLD S.A.C.","Centro","0002-006071","2018-03-12",1,{"v":13266,"d":"13,266"},{"$f":"IF(t.base[[#This Row],[DIAS DE ATRASO]]=0,0,t.base[[#This Row],[TOTAL]])","v":13266}]
["2018-02-11","OROMONTE S.A","Centro","0001-009290","2018-03-13",0,{"v":12835,"d":"12,835"},{"$f":"IF(t.base[[#This Row],[DIAS DE ATRASO]]=0,0,t.base[[#This Row],[TOTAL]])","v":0}]
["2018-03-13","SEGECAL S.R.L.","Centro","0002-008057","2018-03-13",0,{"v":23657,"d":"23,657"},{"$f":"IF(t.base[[#This Row],[DIAS DE ATRASO]]=0,0,t.base[[#This Row],[TOTAL]])","v":0}]
["2018-02-26","LINDO HOGAR S.A.C","Centro","0001-007882","2018-03-13",0,{"v":27295,"d":"27,295"},{"$f":"IF(t.base[[#This Row],[DIAS DE ATRASO]]=0,0,t.base[[#This Row],[TOTAL]])","v":0}]
["2018-02-11","PERALTA ROMAN YOISY","Centro","0002-002060","2018-03-13",0,{"v":16486,"d":"16,486"},{"$f":"IF(t.base[[#This Row],[DIAS DE ATRASO]]=0,0,t.base[[#This Row],[TOTAL]])","v":0}]
["2018-03-13","CEP SAN RAFAEL","Centro","0001-004362","2018-03-13",0,{"v":25151,"d":"25,151"},{"$f":"IF(t.base[[#This Row],[DIAS DE ATRASO]]=0,0,t.base[[#This Row],[TOTAL]])","v":0}]
["2017-12-06","RIOS SOLIS ALCIDES","Centro","0001-004321","2018-02-04",37,{"v":18138,"d":"18,138"},{"$f":"IF(t.base[[#This Row],[DIAS DE ATRASO]]=0,0,t.base[[#This Row],[TOTAL]])","v":18138}]
["2018-01-24","PLASTIJHIM SRL","Centro","0002-001579","2018-02-23",18,{"v":12494,"d":"12,494"},{"$f":"IF(t.base[[#This Row],[DIAS DE ATRASO]]=0,0,t.base[[#This Row],[TOTAL]])","v":12494}]
["2017-11-20","CONDORCO S.R.L.","Centro","0001-003989","2018-02-18",23,{"v":10768,"d":"10,768"},{"$f":"IF(t.base[[#This Row],[DIAS DE ATRASO]]=0,0,t.base[[#This Row],[TOTAL]])","v":10768}]
["2017-09-28","CHINANGO S.A.C.","Centro","0001-004963","2017-10-13",151,{"v":19223,"d":"19,223"},{"$f":"IF(t.base[[#This Row],[DIAS DE ATRASO]]=0,0,t.base[[#This Row],[TOTAL]])","v":19223}]
["2018-02-11","CHINANGO S.A.C.","Centro","0002-005386","2018-03-13",0,{"v":18991,"d":"18,991"},{"$f":"IF(t.base[[#This Row],[DIAS DE ATRASO]]=0,0,t.base[[#This Row],[TOTAL]])","v":0}]
["2018-02-10","RIMASSA S.A.C.","Sur","0002-008840","2018-03-12",1,{"v":14417,"d":"14,417"},{"$f":"IF(t.base[[#This Row],[DIAS DE ATRASO]]=0,0,t.base[[#This Row],[TOTAL]])","v":14417}]
["2017-09-05","MAGROF S.A.","Centro","0002-005365","2017-10-20",144,{"v":22990,"d":"22,990"},{"$f":"IF(t.base[[#This Row],[DIAS DE ATRASO]]=0,0,t.base[[#This Row],[TOTAL]])","v":22990}]
["2017-12-13","MANBREN S.A.","Centro","0002-002379","2018-03-13",0,{"v":26679,"d":"26,679"},{"$f":"IF(t.base[[#This Row],[DIAS DE ATRASO]]=0,0,t.base[[#This Row],[TOTAL]])","v":0}]
["2017-09-09","GOLD TEXTIL S.A.C.","Centro","0002-003177","2017-09-09",185,{"v":29237,"d":"29,237"},{"$f":"IF(t.base[[#This Row],[DIAS DE ATRASO]]=0,0,t.base[[#This Row],[TOTAL]])","v":29237}]
["2018-01-27","LOZANO IMPORT SAC.","Norte","0002-008723","2018-03-13",0,{"v":62489,"d":"62,489"},{"$f":"IF(t.base[[#This Row],[DIAS DE ATRASO]]=0,0,t.base[[#This Row],[TOTAL]])","v":0}]
["2018-02-26","MACUSU S.A.C.","Centro","0002-007760","2018-03-13",0,{"v":12911,"d":"12,911"},{"$f":"IF(t.base[[#This Row],[DIAS DE ATRASO]]=0,0,t.base[[#This Row],[TOTAL]])","v":0}]
["2017-10-24","IMPORT JHV E.I.R.L.","Centro","0002-004368","2017-11-08",125,{"v":19669,"d":"19,669"},{"$f":"IF(t.base[[#This Row],[DIAS DE ATRASO]]=0,0,t.base[[#This Row],[TOTAL]])","v":19669}]
["2018-01-02","INTELECTRIC  S.A.C.","Centro","0001-008073","2018-02-01",40,{"v":20133,"d":"20,133"},{"$f":"IF(t.base[[#This Row],[DIAS DE ATRASO]]=0,0,t.base[[#This Row],[TOTAL]])","v":20133}]
["2018-01-12","URETA SOTO SUSANA","Centro","0002-001304","2018-03-13",0,{"v":25254,"d":"25,254"},{"$f":"IF(t.base[[#This Row],[DIAS DE ATRASO]]=0,0,t.base[[#This Row],[TOTAL]])","v":0}]
["2018-02-26","UNIDAX E.I.R.L.","Sur","0001-006511","2018-03-13",0,{"v":7162,"d":"7,162"},{"$f":"IF(t.base[[#This Row],[DIAS DE ATRASO]]=0,0,t.base[[#This Row],[TOTAL]])","v":0}]
["2018-01-11","GB ELECTRIC SAC","Centro","0001-003726","2018-03-12",1,{"v":16172,"d":"16,172"},{"$f":"IF(t.base[[#This Row],[DIAS DE ATRASO]]=0,0,t.base[[#This Row],[TOTAL]])","v":16172}]
["2018-03-12","CONSORCIO LIMA","Centro","0001-006763","2018-03-12",1,{"v":12605,"d":"12,605"},{"$f":"IF(t.base[[#This Row],[DIAS DE ATRASO]]=0,0,t.base[[#This Row],[TOTAL]])","v":12605}]
["2018-03-13","TRANSFORPLAST SAC","Centro","0002-005915","2018-03-13",0,{"v":20529,"d":"20,529"},{"$f":"IF(t.base[[#This Row],[DIAS DE ATRASO]]=0,0,t.base[[#This Row],[TOTAL]])","v":0}]
["2017-12-13","NIETO MEJIA VILMA","Centro","0001-009954","2018-03-13",0,{"v":27892,"d":"27,892"},{"$f":"IF(t.base[[#This Row],[DIAS DE ATRASO]]=0,0,t.base[[#This Row],[TOTAL]])","v":0}]
["2017-12-25","MULTIVISION S.R.L.","Sur","0002-009157","2018-02-23",18,{"v":12330,"d":"12,330"},{"$f":"IF(t.base[[#This Row],[DIAS DE ATRASO]]=0,0,t.base[[#This Row],[TOTAL]])","v":12330}]
["2018-01-18","CONDORCO S.R.L.","Centro","0001-002062","2018-02-17",24,{"v":25049,"d":"25,049"},{"$f":"IF(t.base[[#This Row],[DIAS DE ATRASO]]=0,0,t.base[[#This Row],[TOTAL]])","v":25049}]
["2017-12-13","KAVIEL E.I.R.L","Norte","0002-002670","2018-03-13",0,{"v":40722,"d":"40,722"},{"$f":"IF(t.base[[#This Row],[DIAS DE ATRASO]]=0,0,t.base[[#This Row],[TOTAL]])","v":0}]
["2018-01-27","WALLPA SUA  S.A.C","Sur","0001-006166","2018-03-13",0,{"v":40718,"d":"40,718"},{"$f":"IF(t.base[[#This Row],[DIAS DE ATRASO]]=0,0,t.base[[#This Row],[TOTAL]])","v":0}]
["2017-12-13","DICORO S.A.C.","Centro","0002-007161","2018-03-13",0,{"v":26254,"d":"26,254"},{"$f":"IF(t.base[[#This Row],[DIAS DE ATRASO]]=0,0,t.base[[#This Row],[TOTAL]])","v":0}]
["2017-10-05","REDITEC E.I.R.L.","Sur","0002-001501","2017-11-04",129,{"v":18502,"d":"18,502"},{"$f":"IF(t.base[[#This Row],[DIAS DE ATRASO]]=0,0,t.base[[#This Row],[TOTAL]])","v":18502}]
["2017-11-23","FAVINOX S.A.C.","Centro","0001-006294","2018-01-22",50,{"v":11902,"d":"11,902"},{"$f":"IF(t.base[[#This Row],[DIAS DE ATRASO]]=0,0,t.base[[#This Row],[TOTAL]])","v":11902}]
["2018-02-26","BECAR E.I.R.L.","Sur","0002-004397","2018-03-13",0,{"v":43900,"d":"43,900"},{"$f":"IF(t.base[[#This Row],[DIAS DE ATRASO]]=0,0,t.base[[#This Row],[TOTAL]])","v":0}]
["2018-02-11","VIGATEC E.I.R.L.","Norte","0002-007555","2018-03-13",0,{"v":44607,"d":"44,607"},{"$f":"IF(t.base[[#This Row],[DIAS DE ATRASO]]=0,0,t.base[[#This Row],[TOTAL]])","v":0}]
["2018-01-12","UNIGRUAS S.A.C.","Centro","0002-002189","2018-03-13",0,{"v":29437,"d":"29,437"},{"$f":"IF(t.base[[#This Row],[DIAS DE ATRASO]]=0,0,t.base[[#This Row],[TOTAL]])","v":0}]
["2018-01-12","CAIMI PERU S.A.C.","Centro","0002-001115","2018-03-13",0,{"v":22512,"d":"22,512"},{"$f":"IF(t.base[[#This Row],[DIAS DE ATRASO]]=0,0,t.base[[#This Row],[TOTAL]])","v":0}]
["2018-02-26","MARVE E.I.R.L.","Sur","0002-003855","2018-03-13",0,{"v":22887,"d":"22,887"},{"$f":"IF(t.base[[#This Row],[DIAS DE ATRASO]]=0,0,t.base[[#This Row],[TOTAL]])","v":0}]
["2017-11-19","GRUPO GXM E.I.R.L.","Sur","0001-002743","2017-12-04",99,{"v":9114,"d":"9,114"},{"$f":"IF(t.base[[#This Row],[DIAS DE ATRASO]]=0,0,t.base[[#This Row],[TOTAL]])","v":9114}]
["2017-11-23","VIP CHANNEL S.A.C.","Centro","0001-008842","2018-02-21",20,{"v":28877,"d":"28,877"},{"$f":"IF(t.base[[#This Row],[DIAS DE ATRASO]]=0,0,t.base[[#This Row],[TOTAL]])","v":28877}]
["2017-10-13","CIA NEMER SAC","Sur","0002-001558","2017-10-13",151,{"v":47073,"d":"47,073"},{"$f":"IF(t.base[[#This Row],[DIAS DE ATRASO]]=0,0,t.base[[#This Row],[TOTAL]])","v":47073}]
["2017-11-19","SONMAR S.R.L.","Sur","0001-003618","2017-12-19",84,{"v":46039,"d":"46,039"},{"$f":"IF(t.base[[#This Row],[DIAS DE ATRASO]]=0,0,t.base[[#This Row],[TOTAL]])","v":46039}]
["2017-08-06","HUISA ZAMATA JORGE","Centro","0001-004131","2017-11-04",129,{"v":23743,"d":"23,743"},{"$f":"IF(t.base[[#This Row],[DIAS DE ATRASO]]=0,0,t.base[[#This Row],[TOTAL]])","v":23743}]
["2018-01-26","CIRFOSA PERU S.R.L.","Norte","0002-008440","2018-03-12",1,{"v":26150,"d":"26,150"},{"$f":"IF(t.base[[#This Row],[DIAS DE ATRASO]]=0,0,t.base[[#This Row],[TOTAL]])","v":26150}]
["2018-02-11","G & M PNEUMATIC SAC","Centro","0002-001098","2018-03-13",0,{"v":21624,"d":"21,624"},{"$f":"IF(t.base[[#This Row],[DIAS DE ATRASO]]=0,0,t.base[[#This Row],[TOTAL]])","v":0}]
["2018-03-13","HARBINGER S.A.C.","Centro","0002-009012","2018-03-13",0,{"v":16849,"d":"16,849"},{"$f":"IF(t.base[[#This Row],[DIAS DE ATRASO]]=0,0,t.base[[#This Row],[TOTAL]])","v":0}]
["2017-12-17","PENTAGRAF S.A.C.","Centro","0002-002154","2017-12-17",86,{"v":23644,"d":"23,644"},{"$f":"IF(t.base[[#This Row],[DIAS DE ATRASO]]=0,0,t.base[[#This Row],[TOTAL]])","v":23644}]
["2018-01-12","TEXTILES PAULA SAC","Centro","0002-003765","2018-03-13",0,{"v":10943,"d":"10,943"},{"$f":"IF(t.base[[#This Row],[DIAS DE ATRASO]]=0,0,t.base[[#This Row],[TOTAL]])","v":0}]
["2017-12-12","JASPE E.I.R.L.","Sur","0002-003864","2018-03-12",1,{"v":20107,"d":"20,107"},{"$f":"IF(t.base[[#This Row],[DIAS DE ATRASO]]=0,0,t.base[[#This Row],[TOTAL]])","v":20107}]
["2017-09-23","SEIKATSU  SAC","Centro","0001-009492","2017-12-22",81,{"v":10645,"d":"10,645"},{"$f":"IF(t.base[[#This Row],[DIAS DE ATRASO]]=0,0,t.base[[#This Row],[TOTAL]])","v":10645}]
["2017-12-13","PORCELL  S.A.C.","Centro","0002-001035","2017-12-28",75,{"v":18953,"d":"18,953"},{"$f":"IF(t.base[[#This Row],[DIAS DE ATRASO]]=0,0,t.base[[#This Row],[TOTAL]])","v":18953}]
["2017-12-13","DELNOREP S.R.L.","Centro","0001-008245","2018-03-13",0,{"v":16031,"d":"16,031"},{"$f":"IF(t.base[[#This Row],[DIAS DE ATRASO]]=0,0,t.base[[#This Row],[TOTAL]])","v":0}]
["2018-02-11","SILVA RIVERA HAYDEE","Centro","0002-005054","2018-03-13",0,{"v":11525,"d":"11,525"},{"$f":"IF(t.base[[#This Row],[DIAS DE ATRASO]]=0,0,t.base[[#This Row],[TOTAL]])","v":0}]
["2017-07-06","NATURMEDIZIN S.A.C.","Centro","0002-007413","2017-08-20",205,{"v":11452,"d":"11,452"},{"$f":"IF(t.base[[#This Row],[DIAS DE ATRASO]]=0,0,t.base[[#This Row],[TOTAL]])","v":11452}]
["2017-12-13","HUISA MERMA DORIS","Centro","0001-007234","2018-03-13",0,{"v":15939,"d":"15,939"},{"$f":"IF(t.base[[#This Row],[DIAS DE ATRASO]]=0,0,t.base[[#This Row],[TOTAL]])","v":0}]
["2017-12-12","QUIMICHEM S.A.C.","Centro","0001-004935","2018-03-12",1,{"v":22244,"d":"22,244"},{"$f":"IF(t.base[[#This Row],[DIAS DE ATRASO]]=0,0,t.base[[#This Row],[TOTAL]])","v":22244}]
["2017-11-10","MENCANI E.I.R.L.","Centro","0001-006346","2017-12-25",78,{"v":18241,"d":"18,241"},{"$f":"IF(t.base[[#This Row],[DIAS DE ATRASO]]=0,0,t.base[[#This Row],[TOTAL]])","v":18241}]
["2017-12-14","VILLA DENT SRL","Centro","0001-007874","2017-12-29",74,{"v":16886,"d":"16,886"},{"$f":"IF(t.base[[#This Row],[DIAS DE ATRASO]]=0,0,t.base[[#This Row],[TOTAL]])","v":16886}]
["2017-04-30","TECSE MUYOC","Sur","0002-005014","2017-07-29",227,{"v":33150,"d":"33,150"},{"$f":"IF(t.base[[#This Row],[DIAS DE ATRASO]]=0,0,t.base[[#This Row],[TOTAL]])","v":33150}]
["2017-11-19","APAZA MAMANI NATTY","Centro","0001-006543","2018-01-03",69,{"v":16764,"d":"16,764"},{"$f":"IF(t.base[[#This Row],[DIAS DE ATRASO]]=0,0,t.base[[#This Row],[TOTAL]])","v":16764}]
["2017-08-02","L M MOTORS SA","Centro","0001-004054","2017-09-16",178,{"v":11054,"d":"11,054"},{"$f":"IF(t.base[[#This Row],[DIAS DE ATRASO]]=0,0,t.base[[#This Row],[TOTAL]])","v":11054}]
["2018-01-11","NABILA S.A.C.","Centro","0002-004676","2018-03-12",1,{"v":23061,"d":"23,061"},{"$f":"IF(t.base[[#This Row],[DIAS DE ATRASO]]=0,0,t.base[[#This Row],[TOTAL]])","v":23061}]
["2018-02-26","SQHE S.A.C.","Centro","0001-002930","2018-03-13",0,{"v":18783,"d":"18,783"},{"$f":"IF(t.base[[#This Row],[DIAS DE ATRASO]]=0,0,t.base[[#This Row],[TOTAL]])","v":0}]
["2017-05-13","FINAS COMPUTER SAC","Norte","0002-006862","2017-08-11",214,{"v":69852,"d":"69,852"},{"$f":"IF(t.base[[#This Row],[DIAS DE ATRASO]]=0,0,t.base[[#This Row],[TOTAL]])","v":69852}]
["2018-02-25","NEXT CARGO S.A.C.","Centro","0001-008163","2018-03-12",1,{"v":25440,"d":"25,440"},{"$f":"IF(t.base[[#This Row],[DIAS DE ATRASO]]=0,0,t.base[[#This Row],[TOTAL]])","v":25440}]
["2017-12-13","REHOBOT PC E.I.R.L.","Centro","0001-001875","2018-03-13",0,{"v":10125,"d":"10,125"},{"$f":"IF(t.base[[#This Row],[DIAS DE ATRASO]]=0,0,t.base[[#This Row],[TOTAL]])","v":0}]
["2018-01-11","ZHONG YUSHU","Centro","0002-001945","2018-03-12",1,{"v":26145,"d":"26,145"},{"$f":"IF(t.base[[#This Row],[DIAS DE ATRASO]]=0,0,t.base[[#This Row],[TOTAL]])","v":26145}]
["2017-07-17","SCORAL S.A.C.","Centro","0002-003640","2017-10-15",149,{"v":10990,"d":"10,990"},{"$f":"IF(t.base[[#This Row],[DIAS DE ATRASO]]=0,0,t.base[[#This Row],[TOTAL]])","v":10990}]
["2017-09-23","CONDORCO S.R.L.","Centro","0001-001750","2017-11-22",111,{"v":27799,"d":"27,799"},{"$f":"IF(t.base[[#This Row],[DIAS DE ATRASO]]=0,0,t.base[[#This Row],[TOTAL]])","v":27799}]
["2018-01-11","SALISARA SAC","Centro","0002-009673","2018-03-12",1,{"v":25298,"d":"25,298"},{"$f":"IF(t.base[[#This Row],[DIAS DE ATRASO]]=0,0,t.base[[#This Row],[TOTAL]])","v":25298}]
["2017-12-13","EL CAIRO S.A.C.","Centro","0001-008064","2018-03-13",0,{"v":17874,"d":"17,874"},{"$f":"IF(t.base[[#This Row],[DIAS DE ATRASO]]=0,0,t.base[[#This Row],[TOTAL]])","v":0}]
["2017-12-13","GONCORP S.A.C.","Centro","0002-006538","2018-03-13",0,{"v":11071,"d":"11,071"},{"$f":"IF(t.base[[#This Row],[DIAS DE ATRASO]]=0,0,t.base[[#This Row],[TOTAL]])","v":0}]
["2018-01-26","ODFJELL PERU S.A.C.","Centro","0001-001885","2018-03-12",1,{"v":24537,"d":"24,537"},{"$f":"IF(t.base[[#This Row],[DIAS DE ATRASO]]=0,0,t.base[[#This Row],[TOTAL]])","v":24537}]
["2017-12-13","HUISA MERMA DORIS","Centro","0002-002595","2018-03-13",0,{"v":10878,"d":"10,878"},{"$f":"IF(t.base[[#This Row],[DIAS DE ATRASO]]=0,0,t.base[[#This Row],[TOTAL]])","v":0}]
["2018-01-12","SOLISA S.A.C.","Centro","0001-009180","2018-03-13",0,{"v":15065,"d":"15,065"},{"$f":"IF(t.base[[#This Row],[DIAS DE ATRASO]]=0,0,t.base[[#This Row],[TOTAL]])","v":0}]
["2018-01-21","SURCO SURCO RAFAEL","Centro","0002-004863","2018-03-07",6,{"v":13125,"d":"13,125"},{"$f":"IF(t.base[[#This Row],[DIAS DE ATRASO]]=0,0,t.base[[#This Row],[TOTAL]])","v":13125}]
["2017-07-14","KOIMED S.A.C.","Centro","0001-008365","2017-10-12",152,{"v":20526,"d":"20,526"},{"$f":"IF(t.base[[#This Row],[DIAS DE ATRASO]]=0,0,t.base[[#This Row],[TOTAL]])","v":20526}]
["2018-01-27","JOSLYN PERU S.A.C.","Centro","0002-001269","2018-03-13",0,{"v":14397,"d":"14,397"},{"$f":"IF(t.base[[#This Row],[DIAS DE ATRASO]]=0,0,t.base[[#This Row],[TOTAL]])","v":0}]
["2018-01-01","PHOENIX S.R.LTDA","Norte","0002-008406","2018-01-31",41,{"v":48100,"d":"48,100"},{"$f":"IF(t.base[[#This Row],[DIAS DE ATRASO]]=0,0,t.base[[#This Row],[TOTAL]])","v":48100}]
["2018-02-11","LIMPI QUISPE CELIA","Centro","0002-004003","2018-03-13",0,{"v":28648,"d":"28,648"},{"$f":"IF(t.base[[#This Row],[DIAS DE ATRASO]]=0,0,t.base[[#This Row],[TOTAL]])","v":0}]
["2018-01-12","LUMOGA   E.I.R.L.","Centro","0002-003326","2018-03-13",0,{"v":26814,"d":"26,814"},{"$f":"IF(t.base[[#This Row],[DIAS DE ATRASO]]=0,0,t.base[[#This Row],[TOTAL]])","v":0}]
["2017-11-20","L & C SERVIS EIRL","Norte","0002-007892","2018-01-19",53,{"v":63540,"d":"63,540"},{"$f":"IF(t.base[[#This Row],[DIAS DE ATRASO]]=0,0,t.base[[#This Row],[TOTAL]])","v":63540}]
["2017-12-13","LA BRETAÐA S.A.C.","Sur","0001-005927","2018-03-13",0,{"v":34000,"d":"34,000"},{"$f":"IF(t.base[[#This Row],[DIAS DE ATRASO]]=0,0,t.base[[#This Row],[TOTAL]])","v":0}]
["2017-12-13","FUMIGUERRA EIRL","Centro","0002-001545","2018-03-13",0,{"v":10959,"d":"10,959"},{"$f":"IF(t.base[[#This Row],[DIAS DE ATRASO]]=0,0,t.base[[#This Row],[TOTAL]])","v":0}]
["2017-12-17","BABY KNIT S.A.C","Centro","0001-004512","2018-02-15",26,{"v":23325,"d":"23,325"},{"$f":"IF(t.base[[#This Row],[DIAS DE ATRASO]]=0,0,t.base[[#This Row],[TOTAL]])","v":23325}]
["2018-01-26","SIMCA S.A.C.","Sur","0002-004008","2018-03-12",1,{"v":25023,"d":"25,023"},{"$f":"IF(t.base[[#This Row],[DIAS DE ATRASO]]=0,0,t.base[[#This Row],[TOTAL]])","v":25023}]
["2017-12-13","OMAN E.I.R.L.","Centro","0002-004868","2018-03-13",0,{"v":21630,"d":"21,630"},{"$f":"IF(t.base[[#This Row],[DIAS DE ATRASO]]=0,0,t.base[[#This Row],[TOTAL]])","v":0}]
["2018-01-11","HOJA GRANDE S.A.C.","Norte","0001-004560","2018-03-12",1,{"v":55889,"d":"55,889"},{"$f":"IF(t.base[[#This Row],[DIAS DE ATRASO]]=0,0,t.base[[#This Row],[TOTAL]])","v":55889}]
["2018-01-24","GEEKS  E.I.R.L.","Centro","0001-001888","2018-02-23",18,{"v":26654,"d":"26,654"},{"$f":"IF(t.base[[#This Row],[DIAS DE ATRASO]]=0,0,t.base[[#This Row],[TOTAL]])","v":26654}]
["2017-12-13","GIGABRANDS S.A.C.","Centro","0002-006601","2018-03-13",0,{"v":28712,"d":"28,712"},{"$f":"IF(t.base[[#This Row],[DIAS DE ATRASO]]=0,0,t.base[[#This Row],[TOTAL]])","v":0}]
["2018-02-11","PROVESUR S.A.C","Centro","0002-004317","2018-03-13",0,{"v":22266,"d":"22,266"},{"$f":"IF(t.base[[#This Row],[DIAS DE ATRASO]]=0,0,t.base[[#This Row],[TOTAL]])","v":0}]
["2018-03-13","INDUCOPRA S R LTDA","Sur","0002-004624","2018-03-13",0,{"v":14744,"d":"14,744"},{"$f":"IF(t.base[[#This Row],[DIAS DE ATRASO]]=0,0,t.base[[#This Row],[TOTAL]])","v":0}]
["2018-01-02","RELINO OTR S.A.C.","Centro","0002-005186","2018-01-02",70,{"v":15864,"d":"15,864"},{"$f":"IF(t.base[[#This Row],[DIAS DE ATRASO]]=0,0,t.base[[#This Row],[TOTAL]])","v":15864}]
["2018-02-10","CASTRO NUÐEZ NELSON","Centro","0002-008397","2018-03-12",1,{"v":21970,"d":"21,970"},{"$f":"IF(t.base[[#This Row],[DIAS DE ATRASO]]=0,0,t.base[[#This Row],[TOTAL]])","v":21970}]
["2018-01-12","CONTRACTORS SAC","Centro","0001-005171","2018-03-13",0,{"v":19460,"d":"19,460"},{"$f":"IF(t.base[[#This Row],[DIAS DE ATRASO]]=0,0,t.base[[#This Row],[TOTAL]])","v":0}]
["2018-01-27","S & J IMPORT S.A.C.","Centro","0002-007561","2018-03-13",0,{"v":17795,"d":"17,795"},{"$f":"IF(t.base[[#This Row],[DIAS DE ATRASO]]=0,0,t.base[[#This Row],[TOTAL]])","v":0}]
["2017-12-13","SUCAROL E.I.R.L.","Centro","0002-004287","2018-03-13",0,{"v":25098,"d":"25,098"},{"$f":"IF(t.base[[#This Row],[DIAS DE ATRASO]]=0,0,t.base[[#This Row],[TOTAL]])","v":0}]
["2017-11-14","COMFAST S.A.C.","Centro","0001-002920","2018-01-13",59,{"v":21524,"d":"21,524"},{"$f":"IF(t.base[[#This Row],[DIAS DE ATRASO]]=0,0,t.base[[#This Row],[TOTAL]])","v":21524}]
["2018-01-12","F Y F CORP. S.A.C.","Centro","0001-002874","2018-03-13",0,{"v":20742,"d":"20,742"},{"$f":"IF(t.base[[#This Row],[DIAS DE ATRASO]]=0,0,t.base[[#This Row],[TOTAL]])","v":0}]
["2018-01-11","ROL EMPRESARIAL S A","Centro","0002-007213","2018-03-12",1,{"v":20194,"d":"20,194"},{"$f":"IF(t.base[[#This Row],[DIAS DE ATRASO]]=0,0,t.base[[#This Row],[TOTAL]])","v":20194}]
["2017-12-13","HUISA MERMA DORIS","Centro","0001-001939","2018-03-13",0,{"v":20783,"d":"20,783"},{"$f":"IF(t.base[[#This Row],[DIAS DE ATRASO]]=0,0,t.base[[#This Row],[TOTAL]])","v":0}]
["2017-12-13","ARCATEX S.A.C.","Centro","0001-004622","2018-03-13",0,{"v":22527,"d":"22,527"},{"$f":"IF(t.base[[#This Row],[DIAS DE ATRASO]]=0,0,t.base[[#This Row],[TOTAL]])","v":0}]
["2018-02-11","VIP PERU S.A.C.","Centro","0001-009280","2018-03-13",0,{"v":10637,"d":"10,637"},{"$f":"IF(t.base[[#This Row],[DIAS DE ATRASO]]=0,0,t.base[[#This Row],[TOTAL]])","v":0}]
["2017-12-01","MARINAS GUZMAN JOSE","Centro","0002-008501","2018-03-01",12,{"v":11139,"d":"11,139"},{"$f":"IF(t.base[[#This Row],[DIAS DE ATRASO]]=0,0,t.base[[#This Row],[TOTAL]])","v":11139}]
["2017-12-20","DIFMAG S.A.C","Centro","0002-001769","2017-12-20",83,{"v":17405,"d":"17,405"},{"$f":"IF(t.base[[#This Row],[DIAS DE ATRASO]]=0,0,t.base[[#This Row],[TOTAL]])","v":17405}]
["2018-02-11","REHOBOT PC E.I.R.L.","Centro","0002-009933","2018-03-13",0,{"v":21982,"d":"21,982"},{"$f":"IF(t.base[[#This Row],[DIAS DE ATRASO]]=0,0,t.base[[#This Row],[TOTAL]])","v":0}]
["2017-12-13","SANATEL VIDA S.A.C.","Centro","0002-002152","2018-03-13",0,{"v":11456,"d":"11,456"},{"$f":"IF(t.base[[#This Row],[DIAS DE ATRASO]]=0,0,t.base[[#This Row],[TOTAL]])","v":0}]
["2018-03-13","AITER'S SRL","Centro","0002-003154","2018-03-13",0,{"v":22160,"d":"22,160"},{"$f":"IF(t.base[[#This Row],[DIAS DE ATRASO]]=0,0,t.base[[#This Row],[TOTAL]])","v":0}]
["2017-09-25","MISS TOPAZIO S.A.C.","Centro","0002-005136","2017-12-24",79,{"v":27824,"d":"27,824"},{"$f":"IF(t.base[[#This Row],[DIAS DE ATRASO]]=0,0,t.base[[#This Row],[TOTAL]])","v":27824}]
["2018-02-24","KYODAI PERU S.A.C.","Centro","0002-004637","2018-02-24",17,{"v":27104,"d":"27,104"},{"$f":"IF(t.base[[#This Row],[DIAS DE ATRASO]]=0,0,t.base[[#This Row],[TOTAL]])","v":27104}]
["2017-12-13","BESTSOLTI SAC","Centro","0002-001818","2018-03-13",0,{"v":14566,"d":"14,566"},{"$f":"IF(t.base[[#This Row],[DIAS DE ATRASO]]=0,0,t.base[[#This Row],[TOTAL]])","v":0}]
["2017-12-13","SILVER & ME S.A.","Centro","0001-009036","2018-03-13",0,{"v":29289,"d":"29,289"},{"$f":"IF(t.base[[#This Row],[DIAS DE ATRASO]]=0,0,t.base[[#This Row],[TOTAL]])","v":0}]
["2018-03-13","G & T CARGO S.A.C.","Centro","0001-003777","2018-03-13",0,{"v":24735,"d":"24,735"},{"$f":"IF(t.base[[#This Row],[DIAS DE ATRASO]]=0,0,t.base[[#This Row],[TOTAL]])","v":0}]
["2018-02-26","TMF PERU S.R.L.","Centro","0001-009983","2018-03-13",0,{"v":20774,"d":"20,774"},{"$f":"IF(t.base[[#This Row],[DIAS DE ATRASO]]=0,0,t.base[[#This Row],[TOTAL]])","v":0}]
["2018-01-12","LOZANO IMPORT SAC.","Norte","0002-009654","2018-03-13",0,{"v":53570,"d":"53,570"},{"$f":"IF(t.base[[#This Row],[DIAS DE ATRASO]]=0,0,t.base[[#This Row],[TOTAL]])","v":0}]
["2017-11-25","JIREH D & M S.A.C.","Centro","0001-002571","2018-01-09",63,{"v":18403,"d":"18,403"},{"$f":"IF(t.base[[#This Row],[DIAS DE ATRASO]]=0,0,t.base[[#This Row],[TOTAL]])","v":18403}]
["2018-02-11","A.C.D. S.R.L.","Sur","0002-007233","2018-03-13",0,{"v":43800,"d":"43,800"},{"$f":"IF(t.base[[#This Row],[DIAS DE ATRASO]]=0,0,t.base[[#This Row],[TOTAL]])","v":0}]
["2018-02-15","CHEMAYOL E.I.R.L.","Centro","0001-001764","2018-02-15",26,{"v":18418,"d":"18,418"},{"$f":"IF(t.base[[#This Row],[DIAS DE ATRASO]]=0,0,t.base[[#This Row],[TOTAL]])","v":18418}]
["2017-12-28","QUAN-FHU S.C.R.L.","Centro","0001-001398","2018-02-11",30,{"v":10623,"d":"10,623"},{"$f":"IF(t.base[[#This Row],[DIAS DE ATRASO]]=0,0,t.base[[#This Row],[TOTAL]])","v":10623}]
["2018-01-12","LARCO PETS EIRL","Norte","0002-001401","2018-03-13",0,{"v":42942,"d":"42,942"},{"$f":"IF(t.base[[#This Row],[DIAS DE ATRASO]]=0,0,t.base[[#This Row],[TOTAL]])","v":0}]
["2017-06-19","REYES HUANCA GIL","Centro","0002-008176","2017-07-19",237,{"v":12721,"d":"12,721"},{"$f":"IF(t.base[[#This Row],[DIAS DE ATRASO]]=0,0,t.base[[#This Row],[TOTAL]])","v":12721}]
["2018-02-26","SEGURINDUSTRIA SA","Norte","0002-001256","2018-03-13",0,{"v":44395,"d":"44,395"},{"$f":"IF(t.base[[#This Row],[DIAS DE ATRASO]]=0,0,t.base[[#This Row],[TOTAL]])","v":0}]
["2017-12-15","SUPERPRINT S.A.C.","Centro","0002-006676","2018-01-29",43,{"v":20005,"d":"20,005"},{"$f":"IF(t.base[[#This Row],[DIAS DE ATRASO]]=0,0,t.base[[#This Row],[TOTAL]])","v":20005}]
["2018-02-11","DATA PC S.R.L.","Sur","0002-002694","2018-03-13",0,{"v":45103,"d":"45,103"},{"$f":"IF(t.base[[#This Row],[DIAS DE ATRASO]]=0,0,t.base[[#This Row],[TOTAL]])","v":0}]
["2018-01-27","CHR HANSEN S.A.","Centro","0002-001242","2018-03-13",0,{"v":19336,"d":"19,336"},{"$f":"IF(t.base[[#This Row],[DIAS DE ATRASO]]=0,0,t.base[[#This Row],[TOTAL]])","v":0}]
["2018-03-13","PHOENIX S.R.LTDA","Norte","0002-006537","2018-03-13",0,{"v":49244,"d":"49,244"},{"$f":"IF(t.base[[#This Row],[DIAS DE ATRASO]]=0,0,t.base[[#This Row],[TOTAL]])","v":0}]
["2018-02-26","CARROTEK S.A.C","Centro","0001-005826","2018-03-13",0,{"v":10148,"d":"10,148"},{"$f":"IF(t.base[[#This Row],[DIAS DE ATRASO]]=0,0,t.base[[#This Row],[TOTAL]])","v":0}]
["2018-03-12","CAMILO E.I.R.L.","Norte","0001-005986","2018-03-12",1,{"v":17844,"d":"17,844"},{"$f":"IF(t.base[[#This Row],[DIAS DE ATRASO]]=0,0,t.base[[#This Row],[TOTAL]])","v":17844}]
["2017-12-13","POLYTEX S.A.","Centro","0002-005047","2018-03-13",0,{"v":26246,"d":"26,246"},{"$f":"IF(t.base[[#This Row],[DIAS DE ATRASO]]=0,0,t.base[[#This Row],[TOTAL]])","v":0}]
["2017-12-16","CREDIVILSA EIRL","Norte","0002-005770","2018-02-14",27,{"v":52817,"d":"52,817"},{"$f":"IF(t.base[[#This Row],[DIAS DE ATRASO]]=0,0,t.base[[#This Row],[TOTAL]])","v":52817}]
["2017-10-05","SEBAL S.A.C.","Centro","0001-007889","2017-10-20",144,{"v":27247,"d":"27,247"},{"$f":"IF(t.base[[#This Row],[DIAS DE ATRASO]]=0,0,t.base[[#This Row],[TOTAL]])","v":27247}]
["2018-01-27","LA BRETAÐA S.A.C.","Sur","0002-006919","2018-03-13",0,{"v":12319,"d":"12,319"},{"$f":"IF(t.base[[#This Row],[DIAS DE ATRASO]]=0,0,t.base[[#This Row],[TOTAL]])","v":0}]
["2017-12-13","SYO PERU S.A.C.","Centro","0001-001947","2018-03-13",0,{"v":12161,"d":"12,161"},{"$f":"IF(t.base[[#This Row],[DIAS DE ATRASO]]=0,0,t.base[[#This Row],[TOTAL]])","v":0}]
["2018-01-27","LOZANO E I R LTDA","Centro","0001-005689","2018-03-13",0,{"v":15479,"d":"15,479"},{"$f":"IF(t.base[[#This Row],[DIAS DE ATRASO]]=0,0,t.base[[#This Row],[TOTAL]])","v":0}]
["2018-03-12","MAGALAB E.I.R.L.","Sur","0002-003906","2018-03-12",1,{"v":46793,"d":"46,793"},{"$f":"IF(t.base[[#This Row],[DIAS DE ATRASO]]=0,0,t.base[[#This Row],[TOTAL]])","v":46793}]
["2018-03-13","JARRO ROJAS AMADOR","Centro","0001-002431","2018-03-13",0,{"v":17763,"d":"17,763"},{"$f":"IF(t.base[[#This Row],[DIAS DE ATRASO]]=0,0,t.base[[#This Row],[TOTAL]])","v":0}]
["2017-11-21","G & M PNEUMATIC SAC","Centro","0002-003358","2018-01-05",67,{"v":14963,"d":"14,963"},{"$f":"IF(t.base[[#This Row],[DIAS DE ATRASO]]=0,0,t.base[[#This Row],[TOTAL]])","v":14963}]
["2018-02-26","BAN CAN S.A.C.","Centro","0002-005682","2018-03-13",0,{"v":18698,"d":"18,698"},{"$f":"IF(t.base[[#This Row],[DIAS DE ATRASO]]=0,0,t.base[[#This Row],[TOTAL]])","v":0}]
["2018-03-13","ENCANTADA E.I.R.L.","Centro","0002-003129","2018-03-13",0,{"v":10587,"d":"10,587"},{"$f":"IF(t.base[[#This Row],[DIAS DE ATRASO]]=0,0,t.base[[#This Row],[TOTAL]])","v":0}]
["2017-11-17","GB ELECTRIC SAC","Centro","0002-007836","2018-02-15",26,{"v":22698,"d":"22,698"},{"$f":"IF(t.base[[#This Row],[DIAS DE ATRASO]]=0,0,t.base[[#This Row],[TOTAL]])","v":22698}]
["2018-01-12","D'SAYOMA EIRL","Sur","0001-006539","2018-03-13",0,{"v":10172,"d":"10,172"},{"$f":"IF(t.base[[#This Row],[DIAS DE ATRASO]]=0,0,t.base[[#This Row],[TOTAL]])","v":0}]
["2017-11-04","MISOKA S.A.C.","Centro","0002-005819","2018-01-03",69,{"v":14991,"d":"14,991"},{"$f":"IF(t.base[[#This Row],[DIAS DE ATRASO]]=0,0,t.base[[#This Row],[TOTAL]])","v":14991}]
["2018-03-13","VAMER E.I.R.L","Norte","0002-005076","2018-03-13",0,{"v":24963,"d":"24,963"},{"$f":"IF(t.base[[#This Row],[DIAS DE ATRASO]]=0,0,t.base[[#This Row],[TOTAL]])","v":0}]
["2018-02-11","SOBITEC PERU S.A.C.","Centro","0002-005154","2018-03-13",0,{"v":12984,"d":"12,984"},{"$f":"IF(t.base[[#This Row],[DIAS DE ATRASO]]=0,0,t.base[[#This Row],[TOTAL]])","v":0}]
["2018-03-13","QUEQUE MAMANI LIDIA","Centro","0001-005464","2018-03-13",0,{"v":27898,"d":"27,898"},{"$f":"IF(t.base[[#This Row],[DIAS DE ATRASO]]=0,0,t.base[[#This Row],[TOTAL]])","v":0}]
["2017-12-13","MORE CLASS S.A.C","Centro","0002-007977","2018-03-13",0,{"v":24956,"d":"24,956"},{"$f":"IF(t.base[[#This Row],[DIAS DE ATRASO]]=0,0,t.base[[#This Row],[TOTAL]])","v":0}]
["2018-02-26","TRANSPOVAR S.R.L.","Centro","0001-007542","2018-03-13",0,{"v":12903,"d":"12,903"},{"$f":"IF(t.base[[#This Row],[DIAS DE ATRASO]]=0,0,t.base[[#This Row],[TOTAL]])","v":0}]
["2018-01-27","COMERCIAL ISIS SAC","Centro","0001-003126","2018-03-13",0,{"v":28617,"d":"28,617"},{"$f":"IF(t.base[[#This Row],[DIAS DE ATRASO]]=0,0,t.base[[#This Row],[TOTAL]])","v":0}]
["2018-01-12","QUISPE NINA AMERICO","Centro","0002-007620","2018-03-13",0,{"v":15712,"d":"15,712"},{"$f":"IF(t.base[[#This Row],[DIAS DE ATRASO]]=0,0,t.base[[#This Row],[TOTAL]])","v":0}]
["2017-08-31","HOSTAL RUIZ SRL","Norte","0002-005075","2017-10-15",149,{"v":50445,"d":"50,445"},{"$f":"IF(t.base[[#This Row],[DIAS DE ATRASO]]=0,0,t.base[[#This Row],[TOTAL]])","v":50445}]
["2018-01-08","TLI ADUANAS S.A.C.","Centro","0001-004554","2018-03-09",4,{"v":24011,"d":"24,011"},{"$f":"IF(t.base[[#This Row],[DIAS DE ATRASO]]=0,0,t.base[[#This Row],[TOTAL]])","v":24011}]
["2018-02-26","OLEVAS E.I.R.L.","Norte","0001-001581","2018-03-13",0,{"v":51122,"d":"51,122"},{"$f":"IF(t.base[[#This Row],[DIAS DE ATRASO]]=0,0,t.base[[#This Row],[TOTAL]])","v":0}]
["2018-03-12","AMG KYODAI S.A.C.","Centro","0002-001516","2018-03-12",1,{"v":29891,"d":"29,891"},{"$f":"IF(t.base[[#This Row],[DIAS DE ATRASO]]=0,0,t.base[[#This Row],[TOTAL]])","v":29891}]
["2017-11-13","PNEUMOHELP E.I.R.L.","Centro","0001-008624","2017-12-28",75,{"v":10500,"d":"10,500"},{"$f":"IF(t.base[[#This Row],[DIAS DE ATRASO]]=0,0,t.base[[#This Row],[TOTAL]])","v":10500}]
["2018-01-12","VILLA DENT SRL","Centro","0001-007470","2018-03-13",0,{"v":25178,"d":"25,178"},{"$f":"IF(t.base[[#This Row],[DIAS DE ATRASO]]=0,0,t.base[[#This Row],[TOTAL]])","v":0}]
["2018-02-26","AITER'S SRL","Centro","0002-007768","2018-03-13",0,{"v":18601,"d":"18,601"},{"$f":"IF(t.base[[#This Row],[DIAS DE ATRASO]]=0,0,t.base[[#This Row],[TOTAL]])","v":0}]
["2017-11-06","2M SERVICIOS S.A.C.","Sur","0001-009662","2017-12-21",82,{"v":14886,"d":"14,886"},{"$f":"IF(t.base[[#This Row],[DIAS DE ATRASO]]=0,0,t.base[[#This Row],[TOTAL]])","v":14886}]
["2018-03-13","ERTI SRL","Sur","0001-003264","2018-03-13",0,{"v":35145,"d":"35,145"},{"$f":"IF(t.base[[#This Row],[DIAS DE ATRASO]]=0,0,t.base[[#This Row],[TOTAL]])","v":0}]
["2018-01-12","A.C.D. S.R.L.","Sur","0002-004146","2018-03-13",0,{"v":10076,"d":"10,076"},{"$f":"IF(t.base[[#This Row],[DIAS DE ATRASO]]=0,0,t.base[[#This Row],[TOTAL]])","v":0}]
["2017-09-29","SALVADOR LAZO FIDEL","Centro","0002-006414","2017-10-29",135,{"v":13736,"d":"13,736"},{"$f":"IF(t.base[[#This Row],[DIAS DE ATRASO]]=0,0,t.base[[#This Row],[TOTAL]])","v":13736}]
["2018-03-13","E - MARKET E.I.R.L.","Centro","0001-006265","2018-03-13",0,{"v":29035,"d":"29,035"},{"$f":"IF(t.base[[#This Row],[DIAS DE ATRASO]]=0,0,t.base[[#This Row],[TOTAL]])","v":0}]
["2017-09-28","CONSORCIO LIMA","Centro","0002-002860","2017-12-27",76,{"v":15612,"d":"15,612"},{"$f":"IF(t.base[[#This Row],[DIAS DE ATRASO]]=0,0,t.base[[#This Row],[TOTAL]])","v":15612}]
["2018-01-21","QB&A S.A.C.","Sur","0002-004612","2018-03-07",6,{"v":41985,"d":"41,985"},{"$f":"IF(t.base[[#This Row],[DIAS DE ATRASO]]=0,0,t.base[[#This Row],[TOTAL]])","v":41985}]
["2018-02-14","C.V INVESTMENTS S.A","Centro","0001-004275","2018-03-01",12,{"v":24521,"d":"24,521"},{"$f":"IF(t.base[[#This Row],[DIAS DE ATRASO]]=0,0,t.base[[#This Row],[TOTAL]])","v":24521}]
["2018-01-12","LOGISTICA PERU SRL","Norte","0002-006291","2018-03-13",0,{"v":36234,"d":"36,234"},{"$f":"IF(t.base[[#This Row],[DIAS DE ATRASO]]=0,0,t.base[[#This Row],[TOTAL]])","v":0}]
["2017-12-28","OLEVAS E.I.R.L.","Norte","0001-005335","2018-02-26",15,{"v":41774,"d":"41,774"},{"$f":"IF(t.base[[#This Row],[DIAS DE ATRASO]]=0,0,t.base[[#This Row],[TOTAL]])","v":41774}]
["2017-11-13","D & M MEDICAL EIRL","Centro","0002-007687","2018-02-11",30,{"v":12048,"d":"12,048"},{"$f":"IF(t.base[[#This Row],[DIAS DE ATRASO]]=0,0,t.base[[#This Row],[TOTAL]])","v":12048}]
["2018-01-27","MSM INSUMOS S.A.C","Centro","0002-008419","2018-03-13",0,{"v":10108,"d":"10,108"},{"$f":"IF(t.base[[#This Row],[DIAS DE ATRASO]]=0,0,t.base[[#This Row],[TOTAL]])","v":0}]
["2018-01-26","EL CAIRO S.A.C.","Centro","0002-008542","2018-03-12",1,{"v":28360,"d":"28,360"},{"$f":"IF(t.base[[#This Row],[DIAS DE ATRASO]]=0,0,t.base[[#This Row],[TOTAL]])","v":28360}]
["2017-12-13","MORAN VALENCIA ENMA","Centro","0001-008521","2018-03-13",0,{"v":29132,"d":"29,132"},{"$f":"IF(t.base[[#This Row],[DIAS DE ATRASO]]=0,0,t.base[[#This Row],[TOTAL]])","v":0}]
["2017-12-13","CASINOS AMERICA SAC","Norte","0002-006226","2018-03-13",0,{"v":36728,"d":"36,728"},{"$f":"IF(t.base[[#This Row],[DIAS DE ATRASO]]=0,0,t.base[[#This Row],[TOTAL]])","v":0}]
["2018-03-13","SEGURITEMP E.I.R.L.","Norte","0001-005097","2018-03-13",0,{"v":35196,"d":"35,196"},{"$f":"IF(t.base[[#This Row],[DIAS DE ATRASO]]=0,0,t.base[[#This Row],[TOTAL]])","v":0}]
["2017-12-13","CORTES ROMAN NAHUM","Centro","0002-005507","2018-03-13",0,{"v":28835,"d":"28,835"},{"$f":"IF(t.base[[#This Row],[DIAS DE ATRASO]]=0,0,t.base[[#This Row],[TOTAL]])","v":0}]
["2017-07-06","LA TIENDA E.I.R.L.","Sur","0001-002113","2017-10-04",160,{"v":13033,"d":"13,033"},{"$f":"IF(t.base[[#This Row],[DIAS DE ATRASO]]=0,0,t.base[[#This Row],[TOTAL]])","v":13033}]
["2018-02-11","ACQUAM S.R.LTDA","Centro","0001-006463","2018-03-13",0,{"v":16187,"d":"16,187"},{"$f":"IF(t.base[[#This Row],[DIAS DE ATRASO]]=0,0,t.base[[#This Row],[TOTAL]])","v":0}]
["2017-12-03","J & L ALIMENTOS SAC","Centro","0001-001907","2018-01-17",55,{"v":25629,"d":"25,629"},{"$f":"IF(t.base[[#This Row],[DIAS DE ATRASO]]=0,0,t.base[[#This Row],[TOTAL]])","v":25629}]
["2018-01-12","EURO PERUANA S.A.C.","Centro","0002-001451","2018-03-13",0,{"v":15780,"d":"15,780"},{"$f":"IF(t.base[[#This Row],[DIAS DE ATRASO]]=0,0,t.base[[#This Row],[TOTAL]])","v":0}]
["2017-11-03","ALDELI S.A.","Centro","0001-003964","2018-01-02",70,{"v":18818,"d":"18,818"},{"$f":"IF(t.base[[#This Row],[DIAS DE ATRASO]]=0,0,t.base[[#This Row],[TOTAL]])","v":18818}]
["2017-10-14","GEEKS  E.I.R.L.","Centro","0001-007938","2017-12-13",90,{"v":21860,"d":"21,860"},{"$f":"IF(t.base[[#This Row],[DIAS DE ATRASO]]=0,0,t.base[[#This Row],[TOTAL]])","v":21860}]
["2017-07-06","SOTO VILA ROBERTO","Centro","0001-004167","2017-09-04",190,{"v":20568,"d":"20,568"},{"$f":"IF(t.base[[#This Row],[DIAS DE ATRASO]]=0,0,t.base[[#This Row],[TOTAL]])","v":20568}]
["2017-08-13","HUAMALI ANCO TITO","Centro","0002-004002","2017-08-28",197,{"v":23440,"d":"23,440"},{"$f":"IF(t.base[[#This Row],[DIAS DE ATRASO]]=0,0,t.base[[#This Row],[TOTAL]])","v":23440}]
["2018-02-11","DAVILA RIVERA MARIA","Centro","0001-004017","2018-03-13",0,{"v":22645,"d":"22,645"},{"$f":"IF(t.base[[#This Row],[DIAS DE ATRASO]]=0,0,t.base[[#This Row],[TOTAL]])","v":0}]
["2017-11-03","NUEVA ATLANTIS SAC","Norte","0001-009482","2018-02-01",40,{"v":16445,"d":"16,445"},{"$f":"IF(t.base[[#This Row],[DIAS DE ATRASO]]=0,0,t.base[[#This Row],[TOTAL]])","v":16445}]
["2017-12-31","ANVACHRIS E.I.R.L.","Centro","0001-002760","2018-02-14",27,{"v":22369,"d":"22,369"},{"$f":"IF(t.base[[#This Row],[DIAS DE ATRASO]]=0,0,t.base[[#This Row],[TOTAL]])","v":22369}]
["2018-03-13","DATA PC S.R.L.","Sur","0001-003461","2018-03-13",0,{"v":31807,"d":"31,807"},{"$f":"IF(t.base[[#This Row],[DIAS DE ATRASO]]=0,0,t.base[[#This Row],[TOTAL]])","v":0}]
["2018-01-27","S & J IMPORT S.A.C.","Centro","0002-007398","2018-03-13",0,{"v":11428,"d":"11,428"},{"$f":"IF(t.base[[#This Row],[DIAS DE ATRASO]]=0,0,t.base[[#This Row],[TOTAL]])","v":0}]
["2017-10-19","RPS PERU S.A.C.","Centro","0002-004953","2017-12-18",85,{"v":10538,"d":"10,538"},{"$f":"IF(t.base[[#This Row],[DIAS DE ATRASO]]=0,0,t.base[[#This Row],[TOTAL]])","v":10538}]
["2017-10-22","TRIMAGEN STUDIO SAC","Centro","0001-002330","2018-01-20",52,{"v":17851,"d":"17,851"},{"$f":"IF(t.base[[#This Row],[DIAS DE ATRASO]]=0,0,t.base[[#This Row],[TOTAL]])","v":17851}]
["2018-01-11","PATIMOVIL SRLTDA","Centro","0001-007116","2018-03-12",1,{"v":24445,"d":"24,445"},{"$f":"IF(t.base[[#This Row],[DIAS DE ATRASO]]=0,0,t.base[[#This Row],[TOTAL]])","v":24445}]
["2018-02-10","DELFINO MAR S.R.L.","Sur","0002-002014","2018-03-12",1,{"v":42427,"d":"42,427"},{"$f":"IF(t.base[[#This Row],[DIAS DE ATRASO]]=0,0,t.base[[#This Row],[TOTAL]])","v":42427}]
["2018-03-01","OLRAS SRL.","Norte","0001-008531","2018-03-01",12,{"v":64564,"d":"64,564"},{"$f":"IF(t.base[[#This Row],[DIAS DE ATRASO]]=0,0,t.base[[#This Row],[TOTAL]])","v":64564}]
["2017-12-13","A Z CHEMICAL EIRL","Centro","0002-004153","2018-03-13",0,{"v":25466,"d":"25,466"},{"$f":"IF(t.base[[#This Row],[DIAS DE ATRASO]]=0,0,t.base[[#This Row],[TOTAL]])","v":0}]
["2018-01-12","RUIZ PIÐA REMIGIO","Centro","0002-003623","2018-03-13",0,{"v":23038,"d":"23,038"},{"$f":"IF(t.base[[#This Row],[DIAS DE ATRASO]]=0,0,t.base[[#This Row],[TOTAL]])","v":0}]
["2018-01-26","SALLO LEVA ISABEL","Centro","0001-002876","2018-03-12",1,{"v":27686,"d":"27,686"},{"$f":"IF(t.base[[#This Row],[DIAS DE ATRASO]]=0,0,t.base[[#This Row],[TOTAL]])","v":27686}]
["2017-12-13","COS E.I.R.L.","Sur","0002-004861","2018-03-13",0,{"v":29721,"d":"29,721"},{"$f":"IF(t.base[[#This Row],[DIAS DE ATRASO]]=0,0,t.base[[#This Row],[TOTAL]])","v":0}]
["2017-08-17","APAZA DE CRUZ IRENE","Centro","0001-006270","2017-09-01",193,{"v":22714,"d":"22,714"},{"$f":"IF(t.base[[#This Row],[DIAS DE ATRASO]]=0,0,t.base[[#This Row],[TOTAL]])","v":22714}]
["2018-02-26","DATA PC S.R.L.","Sur","0001-009670","2018-03-13",0,{"v":22076,"d":"22,076"},{"$f":"IF(t.base[[#This Row],[DIAS DE ATRASO]]=0,0,t.base[[#This Row],[TOTAL]])","v":0}]
["2017-12-09","TOP CENTER E.I.R.L.","Sur","0002-009594","2018-03-09",4,{"v":28913,"d":"28,913"},{"$f":"IF(t.base[[#This Row],[DIAS DE ATRASO]]=0,0,t.base[[#This Row],[TOTAL]])","v":28913}]
["2018-03-13","NEYOR E.I.R.L.","Sur","0001-007468","2018-03-13",0,{"v":12952,"d":"12,952"},{"$f":"IF(t.base[[#This Row],[DIAS DE ATRASO]]=0,0,t.base[[#This Row],[TOTAL]])","v":0}]
["2018-03-12","RUTHY S S.R.LTDA","Centro","0002-004630","2018-03-12",1,{"v":12410,"d":"12,410"},{"$f":"IF(t.base[[#This Row],[DIAS DE ATRASO]]=0,0,t.base[[#This Row],[TOTAL]])","v":12410}]
["2017-11-24","KENUAL S.A.C.","Centro","0002-001323","2018-02-22",19,{"v":29865,"d":"29,865"},{"$f":"IF(t.base[[#This Row],[DIAS DE ATRASO]]=0,0,t.base[[#This Row],[TOTAL]])","v":29865}]
["2018-02-26","NUTRE PERU E.I.R.L.","Centro","0002-004659","2018-03-13",0,{"v":29226,"d":"29,226"},{"$f":"IF(t.base[[#This Row],[DIAS DE ATRASO]]=0,0,t.base[[#This Row],[TOTAL]])","v":0}]
["2018-01-12","DOCTOR SALUD S.A.C.","Centro","0002-009593","2018-03-13",0,{"v":27714,"d":"27,714"},{"$f":"IF(t.base[[#This Row],[DIAS DE ATRASO]]=0,0,t.base[[#This Row],[TOTAL]])","v":0}]
["2018-02-11","DACIA TRADING SAC","Centro","0001-004536","2018-03-13",0,{"v":14444,"d":"14,444"},{"$f":"IF(t.base[[#This Row],[DIAS DE ATRASO]]=0,0,t.base[[#This Row],[TOTAL]])","v":0}]
["2018-01-09","ALVARADO VEGA LESLY","Centro","0001-005384","2018-02-08",33,{"v":29489,"d":"29,489"},{"$f":"IF(t.base[[#This Row],[DIAS DE ATRASO]]=0,0,t.base[[#This Row],[TOTAL]])","v":29489}]
["2017-09-02","A & G S.A.C.","Sur","0001-004832","2017-11-01",132,{"v":19278,"d":"19,278"},{"$f":"IF(t.base[[#This Row],[DIAS DE ATRASO]]=0,0,t.base[[#This Row],[TOTAL]])","v":19278}]
["2017-12-13","TRANSJOHNNY S.A.C.","Centro","0002-003914","2018-03-13",0,{"v":25278,"d":"25,278"},{"$f":"IF(t.base[[#This Row],[DIAS DE ATRASO]]=0,0,t.base[[#This Row],[TOTAL]])","v":0}]
["2018-02-26","C & F PRINTS S.A.C.","Centro","0002-004142","2018-03-13",0,{"v":16469,"d":"16,469"},{"$f":"IF(t.base[[#This Row],[DIAS DE ATRASO]]=0,0,t.base[[#This Row],[TOTAL]])","v":0}]
["2017-12-13","MAQUERA RAMOS IRMA","Centro","0001-001101","2018-03-13",0,{"v":28669,"d":"28,669"},{"$f":"IF(t.base[[#This Row],[DIAS DE ATRASO]]=0,0,t.base[[#This Row],[TOTAL]])","v":0}]
["2017-12-26","PROVINAK S.A.C.","Centro","0002-009469","2018-02-09",32,{"v":18779,"d":"18,779"},{"$f":"IF(t.base[[#This Row],[DIAS DE ATRASO]]=0,0,t.base[[#This Row],[TOTAL]])","v":18779}]
["2017-08-09","XIE HUA CHUANG","Centro","0001-009637","2017-11-07",126,{"v":25679,"d":"25,679"},{"$f":"IF(t.base[[#This Row],[DIAS DE ATRASO]]=0,0,t.base[[#This Row],[TOTAL]])","v":25679}]
["2018-03-12","RPS PERU S.A.C.","Centro","0001-008289","2018-03-12",1,{"v":12600,"d":"12,600"},{"$f":"IF(t.base[[#This Row],[DIAS DE ATRASO]]=0,0,t.base[[#This Row],[TOTAL]])","v":12600}]
["2017-10-08","MORE CLASS S.A.C","Centro","0002-006611","2018-01-06",66,{"v":16307,"d":"16,307"},{"$f":"IF(t.base[[#This Row],[DIAS DE ATRASO]]=0,0,t.base[[#This Row],[TOTAL]])","v":16307}]
["2017-12-30","WALLPA SUA  S.A.C","Sur","0001-003565","2018-02-28",13,{"v":32724,"d":"32,724"},{"$f":"IF(t.base[[#This Row],[DIAS DE ATRASO]]=0,0,t.base[[#This Row],[TOTAL]])","v":32724}]
["2017-12-25","LOPEZ ARIAS MANUEL","Centro","0001-001227","2018-02-23",18,{"v":25805,"d":"25,805"},{"$f":"IF(t.base[[#This Row],[DIAS DE ATRASO]]=0,0,t.base[[#This Row],[TOTAL]])","v":25805}]
["2017-11-19","DETAILHOUSE S.A.C.","Centro","0002-005038","2018-01-03",69,{"v":25141,"d":"25,141"},{"$f":"IF(t.base[[#This Row],[DIAS DE ATRASO]]=0,0,t.base[[#This Row],[TOTAL]])","v":25141}]
["2018-02-11","ROBERCAR EIRL","Centro","0002-003734","2018-02-11",30,{"v":27877,"d":"27,877"},{"$f":"IF(t.base[[#This Row],[DIAS DE ATRASO]]=0,0,t.base[[#This Row],[TOTAL]])","v":27877}]
["2017-12-13","ECOREP S.A.C.","Centro","0002-006692","2018-03-13",0,{"v":12262,"d":"12,262"},{"$f":"IF(t.base[[#This Row],[DIAS DE ATRASO]]=0,0,t.base[[#This Row],[TOTAL]])","v":0}]
["2017-12-12","MERZARIO PERU SAC","Centro","0001-009696","2018-03-12",1,{"v":21600,"d":"21,600"},{"$f":"IF(t.base[[#This Row],[DIAS DE ATRASO]]=0,0,t.base[[#This Row],[TOTAL]])","v":21600}]
["2017-09-09","KIYOTAMA  S.A.C.","Centro","0001-006409","2017-09-09",185,{"v":22398,"d":"22,398"},{"$f":"IF(t.base[[#This Row],[DIAS DE ATRASO]]=0,0,t.base[[#This Row],[TOTAL]])","v":22398}]
["2017-12-03","APAZA PUMA LEONARDA","Centro","0001-004963","2018-01-17",55,{"v":27211,"d":"27,211"},{"$f":"IF(t.base[[#This Row],[DIAS DE ATRASO]]=0,0,t.base[[#This Row],[TOTAL]])","v":27211}]
["2018-03-09","EPIC LABS S.A.C.","Centro","0001-003507","2018-03-09",4,{"v":13617,"d":"13,617"},{"$f":"IF(t.base[[#This Row],[DIAS DE ATRASO]]=0,0,t.base[[#This Row],[TOTAL]])","v":13617}]
["2018-01-19","EQUIPROBEZ E.I.R.L.","Centro","0001-004824","2018-02-03",38,{"v":26123,"d":"26,123"},{"$f":"IF(t.base[[#This Row],[DIAS DE ATRASO]]=0,0,t.base[[#This Row],[TOTAL]])","v":26123}]
["2018-02-26","ARENAS RAMOS FREDY","Centro","0001-002403","2018-03-13",0,{"v":17928,"d":"17,928"},{"$f":"IF(t.base[[#This Row],[DIAS DE ATRASO]]=0,0,t.base[[#This Row],[TOTAL]])","v":0}]
["2018-01-16","SALCOM S.A.C.","Centro","0002-009302","2018-01-31",41,{"v":29569,"d":"29,569"},{"$f":"IF(t.base[[#This Row],[DIAS DE ATRASO]]=0,0,t.base[[#This Row],[TOTAL]])","v":29569}]
["2017-12-13","DICORO S.A.C.","Centro","0002-008755","2018-03-13",0,{"v":11307,"d":"11,307"},{"$f":"IF(t.base[[#This Row],[DIAS DE ATRASO]]=0,0,t.base[[#This Row],[TOTAL]])","v":0}]
["2018-02-11","AITER'S SRL","Centro","0001-006974","2018-03-13",0,{"v":24468,"d":"24,468"},{"$f":"IF(t.base[[#This Row],[DIAS DE ATRASO]]=0,0,t.base[[#This Row],[TOTAL]])","v":0}]
["2018-02-26","LEI HUANLAN","Centro","0001-004098","2018-03-13",0,{"v":20320,"d":"20,320"},{"$f":"IF(t.base[[#This Row],[DIAS DE ATRASO]]=0,0,t.base[[#This Row],[TOTAL]])","v":0}]
["2018-02-10","D'IONS SRLTDA","Norte","0002-007404","2018-03-12",1,{"v":44576,"d":"44,576"},{"$f":"IF(t.base[[#This Row],[DIAS DE ATRASO]]=0,0,t.base[[#This Row],[TOTAL]])","v":44576}]
["2017-06-09","LUZ Y COLOR S.A.C.","Centro","0002-009159","2017-08-08",217,{"v":24305,"d":"24,305"},{"$f":"IF(t.base[[#This Row],[DIAS DE ATRASO]]=0,0,t.base[[#This Row],[TOTAL]])","v":24305}]
["2018-02-11","VASQUEZ CAMPOS BETY","Centro","0002-009351","2018-03-13",0,{"v":29510,"d":"29,510"},{"$f":"IF(t.base[[#This Row],[DIAS DE ATRASO]]=0,0,t.base[[#This Row],[TOTAL]])","v":0}]
["2017-12-17","MAMANI ANCCO DAMIAN","Centro","0002-002049","2018-01-16",56,{"v":15461,"d":"15,461"},{"$f":"IF(t.base[[#This Row],[DIAS DE ATRASO]]=0,0,t.base[[#This Row],[TOTAL]])","v":15461}]
["2018-03-13","CHR HANSEN S.A.","Centro","0002-005611","2018-03-13",0,{"v":17978,"d":"17,978"},{"$f":"IF(t.base[[#This Row],[DIAS DE ATRASO]]=0,0,t.base[[#This Row],[TOTAL]])","v":0}]
["2018-01-12","AQUINO PEREZ RONEL","Centro","0002-007520","2018-03-13",0,{"v":28069,"d":"28,069"},{"$f":"IF(t.base[[#This Row],[DIAS DE ATRASO]]=0,0,t.base[[#This Row],[TOTAL]])","v":0}]
["2017-10-16","ECONOFARMA S.A.C.","Centro","0002-008643","2017-10-31",133,{"v":20080,"d":"20,080"},{"$f":"IF(t.base[[#This Row],[DIAS DE ATRASO]]=0,0,t.base[[#This Row],[TOTAL]])","v":20080}]
["2018-03-13","TEXTIL 1649 S.A.C.","Centro","0001-002143","2018-03-13",0,{"v":21018,"d":"21,018"},{"$f":"IF(t.base[[#This Row],[DIAS DE ATRASO]]=0,0,t.base[[#This Row],[TOTAL]])","v":0}]
["2017-11-16","LEOPAN E.I.R.L.","Centro","0002-008847","2017-12-31",72,{"v":11592,"d":"11,592"},{"$f":"IF(t.base[[#This Row],[DIAS DE ATRASO]]=0,0,t.base[[#This Row],[TOTAL]])","v":11592}]
["2018-02-11","DUNKEL E.I.R.L.","Sur","0002-009548","2018-03-13",0,{"v":46373,"d":"46,373"},{"$f":"IF(t.base[[#This Row],[DIAS DE ATRASO]]=0,0,t.base[[#This Row],[TOTAL]])","v":0}]
["2018-01-12","CLAS CAYLLOMA ALTA","Sur","0001-003838","2018-03-13",0,{"v":34195,"d":"34,195"},{"$f":"IF(t.base[[#This Row],[DIAS DE ATRASO]]=0,0,t.base[[#This Row],[TOTAL]])","v":0}]
["2017-12-13","LOZANO E I R LTDA","Centro","0002-003101","2018-03-13",0,{"v":15887,"d":"15,887"},{"$f":"IF(t.base[[#This Row],[DIAS DE ATRASO]]=0,0,t.base[[#This Row],[TOTAL]])","v":0}]
["2018-03-13","MAQUERA RAMOS IRMA","Centro","0001-004137","2018-03-13",0,{"v":23600,"d":"23,600"},{"$f":"IF(t.base[[#This Row],[DIAS DE ATRASO]]=0,0,t.base[[#This Row],[TOTAL]])","v":0}]
["2017-11-19","JADE TRES SAC","Centro","0001-001410","2018-02-17",24,{"v":24089,"d":"24,089"},{"$f":"IF(t.base[[#This Row],[DIAS DE ATRASO]]=0,0,t.base[[#This Row],[TOTAL]])","v":24089}]
["2018-02-11","GRANJA AZUL S A","Centro","0002-002163","2018-03-13",0,{"v":28970,"d":"28,970"},{"$f":"IF(t.base[[#This Row],[DIAS DE ATRASO]]=0,0,t.base[[#This Row],[TOTAL]])","v":0}]
["2018-02-26","35-17 CARGO S.A.C.","Centro","0001-007778","2018-03-13",0,{"v":13693,"d":"13,693"},{"$f":"IF(t.base[[#This Row],[DIAS DE ATRASO]]=0,0,t.base[[#This Row],[TOTAL]])","v":0}]
["2017-12-13","SILVER & ME S.A.","Centro","0001-009881","2018-03-13",0,{"v":22170,"d":"22,170"},{"$f":"IF(t.base[[#This Row],[DIAS DE ATRASO]]=0,0,t.base[[#This Row],[TOTAL]])","v":0}]
["2018-03-13","JARRO ROJAS IRMA","Centro","0002-006845","2018-03-13",0,{"v":13142,"d":"13,142"},{"$f":"IF(t.base[[#This Row],[DIAS DE ATRASO]]=0,0,t.base[[#This Row],[TOTAL]])","v":0}]
["2018-03-13","CAMPO LIMPIO","Centro","0001-005511","2018-03-13",0,{"v":10669,"d":"10,669"},{"$f":"IF(t.base[[#This Row],[DIAS DE ATRASO]]=0,0,t.base[[#This Row],[TOTAL]])","v":0}]
["2017-11-04","BAZAR SUBCAFAE","Norte","0002-001219","2017-11-19",114,{"v":39876,"d":"39,876"},{"$f":"IF(t.base[[#This Row],[DIAS DE ATRASO]]=0,0,t.base[[#This Row],[TOTAL]])","v":39876}]
["2018-01-11","KAMIFE E.I.R.L.","Sur","0002-002318","2018-03-12",1,{"v":5735,"d":"5,735"},{"$f":"IF(t.base[[#This Row],[DIAS DE ATRASO]]=0,0,t.base[[#This Row],[TOTAL]])","v":5735}]
["2017-12-13","IMFARMA E.I.R.L.","Sur","0001-009566","2018-03-13",0,{"v":8462,"d":"8,462"},{"$f":"IF(t.base[[#This Row],[DIAS DE ATRASO]]=0,0,t.base[[#This Row],[TOTAL]])","v":0}]
["2017-12-13","WAGER SLOTS S.A.C.","Centro","0001-009635","2018-03-13",0,{"v":26950,"d":"26,950"},{"$f":"IF(t.base[[#This Row],[DIAS DE ATRASO]]=0,0,t.base[[#This Row],[TOTAL]])","v":0}]
["2018-02-25","CREAKTIVO S.A.C.","Centro","0001-001629","2018-03-12",1,{"v":10250,"d":"10,250"},{"$f":"IF(t.base[[#This Row],[DIAS DE ATRASO]]=0,0,t.base[[#This Row],[TOTAL]])","v":10250}]
["2017-11-30","MIAMI -SHOP S.A.C.","Centro","0001-009403","2018-01-14",58,{"v":22734,"d":"22,734"},{"$f":"IF(t.base[[#This Row],[DIAS DE ATRASO]]=0,0,t.base[[#This Row],[TOTAL]])","v":22734}]
["2018-01-27","JOMAHI E.I.R.L.","Norte","0002-004126","2018-03-13",0,{"v":17723,"d":"17,723"},{"$f":"IF(t.base[[#This Row],[DIAS DE ATRASO]]=0,0,t.base[[#This Row],[TOTAL]])","v":0}]
["2018-03-12","IRYOVI E.I.R.L.","Centro","0002-004661","2018-03-12",1,{"v":10730,"d":"10,730"},{"$f":"IF(t.base[[#This Row],[DIAS DE ATRASO]]=0,0,t.base[[#This Row],[TOTAL]])","v":10730}]
["2018-02-09","DIENST S.A.C.","Centro","0002-006974","2018-03-11",2,{"v":27848,"d":"27,848"},{"$f":"IF(t.base[[#This Row],[DIAS DE ATRASO]]=0,0,t.base[[#This Row],[TOTAL]])","v":27848}]
["2018-01-27","CARGRAPHICS S.A.C.","Centro","0002-008599","2018-03-13",0,{"v":12222,"d":"12,222"},{"$f":"IF(t.base[[#This Row],[DIAS DE ATRASO]]=0,0,t.base[[#This Row],[TOTAL]])","v":0}]
["2017-10-01","DEMAFER S.R.L.","Norte","0002-002121","2017-10-16",148,{"v":46668,"d":"46,668"},{"$f":"IF(t.base[[#This Row],[DIAS DE ATRASO]]=0,0,t.base[[#This Row],[TOTAL]])","v":46668}]
["2017-12-13","D & M MEDICAL EIRL","Centro","0002-003392","2018-03-13",0,{"v":16318,"d":"16,318"},{"$f":"IF(t.base[[#This Row],[DIAS DE ATRASO]]=0,0,t.base[[#This Row],[TOTAL]])","v":0}]
["2018-01-27","CIA NEMER SAC","Sur","0001-003868","2018-03-13",0,{"v":27735,"d":"27,735"},{"$f":"IF(t.base[[#This Row],[DIAS DE ATRASO]]=0,0,t.base[[#This Row],[TOTAL]])","v":0}]
["2018-01-27","SALAS TUANAMA HIDA","Centro","0002-007597","2018-03-13",0,{"v":12271,"d":"12,271"},{"$f":"IF(t.base[[#This Row],[DIAS DE ATRASO]]=0,0,t.base[[#This Row],[TOTAL]])","v":0}]
["2018-02-11","CUEROS R SAC","Norte","0002-002766","2018-03-13",0,{"v":29788,"d":"29,788"},{"$f":"IF(t.base[[#This Row],[DIAS DE ATRASO]]=0,0,t.base[[#This Row],[TOTAL]])","v":0}]
["2018-01-11","SAAD SAID T I","Centro","0002-003584","2018-03-12",1,{"v":21510,"d":"21,510"},{"$f":"IF(t.base[[#This Row],[DIAS DE ATRASO]]=0,0,t.base[[#This Row],[TOTAL]])","v":21510}]
["2018-01-27","MOTOREMA S.A.C.","Centro","0001-001440","2018-03-13",0,{"v":12719,"d":"12,719"},{"$f":"IF(t.base[[#This Row],[DIAS DE ATRASO]]=0,0,t.base[[#This Row],[TOTAL]])","v":0}]
["2018-01-13","ALDELI S.A.","Centro","0001-008175","2018-01-28",44,{"v":27488,"d":"27,488"},{"$f":"IF(t.base[[#This Row],[DIAS DE ATRASO]]=0,0,t.base[[#This Row],[TOTAL]])","v":27488}]
["2017-12-12","GEOINFORMACION S.A.","Centro","0001-007311","2018-03-12",1,{"v":22487,"d":"22,487"},{"$f":"IF(t.base[[#This Row],[DIAS DE ATRASO]]=0,0,t.base[[#This Row],[TOTAL]])","v":22487}]
["2017-09-21","LUMOGA   E.I.R.L.","Centro","0001-008161","2017-10-21",143,{"v":26668,"d":"26,668"},{"$f":"IF(t.base[[#This Row],[DIAS DE ATRASO]]=0,0,t.base[[#This Row],[TOTAL]])","v":26668}]
["2018-03-13","CLAS CABANACONDE","Sur","0002-009509","2018-03-13",0,{"v":24824,"d":"24,824"},{"$f":"IF(t.base[[#This Row],[DIAS DE ATRASO]]=0,0,t.base[[#This Row],[TOTAL]])","v":0}]
["2018-01-12","INCOSERGEL S.A.C","Centro","0002-008446","2018-03-13",0,{"v":10461,"d":"10,461"},{"$f":"IF(t.base[[#This Row],[DIAS DE ATRASO]]=0,0,t.base[[#This Row],[TOTAL]])","v":0}]
["2018-01-11","SURTIDORES S.A.C.","Centro","0002-001718","2018-03-12",1,{"v":19581,"d":"19,581"},{"$f":"IF(t.base[[#This Row],[DIAS DE ATRASO]]=0,0,t.base[[#This Row],[TOTAL]])","v":19581}]
["2017-10-18","JHOSBET E.I.R.L.","Centro","0001-008497","2017-12-02",101,{"v":13352,"d":"13,352"},{"$f":"IF(t.base[[#This Row],[DIAS DE ATRASO]]=0,0,t.base[[#This Row],[TOTAL]])","v":13352}]
["2017-08-28","RB & RD S.R.L.","Sur","0001-004678","2017-10-12",152,{"v":7895,"d":"7,895"},{"$f":"IF(t.base[[#This Row],[DIAS DE ATRASO]]=0,0,t.base[[#This Row],[TOTAL]])","v":7895}]
["2017-10-06","JURO CHAPARRO ISAAC","Centro","0001-002452","2018-01-04",68,{"v":15275,"d":"15,275"},{"$f":"IF(t.base[[#This Row],[DIAS DE ATRASO]]=0,0,t.base[[#This Row],[TOTAL]])","v":15275}]
["2017-12-12","MIYAGUI S.A.C.","Centro","0002-003129","2018-03-12",1,{"v":24792,"d":"24,792"},{"$f":"IF(t.base[[#This Row],[DIAS DE ATRASO]]=0,0,t.base[[#This Row],[TOTAL]])","v":24792}]
["2018-01-20","DAMERED S.A.C.","Centro","0002-009275","2018-03-06",7,{"v":27226,"d":"27,226"},{"$f":"IF(t.base[[#This Row],[DIAS DE ATRASO]]=0,0,t.base[[#This Row],[TOTAL]])","v":27226}]
["2018-01-05","PERALTA ROMAN YOISY","Centro","0002-007783","2018-02-19",22,{"v":26005,"d":"26,005"},{"$f":"IF(t.base[[#This Row],[DIAS DE ATRASO]]=0,0,t.base[[#This Row],[TOTAL]])","v":26005}]
["2018-02-11","CHINANGO S.A.C.","Centro","0001-002064","2018-03-13",0,{"v":11217,"d":"11,217"},{"$f":"IF(t.base[[#This Row],[DIAS DE ATRASO]]=0,0,t.base[[#This Row],[TOTAL]])","v":0}]
["2018-03-13","CACERESA S.A.C.","Centro","0001-006296","2018-03-13",0,{"v":19884,"d":"19,884"},{"$f":"IF(t.base[[#This Row],[DIAS DE ATRASO]]=0,0,t.base[[#This Row],[TOTAL]])","v":0}]
["2018-02-11","TECNO COLOR S R L","Centro","0001-007350","2018-03-13",0,{"v":27803,"d":"27,803"},{"$f":"IF(t.base[[#This Row],[DIAS DE ATRASO]]=0,0,t.base[[#This Row],[TOTAL]])","v":0}]
["2018-03-13","VIVEL S.A.","Norte","0002-006432","2018-03-13",0,{"v":50939,"d":"50,939"},{"$f":"IF(t.base[[#This Row],[DIAS DE ATRASO]]=0,0,t.base[[#This Row],[TOTAL]])","v":0}]
["2017-12-10","PRINT METAL S.A","Centro","0001-003687","2018-03-10",3,{"v":10046,"d":"10,046"},{"$f":"IF(t.base[[#This Row],[DIAS DE ATRASO]]=0,0,t.base[[#This Row],[TOTAL]])","v":10046}]
["2018-03-13","TEXTILES PAULA SAC","Centro","0002-009064","2018-03-13",0,{"v":23629,"d":"23,629"},{"$f":"IF(t.base[[#This Row],[DIAS DE ATRASO]]=0,0,t.base[[#This Row],[TOTAL]])","v":0}]
["2018-01-26","SALVADOR LAZO FIDEL","Centro","0002-007989","2018-03-12",1,{"v":15526,"d":"15,526"},{"$f":"IF(t.base[[#This Row],[DIAS DE ATRASO]]=0,0,t.base[[#This Row],[TOTAL]])","v":15526}]
["2018-01-12","ANDINA IMEX S.A.C","Centro","0001-009265","2018-03-13",0,{"v":15941,"d":"15,941"},{"$f":"IF(t.base[[#This Row],[DIAS DE ATRASO]]=0,0,t.base[[#This Row],[TOTAL]])","v":0}]
["2017-12-14","MAMANI SOSA ANA","Centro","0001-001575","2017-12-29",74,{"v":21709,"d":"21,709"},{"$f":"IF(t.base[[#This Row],[DIAS DE ATRASO]]=0,0,t.base[[#This Row],[TOTAL]])","v":21709}]
["2018-01-12","PARKETON S.A.C.","Centro","0001-005794","2018-03-13",0,{"v":19740,"d":"19,740"},{"$f":"IF(t.base[[#This Row],[DIAS DE ATRASO]]=0,0,t.base[[#This Row],[TOTAL]])","v":0}]
["2017-12-13","NESTOR MARTIN S.R.L","Sur","0001-009627","2018-03-13",0,{"v":24739,"d":"24,739"},{"$f":"IF(t.base[[#This Row],[DIAS DE ATRASO]]=0,0,t.base[[#This Row],[TOTAL]])","v":0}]
["2017-12-26","BEPERU S.A.C.","Centro","0002-006445","2018-02-09",32,{"v":11633,"d":"11,633"},{"$f":"IF(t.base[[#This Row],[DIAS DE ATRASO]]=0,0,t.base[[#This Row],[TOTAL]])","v":11633}]
["2017-11-13","VIRGO PERU SAC","Centro","0001-002682","2017-12-13",90,{"v":29721,"d":"29,721"},{"$f":"IF(t.base[[#This Row],[DIAS DE ATRASO]]=0,0,t.base[[#This Row],[TOTAL]])","v":29721}]
["2018-01-27","VHL FOOD SAC","Centro","0001-001950","2018-03-13",0,{"v":26926,"d":"26,926"},{"$f":"IF(t.base[[#This Row],[DIAS DE ATRASO]]=0,0,t.base[[#This Row],[TOTAL]])","v":0}]
["2018-01-27","ANTONIO CARBONE SA","Centro","0001-006117","2018-03-13",0,{"v":29928,"d":"29,928"},{"$f":"IF(t.base[[#This Row],[DIAS DE ATRASO]]=0,0,t.base[[#This Row],[TOTAL]])","v":0}]
["2017-11-04","CIA NEMER SAC","Sur","0002-005440","2018-02-02",39,{"v":43333,"d":"43,333"},{"$f":"IF(t.base[[#This Row],[DIAS DE ATRASO]]=0,0,t.base[[#This Row],[TOTAL]])","v":43333}]
["2018-01-27","LUQUE HUANCA IRMA","Centro","0002-002704","2018-03-13",0,{"v":13430,"d":"13,430"},{"$f":"IF(t.base[[#This Row],[DIAS DE ATRASO]]=0,0,t.base[[#This Row],[TOTAL]])","v":0}]
["2018-02-19","HUISA ZAMATA JORGE","Centro","0002-005961","2018-03-06",7,{"v":11208,"d":"11,208"},{"$f":"IF(t.base[[#This Row],[DIAS DE ATRASO]]=0,0,t.base[[#This Row],[TOTAL]])","v":11208}]
["2018-01-27","TOLDOS J.J.V S.R.L.","Centro","0001-004947","2018-03-13",0,{"v":24012,"d":"24,012"},{"$f":"IF(t.base[[#This Row],[DIAS DE ATRASO]]=0,0,t.base[[#This Row],[TOTAL]])","v":0}]
["2018-02-25","SALCOM S.A.C.","Centro","0001-002720","2018-03-12",1,{"v":11788,"d":"11,788"},{"$f":"IF(t.base[[#This Row],[DIAS DE ATRASO]]=0,0,t.base[[#This Row],[TOTAL]])","v":11788}]
["2018-03-13","GAS ANTONIO'S SAC","Norte","0002-006726","2018-03-13",0,{"v":43819,"d":"43,819"},{"$f":"IF(t.base[[#This Row],[DIAS DE ATRASO]]=0,0,t.base[[#This Row],[TOTAL]])","v":0}]
["2018-02-26","RAINBOW S.A.","Centro","0002-007662","2018-03-13",0,{"v":16531,"d":"16,531"},{"$f":"IF(t.base[[#This Row],[DIAS DE ATRASO]]=0,0,t.base[[#This Row],[TOTAL]])","v":0}]
["2018-02-26","ROSA ELENA S.R.L.","Norte","0001-005248","2018-03-13",0,{"v":52661,"d":"52,661"},{"$f":"IF(t.base[[#This Row],[DIAS DE ATRASO]]=0,0,t.base[[#This Row],[TOTAL]])","v":0}]
["2018-01-20","ALMAPEL E.I.R.L.","Sur","0001-001846","2018-03-06",7,{"v":5185,"d":"5,185"},{"$f":"IF(t.base[[#This Row],[DIAS DE ATRASO]]=0,0,t.base[[#This Row],[TOTAL]])","v":5185}]
["2017-10-11","MISOKA S.A.C.","Centro","0002-008842","2017-10-11",153,{"v":15547,"d":"15,547"},{"$f":"IF(t.base[[#This Row],[DIAS DE ATRASO]]=0,0,t.base[[#This Row],[TOTAL]])","v":15547}]
["2017-08-23","COK LINO ROBERTO","Centro","0001-005484","2017-09-22",172,{"v":27387,"d":"27,387"},{"$f":"IF(t.base[[#This Row],[DIAS DE ATRASO]]=0,0,t.base[[#This Row],[TOTAL]])","v":27387}]
["2017-09-26","LOLA & MIGUEL SAC","Centro","0002-007582","2017-11-25",108,{"v":16403,"d":"16,403"},{"$f":"IF(t.base[[#This Row],[DIAS DE ATRASO]]=0,0,t.base[[#This Row],[TOTAL]])","v":16403}]
["2017-12-13","S'DROP'S E.I.R.L.","Centro","0001-006353","2018-03-13",0,{"v":28215,"d":"28,215"},{"$f":"IF(t.base[[#This Row],[DIAS DE ATRASO]]=0,0,t.base[[#This Row],[TOTAL]])","v":0}]
["2017-12-28","FIDUCIARIA GBC S.A.","Centro","0002-006278","2018-02-11",30,{"v":13354,"d":"13,354"},{"$f":"IF(t.base[[#This Row],[DIAS DE ATRASO]]=0,0,t.base[[#This Row],[TOTAL]])","v":13354}]
["2017-09-19","LMS MENAGE S.A.C.","Centro","0002-008290","2017-11-03",130,{"v":11386,"d":"11,386"},{"$f":"IF(t.base[[#This Row],[DIAS DE ATRASO]]=0,0,t.base[[#This Row],[TOTAL]])","v":11386}]
["2017-09-01","EMAPAVIGSSA","Sur","0001-001470","2017-10-31",133,{"v":13935,"d":"13,935"},{"$f":"IF(t.base[[#This Row],[DIAS DE ATRASO]]=0,0,t.base[[#This Row],[TOTAL]])","v":13935}]
["2017-12-13","INKACLOTH S.A.C.","Centro","0001-008998","2018-03-13",0,{"v":18349,"d":"18,349"},{"$f":"IF(t.base[[#This Row],[DIAS DE ATRASO]]=0,0,t.base[[#This Row],[TOTAL]])","v":0}]
["2018-02-03","RUIZ VEGA ROBINSON","Centro","0001-007688","2018-02-18",23,{"v":20911,"d":"20,911"},{"$f":"IF(t.base[[#This Row],[DIAS DE ATRASO]]=0,0,t.base[[#This Row],[TOTAL]])","v":20911}]
["2018-01-12","SAAD SAID T I","Centro","0002-006097","2018-03-13",0,{"v":10913,"d":"10,913"},{"$f":"IF(t.base[[#This Row],[DIAS DE ATRASO]]=0,0,t.base[[#This Row],[TOTAL]])","v":0}]
["2018-02-11","HIROSHI S.A.C.","Norte","0001-006674","2018-03-13",0,{"v":10771,"d":"10,771"},{"$f":"IF(t.base[[#This Row],[DIAS DE ATRASO]]=0,0,t.base[[#This Row],[TOTAL]])","v":0}]
["2017-12-13","TEXTILAN S.R.LTDA","Sur","0001-005917","2018-03-13",0,{"v":49596,"d":"49,596"},{"$f":"IF(t.base[[#This Row],[DIAS DE ATRASO]]=0,0,t.base[[#This Row],[TOTAL]])","v":0}]
["2018-02-11","DEMAFER S.R.L.","Norte","0002-001094","2018-03-13",0,{"v":40254,"d":"40,254"},{"$f":"IF(t.base[[#This Row],[DIAS DE ATRASO]]=0,0,t.base[[#This Row],[TOTAL]])","v":0}]
["2018-02-26","SAMANTHA S.A.C.","Norte","0001-007579","2018-03-13",0,{"v":58880,"d":"58,880"},{"$f":"IF(t.base[[#This Row],[DIAS DE ATRASO]]=0,0,t.base[[#This Row],[TOTAL]])","v":0}]
["2017-12-13","MIKOMI SAC","Centro","0001-009399","2018-03-13",0,{"v":11843,"d":"11,843"},{"$f":"IF(t.base[[#This Row],[DIAS DE ATRASO]]=0,0,t.base[[#This Row],[TOTAL]])","v":0}]
["2018-02-10","KUNTUR WASSI S.A.C.","Sur","0001-001109","2018-03-12",1,{"v":28287,"d":"28,287"},{"$f":"IF(t.base[[#This Row],[DIAS DE ATRASO]]=0,0,t.base[[#This Row],[TOTAL]])","v":28287}]
["2018-01-27","DELPHINUS S.A.C.","Centro","0002-003643","2018-03-13",0,{"v":28033,"d":"28,033"},{"$f":"IF(t.base[[#This Row],[DIAS DE ATRASO]]=0,0,t.base[[#This Row],[TOTAL]])","v":0}]
["2018-01-27","TRANSUNION PERU SAC","Centro","0002-001308","2018-03-13",0,{"v":25415,"d":"25,415"},{"$f":"IF(t.base[[#This Row],[DIAS DE ATRASO]]=0,0,t.base[[#This Row],[TOTAL]])","v":0}]
["2018-02-11","GONCORP S.A.C.","Centro","0001-009833","2018-03-13",0,{"v":10877,"d":"10,877"},{"$f":"IF(t.base[[#This Row],[DIAS DE ATRASO]]=0,0,t.base[[#This Row],[TOTAL]])","v":0}]
["2017-12-13","J & L ALIMENTOS SAC","Centro","0002-004856","2018-03-13",0,{"v":19315,"d":"19,315"},{"$f":"IF(t.base[[#This Row],[DIAS DE ATRASO]]=0,0,t.base[[#This Row],[TOTAL]])","v":0}]
["2018-01-12","FLORES PARI ROSALIA","Centro","0002-008804","2018-03-13",0,{"v":24616,"d":"24,616"},{"$f":"IF(t.base[[#This Row],[DIAS DE ATRASO]]=0,0,t.base[[#This Row],[TOTAL]])","v":0}]
["2017-11-07","CHR HANSEN S.A.","Centro","0002-008071","2018-02-05",36,{"v":11955,"d":"11,955"},{"$f":"IF(t.base[[#This Row],[DIAS DE ATRASO]]=0,0,t.base[[#This Row],[TOTAL]])","v":11955}]
["2018-02-10","PHOENIX S.R.LTDA","Norte","0001-007453","2018-03-12",1,{"v":22504,"d":"22,504"},{"$f":"IF(t.base[[#This Row],[DIAS DE ATRASO]]=0,0,t.base[[#This Row],[TOTAL]])","v":22504}]
["2018-01-28","JOMI TOURS S.A.C","Centro","0002-003015","2018-02-27",14,{"v":25659,"d":"25,659"},{"$f":"IF(t.base[[#This Row],[DIAS DE ATRASO]]=0,0,t.base[[#This Row],[TOTAL]])","v":25659}]
["2017-11-23","CONTRACTORS SAC","Centro","0002-001916","2018-02-21",20,{"v":28858,"d":"28,858"},{"$f":"IF(t.base[[#This Row],[DIAS DE ATRASO]]=0,0,t.base[[#This Row],[TOTAL]])","v":28858}]
["2018-03-13","INVERSMEN E.I.R.L.","Centro","0001-002521","2018-03-13",0,{"v":21761,"d":"21,761"},{"$f":"IF(t.base[[#This Row],[DIAS DE ATRASO]]=0,0,t.base[[#This Row],[TOTAL]])","v":0}]
["2018-02-25","ALBACONSULT S.A.C.","Centro","0002-005683","2018-03-12",1,{"v":18761,"d":"18,761"},{"$f":"IF(t.base[[#This Row],[DIAS DE ATRASO]]=0,0,t.base[[#This Row],[TOTAL]])","v":18761}]
["2018-02-26","KUNTUR WASSI S.A.C.","Sur","0001-006514","2018-03-13",0,{"v":49371,"d":"49,371"},{"$f":"IF(t.base[[#This Row],[DIAS DE ATRASO]]=0,0,t.base[[#This Row],[TOTAL]])","v":0}]
["2018-01-27","ESTRATEGICA S.A.C.","Centro","0001-004989","2018-03-13",0,{"v":29980,"d":"29,980"},{"$f":"IF(t.base[[#This Row],[DIAS DE ATRASO]]=0,0,t.base[[#This Row],[TOTAL]])","v":0}]
["2017-11-12","A & SAN JOSE S.A.C","Centro","0001-004015","2018-02-10",31,{"v":24837,"d":"24,837"},{"$f":"IF(t.base[[#This Row],[DIAS DE ATRASO]]=0,0,t.base[[#This Row],[TOTAL]])","v":24837}]
["2017-08-07","RENGIFO LOPEZ SARA","Centro","0001-006686","2017-08-07",218,{"v":27159,"d":"27,159"},{"$f":"IF(t.base[[#This Row],[DIAS DE ATRASO]]=0,0,t.base[[#This Row],[TOTAL]])","v":27159}]
["2017-11-07","PLASTIJHIM SRL","Centro","0001-006111","2018-01-06",66,{"v":20254,"d":"20,254"},{"$f":"IF(t.base[[#This Row],[DIAS DE ATRASO]]=0,0,t.base[[#This Row],[TOTAL]])","v":20254}]
["2017-12-13","GOLD TEXTIL S.A.C.","Centro","0002-009895","2018-03-13",0,{"v":13313,"d":"13,313"},{"$f":"IF(t.base[[#This Row],[DIAS DE ATRASO]]=0,0,t.base[[#This Row],[TOTAL]])","v":0}]
["2017-11-13","JEPALA EIRL.","Sur","0002-003628","2017-12-28",75,{"v":17218,"d":"17,218"},{"$f":"IF(t.base[[#This Row],[DIAS DE ATRASO]]=0,0,t.base[[#This Row],[TOTAL]])","v":17218}]
["2018-01-26","WAGER SLOTS S.A.C.","Centro","0001-001484","2018-03-12",1,{"v":19558,"d":"19,558"},{"$f":"IF(t.base[[#This Row],[DIAS DE ATRASO]]=0,0,t.base[[#This Row],[TOTAL]])","v":19558}]
["2017-12-13","CLAS CAYLLOMA ALTA","Sur","0001-006209","2018-03-13",0,{"v":32748,"d":"32,748"},{"$f":"IF(t.base[[#This Row],[DIAS DE ATRASO]]=0,0,t.base[[#This Row],[TOTAL]])","v":0}]
["2017-11-07","PRO MAKEUP E.I.R.L.","Centro","0002-008791","2018-02-05",36,{"v":19131,"d":"19,131"},{"$f":"IF(t.base[[#This Row],[DIAS DE ATRASO]]=0,0,t.base[[#This Row],[TOTAL]])","v":19131}]
["2018-01-12","DIENST S.A.C.","Centro","0001-004858","2018-03-13",0,{"v":29181,"d":"29,181"},{"$f":"IF(t.base[[#This Row],[DIAS DE ATRASO]]=0,0,t.base[[#This Row],[TOTAL]])","v":0}]
["2017-08-19","TMF PERU S.R.L.","Centro","0002-002839","2017-10-03",161,{"v":20857,"d":"20,857"},{"$f":"IF(t.base[[#This Row],[DIAS DE ATRASO]]=0,0,t.base[[#This Row],[TOTAL]])","v":20857}]
["2018-02-11","FAVET E.I.R.L.","Norte","0002-007408","2018-03-13",0,{"v":16098,"d":"16,098"},{"$f":"IF(t.base[[#This Row],[DIAS DE ATRASO]]=0,0,t.base[[#This Row],[TOTAL]])","v":0}]
["2017-11-27","PABEL S.A.C.","Norte","0001-003589","2017-12-27",76,{"v":44111,"d":"44,111"},{"$f":"IF(t.base[[#This Row],[DIAS DE ATRASO]]=0,0,t.base[[#This Row],[TOTAL]])","v":44111}]
["2018-03-13","CUBO MAGICO S.A.C.","Centro","0001-005850","2018-03-13",0,{"v":19907,"d":"19,907"},{"$f":"IF(t.base[[#This Row],[DIAS DE ATRASO]]=0,0,t.base[[#This Row],[TOTAL]])","v":0}]
["2018-02-26","AGRO SELECTO S.A.C.","Centro","0001-004732","2018-03-13",0,{"v":24467,"d":"24,467"},{"$f":"IF(t.base[[#This Row],[DIAS DE ATRASO]]=0,0,t.base[[#This Row],[TOTAL]])","v":0}]
["2017-05-11","RAVALT S.R.L.","Sur","0002-009221","2017-08-09",216,{"v":5488,"d":"5,488"},{"$f":"IF(t.base[[#This Row],[DIAS DE ATRASO]]=0,0,t.base[[#This Row],[TOTAL]])","v":5488}]
["2018-01-26","LIZFEL E.I.R.L.","Centro","0001-009763","2018-02-10",31,{"v":17041,"d":"17,041"},{"$f":"IF(t.base[[#This Row],[DIAS DE ATRASO]]=0,0,t.base[[#This Row],[TOTAL]])","v":17041}]
["2017-11-10","NABILA S.A.C.","Centro","0001-006714","2018-01-09",63,{"v":20165,"d":"20,165"},{"$f":"IF(t.base[[#This Row],[DIAS DE ATRASO]]=0,0,t.base[[#This Row],[TOTAL]])","v":20165}]
["2018-03-13","TRANEDO S.R.L.","Norte","0002-003763","2018-03-13",0,{"v":51492,"d":"51,492"},{"$f":"IF(t.base[[#This Row],[DIAS DE ATRASO]]=0,0,t.base[[#This Row],[TOTAL]])","v":0}]
["2017-12-02","AGROCAUCHO EIRL","Sur","0002-007693","2018-01-31",41,{"v":6236,"d":"6,236"},{"$f":"IF(t.base[[#This Row],[DIAS DE ATRASO]]=0,0,t.base[[#This Row],[TOTAL]])","v":6236}]
["2018-01-05","COPY SERVICE MV SAC","Centro","0001-001769","2018-03-06",7,{"v":15086,"d":"15,086"},{"$f":"IF(t.base[[#This Row],[DIAS DE ATRASO]]=0,0,t.base[[#This Row],[TOTAL]])","v":15086}]
["2018-03-13","JIANG HUANYI","Centro","0001-007232","2018-03-13",0,{"v":16896,"d":"16,896"},{"$f":"IF(t.base[[#This Row],[DIAS DE ATRASO]]=0,0,t.base[[#This Row],[TOTAL]])","v":0}]
["2018-01-12","LIAO GUO WEI","Centro","0002-006960","2018-03-13",0,{"v":17002,"d":"17,002"},{"$f":"IF(t.base[[#This Row],[DIAS DE ATRASO]]=0,0,t.base[[#This Row],[TOTAL]])","v":0}]
["2017-09-19","HARBINGER S.A.C.","Centro","0002-007284","2017-12-18",85,{"v":14831,"d":"14,831"},{"$f":"IF(t.base[[#This Row],[DIAS DE ATRASO]]=0,0,t.base[[#This Row],[TOTAL]])","v":14831}]
["2017-11-20","CLAS CABANACONDE","Sur","0002-005795","2017-12-20",83,{"v":38660,"d":"38,660"},{"$f":"IF(t.base[[#This Row],[DIAS DE ATRASO]]=0,0,t.base[[#This Row],[TOTAL]])","v":38660}]
["2017-07-05","KE JIANQING","Centro","0001-004331","2017-10-03",161,{"v":24332,"d":"24,332"},{"$f":"IF(t.base[[#This Row],[DIAS DE ATRASO]]=0,0,t.base[[#This Row],[TOTAL]])","v":24332}]
["2018-02-26","MHO IMPORT S.A.C.","Centro","0002-003070","2018-03-13",0,{"v":19954,"d":"19,954"},{"$f":"IF(t.base[[#This Row],[DIAS DE ATRASO]]=0,0,t.base[[#This Row],[TOTAL]])","v":0}]
["2017-07-29","PERU BOX AIR S.A.C.","Centro","0001-003597","2017-09-27",167,{"v":19556,"d":"19,556"},{"$f":"IF(t.base[[#This Row],[DIAS DE ATRASO]]=0,0,t.base[[#This Row],[TOTAL]])","v":19556}]
["2018-02-24","BRENCO SAC","Norte","0001-007343","2018-02-24",17,{"v":42731,"d":"42,731"},{"$f":"IF(t.base[[#This Row],[DIAS DE ATRASO]]=0,0,t.base[[#This Row],[TOTAL]])","v":42731}]
["2018-02-26","FULL MARKET S.A.C.","Sur","0001-004673","2018-03-13",0,{"v":24502,"d":"24,502"},{"$f":"IF(t.base[[#This Row],[DIAS DE ATRASO]]=0,0,t.base[[#This Row],[TOTAL]])","v":0}]
["2018-02-11","DAVILA RIVERA MARIA","Centro","0001-006585","2018-03-13",0,{"v":27969,"d":"27,969"},{"$f":"IF(t.base[[#This Row],[DIAS DE ATRASO]]=0,0,t.base[[#This Row],[TOTAL]])","v":0}]
["2017-11-20","AUTOS MH EIRL","Centro","0001-006014","2017-12-20",83,{"v":25335,"d":"25,335"},{"$f":"IF(t.base[[#This Row],[DIAS DE ATRASO]]=0,0,t.base[[#This Row],[TOTAL]])","v":25335}]
["2017-08-03","RAVALT S.R.L.","Sur","0002-008964","2017-11-01",132,{"v":38267,"d":"38,267"},{"$f":"IF(t.base[[#This Row],[DIAS DE ATRASO]]=0,0,t.base[[#This Row],[TOTAL]])","v":38267}]
["2017-11-28","FIVE PERU E.I.R.L.","Centro","0002-001967","2018-01-27",45,{"v":16098,"d":"16,098"},{"$f":"IF(t.base[[#This Row],[DIAS DE ATRASO]]=0,0,t.base[[#This Row],[TOTAL]])","v":16098}]
["2018-02-11","LA GRANJITA E.I.R.L","Sur","0002-006220","2018-03-13",0,{"v":26391,"d":"26,391"},{"$f":"IF(t.base[[#This Row],[DIAS DE ATRASO]]=0,0,t.base[[#This Row],[TOTAL]])","v":0}]
["2018-01-12","COK LINO ROBERTO","Centro","0002-009918","2018-03-13",0,{"v":20673,"d":"20,673"},{"$f":"IF(t.base[[#This Row],[DIAS DE ATRASO]]=0,0,t.base[[#This Row],[TOTAL]])","v":0}]
["2017-07-14","GREY GROUP S.A.C","Centro","0002-004571","2017-08-28",197,{"v":17051,"d":"17,051"},{"$f":"IF(t.base[[#This Row],[DIAS DE ATRASO]]=0,0,t.base[[#This Row],[TOTAL]])","v":17051}]
["2018-01-27","CODYGOZ S.A.C.","Centro","0002-007475","2018-03-13",0,{"v":10488,"d":"10,488"},{"$f":"IF(t.base[[#This Row],[DIAS DE ATRASO]]=0,0,t.base[[#This Row],[TOTAL]])","v":0}]
["2018-02-26","ROL EMPRESARIAL S A","Centro","0001-009657","2018-03-13",0,{"v":17593,"d":"17,593"},{"$f":"IF(t.base[[#This Row],[DIAS DE ATRASO]]=0,0,t.base[[#This Row],[TOTAL]])","v":0}]
["2018-03-01","PINO VASQUEZ ALCIRA","Centro","0002-007516","2018-03-01",12,{"v":14959,"d":"14,959"},{"$f":"IF(t.base[[#This Row],[DIAS DE ATRASO]]=0,0,t.base[[#This Row],[TOTAL]])","v":14959}]
["2018-03-13","SURCO SURCO RAFAEL","Centro","0001-009310","2018-03-13",0,{"v":12554,"d":"12,554"},{"$f":"IF(t.base[[#This Row],[DIAS DE ATRASO]]=0,0,t.base[[#This Row],[TOTAL]])","v":0}]
["2017-11-25","SLENDER SAC","Centro","0001-006861","2018-02-23",18,{"v":23159,"d":"23,159"},{"$f":"IF(t.base[[#This Row],[DIAS DE ATRASO]]=0,0,t.base[[#This Row],[TOTAL]])","v":23159}]
["2018-01-27","LEON GROUP E.I.R.L.","Sur","0002-009543","2018-03-13",0,{"v":10340,"d":"10,340"},{"$f":"IF(t.base[[#This Row],[DIAS DE ATRASO]]=0,0,t.base[[#This Row],[TOTAL]])","v":0}]
["2018-02-26","J & W CIA S.A.","Centro","0001-003520","2018-03-13",0,{"v":11273,"d":"11,273"},{"$f":"IF(t.base[[#This Row],[DIAS DE ATRASO]]=0,0,t.base[[#This Row],[TOTAL]])","v":0}]
["2018-01-12","BECAR E.I.R.L.","Sur","0002-007792","2018-03-13",0,{"v":40147,"d":"40,147"},{"$f":"IF(t.base[[#This Row],[DIAS DE ATRASO]]=0,0,t.base[[#This Row],[TOTAL]])","v":0}]
["2017-07-22","CARBOTEC S.A.","Centro","0001-008240","2017-10-20",144,{"v":12387,"d":"12,387"},{"$f":"IF(t.base[[#This Row],[DIAS DE ATRASO]]=0,0,t.base[[#This Row],[TOTAL]])","v":12387}]
["2018-02-11","CAIMI PERU S.A.C.","Centro","0002-003454","2018-03-13",0,{"v":22812,"d":"22,812"},{"$f":"IF(t.base[[#This Row],[DIAS DE ATRASO]]=0,0,t.base[[#This Row],[TOTAL]])","v":0}]
["2017-09-22","TRANSJOHNNY S.A.C.","Centro","0001-003031","2017-10-22",142,{"v":24494,"d":"24,494"},{"$f":"IF(t.base[[#This Row],[DIAS DE ATRASO]]=0,0,t.base[[#This Row],[TOTAL]])","v":24494}]
["2018-01-12","ENERWELD SAC","Centro","0002-006800","2018-03-13",0,{"v":19513,"d":"19,513"},{"$f":"IF(t.base[[#This Row],[DIAS DE ATRASO]]=0,0,t.base[[#This Row],[TOTAL]])","v":0}]
["2018-02-11","GONCORP S.A.C.","Centro","0002-008712","2018-03-13",0,{"v":20511,"d":"20,511"},{"$f":"IF(t.base[[#This Row],[DIAS DE ATRASO]]=0,0,t.base[[#This Row],[TOTAL]])","v":0}]
["2017-07-22","SOTO VILA ROBERTO","Centro","0002-003595","2017-09-20",174,{"v":12951,"d":"12,951"},{"$f":"IF(t.base[[#This Row],[DIAS DE ATRASO]]=0,0,t.base[[#This Row],[TOTAL]])","v":12951}]
["2017-12-17","CASTRO NUÐEZ NELSON","Centro","0001-004076","2018-02-15",26,{"v":18992,"d":"18,992"},{"$f":"IF(t.base[[#This Row],[DIAS DE ATRASO]]=0,0,t.base[[#This Row],[TOTAL]])","v":18992}]
["2018-02-19","GALKEM E.I.R.L.","Centro","0001-009639","2018-03-06",7,{"v":18969,"d":"18,969"},{"$f":"IF(t.base[[#This Row],[DIAS DE ATRASO]]=0,0,t.base[[#This Row],[TOTAL]])","v":18969}]
["2018-01-12","PROYECONSA S.A.C.","Centro","0002-008140","2018-03-13",0,{"v":13664,"d":"13,664"},{"$f":"IF(t.base[[#This Row],[DIAS DE ATRASO]]=0,0,t.base[[#This Row],[TOTAL]])","v":0}]
["2018-01-23","LEON GROUP E.I.R.L.","Sur","0001-008047","2018-01-23",49,{"v":28776,"d":"28,776"},{"$f":"IF(t.base[[#This Row],[DIAS DE ATRASO]]=0,0,t.base[[#This Row],[TOTAL]])","v":28776}]
["2017-07-10","UNIGRUAS S.A.C.","Centro","0002-007985","2017-09-08",186,{"v":19755,"d":"19,755"},{"$f":"IF(t.base[[#This Row],[DIAS DE ATRASO]]=0,0,t.base[[#This Row],[TOTAL]])","v":19755}]
["2017-08-22","RALP E.I.R.L","Norte","0002-001445","2017-11-20",113,{"v":33908,"d":"33,908"},{"$f":"IF(t.base[[#This Row],[DIAS DE ATRASO]]=0,0,t.base[[#This Row],[TOTAL]])","v":33908}]
["2017-12-23","DELPHINUS S.A.C.","Centro","0002-005359","2018-01-22",50,{"v":18650,"d":"18,650"},{"$f":"IF(t.base[[#This Row],[DIAS DE ATRASO]]=0,0,t.base[[#This Row],[TOTAL]])","v":18650}]
["2017-12-18","AGROCAUCHO EIRL","Sur","0001-006817","2018-02-16",25,{"v":35750,"d":"35,750"},{"$f":"IF(t.base[[#This Row],[DIAS DE ATRASO]]=0,0,t.base[[#This Row],[TOTAL]])","v":35750}]
["2018-01-14","CAMILO E.I.R.L.","Norte","0002-001503","2018-02-13",28,{"v":48363,"d":"48,363"},{"$f":"IF(t.base[[#This Row],[DIAS DE ATRASO]]=0,0,t.base[[#This Row],[TOTAL]])","v":48363}]
["2017-12-12","TECSE MUYOC","Sur","0001-001810","2018-03-12",1,{"v":33025,"d":"33,025"},{"$f":"IF(t.base[[#This Row],[DIAS DE ATRASO]]=0,0,t.base[[#This Row],[TOTAL]])","v":33025}]
["2018-01-27","YANG HUIXIAN","Centro","0002-004944","2018-03-13",0,{"v":16503,"d":"16,503"},{"$f":"IF(t.base[[#This Row],[DIAS DE ATRASO]]=0,0,t.base[[#This Row],[TOTAL]])","v":0}]
["2017-11-11","COANDINA S R LTDA","Centro","0001-002819","2017-11-26",107,{"v":23947,"d":"23,947"},{"$f":"IF(t.base[[#This Row],[DIAS DE ATRASO]]=0,0,t.base[[#This Row],[TOTAL]])","v":23947}]
["2018-02-11","CARRASCO RUIZ ELINO","Centro","0001-009879","2018-03-13",0,{"v":27764,"d":"27,764"},{"$f":"IF(t.base[[#This Row],[DIAS DE ATRASO]]=0,0,t.base[[#This Row],[TOTAL]])","v":0}]
["2017-12-29","QU GU LIQI","Centro","0002-007706","2017-12-29",74,{"v":29001,"d":"29,001"},{"$f":"IF(t.base[[#This Row],[DIAS DE ATRASO]]=0,0,t.base[[#This Row],[TOTAL]])","v":29001}]
["2017-08-20","SANATEL VIDA S.A.C.","Centro","0002-007171","2017-10-04",160,{"v":18361,"d":"18,361"},{"$f":"IF(t.base[[#This Row],[DIAS DE ATRASO]]=0,0,t.base[[#This Row],[TOTAL]])","v":18361}]
["2018-01-12","LIANHE SRL","Centro","0001-007296","2018-03-13",0,{"v":23492,"d":"23,492"},{"$f":"IF(t.base[[#This Row],[DIAS DE ATRASO]]=0,0,t.base[[#This Row],[TOTAL]])","v":0}]
["2018-02-10","CAPITEX S.A.C","Centro","0002-008244","2018-03-12",1,{"v":26643,"d":"26,643"},{"$f":"IF(t.base[[#This Row],[DIAS DE ATRASO]]=0,0,t.base[[#This Row],[TOTAL]])","v":26643}]
["2018-01-12","ALMAPEL E.I.R.L.","Sur","0002-002131","2018-03-13",0,{"v":20494,"d":"20,494"},{"$f":"IF(t.base[[#This Row],[DIAS DE ATRASO]]=0,0,t.base[[#This Row],[TOTAL]])","v":0}]
["2018-02-26","LIMBERT E.I.R.L.","Sur","0002-008260","2018-03-13",0,{"v":18533,"d":"18,533"},{"$f":"IF(t.base[[#This Row],[DIAS DE ATRASO]]=0,0,t.base[[#This Row],[TOTAL]])","v":0}]
["2018-02-11","COPY  GRAPH S.A.C.","Centro","0001-009484","2018-03-13",0,{"v":23229,"d":"23,229"},{"$f":"IF(t.base[[#This Row],[DIAS DE ATRASO]]=0,0,t.base[[#This Row],[TOTAL]])","v":0}]
["2018-01-24","STANY S.A.C.","Centro","0001-009875","2018-01-24",48,{"v":26475,"d":"26,475"},{"$f":"IF(t.base[[#This Row],[DIAS DE ATRASO]]=0,0,t.base[[#This Row],[TOTAL]])","v":26475}]
["2018-02-26","GOLD TEXTIL S.A.C.","Centro","0002-004410","2018-03-13",0,{"v":17014,"d":"17,014"},{"$f":"IF(t.base[[#This Row],[DIAS DE ATRASO]]=0,0,t.base[[#This Row],[TOTAL]])","v":0}]
["2017-12-04","CLAS CONDESUYOS","Sur","0001-003645","2018-02-02",39,{"v":5019,"d":"5,019"},{"$f":"IF(t.base[[#This Row],[DIAS DE ATRASO]]=0,0,t.base[[#This Row],[TOTAL]])","v":5019}]
["2017-11-06","GUIA SEMANAL S.A.C","Norte","0002-004409","2017-11-21",112,{"v":63106,"d":"63,106"},{"$f":"IF(t.base[[#This Row],[DIAS DE ATRASO]]=0,0,t.base[[#This Row],[TOTAL]])","v":63106}]
["2017-12-09","L & C SERVIS EIRL","Norte","0001-003988","2017-12-09",94,{"v":27874,"d":"27,874"},{"$f":"IF(t.base[[#This Row],[DIAS DE ATRASO]]=0,0,t.base[[#This Row],[TOTAL]])","v":27874}]
["2017-12-23","GAS ANTONIO'S SAC","Norte","0001-006258","2018-02-21",20,{"v":40593,"d":"40,593"},{"$f":"IF(t.base[[#This Row],[DIAS DE ATRASO]]=0,0,t.base[[#This Row],[TOTAL]])","v":40593}]
["2018-01-12","LI & MAN S.R.L.","Centro","0002-002728","2018-03-13",0,{"v":14789,"d":"14,789"},{"$f":"IF(t.base[[#This Row],[DIAS DE ATRASO]]=0,0,t.base[[#This Row],[TOTAL]])","v":0}]
["2018-01-12","MOVILLANTAS S.A.C.","Centro","0001-006315","2018-03-13",0,{"v":25010,"d":"25,010"},{"$f":"IF(t.base[[#This Row],[DIAS DE ATRASO]]=0,0,t.base[[#This Row],[TOTAL]])","v":0}]
["2017-10-06","NEYOR E.I.R.L.","Sur","0001-009479","2018-01-04",68,{"v":23327,"d":"23,327"},{"$f":"IF(t.base[[#This Row],[DIAS DE ATRASO]]=0,0,t.base[[#This Row],[TOTAL]])","v":23327}]
["2018-03-13","ALPAMEL S.A.C.","Sur","0001-002386","2018-03-13",0,{"v":33367,"d":"33,367"},{"$f":"IF(t.base[[#This Row],[DIAS DE ATRASO]]=0,0,t.base[[#This Row],[TOTAL]])","v":0}]
["2018-03-13","BECAR E.I.R.L.","Sur","0002-008280","2018-03-13",0,{"v":5883,"d":"5,883"},{"$f":"IF(t.base[[#This Row],[DIAS DE ATRASO]]=0,0,t.base[[#This Row],[TOTAL]])","v":0}]
["2018-01-24","MURPA S.A.","Centro","0001-005243","2018-02-08",33,{"v":12733,"d":"12,733"},{"$f":"IF(t.base[[#This Row],[DIAS DE ATRASO]]=0,0,t.base[[#This Row],[TOTAL]])","v":12733}]
["2018-02-26","CLAS CAYLLOMA ALTA","Sur","0001-003037","2018-03-13",0,{"v":5235,"d":"5,235"},{"$f":"IF(t.base[[#This Row],[DIAS DE ATRASO]]=0,0,t.base[[#This Row],[TOTAL]])","v":0}]
["2017-11-07","QUEA TAPIA EULALIA","Centro","0002-001566","2017-12-07",96,{"v":10813,"d":"10,813"},{"$f":"IF(t.base[[#This Row],[DIAS DE ATRASO]]=0,0,t.base[[#This Row],[TOTAL]])","v":10813}]
["2018-01-12","RADIO ASTORIA S A","Norte","0002-008954","2018-03-13",0,{"v":47299,"d":"47,299"},{"$f":"IF(t.base[[#This Row],[DIAS DE ATRASO]]=0,0,t.base[[#This Row],[TOTAL]])","v":0}]
["2017-12-02","SURCO SURCO RAFAEL","Centro","0002-003204","2018-01-16",56,{"v":27159,"d":"27,159"},{"$f":"IF(t.base[[#This Row],[DIAS DE ATRASO]]=0,0,t.base[[#This Row],[TOTAL]])","v":27159}]
["2018-02-10","REHOBOT PC E.I.R.L.","Centro","0002-003820","2018-03-12",1,{"v":11159,"d":"11,159"},{"$f":"IF(t.base[[#This Row],[DIAS DE ATRASO]]=0,0,t.base[[#This Row],[TOTAL]])","v":11159}]
["2018-01-27","TACTICO MKT S.A.C.","Centro","0001-006956","2018-03-13",0,{"v":20538,"d":"20,538"},{"$f":"IF(t.base[[#This Row],[DIAS DE ATRASO]]=0,0,t.base[[#This Row],[TOTAL]])","v":0}]
["2017-12-14","A.C.D. S.R.L.","Sur","0002-009099","2018-01-13",59,{"v":44097,"d":"44,097"},{"$f":"IF(t.base[[#This Row],[DIAS DE ATRASO]]=0,0,t.base[[#This Row],[TOTAL]])","v":44097}]
["2017-11-06","CONDORCO S.R.L.","Centro","0001-008768","2017-12-21",82,{"v":18947,"d":"18,947"},{"$f":"IF(t.base[[#This Row],[DIAS DE ATRASO]]=0,0,t.base[[#This Row],[TOTAL]])","v":18947}]
["2018-01-12","RUIZ LAVADO HEBER","Centro","0002-003953","2018-03-13",0,{"v":11026,"d":"11,026"},{"$f":"IF(t.base[[#This Row],[DIAS DE ATRASO]]=0,0,t.base[[#This Row],[TOTAL]])","v":0}]
["2017-08-21","TIERRA SUR E.I.R.L.","Sur","0001-003424","2017-10-20",144,{"v":10014,"d":"10,014"},{"$f":"IF(t.base[[#This Row],[DIAS DE ATRASO]]=0,0,t.base[[#This Row],[TOTAL]])","v":10014}]
["2017-09-14","DRY CORP SAC","Norte","0001-004063","2017-10-29",135,{"v":33845,"d":"33,845"},{"$f":"IF(t.base[[#This Row],[DIAS DE ATRASO]]=0,0,t.base[[#This Row],[TOTAL]])","v":33845}]
["2018-02-26","LA ROCCA SAC","Centro","0001-001852","2018-03-13",0,{"v":11869,"d":"11,869"},{"$f":"IF(t.base[[#This Row],[DIAS DE ATRASO]]=0,0,t.base[[#This Row],[TOTAL]])","v":0}]
["2018-03-13","BIOCARE S.A.C.","Sur","0001-001848","2018-03-13",0,{"v":19127,"d":"19,127"},{"$f":"IF(t.base[[#This Row],[DIAS DE ATRASO]]=0,0,t.base[[#This Row],[TOTAL]])","v":0}]
["2017-10-07","KEV S.A.C.","Centro","0002-004798","2017-12-06",97,{"v":26275,"d":"26,275"},{"$f":"IF(t.base[[#This Row],[DIAS DE ATRASO]]=0,0,t.base[[#This Row],[TOTAL]])","v":26275}]
["2018-02-10","ROSATEX E.I.R.L.","Centro","0001-004443","2018-03-12",1,{"v":28572,"d":"28,572"},{"$f":"IF(t.base[[#This Row],[DIAS DE ATRASO]]=0,0,t.base[[#This Row],[TOTAL]])","v":28572}]
["2018-03-13","RIFUSE EIRL","Sur","0001-001298","2018-03-13",0,{"v":24806,"d":"24,806"},{"$f":"IF(t.base[[#This Row],[DIAS DE ATRASO]]=0,0,t.base[[#This Row],[TOTAL]])","v":0}]
["2018-03-13","NESTOR MARTIN S.R.L","Sur","0002-008117","2018-03-13",0,{"v":37677,"d":"37,677"},{"$f":"IF(t.base[[#This Row],[DIAS DE ATRASO]]=0,0,t.base[[#This Row],[TOTAL]])","v":0}]
["2018-01-27","SERVIMEDICOS S.A.C.","Norte","0001-006244","2018-03-13",0,{"v":45109,"d":"45,109"},{"$f":"IF(t.base[[#This Row],[DIAS DE ATRASO]]=0,0,t.base[[#This Row],[TOTAL]])","v":0}]
["2018-02-11","ERIKA LENS E.I.R.L.","Centro","0001-001382","2018-03-13",0,{"v":22427,"d":"22,427"},{"$f":"IF(t.base[[#This Row],[DIAS DE ATRASO]]=0,0,t.base[[#This Row],[TOTAL]])","v":0}]
["2017-10-29","CEPE APOSTOL PABLO","Sur","0002-003596","2017-12-13",90,{"v":30397,"d":"30,397"},{"$f":"IF(t.base[[#This Row],[DIAS DE ATRASO]]=0,0,t.base[[#This Row],[TOTAL]])","v":30397}]
["2018-01-10","SILVA RIVERA HAYDEE","Centro","0001-001917","2018-01-10",62,{"v":12839,"d":"12,839"},{"$f":"IF(t.base[[#This Row],[DIAS DE ATRASO]]=0,0,t.base[[#This Row],[TOTAL]])","v":12839}]
["2018-01-11","SALCOM S.A.C.","Centro","0002-006019","2018-03-12",1,{"v":11870,"d":"11,870"},{"$f":"IF(t.base[[#This Row],[DIAS DE ATRASO]]=0,0,t.base[[#This Row],[TOTAL]])","v":11870}]
["2018-03-12","KORPAK E.I.R.L.","Centro","0002-004374","2018-03-12",1,{"v":17093,"d":"17,093"},{"$f":"IF(t.base[[#This Row],[DIAS DE ATRASO]]=0,0,t.base[[#This Row],[TOTAL]])","v":17093}]
["2018-01-05","MOLVIMAR S.A.C.","Norte","0002-003188","2018-01-20",52,{"v":54935,"d":"54,935"},{"$f":"IF(t.base[[#This Row],[DIAS DE ATRASO]]=0,0,t.base[[#This Row],[TOTAL]])","v":54935}]
["2017-09-30","LIU LING XIANG EIRL","Centro","0002-007658","2017-09-30",164,{"v":10978,"d":"10,978"},{"$f":"IF(t.base[[#This Row],[DIAS DE ATRASO]]=0,0,t.base[[#This Row],[TOTAL]])","v":10978}]
["2018-02-11","EXACT S.A.C.","Centro","0002-007551","2018-03-13",0,{"v":18539,"d":"18,539"},{"$f":"IF(t.base[[#This Row],[DIAS DE ATRASO]]=0,0,t.base[[#This Row],[TOTAL]])","v":0}]
["2018-01-12","CASAPAN PERU S.A.C.","Centro","0002-008091","2018-03-13",0,{"v":13271,"d":"13,271"},{"$f":"IF(t.base[[#This Row],[DIAS DE ATRASO]]=0,0,t.base[[#This Row],[TOTAL]])","v":0}]
["2018-01-27","CEP KERPEN HORREN","Centro","0002-002084","2018-03-13",0,{"v":29038,"d":"29,038"},{"$f":"IF(t.base[[#This Row],[DIAS DE ATRASO]]=0,0,t.base[[#This Row],[TOTAL]])","v":0}]
["2018-01-17","INFOGESTION S.A.C.","Centro","0001-001681","2018-02-01",40,{"v":21870,"d":"21,870"},{"$f":"IF(t.base[[#This Row],[DIAS DE ATRASO]]=0,0,t.base[[#This Row],[TOTAL]])","v":21870}]
["2017-09-23","CONASEM E.I.R.L.","Centro","0002-001536","2017-11-22",111,{"v":11023,"d":"11,023"},{"$f":"IF(t.base[[#This Row],[DIAS DE ATRASO]]=0,0,t.base[[#This Row],[TOTAL]])","v":11023}]
["2018-03-13","C. CHINININ S.A.C.","Centro","0001-001343","2018-03-13",0,{"v":29301,"d":"29,301"},{"$f":"IF(t.base[[#This Row],[DIAS DE ATRASO]]=0,0,t.base[[#This Row],[TOTAL]])","v":0}]
["2018-03-13","SOJITZ PERU S.A.","Centro","0001-003409","2018-03-13",0,{"v":18355,"d":"18,355"},{"$f":"IF(t.base[[#This Row],[DIAS DE ATRASO]]=0,0,t.base[[#This Row],[TOTAL]])","v":0}]
["2017-12-14","VILELA ABAD JUAN","Centro","0001-001192","2017-12-29",74,{"v":16640,"d":"16,640"},{"$f":"IF(t.base[[#This Row],[DIAS DE ATRASO]]=0,0,t.base[[#This Row],[TOTAL]])","v":16640}]
["2018-02-11","COPY SERVICE MV SAC","Centro","0001-007866","2018-03-13",0,{"v":11134,"d":"11,134"},{"$f":"IF(t.base[[#This Row],[DIAS DE ATRASO]]=0,0,t.base[[#This Row],[TOTAL]])","v":0}]
["2018-02-12","GLEW SAC","Centro","0002-003694","2018-02-12",29,{"v":27594,"d":"27,594"},{"$f":"IF(t.base[[#This Row],[DIAS DE ATRASO]]=0,0,t.base[[#This Row],[TOTAL]])","v":27594}]
["2018-01-27","RB & RD S.R.L.","Sur","0002-004586","2018-03-13",0,{"v":49925,"d":"49,925"},{"$f":"IF(t.base[[#This Row],[DIAS DE ATRASO]]=0,0,t.base[[#This Row],[TOTAL]])","v":0}]
["2018-01-26","LI XINNAN","Centro","0001-009319","2018-03-12",1,{"v":23169,"d":"23,169"},{"$f":"IF(t.base[[#This Row],[DIAS DE ATRASO]]=0,0,t.base[[#This Row],[TOTAL]])","v":23169}]
["2018-01-12","TRANEDO S.R.L.","Norte","0001-004840","2018-02-11",30,{"v":38590,"d":"38,590"},{"$f":"IF(t.base[[#This Row],[DIAS DE ATRASO]]=0,0,t.base[[#This Row],[TOTAL]])","v":38590}]
["2017-11-21","GROUP E Y R S.R.L.","Centro","0001-005997","2018-01-05",67,{"v":26356,"d":"26,356"},{"$f":"IF(t.base[[#This Row],[DIAS DE ATRASO]]=0,0,t.base[[#This Row],[TOTAL]])","v":26356}]
["2018-02-26","D'BEGASA S.A.C.","Centro","0002-006544","2018-03-13",0,{"v":20265,"d":"20,265"},{"$f":"IF(t.base[[#This Row],[DIAS DE ATRASO]]=0,0,t.base[[#This Row],[TOTAL]])","v":0}]
["2018-02-11","REDITEC E.I.R.L.","Sur","0002-003155","2018-03-13",0,{"v":42601,"d":"42,601"},{"$f":"IF(t.base[[#This Row],[DIAS DE ATRASO]]=0,0,t.base[[#This Row],[TOTAL]])","v":0}]
["2018-01-27","SIMCA S.A.C.","Sur","0002-008993","2018-01-27",45,{"v":9069,"d":"9,069"},{"$f":"IF(t.base[[#This Row],[DIAS DE ATRASO]]=0,0,t.base[[#This Row],[TOTAL]])","v":9069}]
["2018-01-12","G & M PNEUMATIC SAC","Centro","0001-006152","2018-03-13",0,{"v":27543,"d":"27,543"},{"$f":"IF(t.base[[#This Row],[DIAS DE ATRASO]]=0,0,t.base[[#This Row],[TOTAL]])","v":0}]
["2017-12-26","TEXTIL 1649 S.A.C.","Centro","0002-008919","2018-02-24",17,{"v":13691,"d":"13,691"},{"$f":"IF(t.base[[#This Row],[DIAS DE ATRASO]]=0,0,t.base[[#This Row],[TOTAL]])","v":13691}]
["2017-11-12","SERVISAIR S.A.C.","Centro","0001-004059","2018-01-11",61,{"v":14201,"d":"14,201"},{"$f":"IF(t.base[[#This Row],[DIAS DE ATRASO]]=0,0,t.base[[#This Row],[TOTAL]])","v":14201}]
["2018-02-10","TECNO COLOR S R L","Centro","0001-003715","2018-03-12",1,{"v":16247,"d":"16,247"},{"$f":"IF(t.base[[#This Row],[DIAS DE ATRASO]]=0,0,t.base[[#This Row],[TOTAL]])","v":16247}]
["2017-12-12","APRENDA S.A.","Centro","0001-006556","2018-03-12",1,{"v":11479,"d":"11,479"},{"$f":"IF(t.base[[#This Row],[DIAS DE ATRASO]]=0,0,t.base[[#This Row],[TOTAL]])","v":11479}]
["2018-02-11","C & F PRINTS S.A.C.","Centro","0001-009143","2018-03-13",0,{"v":11695,"d":"11,695"},{"$f":"IF(t.base[[#This Row],[DIAS DE ATRASO]]=0,0,t.base[[#This Row],[TOTAL]])","v":0}]
["2017-06-25","ROL EMPRESARIAL S A","Centro","0002-008371","2017-08-09",216,{"v":19347,"d":"19,347"},{"$f":"IF(t.base[[#This Row],[DIAS DE ATRASO]]=0,0,t.base[[#This Row],[TOTAL]])","v":19347}]
["2018-01-05","RELINO OTR S.A.C.","Centro","0001-007192","2018-01-05",67,{"v":11261,"d":"11,261"},{"$f":"IF(t.base[[#This Row],[DIAS DE ATRASO]]=0,0,t.base[[#This Row],[TOTAL]])","v":11261}]
["2017-11-01","PRINT METAL S.A","Centro","0002-008044","2018-01-30",42,{"v":18106,"d":"18,106"},{"$f":"IF(t.base[[#This Row],[DIAS DE ATRASO]]=0,0,t.base[[#This Row],[TOTAL]])","v":18106}]
["2017-12-13","ALIFAD E.I.R.L.","Centro","0002-004596","2018-03-13",0,{"v":10944,"d":"10,944"},{"$f":"IF(t.base[[#This Row],[DIAS DE ATRASO]]=0,0,t.base[[#This Row],[TOTAL]])","v":0}]
["2018-02-11","LEI HUANLAN","Centro","0002-001213","2018-03-13",0,{"v":23809,"d":"23,809"},{"$f":"IF(t.base[[#This Row],[DIAS DE ATRASO]]=0,0,t.base[[#This Row],[TOTAL]])","v":0}]
["2018-02-26","JIANG HUANYI","Centro","0002-003769","2018-03-13",0,{"v":25474,"d":"25,474"},{"$f":"IF(t.base[[#This Row],[DIAS DE ATRASO]]=0,0,t.base[[#This Row],[TOTAL]])","v":0}]
["2017-12-13","SYSTCOM IMPORT SAC","Centro","0001-006309","2018-03-13",0,{"v":21912,"d":"21,912"},{"$f":"IF(t.base[[#This Row],[DIAS DE ATRASO]]=0,0,t.base[[#This Row],[TOTAL]])","v":0}]
["2018-01-26","DR GAS S.A.C.","Centro","0001-007145","2018-03-12",1,{"v":24462,"d":"24,462"},{"$f":"IF(t.base[[#This Row],[DIAS DE ATRASO]]=0,0,t.base[[#This Row],[TOTAL]])","v":24462}]
["2018-01-22","MI CASA JNC S.A.C.","Centro","0002-005513","2018-02-06",35,{"v":21275,"d":"21,275"},{"$f":"IF(t.base[[#This Row],[DIAS DE ATRASO]]=0,0,t.base[[#This Row],[TOTAL]])","v":21275}]
["2018-02-11","J & W CIA S.A.","Centro","0002-006553","2018-03-13",0,{"v":19579,"d":"19,579"},{"$f":"IF(t.base[[#This Row],[DIAS DE ATRASO]]=0,0,t.base[[#This Row],[TOTAL]])","v":0}]
["2018-02-25","LA LUCILA S.R.L.","Sur","0001-005296","2018-03-12",1,{"v":10595,"d":"10,595"},{"$f":"IF(t.base[[#This Row],[DIAS DE ATRASO]]=0,0,t.base[[#This Row],[TOTAL]])","v":10595}]
["2017-12-12","COMERCIAL ISIS SAC","Centro","0001-007982","2018-02-10",31,{"v":20970,"d":"20,970"},{"$f":"IF(t.base[[#This Row],[DIAS DE ATRASO]]=0,0,t.base[[#This Row],[TOTAL]])","v":20970}]
["2018-03-13","REDISCAR E.I.R.L.","Sur","0001-009360","2018-03-13",0,{"v":16907,"d":"16,907"},{"$f":"IF(t.base[[#This Row],[DIAS DE ATRASO]]=0,0,t.base[[#This Row],[TOTAL]])","v":0}]
["2017-12-14","LIMBERT E.I.R.L.","Sur","0001-009788","2018-01-13",59,{"v":12831,"d":"12,831"},{"$f":"IF(t.base[[#This Row],[DIAS DE ATRASO]]=0,0,t.base[[#This Row],[TOTAL]])","v":12831}]
["2017-10-28","DETAILHOUSE S.A.C.","Centro","0002-006423","2018-01-26",46,{"v":26612,"d":"26,612"},{"$f":"IF(t.base[[#This Row],[DIAS DE ATRASO]]=0,0,t.base[[#This Row],[TOTAL]])","v":26612}]
["2018-02-26","SAINT LOUIS S.A.C.","Centro","0002-006286","2018-03-13",0,{"v":23937,"d":"23,937"},{"$f":"IF(t.base[[#This Row],[DIAS DE ATRASO]]=0,0,t.base[[#This Row],[TOTAL]])","v":0}]
["2018-02-26","TRICOTTON S.A.C","Centro","0001-003094","2018-03-13",0,{"v":29188,"d":"29,188"},{"$f":"IF(t.base[[#This Row],[DIAS DE ATRASO]]=0,0,t.base[[#This Row],[TOTAL]])","v":0}]
["2018-03-13","MI CASA JNC S.A.C.","Centro","0001-007987","2018-03-13",0,{"v":13710,"d":"13,710"},{"$f":"IF(t.base[[#This Row],[DIAS DE ATRASO]]=0,0,t.base[[#This Row],[TOTAL]])","v":0}]
["2018-01-12","B. CHANG E.I.R.L.","Sur","0002-008772","2018-03-13",0,{"v":6572,"d":"6,572"},{"$f":"IF(t.base[[#This Row],[DIAS DE ATRASO]]=0,0,t.base[[#This Row],[TOTAL]])","v":0}]
["2017-12-13","ALIFAD E.I.R.L.","Centro","0001-003366","2018-03-13",0,{"v":21300,"d":"21,300"},{"$f":"IF(t.base[[#This Row],[DIAS DE ATRASO]]=0,0,t.base[[#This Row],[TOTAL]])","v":0}]
["2017-11-30","H & P TIRE E.I.R.L.","Sur","0002-007129","2018-01-14",58,{"v":31787,"d":"31,787"},{"$f":"IF(t.base[[#This Row],[DIAS DE ATRASO]]=0,0,t.base[[#This Row],[TOTAL]])","v":31787}]
["2017-11-14","ITAPIER S.R.L.","Centro","0001-007934","2017-12-29",74,{"v":28317,"d":"28,317"},{"$f":"IF(t.base[[#This Row],[DIAS DE ATRASO]]=0,0,t.base[[#This Row],[TOTAL]])","v":28317}]
["2018-01-31","PLAZA MOTORS S.A.C.","Centro","0002-001110","2018-02-15",26,{"v":26698,"d":"26,698"},{"$f":"IF(t.base[[#This Row],[DIAS DE ATRASO]]=0,0,t.base[[#This Row],[TOTAL]])","v":26698}]
["2018-01-02","MEDROA SOTO ORBAL","Norte","0001-001392","2018-02-01",40,{"v":36895,"d":"36,895"},{"$f":"IF(t.base[[#This Row],[DIAS DE ATRASO]]=0,0,t.base[[#This Row],[TOTAL]])","v":36895}]
["2017-12-26","INVESTCORP S.A.","Centro","0001-004126","2018-02-09",32,{"v":23741,"d":"23,741"},{"$f":"IF(t.base[[#This Row],[DIAS DE ATRASO]]=0,0,t.base[[#This Row],[TOTAL]])","v":23741}]
["2018-02-19","ACEROS JK S.A.C.","Centro","0001-001112","2018-03-06",7,{"v":29580,"d":"29,580"},{"$f":"IF(t.base[[#This Row],[DIAS DE ATRASO]]=0,0,t.base[[#This Row],[TOTAL]])","v":29580}]
["2018-01-27","TRIGOZO DIAZ CLELIA","Centro","0001-006412","2018-01-27",45,{"v":27462,"d":"27,462"},{"$f":"IF(t.base[[#This Row],[DIAS DE ATRASO]]=0,0,t.base[[#This Row],[TOTAL]])","v":27462}]
["2018-03-13","MHO IMPORT S.A.C.","Centro","0002-001600","2018-03-13",0,{"v":26076,"d":"26,076"},{"$f":"IF(t.base[[#This Row],[DIAS DE ATRASO]]=0,0,t.base[[#This Row],[TOTAL]])","v":0}]
["2017-09-10","LIU LING XIANG EIRL","Centro","0002-009175","2017-09-10",184,{"v":16906,"d":"16,906"},{"$f":"IF(t.base[[#This Row],[DIAS DE ATRASO]]=0,0,t.base[[#This Row],[TOTAL]])","v":16906}]
["2017-12-30","CONSORCIO LIMA","Centro","0002-003671","2018-01-14",58,{"v":16981,"d":"16,981"},{"$f":"IF(t.base[[#This Row],[DIAS DE ATRASO]]=0,0,t.base[[#This Row],[TOTAL]])","v":16981}]
["2018-01-27","ALIFAD E.I.R.L.","Centro","0002-002642","2018-03-13",0,{"v":28391,"d":"28,391"},{"$f":"IF(t.base[[#This Row],[DIAS DE ATRASO]]=0,0,t.base[[#This Row],[TOTAL]])","v":0}]
["2017-12-10","SUPER MECANO S.A.C.","Centro","0001-007074","2018-01-24",48,{"v":22949,"d":"22,949"},{"$f":"IF(t.base[[#This Row],[DIAS DE ATRASO]]=0,0,t.base[[#This Row],[TOTAL]])","v":22949}]
["2017-12-11","PATIMOVIL SRLTDA","Centro","0001-005471","2018-02-09",32,{"v":11339,"d":"11,339"},{"$f":"IF(t.base[[#This Row],[DIAS DE ATRASO]]=0,0,t.base[[#This Row],[TOTAL]])","v":11339}]
["2018-02-12","CASA LE MAN'S S.A.","Centro","0002-008569","2018-02-27",14,{"v":12587,"d":"12,587"},{"$f":"IF(t.base[[#This Row],[DIAS DE ATRASO]]=0,0,t.base[[#This Row],[TOTAL]])","v":12587}]
["2017-08-19","PINO VASQUEZ ALCIRA","Centro","0002-003233","2017-11-17",116,{"v":24332,"d":"24,332"},{"$f":"IF(t.base[[#This Row],[DIAS DE ATRASO]]=0,0,t.base[[#This Row],[TOTAL]])","v":24332}]
["2018-01-08","CLAS CAYLLOMA ALTA","Sur","0002-001241","2018-01-23",49,{"v":8373,"d":"8,373"},{"$f":"IF(t.base[[#This Row],[DIAS DE ATRASO]]=0,0,t.base[[#This Row],[TOTAL]])","v":8373}]
["2018-02-11","YUT WU S.A.C.","Centro","0001-004347","2018-03-13",0,{"v":18392,"d":"18,392"},{"$f":"IF(t.base[[#This Row],[DIAS DE ATRASO]]=0,0,t.base[[#This Row],[TOTAL]])","v":0}]
["2018-01-15","TELSER S.R.L","Centro","0001-009807","2018-02-14",27,{"v":13418,"d":"13,418"},{"$f":"IF(t.base[[#This Row],[DIAS DE ATRASO]]=0,0,t.base[[#This Row],[TOTAL]])","v":13418}]
["2018-01-02","TRANSOIL S.A.C.","Centro","0001-002865","2018-01-02",70,{"v":19703,"d":"19,703"},{"$f":"IF(t.base[[#This Row],[DIAS DE ATRASO]]=0,0,t.base[[#This Row],[TOTAL]])","v":19703}]
["2017-08-27","MEPAL S.A.C","Centro","0002-001586","2017-09-26",168,{"v":17465,"d":"17,465"},{"$f":"IF(t.base[[#This Row],[DIAS DE ATRASO]]=0,0,t.base[[#This Row],[TOTAL]])","v":17465}]
["2017-12-13","SYSTCOM IMPORT SAC","Centro","0001-008353","2017-12-28",75,{"v":16846,"d":"16,846"},{"$f":"IF(t.base[[#This Row],[DIAS DE ATRASO]]=0,0,t.base[[#This Row],[TOTAL]])","v":16846}]
["2018-01-27","J.D. PLASTIC S.A.C.","Centro","0002-002043","2018-03-13",0,{"v":10259,"d":"10,259"},{"$f":"IF(t.base[[#This Row],[DIAS DE ATRASO]]=0,0,t.base[[#This Row],[TOTAL]])","v":0}]
["2018-01-27","EINS PERU   S.A.C.","Centro","0001-003613","2018-03-13",0,{"v":13142,"d":"13,142"},{"$f":"IF(t.base[[#This Row],[DIAS DE ATRASO]]=0,0,t.base[[#This Row],[TOTAL]])","v":0}]
["2018-02-11","APAZA PUMA LEONARDA","Centro","0001-004865","2018-03-13",0,{"v":11679,"d":"11,679"},{"$f":"IF(t.base[[#This Row],[DIAS DE ATRASO]]=0,0,t.base[[#This Row],[TOTAL]])","v":0}]
["2017-12-25","S.J2 S.A.C.","Norte","0002-003896","2018-01-09",63,{"v":40592,"d":"40,592"},{"$f":"IF(t.base[[#This Row],[DIAS DE ATRASO]]=0,0,t.base[[#This Row],[TOTAL]])","v":40592}]
["2018-02-26","MERP S.A.C.","Centro","0002-001784","2018-03-13",0,{"v":26159,"d":"26,159"},{"$f":"IF(t.base[[#This Row],[DIAS DE ATRASO]]=0,0,t.base[[#This Row],[TOTAL]])","v":0}]
["2017-12-05","G & M PNEUMATIC SAC","Centro","0001-001256","2018-01-19",53,{"v":21897,"d":"21,897"},{"$f":"IF(t.base[[#This Row],[DIAS DE ATRASO]]=0,0,t.base[[#This Row],[TOTAL]])","v":21897}]
["2018-02-15","SIZU S.A.C.","Centro","0002-006531","2018-02-15",26,{"v":26284,"d":"26,284"},{"$f":"IF(t.base[[#This Row],[DIAS DE ATRASO]]=0,0,t.base[[#This Row],[TOTAL]])","v":26284}]
["2017-10-18","LOAYZA KARI ENRIQUE","Centro","0001-006551","2017-10-18",146,{"v":13276,"d":"13,276"},{"$f":"IF(t.base[[#This Row],[DIAS DE ATRASO]]=0,0,t.base[[#This Row],[TOTAL]])","v":13276}]
["2018-01-27","AGROSANTA E.I.R.L.","Centro","0002-008041","2018-03-13",0,{"v":15009,"d":"15,009"},{"$f":"IF(t.base[[#This Row],[DIAS DE ATRASO]]=0,0,t.base[[#This Row],[TOTAL]])","v":0}]
["2017-11-10","ALBACONSULT S.A.C.","Centro","0002-004081","2018-01-09",63,{"v":17928,"d":"17,928"},{"$f":"IF(t.base[[#This Row],[DIAS DE ATRASO]]=0,0,t.base[[#This Row],[TOTAL]])","v":17928}]
["2018-01-19","SEMAPELI S.R.L.","Sur","0001-005565","2018-02-18",23,{"v":11951,"d":"11,951"},{"$f":"IF(t.base[[#This Row],[DIAS DE ATRASO]]=0,0,t.base[[#This Row],[TOTAL]])","v":11951}]
["2018-02-11","SCORAL S.A.C.","Centro","0002-007368","2018-03-13",0,{"v":20730,"d":"20,730"},{"$f":"IF(t.base[[#This Row],[DIAS DE ATRASO]]=0,0,t.base[[#This Row],[TOTAL]])","v":0}]
["2017-05-29","SEIKATSU  SAC","Centro","0002-001760","2017-07-28",228,{"v":16875,"d":"16,875"},{"$f":"IF(t.base[[#This Row],[DIAS DE ATRASO]]=0,0,t.base[[#This Row],[TOTAL]])","v":16875}]
["2018-03-12","SOLOT PERU S.A.C.","Centro","0002-004119","2018-03-12",1,{"v":23735,"d":"23,735"},{"$f":"IF(t.base[[#This Row],[DIAS DE ATRASO]]=0,0,t.base[[#This Row],[TOTAL]])","v":23735}]
["2017-11-24","RIMASSA S.A.C.","Sur","0002-008199","2017-11-24",109,{"v":44343,"d":"44,343"},{"$f":"IF(t.base[[#This Row],[DIAS DE ATRASO]]=0,0,t.base[[#This Row],[TOTAL]])","v":44343}]
["2017-08-13","MEPAL S.A.C","Centro","0002-002415","2017-08-28",197,{"v":16996,"d":"16,996"},{"$f":"IF(t.base[[#This Row],[DIAS DE ATRASO]]=0,0,t.base[[#This Row],[TOTAL]])","v":16996}]
["2018-01-02","PLASTIC JOAN FERN","Norte","0002-009954","2018-03-03",10,{"v":14365,"d":"14,365"},{"$f":"IF(t.base[[#This Row],[DIAS DE ATRASO]]=0,0,t.base[[#This Row],[TOTAL]])","v":14365}]
["2018-02-26","CAM DE KAM KEN WAN","Centro","0002-008994","2018-03-13",0,{"v":25230,"d":"25,230"},{"$f":"IF(t.base[[#This Row],[DIAS DE ATRASO]]=0,0,t.base[[#This Row],[TOTAL]])","v":0}]
["2018-02-26","CHINANGO S.A.C.","Centro","0001-004680","2018-03-13",0,{"v":23009,"d":"23,009"},{"$f":"IF(t.base[[#This Row],[DIAS DE ATRASO]]=0,0,t.base[[#This Row],[TOTAL]])","v":0}]
["2017-10-26","BODEGA OJEDA","Norte","0001-007850","2018-01-24",48,{"v":51612,"d":"51,612"},{"$f":"IF(t.base[[#This Row],[DIAS DE ATRASO]]=0,0,t.base[[#This Row],[TOTAL]])","v":51612}]
["2018-03-13","CRISTHIANS E.I.R.L","Centro","0002-001811","2018-03-13",0,{"v":27006,"d":"27,006"},{"$f":"IF(t.base[[#This Row],[DIAS DE ATRASO]]=0,0,t.base[[#This Row],[TOTAL]])","v":0}]
["2018-03-12","VAMER E.I.R.L","Norte","0002-007209","2018-03-12",1,{"v":52266,"d":"52,266"},{"$f":"IF(t.base[[#This Row],[DIAS DE ATRASO]]=0,0,t.base[[#This Row],[TOTAL]])","v":52266}]
["2018-02-11","BODEGA OJEDA","Norte","0002-005909","2018-03-13",0,{"v":43030,"d":"43,030"},{"$f":"IF(t.base[[#This Row],[DIAS DE ATRASO]]=0,0,t.base[[#This Row],[TOTAL]])","v":0}]
["2018-01-26","ZOEY EIRL","Norte","0002-004698","2018-03-12",1,{"v":34599,"d":"34,599"},{"$f":"IF(t.base[[#This Row],[DIAS DE ATRASO]]=0,0,t.base[[#This Row],[TOTAL]])","v":34599}]
["2018-01-12","VIPE TOURS E.I.R.L.","Sur","0002-007034","2018-03-13",0,{"v":7282,"d":"7,282"},{"$f":"IF(t.base[[#This Row],[DIAS DE ATRASO]]=0,0,t.base[[#This Row],[TOTAL]])","v":0}]
["2018-03-12","MOLVIMAR S.A.C.","Norte","0001-005445","2018-03-12",1,{"v":10640,"d":"10,640"},{"$f":"IF(t.base[[#This Row],[DIAS DE ATRASO]]=0,0,t.base[[#This Row],[TOTAL]])","v":10640}]
["2018-02-23","SERV&DATA S.A.C.","Centro","0002-003111","2018-03-10",3,{"v":22557,"d":"22,557"},{"$f":"IF(t.base[[#This Row],[DIAS DE ATRASO]]=0,0,t.base[[#This Row],[TOTAL]])","v":22557}]
["2017-10-26","VEGA RIOS GLORIA","Centro","0001-007826","2017-12-25",78,{"v":26899,"d":"26,899"},{"$f":"IF(t.base[[#This Row],[DIAS DE ATRASO]]=0,0,t.base[[#This Row],[TOTAL]])","v":26899}]
["2018-01-27","VEGA GRAF E.I.R.L.","Centro","0002-008184","2018-03-13",0,{"v":29677,"d":"29,677"},{"$f":"IF(t.base[[#This Row],[DIAS DE ATRASO]]=0,0,t.base[[#This Row],[TOTAL]])","v":0}]
["2017-10-05","GARCIA PEÐA MANUEL","Centro","0002-002792","2018-01-03",69,{"v":15860,"d":"15,860"},{"$f":"IF(t.base[[#This Row],[DIAS DE ATRASO]]=0,0,t.base[[#This Row],[TOTAL]])","v":15860}]
["2018-01-27","MIRANDA YANQUI OLGA","Centro","0001-007736","2018-03-13",0,{"v":21380,"d":"21,380"},{"$f":"IF(t.base[[#This Row],[DIAS DE ATRASO]]=0,0,t.base[[#This Row],[TOTAL]])","v":0}]
["2018-01-26","COPLASTGROUP S.A.","Centro","0001-003534","2018-03-12",1,{"v":15822,"d":"15,822"},{"$f":"IF(t.base[[#This Row],[DIAS DE ATRASO]]=0,0,t.base[[#This Row],[TOTAL]])","v":15822}]
["2017-12-08","LEOPAN E.I.R.L.","Centro","0002-003724","2018-03-08",5,{"v":24367,"d":"24,367"},{"$f":"IF(t.base[[#This Row],[DIAS DE ATRASO]]=0,0,t.base[[#This Row],[TOTAL]])","v":24367}]
["2018-02-20","EL CAIRO S.A.C.","Centro","0002-008499","2018-03-07",6,{"v":28801,"d":"28,801"},{"$f":"IF(t.base[[#This Row],[DIAS DE ATRASO]]=0,0,t.base[[#This Row],[TOTAL]])","v":28801}]
["2018-02-26","XSTRATA PERU S.A","Centro","0001-003540","2018-03-13",0,{"v":15648,"d":"15,648"},{"$f":"IF(t.base[[#This Row],[DIAS DE ATRASO]]=0,0,t.base[[#This Row],[TOTAL]])","v":0}]
["2017-12-13","MIRANDA YANQUI OLGA","Centro","0001-002405","2018-03-13",0,{"v":22733,"d":"22,733"},{"$f":"IF(t.base[[#This Row],[DIAS DE ATRASO]]=0,0,t.base[[#This Row],[TOTAL]])","v":0}]
["2018-02-26","NORCOSTA S.A.C","Centro","0001-007352","2018-03-13",0,{"v":13385,"d":"13,385"},{"$f":"IF(t.base[[#This Row],[DIAS DE ATRASO]]=0,0,t.base[[#This Row],[TOTAL]])","v":0}]
["2018-03-13","PILCO VILCA PASTORA","Centro","0002-008935","2018-03-13",0,{"v":26433,"d":"26,433"},{"$f":"IF(t.base[[#This Row],[DIAS DE ATRASO]]=0,0,t.base[[#This Row],[TOTAL]])","v":0}]
["2017-11-23","GAGLIARDO E.I.R.L.","Centro","0002-006398","2017-11-23",110,{"v":20397,"d":"20,397"},{"$f":"IF(t.base[[#This Row],[DIAS DE ATRASO]]=0,0,t.base[[#This Row],[TOTAL]])","v":20397}]
["2017-10-06","LMS MENAGE S.A.C.","Centro","0002-008892","2017-11-05",128,{"v":29871,"d":"29,871"},{"$f":"IF(t.base[[#This Row],[DIAS DE ATRASO]]=0,0,t.base[[#This Row],[TOTAL]])","v":29871}]
["2017-12-13","MULTIMUELLES S.A.","Centro","0001-006174","2018-03-13",0,{"v":25578,"d":"25,578"},{"$f":"IF(t.base[[#This Row],[DIAS DE ATRASO]]=0,0,t.base[[#This Row],[TOTAL]])","v":0}]
["2018-01-11","ORE TAIPE YOLANDA","Centro","0002-006750","2018-03-12",1,{"v":21543,"d":"21,543"},{"$f":"IF(t.base[[#This Row],[DIAS DE ATRASO]]=0,0,t.base[[#This Row],[TOTAL]])","v":21543}]
["2018-02-26","MORAN VALENCIA ENMA","Centro","0001-003602","2018-03-13",0,{"v":13311,"d":"13,311"},{"$f":"IF(t.base[[#This Row],[DIAS DE ATRASO]]=0,0,t.base[[#This Row],[TOTAL]])","v":0}]
["2018-01-27","BEKTON S.A.C.","Centro","0002-005309","2018-03-13",0,{"v":28422,"d":"28,422"},{"$f":"IF(t.base[[#This Row],[DIAS DE ATRASO]]=0,0,t.base[[#This Row],[TOTAL]])","v":0}]
["2017-12-13","INSANOR S.A.C.","Centro","0001-004958","2018-03-13",0,{"v":10178,"d":"10,178"},{"$f":"IF(t.base[[#This Row],[DIAS DE ATRASO]]=0,0,t.base[[#This Row],[TOTAL]])","v":0}]
["2018-03-13","CASINOS AMERICA SAC","Norte","0002-003162","2018-03-13",0,{"v":44705,"d":"44,705"},{"$f":"IF(t.base[[#This Row],[DIAS DE ATRASO]]=0,0,t.base[[#This Row],[TOTAL]])","v":0}]
["2017-12-29","DOLLAR GROUP SA","Centro","0002-001887","2018-02-27",14,{"v":24628,"d":"24,628"},{"$f":"IF(t.base[[#This Row],[DIAS DE ATRASO]]=0,0,t.base[[#This Row],[TOTAL]])","v":24628}]
["2017-10-09","TAPIPLASTIC  S.A.C.","Norte","0002-008563","2017-11-08",125,{"v":28305,"d":"28,305"},{"$f":"IF(t.base[[#This Row],[DIAS DE ATRASO]]=0,0,t.base[[#This Row],[TOTAL]])","v":28305}]
["2018-02-26","SEGECAL S.R.L.","Centro","0002-001274","2018-03-13",0,{"v":11708,"d":"11,708"},{"$f":"IF(t.base[[#This Row],[DIAS DE ATRASO]]=0,0,t.base[[#This Row],[TOTAL]])","v":0}]
["2017-11-02","GOMEZ YUCRA SIMEON","Centro","0002-004224","2018-01-31",41,{"v":25959,"d":"25,959"},{"$f":"IF(t.base[[#This Row],[DIAS DE ATRASO]]=0,0,t.base[[#This Row],[TOTAL]])","v":25959}]
["2017-11-28","HURTADO CAMPO JUANA","Centro","0001-006069","2017-11-28",105,{"v":20937,"d":"20,937"},{"$f":"IF(t.base[[#This Row],[DIAS DE ATRASO]]=0,0,t.base[[#This Row],[TOTAL]])","v":20937}]
["2018-01-19","NORCOSTA S.A.C","Centro","0001-001686","2018-02-18",23,{"v":27418,"d":"27,418"},{"$f":"IF(t.base[[#This Row],[DIAS DE ATRASO]]=0,0,t.base[[#This Row],[TOTAL]])","v":27418}]
["2018-03-13","BEPERU S.A.C.","Centro","0002-001914","2018-03-13",0,{"v":14763,"d":"14,763"},{"$f":"IF(t.base[[#This Row],[DIAS DE ATRASO]]=0,0,t.base[[#This Row],[TOTAL]])","v":0}]
["2018-01-12","DICASA Y CIA S.A.C","Centro","0002-003579","2018-03-13",0,{"v":15679,"d":"15,679"},{"$f":"IF(t.base[[#This Row],[DIAS DE ATRASO]]=0,0,t.base[[#This Row],[TOTAL]])","v":0}]
["2018-01-27","HUISA MERMA DORIS","Centro","0001-006740","2018-03-13",0,{"v":25567,"d":"25,567"},{"$f":"IF(t.base[[#This Row],[DIAS DE ATRASO]]=0,0,t.base[[#This Row],[TOTAL]])","v":0}]
["2017-12-29","JARRO ROJAS AMADOR","Centro","0002-009660","2018-02-27",14,{"v":20624,"d":"20,624"},{"$f":"IF(t.base[[#This Row],[DIAS DE ATRASO]]=0,0,t.base[[#This Row],[TOTAL]])","v":20624}]
["2018-01-12","SPRIND S.A.C.","Centro","0001-004746","2018-03-13",0,{"v":21731,"d":"21,731"},{"$f":"IF(t.base[[#This Row],[DIAS DE ATRASO]]=0,0,t.base[[#This Row],[TOTAL]])","v":0}]
["2018-03-12","MIRJANA S.A.C.","Centro","0002-004417","2018-03-12",1,{"v":24240,"d":"24,240"},{"$f":"IF(t.base[[#This Row],[DIAS DE ATRASO]]=0,0,t.base[[#This Row],[TOTAL]])","v":24240}]
["2017-12-13","SEGURINDUSTRIA SA","Norte","0002-004087","2018-03-13",0,{"v":51810,"d":"51,810"},{"$f":"IF(t.base[[#This Row],[DIAS DE ATRASO]]=0,0,t.base[[#This Row],[TOTAL]])","v":0}]
["2018-02-11","LA LUCILA S.R.L.","Sur","0002-008066","2018-03-13",0,{"v":18035,"d":"18,035"},{"$f":"IF(t.base[[#This Row],[DIAS DE ATRASO]]=0,0,t.base[[#This Row],[TOTAL]])","v":0}]
["2017-12-13","COMPUVAL E.I.R.L.","Centro","0002-004790","2018-03-13",0,{"v":11049,"d":"11,049"},{"$f":"IF(t.base[[#This Row],[DIAS DE ATRASO]]=0,0,t.base[[#This Row],[TOTAL]])","v":0}]
["2018-02-26","XIE HUA CHUANG","Centro","0002-005823","2018-03-13",0,{"v":19446,"d":"19,446"},{"$f":"IF(t.base[[#This Row],[DIAS DE ATRASO]]=0,0,t.base[[#This Row],[TOTAL]])","v":0}]
["2018-02-26","MZF EIRL","Centro","0001-001546","2018-03-13",0,{"v":16474,"d":"16,474"},{"$f":"IF(t.base[[#This Row],[DIAS DE ATRASO]]=0,0,t.base[[#This Row],[TOTAL]])","v":0}]
["2017-12-12","TROQPA SAC","Centro","0002-003373","2018-03-12",1,{"v":10943,"d":"10,943"},{"$f":"IF(t.base[[#This Row],[DIAS DE ATRASO]]=0,0,t.base[[#This Row],[TOTAL]])","v":10943}]
["2018-01-11","TOPOGIS S.A.C.","Centro","0001-003732","2018-03-12",1,{"v":25729,"d":"25,729"},{"$f":"IF(t.base[[#This Row],[DIAS DE ATRASO]]=0,0,t.base[[#This Row],[TOTAL]])","v":25729}]
["2018-01-27","AITER'S SRL","Centro","0002-002845","2018-03-13",0,{"v":20961,"d":"20,961"},{"$f":"IF(t.base[[#This Row],[DIAS DE ATRASO]]=0,0,t.base[[#This Row],[TOTAL]])","v":0}]
["2017-09-23","ISA BARHAM S.A.C.","Centro","0002-006750","2017-12-22",81,{"v":12935,"d":"12,935"},{"$f":"IF(t.base[[#This Row],[DIAS DE ATRASO]]=0,0,t.base[[#This Row],[TOTAL]])","v":12935}]
["2017-11-25","MI CASA JNC S.A.C.","Centro","0002-004988","2018-01-24",48,{"v":27888,"d":"27,888"},{"$f":"IF(t.base[[#This Row],[DIAS DE ATRASO]]=0,0,t.base[[#This Row],[TOTAL]])","v":27888}]
["2018-02-11","S A RINCON GAUCHO","Centro","0001-007089","2018-03-13",0,{"v":26813,"d":"26,813"},{"$f":"IF(t.base[[#This Row],[DIAS DE ATRASO]]=0,0,t.base[[#This Row],[TOTAL]])","v":0}]
["2017-12-13","DIVESA SERVICE S A","Centro","0001-001872","2018-03-13",0,{"v":14991,"d":"14,991"},{"$f":"IF(t.base[[#This Row],[DIAS DE ATRASO]]=0,0,t.base[[#This Row],[TOTAL]])","v":0}]
["2017-12-13","J & W CIA S.A.","Centro","0002-009883","2018-03-13",0,{"v":29464,"d":"29,464"},{"$f":"IF(t.base[[#This Row],[DIAS DE ATRASO]]=0,0,t.base[[#This Row],[TOTAL]])","v":0}]
["2018-01-12","CLAS ZAMACOLA","Sur","0002-009738","2018-03-13",0,{"v":27605,"d":"27,605"},{"$f":"IF(t.base[[#This Row],[DIAS DE ATRASO]]=0,0,t.base[[#This Row],[TOTAL]])","v":0}]
["2017-12-13","LIZFEL E.I.R.L.","Centro","0002-002910","2018-03-13",0,{"v":10300,"d":"10,300"},{"$f":"IF(t.base[[#This Row],[DIAS DE ATRASO]]=0,0,t.base[[#This Row],[TOTAL]])","v":0}]
["2017-07-25","QUEA TAPIA EULALIA","Centro","0002-007486","2017-08-24",201,{"v":27439,"d":"27,439"},{"$f":"IF(t.base[[#This Row],[DIAS DE ATRASO]]=0,0,t.base[[#This Row],[TOTAL]])","v":27439}]
["2017-09-14","PAR OFFICE SAC","Centro","0001-009295","2017-12-13",90,{"v":20892,"d":"20,892"},{"$f":"IF(t.base[[#This Row],[DIAS DE ATRASO]]=0,0,t.base[[#This Row],[TOTAL]])","v":20892}]
["2018-03-13","COPA S A","Centro","0002-009738","2018-03-13",0,{"v":11646,"d":"11,646"},{"$f":"IF(t.base[[#This Row],[DIAS DE ATRASO]]=0,0,t.base[[#This Row],[TOTAL]])","v":0}]
["2017-09-14","MIRJANA S.A.C.","Centro","0002-002511","2017-10-29",135,{"v":12140,"d":"12,140"},{"$f":"IF(t.base[[#This Row],[DIAS DE ATRASO]]=0,0,t.base[[#This Row],[TOTAL]])","v":12140}]
["2018-02-25","DREAM POWER S.A.C.","Centro","0001-007019","2018-03-12",1,{"v":13072,"d":"13,072"},{"$f":"IF(t.base[[#This Row],[DIAS DE ATRASO]]=0,0,t.base[[#This Row],[TOTAL]])","v":13072}]
["2017-10-22","CAM DE KAM KEN WAN","Centro","0001-002949","2017-12-06",97,{"v":27814,"d":"27,814"},{"$f":"IF(t.base[[#This Row],[DIAS DE ATRASO]]=0,0,t.base[[#This Row],[TOTAL]])","v":27814}]
["2017-06-16","NORSOL S.A.C","Centro","0002-007323","2017-07-16",240,{"v":20693,"d":"20,693"},{"$f":"IF(t.base[[#This Row],[DIAS DE ATRASO]]=0,0,t.base[[#This Row],[TOTAL]])","v":20693}]
["2018-01-12","LOPEZ ARIAS MANUEL","Centro","0001-008694","2018-03-13",0,{"v":27819,"d":"27,819"},{"$f":"IF(t.base[[#This Row],[DIAS DE ATRASO]]=0,0,t.base[[#This Row],[TOTAL]])","v":0}]
["2017-10-12","MAMANI ANCCO DAMIAN","Centro","0001-003552","2018-01-10",62,{"v":20340,"d":"20,340"},{"$f":"IF(t.base[[#This Row],[DIAS DE ATRASO]]=0,0,t.base[[#This Row],[TOTAL]])","v":20340}]
["2018-01-12","ARENAS RAMOS FREDY","Centro","0002-002708","2018-03-13",0,{"v":24621,"d":"24,621"},{"$f":"IF(t.base[[#This Row],[DIAS DE ATRASO]]=0,0,t.base[[#This Row],[TOTAL]])","v":0}]
["2018-01-27","SILVER & ME S.A.","Centro","0001-003270","2018-03-13",0,{"v":19751,"d":"19,751"},{"$f":"IF(t.base[[#This Row],[DIAS DE ATRASO]]=0,0,t.base[[#This Row],[TOTAL]])","v":0}]
["2017-12-13","PASTAGIORNO E.I.R.L","Centro","0002-002363","2018-03-13",0,{"v":21251,"d":"21,251"},{"$f":"IF(t.base[[#This Row],[DIAS DE ATRASO]]=0,0,t.base[[#This Row],[TOTAL]])","v":0}]
["2017-12-12","ILOP  S.A.C.","Centro","0002-008367","2018-03-12",1,{"v":19904,"d":"19,904"},{"$f":"IF(t.base[[#This Row],[DIAS DE ATRASO]]=0,0,t.base[[#This Row],[TOTAL]])","v":19904}]
["2017-12-13","JOSHEL IMPORT SAC","Centro","0002-009194","2018-03-13",0,{"v":16170,"d":"16,170"},{"$f":"IF(t.base[[#This Row],[DIAS DE ATRASO]]=0,0,t.base[[#This Row],[TOTAL]])","v":0}]
["2018-03-13","RUIZ PIÐA REMIGIO","Centro","0001-002657","2018-03-13",0,{"v":12629,"d":"12,629"},{"$f":"IF(t.base[[#This Row],[DIAS DE ATRASO]]=0,0,t.base[[#This Row],[TOTAL]])","v":0}]
["2018-01-12","REDIJUA S.R.L.","Sur","0001-004532","2018-03-13",0,{"v":5219,"d":"5,219"},{"$f":"IF(t.base[[#This Row],[DIAS DE ATRASO]]=0,0,t.base[[#This Row],[TOTAL]])","v":0}]
["2017-12-04","URETA SOTO SUSANA","Centro","0002-009116","2018-01-18",54,{"v":23078,"d":"23,078"},{"$f":"IF(t.base[[#This Row],[DIAS DE ATRASO]]=0,0,t.base[[#This Row],[TOTAL]])","v":23078}]
["2018-01-12","AGREGA S.A.C.","Centro","0001-006959","2018-03-13",0,{"v":17309,"d":"17,309"},{"$f":"IF(t.base[[#This Row],[DIAS DE ATRASO]]=0,0,t.base[[#This Row],[TOTAL]])","v":0}]
["2017-12-22","T-MOVIL S.A.C.","Norte","0001-008359","2018-01-06",66,{"v":53178,"d":"53,178"},{"$f":"IF(t.base[[#This Row],[DIAS DE ATRASO]]=0,0,t.base[[#This Row],[TOTAL]])","v":53178}]
["2018-01-12","SAN CARLOS S.A.C.","Centro","0001-007984","2018-03-13",0,{"v":29210,"d":"29,210"},{"$f":"IF(t.base[[#This Row],[DIAS DE ATRASO]]=0,0,t.base[[#This Row],[TOTAL]])","v":0}]
["2017-11-09","XIE SHIYA","Centro","0002-005781","2018-01-08",64,{"v":22446,"d":"22,446"},{"$f":"IF(t.base[[#This Row],[DIAS DE ATRASO]]=0,0,t.base[[#This Row],[TOTAL]])","v":22446}]
["2017-12-12","PEREA VELA JANETH","Centro","0002-001079","2018-03-12",1,{"v":15370,"d":"15,370"},{"$f":"IF(t.base[[#This Row],[DIAS DE ATRASO]]=0,0,t.base[[#This Row],[TOTAL]])","v":15370}]
["2018-01-27","DEPOSITOS S A DEPSA","Centro","0002-005206","2018-03-13",0,{"v":13585,"d":"13,585"},{"$f":"IF(t.base[[#This Row],[DIAS DE ATRASO]]=0,0,t.base[[#This Row],[TOTAL]])","v":0}]
["2017-12-16","BEPERU S.A.C.","Centro","0001-006658","2017-12-16",87,{"v":23074,"d":"23,074"},{"$f":"IF(t.base[[#This Row],[DIAS DE ATRASO]]=0,0,t.base[[#This Row],[TOTAL]])","v":23074}]
["2018-02-11","PROYECONSA S.A.C.","Centro","0001-004932","2018-03-13",0,{"v":28944,"d":"28,944"},{"$f":"IF(t.base[[#This Row],[DIAS DE ATRASO]]=0,0,t.base[[#This Row],[TOTAL]])","v":0}]
["2017-12-18","TRANSOIL S.A.C.","Centro","0002-006791","2017-12-18",85,{"v":14300,"d":"14,300"},{"$f":"IF(t.base[[#This Row],[DIAS DE ATRASO]]=0,0,t.base[[#This Row],[TOTAL]])","v":14300}]
["2017-11-17","FALLA CHALEN SAMUEL","Centro","0001-001145","2018-01-01",71,{"v":27579,"d":"27,579"},{"$f":"IF(t.base[[#This Row],[DIAS DE ATRASO]]=0,0,t.base[[#This Row],[TOTAL]])","v":27579}]
["2018-03-12","CREDIVILSA EIRL","Norte","0002-001761","2018-03-12",1,{"v":37124,"d":"37,124"},{"$f":"IF(t.base[[#This Row],[DIAS DE ATRASO]]=0,0,t.base[[#This Row],[TOTAL]])","v":37124}]
["2018-01-05","TRICOTTON S.A.C","Centro","0002-008522","2018-01-05",67,{"v":20412,"d":"20,412"},{"$f":"IF(t.base[[#This Row],[DIAS DE ATRASO]]=0,0,t.base[[#This Row],[TOTAL]])","v":20412}]
["2018-01-01","ANVI'S S.R.L.","Norte","0001-006823","2018-01-01",71,{"v":30937,"d":"30,937"},{"$f":"IF(t.base[[#This Row],[DIAS DE ATRASO]]=0,0,t.base[[#This Row],[TOTAL]])","v":30937}]
["2018-02-11","NAYMLAP INN S.A.C","Centro","0001-001519","2018-03-13",0,{"v":27865,"d":"27,865"},{"$f":"IF(t.base[[#This Row],[DIAS DE ATRASO]]=0,0,t.base[[#This Row],[TOTAL]])","v":0}]
["2018-02-11","VILLA DENT SRL","Centro","0002-003923","2018-03-13",0,{"v":13303,"d":"13,303"},{"$f":"IF(t.base[[#This Row],[DIAS DE ATRASO]]=0,0,t.base[[#This Row],[TOTAL]])","v":0}]
["2017-12-12","KOZUMI PERU S.A.","Centro","0002-004986","2018-03-12",1,{"v":21616,"d":"21,616"},{"$f":"IF(t.base[[#This Row],[DIAS DE ATRASO]]=0,0,t.base[[#This Row],[TOTAL]])","v":21616}]
["2018-02-11","DAMIAN SRLTDA.","Centro","0001-008395","2018-03-13",0,{"v":29529,"d":"29,529"},{"$f":"IF(t.base[[#This Row],[DIAS DE ATRASO]]=0,0,t.base[[#This Row],[TOTAL]])","v":0}]
["2017-11-20","PIGMOOL E.I.R.L.","Sur","0002-006255","2018-01-19",53,{"v":32153,"d":"32,153"},{"$f":"IF(t.base[[#This Row],[DIAS DE ATRASO]]=0,0,t.base[[#This Row],[TOTAL]])","v":32153}]
["2017-12-13","ARMYCOX S.A.","Centro","0002-006216","2018-03-13",0,{"v":12102,"d":"12,102"},{"$f":"IF(t.base[[#This Row],[DIAS DE ATRASO]]=0,0,t.base[[#This Row],[TOTAL]])","v":0}]
["2018-02-19","CIRFOSA PERU S.R.L.","Norte","0001-002781","2018-03-06",7,{"v":59089,"d":"59,089"},{"$f":"IF(t.base[[#This Row],[DIAS DE ATRASO]]=0,0,t.base[[#This Row],[TOTAL]])","v":59089}]
["2017-11-25","CASAPAN PERU S.A.C.","Centro","0001-009377","2017-12-25",78,{"v":17427,"d":"17,427"},{"$f":"IF(t.base[[#This Row],[DIAS DE ATRASO]]=0,0,t.base[[#This Row],[TOTAL]])","v":17427}]
["2018-02-10","POLIMAT S.A.C.","Centro","0002-006040","2018-03-12",1,{"v":21340,"d":"21,340"},{"$f":"IF(t.base[[#This Row],[DIAS DE ATRASO]]=0,0,t.base[[#This Row],[TOTAL]])","v":21340}]
["2018-01-27","NABILA S.A.C.","Centro","0001-006835","2018-03-13",0,{"v":13109,"d":"13,109"},{"$f":"IF(t.base[[#This Row],[DIAS DE ATRASO]]=0,0,t.base[[#This Row],[TOTAL]])","v":0}]
["2018-01-12","LUMOGA   E.I.R.L.","Centro","0002-009367","2018-03-13",0,{"v":12106,"d":"12,106"},{"$f":"IF(t.base[[#This Row],[DIAS DE ATRASO]]=0,0,t.base[[#This Row],[TOTAL]])","v":0}]
["2017-11-28","FEMAT S.A.C.","Centro","0002-004094","2018-01-27",45,{"v":13124,"d":"13,124"},{"$f":"IF(t.base[[#This Row],[DIAS DE ATRASO]]=0,0,t.base[[#This Row],[TOTAL]])","v":13124}]
["2017-09-08","RAINBOW S.A.","Centro","0002-008111","2017-12-07",96,{"v":20794,"d":"20,794"},{"$f":"IF(t.base[[#This Row],[DIAS DE ATRASO]]=0,0,t.base[[#This Row],[TOTAL]])","v":20794}]
["2017-12-26","A & G S.A.C.","Sur","0001-006176","2018-02-09",32,{"v":34103,"d":"34,103"},{"$f":"IF(t.base[[#This Row],[DIAS DE ATRASO]]=0,0,t.base[[#This Row],[TOTAL]])","v":34103}]
["2018-01-05","PLAZA MOTORS S.A.C.","Centro","0002-004678","2018-01-05",67,{"v":16288,"d":"16,288"},{"$f":"IF(t.base[[#This Row],[DIAS DE ATRASO]]=0,0,t.base[[#This Row],[TOTAL]])","v":16288}]
["2018-02-11","VLALDO E.I.R.L.","Norte","0002-004410","2018-03-13",0,{"v":68025,"d":"68,025"},{"$f":"IF(t.base[[#This Row],[DIAS DE ATRASO]]=0,0,t.base[[#This Row],[TOTAL]])","v":0}]
["2018-02-04","GOMEZ ROMANI LEONOR","Centro","0001-003772","2018-03-06",7,{"v":22687,"d":"22,687"},{"$f":"IF(t.base[[#This Row],[DIAS DE ATRASO]]=0,0,t.base[[#This Row],[TOTAL]])","v":22687}]
["2017-11-20","RAMOS ROCHA CARLOS","Centro","0001-001922","2018-02-18",23,{"v":22813,"d":"22,813"},{"$f":"IF(t.base[[#This Row],[DIAS DE ATRASO]]=0,0,t.base[[#This Row],[TOTAL]])","v":22813}]
["2017-08-11","KAMIFE E.I.R.L.","Sur","0002-003043","2017-10-10",154,{"v":6766,"d":"6,766"},{"$f":"IF(t.base[[#This Row],[DIAS DE ATRASO]]=0,0,t.base[[#This Row],[TOTAL]])","v":6766}]
["2018-03-13","BENING S.A.C.","Norte","0002-005634","2018-03-13",0,{"v":61590,"d":"61,590"},{"$f":"IF(t.base[[#This Row],[DIAS DE ATRASO]]=0,0,t.base[[#This Row],[TOTAL]])","v":0}]
["2018-02-26","FAVINOX S.A.C.","Centro","0002-002286","2018-03-13",0,{"v":21377,"d":"21,377"},{"$f":"IF(t.base[[#This Row],[DIAS DE ATRASO]]=0,0,t.base[[#This Row],[TOTAL]])","v":0}]
["2017-10-15","ARCPERU S.A.C.","Norte","0001-001534","2017-12-14",89,{"v":26943,"d":"26,943"},{"$f":"IF(t.base[[#This Row],[DIAS DE ATRASO]]=0,0,t.base[[#This Row],[TOTAL]])","v":26943}]
["2018-02-26","TAPIPLASTIC  S.A.C.","Norte","0001-007557","2018-03-13",0,{"v":29023,"d":"29,023"},{"$f":"IF(t.base[[#This Row],[DIAS DE ATRASO]]=0,0,t.base[[#This Row],[TOTAL]])","v":0}]
["2018-01-26","CHEMAYOL E.I.R.L.","Centro","0002-008730","2018-03-12",1,{"v":19898,"d":"19,898"},{"$f":"IF(t.base[[#This Row],[DIAS DE ATRASO]]=0,0,t.base[[#This Row],[TOTAL]])","v":19898}]
["2018-01-27","LAVA EXPRESS SAC","Centro","0002-009319","2018-03-13",0,{"v":16799,"d":"16,799"},{"$f":"IF(t.base[[#This Row],[DIAS DE ATRASO]]=0,0,t.base[[#This Row],[TOTAL]])","v":0}]
["2018-01-27","HOJA GRANDE S.A.C.","Norte","0002-006285","2018-03-13",0,{"v":67947,"d":"67,947"},{"$f":"IF(t.base[[#This Row],[DIAS DE ATRASO]]=0,0,t.base[[#This Row],[TOTAL]])","v":0}]
["2018-01-27","TEXARIAN E.I.R.L.","Centro","0002-006426","2018-03-13",0,{"v":15520,"d":"15,520"},{"$f":"IF(t.base[[#This Row],[DIAS DE ATRASO]]=0,0,t.base[[#This Row],[TOTAL]])","v":0}]
["2018-02-11","SUPER MECANO S.A.C.","Centro","0002-004649","2018-03-13",0,{"v":11407,"d":"11,407"},{"$f":"IF(t.base[[#This Row],[DIAS DE ATRASO]]=0,0,t.base[[#This Row],[TOTAL]])","v":0}]
["2017-09-04","TRANSPOVAR S.R.L.","Centro","0002-004738","2017-10-04",160,{"v":20143,"d":"20,143"},{"$f":"IF(t.base[[#This Row],[DIAS DE ATRASO]]=0,0,t.base[[#This Row],[TOTAL]])","v":20143}]
["2018-01-12","PAXI PAUCAR TEODORO","Centro","0002-003468","2018-03-13",0,{"v":21635,"d":"21,635"},{"$f":"IF(t.base[[#This Row],[DIAS DE ATRASO]]=0,0,t.base[[#This Row],[TOTAL]])","v":0}]
["2018-02-26","QUIMENSA EIRL","Centro","0001-009338","2018-03-13",0,{"v":23977,"d":"23,977"},{"$f":"IF(t.base[[#This Row],[DIAS DE ATRASO]]=0,0,t.base[[#This Row],[TOTAL]])","v":0}]
["2018-01-27","LIANHE SRL","Centro","0002-008386","2018-03-13",0,{"v":19874,"d":"19,874"},{"$f":"IF(t.base[[#This Row],[DIAS DE ATRASO]]=0,0,t.base[[#This Row],[TOTAL]])","v":0}]
["2017-10-30","CLAS CIUDAD DE DIOS","Sur","0001-008470","2017-10-30",134,{"v":41389,"d":"41,389"},{"$f":"IF(t.base[[#This Row],[DIAS DE ATRASO]]=0,0,t.base[[#This Row],[TOTAL]])","v":41389}]
["2018-01-23","KENUAL S.A.C.","Centro","0001-004814","2018-01-23",49,{"v":16243,"d":"16,243"},{"$f":"IF(t.base[[#This Row],[DIAS DE ATRASO]]=0,0,t.base[[#This Row],[TOTAL]])","v":16243}]
["2017-06-09","CHR HANSEN S.A.","Centro","0002-007513","2017-07-24",232,{"v":13714,"d":"13,714"},{"$f":"IF(t.base[[#This Row],[DIAS DE ATRASO]]=0,0,t.base[[#This Row],[TOTAL]])","v":13714}]
["2018-02-11","DELGADO DIAZ ABEL","Centro","0001-003182","2018-03-13",0,{"v":29804,"d":"29,804"},{"$f":"IF(t.base[[#This Row],[DIAS DE ATRASO]]=0,0,t.base[[#This Row],[TOTAL]])","v":0}]
["2018-03-13","HELENTEX S.A.C.","Centro","0001-004499","2018-03-13",0,{"v":15683,"d":"15,683"},{"$f":"IF(t.base[[#This Row],[DIAS DE ATRASO]]=0,0,t.base[[#This Row],[TOTAL]])","v":0}]
["2018-02-11","ALI & CIA S.A.C","Norte","0002-009385","2018-03-13",0,{"v":28068,"d":"28,068"},{"$f":"IF(t.base[[#This Row],[DIAS DE ATRASO]]=0,0,t.base[[#This Row],[TOTAL]])","v":0}]
["2018-02-25","APAZA PUMA LEONARDA","Centro","0002-006815","2018-03-12",1,{"v":17485,"d":"17,485"},{"$f":"IF(t.base[[#This Row],[DIAS DE ATRASO]]=0,0,t.base[[#This Row],[TOTAL]])","v":17485}]
["2018-03-13","EL HERMANO E.I.R.L.","Sur","0002-006415","2018-03-13",0,{"v":33190,"d":"33,190"},{"$f":"IF(t.base[[#This Row],[DIAS DE ATRASO]]=0,0,t.base[[#This Row],[TOTAL]])","v":0}]
["2018-03-13","FEMMEGIN E.I.R.L.","Centro","0002-002172","2018-03-13",0,{"v":29819,"d":"29,819"},{"$f":"IF(t.base[[#This Row],[DIAS DE ATRASO]]=0,0,t.base[[#This Row],[TOTAL]])","v":0}]
["2017-12-12","TECSE MUYOC","Sur","0001-008080","2018-03-12",1,{"v":39478,"d":"39,478"},{"$f":"IF(t.base[[#This Row],[DIAS DE ATRASO]]=0,0,t.base[[#This Row],[TOTAL]])","v":39478}]
["2017-11-05","HELENTEX S.A.C.","Centro","0001-009858","2017-12-20",83,{"v":10763,"d":"10,763"},{"$f":"IF(t.base[[#This Row],[DIAS DE ATRASO]]=0,0,t.base[[#This Row],[TOTAL]])","v":10763}]
["2018-02-10","MC SERVICE EIRL","Norte","0001-004057","2018-02-25",16,{"v":51686,"d":"51,686"},{"$f":"IF(t.base[[#This Row],[DIAS DE ATRASO]]=0,0,t.base[[#This Row],[TOTAL]])","v":51686}]
["2017-09-27","COMERCIAL M&P SRL","Sur","0001-001371","2017-09-27",167,{"v":38224,"d":"38,224"},{"$f":"IF(t.base[[#This Row],[DIAS DE ATRASO]]=0,0,t.base[[#This Row],[TOTAL]])","v":38224}]
["2017-11-20","A & G S.A.C.","Sur","0002-005664","2018-02-18",23,{"v":41218,"d":"41,218"},{"$f":"IF(t.base[[#This Row],[DIAS DE ATRASO]]=0,0,t.base[[#This Row],[TOTAL]])","v":41218}]
["2018-02-25","REPDA PARTS S.R.L.","Sur","0001-006386","2018-03-12",1,{"v":31282,"d":"31,282"},{"$f":"IF(t.base[[#This Row],[DIAS DE ATRASO]]=0,0,t.base[[#This Row],[TOTAL]])","v":31282}]
["2018-02-26","YANG  JINZHAO","Centro","0001-007105","2018-03-13",0,{"v":17361,"d":"17,361"},{"$f":"IF(t.base[[#This Row],[DIAS DE ATRASO]]=0,0,t.base[[#This Row],[TOTAL]])","v":0}]
["2018-01-26","FE GOLD S.A.C.","Centro","0001-001085","2018-03-12",1,{"v":14962,"d":"14,962"},{"$f":"IF(t.base[[#This Row],[DIAS DE ATRASO]]=0,0,t.base[[#This Row],[TOTAL]])","v":14962}]
["2018-02-26","T-APRUEBO S.A.C.","Centro","0002-008567","2018-03-13",0,{"v":28469,"d":"28,469"},{"$f":"IF(t.base[[#This Row],[DIAS DE ATRASO]]=0,0,t.base[[#This Row],[TOTAL]])","v":0}]
["2018-03-13","ODFJELL PERU S.A.C.","Centro","0001-004960","2018-03-13",0,{"v":11050,"d":"11,050"},{"$f":"IF(t.base[[#This Row],[DIAS DE ATRASO]]=0,0,t.base[[#This Row],[TOTAL]])","v":0}]
["2018-03-13","SAN CARLOS S.A.C.","Centro","0001-006633","2018-03-13",0,{"v":25053,"d":"25,053"},{"$f":"IF(t.base[[#This Row],[DIAS DE ATRASO]]=0,0,t.base[[#This Row],[TOTAL]])","v":0}]
["2017-11-03","CLAS CABANACONDE","Sur","0002-005546","2017-12-18",85,{"v":38279,"d":"38,279"},{"$f":"IF(t.base[[#This Row],[DIAS DE ATRASO]]=0,0,t.base[[#This Row],[TOTAL]])","v":38279}]
["2018-01-11","SUNI NUNONCCA SIMON","Centro","0002-009723","2018-03-12",1,{"v":26355,"d":"26,355"},{"$f":"IF(t.base[[#This Row],[DIAS DE ATRASO]]=0,0,t.base[[#This Row],[TOTAL]])","v":26355}]
["2017-12-12","GARCIA PEÐA MANUEL","Centro","0001-006547","2018-03-12",1,{"v":18366,"d":"18,366"},{"$f":"IF(t.base[[#This Row],[DIAS DE ATRASO]]=0,0,t.base[[#This Row],[TOTAL]])","v":18366}]
["2018-02-08","FUJIN EIRL","Centro","0002-006522","2018-03-10",3,{"v":14861,"d":"14,861"},{"$f":"IF(t.base[[#This Row],[DIAS DE ATRASO]]=0,0,t.base[[#This Row],[TOTAL]])","v":14861}]
["2017-08-19","DREAM POWER S.A.C.","Centro","0002-002818","2017-09-03",191,{"v":26879,"d":"26,879"},{"$f":"IF(t.base[[#This Row],[DIAS DE ATRASO]]=0,0,t.base[[#This Row],[TOTAL]])","v":26879}]
["2017-09-14","KINSA WARMI SRL","Centro","0002-009792","2017-10-29",135,{"v":13054,"d":"13,054"},{"$f":"IF(t.base[[#This Row],[DIAS DE ATRASO]]=0,0,t.base[[#This Row],[TOTAL]])","v":13054}]
["2018-02-26","ROSATEX E.I.R.L.","Centro","0001-005996","2018-03-13",0,{"v":27111,"d":"27,111"},{"$f":"IF(t.base[[#This Row],[DIAS DE ATRASO]]=0,0,t.base[[#This Row],[TOTAL]])","v":0}]
["2017-06-15","BLAIROC E.I.R.L.","Centro","0002-009893","2017-07-30",226,{"v":13217,"d":"13,217"},{"$f":"IF(t.base[[#This Row],[DIAS DE ATRASO]]=0,0,t.base[[#This Row],[TOTAL]])","v":13217}]
["2018-01-12","MAGROF S.A.","Centro","0002-002018","2018-03-13",0,{"v":11740,"d":"11,740"},{"$f":"IF(t.base[[#This Row],[DIAS DE ATRASO]]=0,0,t.base[[#This Row],[TOTAL]])","v":0}]
["2018-01-27","NIETO MEJIA VILMA","Centro","0002-001654","2018-03-13",0,{"v":18465,"d":"18,465"},{"$f":"IF(t.base[[#This Row],[DIAS DE ATRASO]]=0,0,t.base[[#This Row],[TOTAL]])","v":0}]
["2017-12-09","LOGISTICA PERU SRL","Norte","0002-003965","2018-02-07",34,{"v":49975,"d":"49,975"},{"$f":"IF(t.base[[#This Row],[DIAS DE ATRASO]]=0,0,t.base[[#This Row],[TOTAL]])","v":49975}]
["2017-11-16","SILIMEDIC S.A.C.","Centro","0002-008385","2018-01-15",57,{"v":13444,"d":"13,444"},{"$f":"IF(t.base[[#This Row],[DIAS DE ATRASO]]=0,0,t.base[[#This Row],[TOTAL]])","v":13444}]
["2018-01-27","SAAD SAID T I","Centro","0002-004385","2018-03-13",0,{"v":16275,"d":"16,275"},{"$f":"IF(t.base[[#This Row],[DIAS DE ATRASO]]=0,0,t.base[[#This Row],[TOTAL]])","v":0}]
["2017-12-13","GRUPO VASQUEZ SAC","Centro","0002-006157","2018-03-13",0,{"v":20228,"d":"20,228"},{"$f":"IF(t.base[[#This Row],[DIAS DE ATRASO]]=0,0,t.base[[#This Row],[TOTAL]])","v":0}]
["2018-02-11","COANDINA S R LTDA","Centro","0002-003487","2018-03-13",0,{"v":20251,"d":"20,251"},{"$f":"IF(t.base[[#This Row],[DIAS DE ATRASO]]=0,0,t.base[[#This Row],[TOTAL]])","v":0}]
["2017-12-12","LIMPI QUISPE CELIA","Centro","0001-009401","2018-03-12",1,{"v":12495,"d":"12,495"},{"$f":"IF(t.base[[#This Row],[DIAS DE ATRASO]]=0,0,t.base[[#This Row],[TOTAL]])","v":12495}]
["2018-01-22","TEXTILES PAULA SAC","Centro","0002-001739","2018-02-21",20,{"v":25977,"d":"25,977"},{"$f":"IF(t.base[[#This Row],[DIAS DE ATRASO]]=0,0,t.base[[#This Row],[TOTAL]])","v":25977}]
["2017-12-08","NABILA S.A.C.","Centro","0001-002989","2018-01-07",65,{"v":18693,"d":"18,693"},{"$f":"IF(t.base[[#This Row],[DIAS DE ATRASO]]=0,0,t.base[[#This Row],[TOTAL]])","v":18693}]
["2017-08-19","CONTRACTORS SAC","Centro","0002-008088","2017-08-19",206,{"v":28254,"d":"28,254"},{"$f":"IF(t.base[[#This Row],[DIAS DE ATRASO]]=0,0,t.base[[#This Row],[TOTAL]])","v":28254}]
["2018-01-27","LI & MAN S.R.L.","Centro","0001-003421","2018-03-13",0,{"v":26932,"d":"26,932"},{"$f":"IF(t.base[[#This Row],[DIAS DE ATRASO]]=0,0,t.base[[#This Row],[TOTAL]])","v":0}]
["2017-10-18","YANG SHAO ZHONG","Centro","0001-004170","2017-11-02",131,{"v":14141,"d":"14,141"},{"$f":"IF(t.base[[#This Row],[DIAS DE ATRASO]]=0,0,t.base[[#This Row],[TOTAL]])","v":14141}]
["2018-01-22","APAZA DE CRUZ IRENE","Centro","0001-005881","2018-02-21",20,{"v":10005,"d":"10,005"},{"$f":"IF(t.base[[#This Row],[DIAS DE ATRASO]]=0,0,t.base[[#This Row],[TOTAL]])","v":10005}]
["2017-12-30","ZAMOL S.A.C.","Centro","0002-004171","2018-02-13",28,{"v":18311,"d":"18,311"},{"$f":"IF(t.base[[#This Row],[DIAS DE ATRASO]]=0,0,t.base[[#This Row],[TOTAL]])","v":18311}]
["2018-02-11","CLAS CIUDAD DE DIOS","Sur","0002-005419","2018-03-13",0,{"v":17180,"d":"17,180"},{"$f":"IF(t.base[[#This Row],[DIAS DE ATRASO]]=0,0,t.base[[#This Row],[TOTAL]])","v":0}]
["2018-02-26","SEGURITEMP E.I.R.L.","Norte","0001-004984","2018-03-13",0,{"v":54300,"d":"54,300"},{"$f":"IF(t.base[[#This Row],[DIAS DE ATRASO]]=0,0,t.base[[#This Row],[TOTAL]])","v":0}]
["2017-10-24","TITANIUM S.A.C.","Centro","0002-009346","2017-12-23",80,{"v":13456,"d":"13,456"},{"$f":"IF(t.base[[#This Row],[DIAS DE ATRASO]]=0,0,t.base[[#This Row],[TOTAL]])","v":13456}]
["2018-01-27","VILLA FIORI S.A.C.","Centro","0002-003503","2018-03-13",0,{"v":27475,"d":"27,475"},{"$f":"IF(t.base[[#This Row],[DIAS DE ATRASO]]=0,0,t.base[[#This Row],[TOTAL]])","v":0}]
["2017-10-15","TBS LOGISTICS S.A.","Centro","0001-004385","2018-01-13",59,{"v":13596,"d":"13,596"},{"$f":"IF(t.base[[#This Row],[DIAS DE ATRASO]]=0,0,t.base[[#This Row],[TOTAL]])","v":13596}]
["2017-12-12","TECNO LASER S.A.C.","Centro","0002-005666","2018-03-12",1,{"v":21710,"d":"21,710"},{"$f":"IF(t.base[[#This Row],[DIAS DE ATRASO]]=0,0,t.base[[#This Row],[TOTAL]])","v":21710}]
["2018-02-11","CEM JEANS E.I.R.L.","Centro","0002-003337","2018-03-13",0,{"v":13654,"d":"13,654"},{"$f":"IF(t.base[[#This Row],[DIAS DE ATRASO]]=0,0,t.base[[#This Row],[TOTAL]])","v":0}]
["2018-03-13","MARVE E.I.R.L.","Sur","0001-008050","2018-03-13",0,{"v":15861,"d":"15,861"},{"$f":"IF(t.base[[#This Row],[DIAS DE ATRASO]]=0,0,t.base[[#This Row],[TOTAL]])","v":0}]
["2018-03-13","APAZA PUMA LEONARDA","Centro","0001-007185","2018-03-13",0,{"v":16245,"d":"16,245"},{"$f":"IF(t.base[[#This Row],[DIAS DE ATRASO]]=0,0,t.base[[#This Row],[TOTAL]])","v":0}]
["2017-08-03","CASAPAN PERU S.A.C.","Centro","0002-006119","2017-10-02",162,{"v":11999,"d":"11,999"},{"$f":"IF(t.base[[#This Row],[DIAS DE ATRASO]]=0,0,t.base[[#This Row],[TOTAL]])","v":11999}]
["2018-01-12","SUCAROL E.I.R.L.","Centro","0002-006345","2018-03-13",0,{"v":14026,"d":"14,026"},{"$f":"IF(t.base[[#This Row],[DIAS DE ATRASO]]=0,0,t.base[[#This Row],[TOTAL]])","v":0}]
["2017-12-19","SERMATFER E.I.R.L","Centro","0002-005669","2017-12-19",84,{"v":28634,"d":"28,634"},{"$f":"IF(t.base[[#This Row],[DIAS DE ATRASO]]=0,0,t.base[[#This Row],[TOTAL]])","v":28634}]
["2018-01-14","ARPE EIRL","Norte","0001-001344","2018-02-13",28,{"v":69823,"d":"69,823"},{"$f":"IF(t.base[[#This Row],[DIAS DE ATRASO]]=0,0,t.base[[#This Row],[TOTAL]])","v":69823}]
["2018-01-04","SPEAK EASY","Sur","0002-007832","2018-03-05",8,{"v":23781,"d":"23,781"},{"$f":"IF(t.base[[#This Row],[DIAS DE ATRASO]]=0,0,t.base[[#This Row],[TOTAL]])","v":23781}]
["2018-01-12","URETA SOTO SUSANA","Centro","0001-006526","2018-03-13",0,{"v":17571,"d":"17,571"},{"$f":"IF(t.base[[#This Row],[DIAS DE ATRASO]]=0,0,t.base[[#This Row],[TOTAL]])","v":0}]
["2017-10-15","SCHENONE S A","Centro","0002-004488","2017-11-14",119,{"v":26154,"d":"26,154"},{"$f":"IF(t.base[[#This Row],[DIAS DE ATRASO]]=0,0,t.base[[#This Row],[TOTAL]])","v":26154}]
["2018-03-13","JARRO ROJAS AMADOR","Centro","0001-007390","2018-03-13",0,{"v":27413,"d":"27,413"},{"$f":"IF(t.base[[#This Row],[DIAS DE ATRASO]]=0,0,t.base[[#This Row],[TOTAL]])","v":0}]
["2018-02-11","SOTO VILA ROBERTO","Centro","0001-003286","2018-03-13",0,{"v":26231,"d":"26,231"},{"$f":"IF(t.base[[#This Row],[DIAS DE ATRASO]]=0,0,t.base[[#This Row],[TOTAL]])","v":0}]
["2018-02-11","ESTRATEGICA S.A.C.","Centro","0002-009850","2018-03-13",0,{"v":12246,"d":"12,246"},{"$f":"IF(t.base[[#This Row],[DIAS DE ATRASO]]=0,0,t.base[[#This Row],[TOTAL]])","v":0}]
["2017-09-25","TRES OSOS SAC","Centro","0002-007900","2017-11-09",124,{"v":12359,"d":"12,359"},{"$f":"IF(t.base[[#This Row],[DIAS DE ATRASO]]=0,0,t.base[[#This Row],[TOTAL]])","v":12359}]
["2018-02-11","ARMERIA CALIBRE SAC","Centro","0002-004261","2018-03-13",0,{"v":28531,"d":"28,531"},{"$f":"IF(t.base[[#This Row],[DIAS DE ATRASO]]=0,0,t.base[[#This Row],[TOTAL]])","v":0}]
["2018-01-04","DRY CORP SAC","Norte","0002-002750","2018-02-03",38,{"v":42675,"d":"42,675"},{"$f":"IF(t.base[[#This Row],[DIAS DE ATRASO]]=0,0,t.base[[#This Row],[TOTAL]])","v":42675}]
["2018-03-03","C & F PRINTS S.A.C.","Centro","0002-004062","2018-03-03",10,{"v":26008,"d":"26,008"},{"$f":"IF(t.base[[#This Row],[DIAS DE ATRASO]]=0,0,t.base[[#This Row],[TOTAL]])","v":26008}]
["2017-11-17","METALAB S.A.C.","Centro","0001-009580","2018-01-01",71,{"v":25284,"d":"25,284"},{"$f":"IF(t.base[[#This Row],[DIAS DE ATRASO]]=0,0,t.base[[#This Row],[TOTAL]])","v":25284}]
["2017-10-09","AYC FLORES S.A.C.","Centro","0001-009464","2017-11-08",125,{"v":12256,"d":"12,256"},{"$f":"IF(t.base[[#This Row],[DIAS DE ATRASO]]=0,0,t.base[[#This Row],[TOTAL]])","v":12256}]
["2018-01-03","VILLA FIORI S.A.C.","Centro","0002-006318","2018-03-04",9,{"v":28467,"d":"28,467"},{"$f":"IF(t.base[[#This Row],[DIAS DE ATRASO]]=0,0,t.base[[#This Row],[TOTAL]])","v":28467}]
["2018-01-11","PROVESUR S.A.C","Centro","0001-002236","2018-03-12",1,{"v":28315,"d":"28,315"},{"$f":"IF(t.base[[#This Row],[DIAS DE ATRASO]]=0,0,t.base[[#This Row],[TOTAL]])","v":28315}]
["2018-02-26","OROMONTE S.A","Centro","0001-005379","2018-03-13",0,{"v":16168,"d":"16,168"},{"$f":"IF(t.base[[#This Row],[DIAS DE ATRASO]]=0,0,t.base[[#This Row],[TOTAL]])","v":0}]
["2017-12-16","COPY DATA E.I.R.L.","Centro","0002-001622","2018-01-30",42,{"v":25805,"d":"25,805"},{"$f":"IF(t.base[[#This Row],[DIAS DE ATRASO]]=0,0,t.base[[#This Row],[TOTAL]])","v":25805}]
["2018-02-25","OLVA WORLD E.I.R.L.","Centro","0001-008319","2018-03-12",1,{"v":21152,"d":"21,152"},{"$f":"IF(t.base[[#This Row],[DIAS DE ATRASO]]=0,0,t.base[[#This Row],[TOTAL]])","v":21152}]
["2017-12-13","ARTROSTICO EIRL","Centro","0002-003503","2018-03-13",0,{"v":19599,"d":"19,599"},{"$f":"IF(t.base[[#This Row],[DIAS DE ATRASO]]=0,0,t.base[[#This Row],[TOTAL]])","v":0}]
["2017-10-11","URETA SOTO SUSANA","Centro","0002-007949","2018-01-09",63,{"v":25373,"d":"25,373"},{"$f":"IF(t.base[[#This Row],[DIAS DE ATRASO]]=0,0,t.base[[#This Row],[TOTAL]])","v":25373}]
["2018-01-12","LA TIENDA E.I.R.L.","Sur","0002-005230","2018-03-13",0,{"v":10156,"d":"10,156"},{"$f":"IF(t.base[[#This Row],[DIAS DE ATRASO]]=0,0,t.base[[#This Row],[TOTAL]])","v":0}]
["2017-11-14","AJRAZ THOME FELIPE","Centro","0001-002887","2017-12-29",74,{"v":28485,"d":"28,485"},{"$f":"IF(t.base[[#This Row],[DIAS DE ATRASO]]=0,0,t.base[[#This Row],[TOTAL]])","v":28485}]
["2018-01-12","CUEROS R SAC","Norte","0001-001149","2018-03-13",0,{"v":52235,"d":"52,235"},{"$f":"IF(t.base[[#This Row],[DIAS DE ATRASO]]=0,0,t.base[[#This Row],[TOTAL]])","v":0}]
["2017-06-07","NOVA GAS S A","Centro","0002-002059","2017-09-05",189,{"v":16865,"d":"16,865"},{"$f":"IF(t.base[[#This Row],[DIAS DE ATRASO]]=0,0,t.base[[#This Row],[TOTAL]])","v":16865}]
["2018-02-26","NORCOSTA S.A.C","Centro","0002-006133","2018-03-13",0,{"v":22733,"d":"22,733"},{"$f":"IF(t.base[[#This Row],[DIAS DE ATRASO]]=0,0,t.base[[#This Row],[TOTAL]])","v":0}]
["2018-01-16","SEGURITEMP E.I.R.L.","Norte","0001-001352","2018-01-31",41,{"v":23786,"d":"23,786"},{"$f":"IF(t.base[[#This Row],[DIAS DE ATRASO]]=0,0,t.base[[#This Row],[TOTAL]])","v":23786}]
["2017-11-14","SERV&DATA S.A.C.","Centro","0002-009323","2017-11-29",104,{"v":14365,"d":"14,365"},{"$f":"IF(t.base[[#This Row],[DIAS DE ATRASO]]=0,0,t.base[[#This Row],[TOTAL]])","v":14365}]
["2018-02-11","D'MARCAS E.I.R.L.","Sur","0002-006047","2018-03-13",0,{"v":20368,"d":"20,368"},{"$f":"IF(t.base[[#This Row],[DIAS DE ATRASO]]=0,0,t.base[[#This Row],[TOTAL]])","v":0}]
["2017-12-04","C&C FARM S.R.L.","Sur","0001-007812","2018-03-04",9,{"v":40294,"d":"40,294"},{"$f":"IF(t.base[[#This Row],[DIAS DE ATRASO]]=0,0,t.base[[#This Row],[TOTAL]])","v":40294}]
["2017-12-06","C. CHINININ S.A.C.","Centro","0002-003987","2017-12-21",82,{"v":28573,"d":"28,573"},{"$f":"IF(t.base[[#This Row],[DIAS DE ATRASO]]=0,0,t.base[[#This Row],[TOTAL]])","v":28573}]
["2018-02-26","WSILVAP E.I.R.L","Centro","0001-007563","2018-03-13",0,{"v":27217,"d":"27,217"},{"$f":"IF(t.base[[#This Row],[DIAS DE ATRASO]]=0,0,t.base[[#This Row],[TOTAL]])","v":0}]
["2018-02-11","LA TIENDA E.I.R.L.","Sur","0002-003659","2018-03-13",0,{"v":19929,"d":"19,929"},{"$f":"IF(t.base[[#This Row],[DIAS DE ATRASO]]=0,0,t.base[[#This Row],[TOTAL]])","v":0}]
["2017-05-16","J & F TRADERS S.A.","Centro","0002-004926","2017-08-14",211,{"v":29243,"d":"29,243"},{"$f":"IF(t.base[[#This Row],[DIAS DE ATRASO]]=0,0,t.base[[#This Row],[TOTAL]])","v":29243}]
["2018-03-13","ZHU MING S.A.C.","Centro","0001-002568","2018-03-13",0,{"v":22174,"d":"22,174"},{"$f":"IF(t.base[[#This Row],[DIAS DE ATRASO]]=0,0,t.base[[#This Row],[TOTAL]])","v":0}]
["2018-02-11","VEGA RIOS GLORIA","Centro","0001-009380","2018-03-13",0,{"v":12981,"d":"12,981"},{"$f":"IF(t.base[[#This Row],[DIAS DE ATRASO]]=0,0,t.base[[#This Row],[TOTAL]])","v":0}]
["2018-02-26","CAPIRENA S.A.C.","Centro","0002-006303","2018-03-13",0,{"v":25862,"d":"25,862"},{"$f":"IF(t.base[[#This Row],[DIAS DE ATRASO]]=0,0,t.base[[#This Row],[TOTAL]])","v":0}]
["2018-01-16","COS E.I.R.L.","Sur","0002-007323","2018-01-31",41,{"v":35466,"d":"35,466"},{"$f":"IF(t.base[[#This Row],[DIAS DE ATRASO]]=0,0,t.base[[#This Row],[TOTAL]])","v":35466}]
["2018-03-12","LMS MENAGE S.A.C.","Centro","0002-006926","2018-03-12",1,{"v":26037,"d":"26,037"},{"$f":"IF(t.base[[#This Row],[DIAS DE ATRASO]]=0,0,t.base[[#This Row],[TOTAL]])","v":26037}]
["2018-01-12","HIROSHI S.A.C.","Norte","0001-009206","2018-03-13",0,{"v":62551,"d":"62,551"},{"$f":"IF(t.base[[#This Row],[DIAS DE ATRASO]]=0,0,t.base[[#This Row],[TOTAL]])","v":0}]
["2017-11-06","MEYTEX SAC","Centro","0002-004152","2017-12-21",82,{"v":15601,"d":"15,601"},{"$f":"IF(t.base[[#This Row],[DIAS DE ATRASO]]=0,0,t.base[[#This Row],[TOTAL]])","v":15601}]
["2018-02-11","PNEUMOHELP E.I.R.L.","Centro","0001-001460","2018-03-13",0,{"v":25801,"d":"25,801"},{"$f":"IF(t.base[[#This Row],[DIAS DE ATRASO]]=0,0,t.base[[#This Row],[TOTAL]])","v":0}]
["2017-12-15","KROMO E.I.R.L.","Sur","0002-004543","2017-12-30",73,{"v":49362,"d":"49,362"},{"$f":"IF(t.base[[#This Row],[DIAS DE ATRASO]]=0,0,t.base[[#This Row],[TOTAL]])","v":49362}]
["2018-02-11","CORTES ROMAN NAHUM","Centro","0002-005392","2018-03-13",0,{"v":17063,"d":"17,063"},{"$f":"IF(t.base[[#This Row],[DIAS DE ATRASO]]=0,0,t.base[[#This Row],[TOTAL]])","v":0}]
["2018-01-24","BAZAR SUBCAFAE","Norte","0001-003537","2018-03-10",3,{"v":47529,"d":"47,529"},{"$f":"IF(t.base[[#This Row],[DIAS DE ATRASO]]=0,0,t.base[[#This Row],[TOTAL]])","v":47529}]
["2018-02-10","PHOENIX S.R.LTDA","Norte","0002-009114","2018-03-12",1,{"v":66613,"d":"66,613"},{"$f":"IF(t.base[[#This Row],[DIAS DE ATRASO]]=0,0,t.base[[#This Row],[TOTAL]])","v":66613}]
["2018-02-12","MIRJANA S.A.C.","Centro","0001-003864","2018-02-27",14,{"v":10604,"d":"10,604"},{"$f":"IF(t.base[[#This Row],[DIAS DE ATRASO]]=0,0,t.base[[#This Row],[TOTAL]])","v":10604}]
["2018-02-25","GORVEZ E.I.R.L.","Norte","0002-009086","2018-03-12",1,{"v":52484,"d":"52,484"},{"$f":"IF(t.base[[#This Row],[DIAS DE ATRASO]]=0,0,t.base[[#This Row],[TOTAL]])","v":52484}]
["2018-03-13","NOVAX E.I.R.L.","Centro","0002-009977","2018-03-13",0,{"v":20270,"d":"20,270"},{"$f":"IF(t.base[[#This Row],[DIAS DE ATRASO]]=0,0,t.base[[#This Row],[TOTAL]])","v":0}]
["2018-02-11","GRUPO VASQUEZ SAC","Centro","0001-007338","2018-03-13",0,{"v":19595,"d":"19,595"},{"$f":"IF(t.base[[#This Row],[DIAS DE ATRASO]]=0,0,t.base[[#This Row],[TOTAL]])","v":0}]
["2018-02-25","LONGE VITA SAC","Centro","0002-006434","2018-03-12",1,{"v":23872,"d":"23,872"},{"$f":"IF(t.base[[#This Row],[DIAS DE ATRASO]]=0,0,t.base[[#This Row],[TOTAL]])","v":23872}]
["2017-12-01","LOGISTICA PERU SRL","Norte","0002-006463","2017-12-01",102,{"v":45699,"d":"45,699"},{"$f":"IF(t.base[[#This Row],[DIAS DE ATRASO]]=0,0,t.base[[#This Row],[TOTAL]])","v":45699}]
["2018-02-11","ISA BARHAM S.A.C.","Centro","0001-009939","2018-03-13",0,{"v":25418,"d":"25,418"},{"$f":"IF(t.base[[#This Row],[DIAS DE ATRASO]]=0,0,t.base[[#This Row],[TOTAL]])","v":0}]
["2018-01-27","FIVE PERU E.I.R.L.","Centro","0002-007349","2018-03-13",0,{"v":28429,"d":"28,429"},{"$f":"IF(t.base[[#This Row],[DIAS DE ATRASO]]=0,0,t.base[[#This Row],[TOTAL]])","v":0}]
["2018-03-13","MAGIA GAMING S.A.C.","Centro","0002-007383","2018-03-13",0,{"v":26797,"d":"26,797"},{"$f":"IF(t.base[[#This Row],[DIAS DE ATRASO]]=0,0,t.base[[#This Row],[TOTAL]])","v":0}]
["2017-11-25","ARTROSTICO EIRL","Centro","0002-006977","2018-01-09",63,{"v":19834,"d":"19,834"},{"$f":"IF(t.base[[#This Row],[DIAS DE ATRASO]]=0,0,t.base[[#This Row],[TOTAL]])","v":19834}]
["2017-10-21","VIVEL S.A.","Norte","0002-001769","2017-12-20",83,{"v":53466,"d":"53,466"},{"$f":"IF(t.base[[#This Row],[DIAS DE ATRASO]]=0,0,t.base[[#This Row],[TOTAL]])","v":53466}]
["2017-12-13","MECDRILL  E.I.R.L.","Centro","0002-005679","2018-03-13",0,{"v":19163,"d":"19,163"},{"$f":"IF(t.base[[#This Row],[DIAS DE ATRASO]]=0,0,t.base[[#This Row],[TOTAL]])","v":0}]
["2018-01-27","CIA VALQUI E.I.R.L.","Sur","0001-008079","2018-03-13",0,{"v":13138,"d":"13,138"},{"$f":"IF(t.base[[#This Row],[DIAS DE ATRASO]]=0,0,t.base[[#This Row],[TOTAL]])","v":0}]
["2018-01-12","LAGO IMPORT EIRL","Centro","0002-004511","2018-03-13",0,{"v":26887,"d":"26,887"},{"$f":"IF(t.base[[#This Row],[DIAS DE ATRASO]]=0,0,t.base[[#This Row],[TOTAL]])","v":0}]
["2018-02-26","GOLD TEXTIL S.A.C.","Centro","0001-004687","2018-03-13",0,{"v":24278,"d":"24,278"},{"$f":"IF(t.base[[#This Row],[DIAS DE ATRASO]]=0,0,t.base[[#This Row],[TOTAL]])","v":0}]
["2017-12-18","NEYOR E.I.R.L.","Sur","0001-004618","2018-02-01",40,{"v":31494,"d":"31,494"},{"$f":"IF(t.base[[#This Row],[DIAS DE ATRASO]]=0,0,t.base[[#This Row],[TOTAL]])","v":31494}]
["2018-01-12","TEXMACHINE S.A.C.","Centro","0002-006994","2018-03-13",0,{"v":28267,"d":"28,267"},{"$f":"IF(t.base[[#This Row],[DIAS DE ATRASO]]=0,0,t.base[[#This Row],[TOTAL]])","v":0}]
["2018-01-12","PLASTIC JOAN FERN","Norte","0002-003064","2018-03-13",0,{"v":53834,"d":"53,834"},{"$f":"IF(t.base[[#This Row],[DIAS DE ATRASO]]=0,0,t.base[[#This Row],[TOTAL]])","v":0}]
["2018-02-25","TRAUMA S.A.C.","Centro","0001-008025","2018-03-12",1,{"v":23810,"d":"23,810"},{"$f":"IF(t.base[[#This Row],[DIAS DE ATRASO]]=0,0,t.base[[#This Row],[TOTAL]])","v":23810}]
["2018-02-11","TSABAZIS VASSILIOS","Centro","0001-009729","2018-03-13",0,{"v":24413,"d":"24,413"},{"$f":"IF(t.base[[#This Row],[DIAS DE ATRASO]]=0,0,t.base[[#This Row],[TOTAL]])","v":0}]
["2018-02-27","DISTRIMED S.A.C.","Centro","0001-006678","2018-02-27",14,{"v":14526,"d":"14,526"},{"$f":"IF(t.base[[#This Row],[DIAS DE ATRASO]]=0,0,t.base[[#This Row],[TOTAL]])","v":14526}]
["2017-12-02","JEPALA EIRL.","Sur","0002-008725","2018-01-16",56,{"v":14017,"d":"14,017"},{"$f":"IF(t.base[[#This Row],[DIAS DE ATRASO]]=0,0,t.base[[#This Row],[TOTAL]])","v":14017}]
["2018-01-26","LYON SPORT EIRL","Sur","0001-009999","2018-03-12",1,{"v":9577,"d":"9,577"},{"$f":"IF(t.base[[#This Row],[DIAS DE ATRASO]]=0,0,t.base[[#This Row],[TOTAL]])","v":9577}]
["2018-02-11","RPS PERU S.A.C.","Centro","0002-003136","2018-03-13",0,{"v":26855,"d":"26,855"},{"$f":"IF(t.base[[#This Row],[DIAS DE ATRASO]]=0,0,t.base[[#This Row],[TOTAL]])","v":0}]
["2018-01-12","NEYRA MEDINA RAFAEL","Centro","0001-002455","2018-03-13",0,{"v":28850,"d":"28,850"},{"$f":"IF(t.base[[#This Row],[DIAS DE ATRASO]]=0,0,t.base[[#This Row],[TOTAL]])","v":0}]
["2017-12-13","FEMAT S.A.C.","Centro","0001-008584","2018-03-13",0,{"v":29219,"d":"29,219"},{"$f":"IF(t.base[[#This Row],[DIAS DE ATRASO]]=0,0,t.base[[#This Row],[TOTAL]])","v":0}]
["2018-01-12","CLAS CONDESUYOS","Sur","0001-006068","2018-03-13",0,{"v":12670,"d":"12,670"},{"$f":"IF(t.base[[#This Row],[DIAS DE ATRASO]]=0,0,t.base[[#This Row],[TOTAL]])","v":0}]
["2017-12-12","TAI FENG SAC","Centro","0001-006709","2018-03-12",1,{"v":17679,"d":"17,679"},{"$f":"IF(t.base[[#This Row],[DIAS DE ATRASO]]=0,0,t.base[[#This Row],[TOTAL]])","v":17679}]
["2018-02-26","YANG SHAO ZHONG","Centro","0002-008545","2018-03-13",0,{"v":18588,"d":"18,588"},{"$f":"IF(t.base[[#This Row],[DIAS DE ATRASO]]=0,0,t.base[[#This Row],[TOTAL]])","v":0}]
["2018-02-10","C. CHINININ S.A.C.","Centro","0001-006117","2018-03-12",1,{"v":21415,"d":"21,415"},{"$f":"IF(t.base[[#This Row],[DIAS DE ATRASO]]=0,0,t.base[[#This Row],[TOTAL]])","v":21415}]
["2017-11-21","RONG YINGLIN","Centro","0001-005021","2017-12-21",82,{"v":29084,"d":"29,084"},{"$f":"IF(t.base[[#This Row],[DIAS DE ATRASO]]=0,0,t.base[[#This Row],[TOTAL]])","v":29084}]
["2018-01-27","VARGAS S.R.L.","Norte","0001-001607","2018-03-13",0,{"v":48325,"d":"48,325"},{"$f":"IF(t.base[[#This Row],[DIAS DE ATRASO]]=0,0,t.base[[#This Row],[TOTAL]])","v":0}]
["2017-11-21","SPEAK EASY","Sur","0002-005629","2017-12-06",97,{"v":5542,"d":"5,542"},{"$f":"IF(t.base[[#This Row],[DIAS DE ATRASO]]=0,0,t.base[[#This Row],[TOTAL]])","v":5542}]
["2018-02-11","LEON GROUP E.I.R.L.","Sur","0002-002675","2018-03-13",0,{"v":26931,"d":"26,931"},{"$f":"IF(t.base[[#This Row],[DIAS DE ATRASO]]=0,0,t.base[[#This Row],[TOTAL]])","v":0}]
["2018-01-27","MISOKA S.A.C.","Centro","0001-005074","2018-03-13",0,{"v":21247,"d":"21,247"},{"$f":"IF(t.base[[#This Row],[DIAS DE ATRASO]]=0,0,t.base[[#This Row],[TOTAL]])","v":0}]
["2018-02-15","HT NAYELI S.A.C","Centro","0002-008711","2018-02-15",26,{"v":18550,"d":"18,550"},{"$f":"IF(t.base[[#This Row],[DIAS DE ATRASO]]=0,0,t.base[[#This Row],[TOTAL]])","v":18550}]
["2018-02-26","METALAB S.A.C.","Centro","0002-002723","2018-03-13",0,{"v":27111,"d":"27,111"},{"$f":"IF(t.base[[#This Row],[DIAS DE ATRASO]]=0,0,t.base[[#This Row],[TOTAL]])","v":0}]
["2017-10-27","PHOENIX S.R.LTDA","Norte","0002-002920","2017-12-26",77,{"v":66507,"d":"66,507"},{"$f":"IF(t.base[[#This Row],[DIAS DE ATRASO]]=0,0,t.base[[#This Row],[TOTAL]])","v":66507}]
["2017-12-13","YANG HUIXIAN","Centro","0002-008886","2018-03-13",0,{"v":21379,"d":"21,379"},{"$f":"IF(t.base[[#This Row],[DIAS DE ATRASO]]=0,0,t.base[[#This Row],[TOTAL]])","v":0}]
["2018-02-11","TANZACO S.A.C","Centro","0001-001151","2018-03-13",0,{"v":11250,"d":"11,250"},{"$f":"IF(t.base[[#This Row],[DIAS DE ATRASO]]=0,0,t.base[[#This Row],[TOTAL]])","v":0}]
["2018-02-10","COLCA TREK EIRL.","Sur","0001-008015","2018-03-12",1,{"v":36068,"d":"36,068"},{"$f":"IF(t.base[[#This Row],[DIAS DE ATRASO]]=0,0,t.base[[#This Row],[TOTAL]])","v":36068}]
["2018-02-11","MULTIVISION S.R.L.","Sur","0001-003911","2018-03-13",0,{"v":27493,"d":"27,493"},{"$f":"IF(t.base[[#This Row],[DIAS DE ATRASO]]=0,0,t.base[[#This Row],[TOTAL]])","v":0}]
["2018-03-13","HURTADO CAMPO JUANA","Centro","0002-009626","2018-03-13",0,{"v":17081,"d":"17,081"},{"$f":"IF(t.base[[#This Row],[DIAS DE ATRASO]]=0,0,t.base[[#This Row],[TOTAL]])","v":0}]
["2018-03-13","RODIMPORT S.R.L.","Norte","0001-007626","2018-03-13",0,{"v":35171,"d":"35,171"},{"$f":"IF(t.base[[#This Row],[DIAS DE ATRASO]]=0,0,t.base[[#This Row],[TOTAL]])","v":0}]
["2018-01-27","LINDO HOGAR S.A.C","Centro","0001-005862","2018-03-13",0,{"v":17200,"d":"17,200"},{"$f":"IF(t.base[[#This Row],[DIAS DE ATRASO]]=0,0,t.base[[#This Row],[TOTAL]])","v":0}]
["2017-12-18","DETAILHOUSE S.A.C.","Centro","0002-002084","2018-01-02",70,{"v":11523,"d":"11,523"},{"$f":"IF(t.base[[#This Row],[DIAS DE ATRASO]]=0,0,t.base[[#This Row],[TOTAL]])","v":11523}]
["2018-03-13","JARRO ROJAS IRMA","Centro","0001-004202","2018-03-13",0,{"v":28865,"d":"28,865"},{"$f":"IF(t.base[[#This Row],[DIAS DE ATRASO]]=0,0,t.base[[#This Row],[TOTAL]])","v":0}]
["2018-01-12","TEXARIAN E.I.R.L.","Centro","0001-004512","2018-03-13",0,{"v":19313,"d":"19,313"},{"$f":"IF(t.base[[#This Row],[DIAS DE ATRASO]]=0,0,t.base[[#This Row],[TOTAL]])","v":0}]
["2017-12-12","TEXTILES PAULA SAC","Centro","0002-009658","2017-12-27",76,{"v":12951,"d":"12,951"},{"$f":"IF(t.base[[#This Row],[DIAS DE ATRASO]]=0,0,t.base[[#This Row],[TOTAL]])","v":12951}]
["2017-12-17","CRITIKOS S.A.C.","Centro","0001-001254","2017-12-17",86,{"v":21489,"d":"21,489"},{"$f":"IF(t.base[[#This Row],[DIAS DE ATRASO]]=0,0,t.base[[#This Row],[TOTAL]])","v":21489}]
["2017-12-31","REDISCAR E.I.R.L.","Sur","0002-003897","2018-01-30",42,{"v":7888,"d":"7,888"},{"$f":"IF(t.base[[#This Row],[DIAS DE ATRASO]]=0,0,t.base[[#This Row],[TOTAL]])","v":7888}]
["2018-03-13","EPSON PERU S.A","Centro","0001-005854","2018-03-13",0,{"v":26506,"d":"26,506"},{"$f":"IF(t.base[[#This Row],[DIAS DE ATRASO]]=0,0,t.base[[#This Row],[TOTAL]])","v":0}]
["2017-12-13","HOJA GRANDE S.A.C.","Norte","0002-001808","2018-03-13",0,{"v":66069,"d":"66,069"},{"$f":"IF(t.base[[#This Row],[DIAS DE ATRASO]]=0,0,t.base[[#This Row],[TOTAL]])","v":0}]
["2017-12-13","PABEL S.A.C.","Norte","0002-005228","2018-03-13",0,{"v":15366,"d":"15,366"},{"$f":"IF(t.base[[#This Row],[DIAS DE ATRASO]]=0,0,t.base[[#This Row],[TOTAL]])","v":0}]
["2018-01-11","PENTAGRAF S.A.C.","Centro","0001-001360","2018-03-12",1,{"v":23484,"d":"23,484"},{"$f":"IF(t.base[[#This Row],[DIAS DE ATRASO]]=0,0,t.base[[#This Row],[TOTAL]])","v":23484}]
["2018-01-27","PILCO VILCA PASTORA","Centro","0002-002539","2018-03-13",0,{"v":27763,"d":"27,763"},{"$f":"IF(t.base[[#This Row],[DIAS DE ATRASO]]=0,0,t.base[[#This Row],[TOTAL]])","v":0}]
["2018-03-13","LAURA PARI ALIPIO","Centro","0002-002978","2018-03-13",0,{"v":11499,"d":"11,499"},{"$f":"IF(t.base[[#This Row],[DIAS DE ATRASO]]=0,0,t.base[[#This Row],[TOTAL]])","v":0}]
["2017-12-13","SONMAR S.R.L.","Sur","0002-004507","2018-03-13",0,{"v":35767,"d":"35,767"},{"$f":"IF(t.base[[#This Row],[DIAS DE ATRASO]]=0,0,t.base[[#This Row],[TOTAL]])","v":0}]
["2018-03-13","S.J2 S.A.C.","Norte","0002-007887","2018-03-13",0,{"v":42466,"d":"42,466"},{"$f":"IF(t.base[[#This Row],[DIAS DE ATRASO]]=0,0,t.base[[#This Row],[TOTAL]])","v":0}]
["2018-01-27","ANVI'S S.R.L.","Norte","0001-006022","2018-03-13",0,{"v":66487,"d":"66,487"},{"$f":"IF(t.base[[#This Row],[DIAS DE ATRASO]]=0,0,t.base[[#This Row],[TOTAL]])","v":0}]
["2017-10-03","ALDI S.A.C.","Sur","0001-008950","2017-10-18",146,{"v":39892,"d":"39,892"},{"$f":"IF(t.base[[#This Row],[DIAS DE ATRASO]]=0,0,t.base[[#This Row],[TOTAL]])","v":39892}]
["2018-02-25","CBMARKETERS S.A.C.","Centro","0001-002491","2018-03-12",1,{"v":29315,"d":"29,315"},{"$f":"IF(t.base[[#This Row],[DIAS DE ATRASO]]=0,0,t.base[[#This Row],[TOTAL]])","v":29315}]
["2018-03-13","NOVAX E.I.R.L.","Centro","0001-004745","2018-03-13",0,{"v":18415,"d":"18,415"},{"$f":"IF(t.base[[#This Row],[DIAS DE ATRASO]]=0,0,t.base[[#This Row],[TOTAL]])","v":0}]
["2018-03-13","VICKO Y CO S.A.","Centro","0002-007708","2018-03-13",0,{"v":15870,"d":"15,870"},{"$f":"IF(t.base[[#This Row],[DIAS DE ATRASO]]=0,0,t.base[[#This Row],[TOTAL]])","v":0}]
["2017-09-30","SAMMYTEC S.A.","Centro","0001-002694","2017-12-29",74,{"v":22195,"d":"22,195"},{"$f":"IF(t.base[[#This Row],[DIAS DE ATRASO]]=0,0,t.base[[#This Row],[TOTAL]])","v":22195}]
["2018-01-27","ARENAS RAMOS FREDY","Centro","0002-008268","2018-03-13",0,{"v":15509,"d":"15,509"},{"$f":"IF(t.base[[#This Row],[DIAS DE ATRASO]]=0,0,t.base[[#This Row],[TOTAL]])","v":0}]
["2017-12-01","RADIO LORETO S.A.C","Norte","0002-006662","2018-01-15",57,{"v":61666,"d":"61,666"},{"$f":"IF(t.base[[#This Row],[DIAS DE ATRASO]]=0,0,t.base[[#This Row],[TOTAL]])","v":61666}]
["2018-01-19","AMG KYODAI S.A.C.","Centro","0002-004324","2018-02-18",23,{"v":19422,"d":"19,422"},{"$f":"IF(t.base[[#This Row],[DIAS DE ATRASO]]=0,0,t.base[[#This Row],[TOTAL]])","v":19422}]
["2018-03-12","LUMOGA   E.I.R.L.","Centro","0002-002956","2018-03-12",1,{"v":20838,"d":"20,838"},{"$f":"IF(t.base[[#This Row],[DIAS DE ATRASO]]=0,0,t.base[[#This Row],[TOTAL]])","v":20838}]
["2018-01-27","DAMERED S.A.C.","Centro","0002-007500","2018-03-13",0,{"v":22037,"d":"22,037"},{"$f":"IF(t.base[[#This Row],[DIAS DE ATRASO]]=0,0,t.base[[#This Row],[TOTAL]])","v":0}]
["2017-11-01","LI SHUI PIN","Centro","0001-008401","2017-12-31",72,{"v":18110,"d":"18,110"},{"$f":"IF(t.base[[#This Row],[DIAS DE ATRASO]]=0,0,t.base[[#This Row],[TOTAL]])","v":18110}]
["2018-01-27","TEXMACHINE S.A.C.","Centro","0002-004893","2018-03-13",0,{"v":29825,"d":"29,825"},{"$f":"IF(t.base[[#This Row],[DIAS DE ATRASO]]=0,0,t.base[[#This Row],[TOTAL]])","v":0}]
["2018-02-26","BAGSERVIS S.A.C.","Norte","0001-001530","2018-03-13",0,{"v":60041,"d":"60,041"},{"$f":"IF(t.base[[#This Row],[DIAS DE ATRASO]]=0,0,t.base[[#This Row],[TOTAL]])","v":0}]
["2018-03-13","INKACLOTH S.A.C.","Centro","0002-003484","2018-03-13",0,{"v":28883,"d":"28,883"},{"$f":"IF(t.base[[#This Row],[DIAS DE ATRASO]]=0,0,t.base[[#This Row],[TOTAL]])","v":0}]
["2018-03-13","MAYO TAQUIA JOVANA","Centro","0002-003387","2018-03-13",0,{"v":29625,"d":"29,625"},{"$f":"IF(t.base[[#This Row],[DIAS DE ATRASO]]=0,0,t.base[[#This Row],[TOTAL]])","v":0}]
["2017-12-13","ESTRATEGICA S.A.C.","Centro","0001-005222","2018-03-13",0,{"v":18808,"d":"18,808"},{"$f":"IF(t.base[[#This Row],[DIAS DE ATRASO]]=0,0,t.base[[#This Row],[TOTAL]])","v":0}]
["2018-01-12","MISOKA S.A.C.","Centro","0001-001085","2018-03-13",0,{"v":23685,"d":"23,685"},{"$f":"IF(t.base[[#This Row],[DIAS DE ATRASO]]=0,0,t.base[[#This Row],[TOTAL]])","v":0}]
["2018-02-26","COMPUMAGIC S.A.C.","Centro","0001-003234","2018-03-13",0,{"v":21489,"d":"21,489"},{"$f":"IF(t.base[[#This Row],[DIAS DE ATRASO]]=0,0,t.base[[#This Row],[TOTAL]])","v":0}]
["2018-03-13","COPY DATA E.I.R.L.","Centro","0002-005681","2018-03-13",0,{"v":21835,"d":"21,835"},{"$f":"IF(t.base[[#This Row],[DIAS DE ATRASO]]=0,0,t.base[[#This Row],[TOTAL]])","v":0}]
["2018-01-12","LI & MAN S.R.L.","Centro","0002-004372","2018-03-13",0,{"v":15044,"d":"15,044"},{"$f":"IF(t.base[[#This Row],[DIAS DE ATRASO]]=0,0,t.base[[#This Row],[TOTAL]])","v":0}]
["2018-01-12","ERAZO ERAZO TULIO","Centro","0001-009746","2018-03-13",0,{"v":13927,"d":"13,927"},{"$f":"IF(t.base[[#This Row],[DIAS DE ATRASO]]=0,0,t.base[[#This Row],[TOTAL]])","v":0}]
["2017-11-16","SANTO MARTIN S.A.C.","Centro","0002-004217","2018-01-15",57,{"v":20832,"d":"20,832"},{"$f":"IF(t.base[[#This Row],[DIAS DE ATRASO]]=0,0,t.base[[#This Row],[TOTAL]])","v":20832}]
["2017-12-12","PLASTILEON EIRL","Centro","0002-008526","2018-03-12",1,{"v":25850,"d":"25,850"},{"$f":"IF(t.base[[#This Row],[DIAS DE ATRASO]]=0,0,t.base[[#This Row],[TOTAL]])","v":25850}]
["2018-03-12","CRISTHIANS E.I.R.L","Centro","0001-005204","2018-03-12",1,{"v":21290,"d":"21,290"},{"$f":"IF(t.base[[#This Row],[DIAS DE ATRASO]]=0,0,t.base[[#This Row],[TOTAL]])","v":21290}]
["2018-02-26","TRANSUNION PERU SAC","Centro","0002-005387","2018-03-13",0,{"v":11449,"d":"11,449"},{"$f":"IF(t.base[[#This Row],[DIAS DE ATRASO]]=0,0,t.base[[#This Row],[TOTAL]])","v":0}]
["2018-01-27","DISGAR S.A.C.","Sur","0001-004631","2018-03-13",0,{"v":19202,"d":"19,202"},{"$f":"IF(t.base[[#This Row],[DIAS DE ATRASO]]=0,0,t.base[[#This Row],[TOTAL]])","v":0}]
["2017-05-17","INCOSERGEL S.A.C","Centro","0001-004283","2017-07-16",240,{"v":11040,"d":"11,040"},{"$f":"IF(t.base[[#This Row],[DIAS DE ATRASO]]=0,0,t.base[[#This Row],[TOTAL]])","v":11040}]
["2018-02-26","EPSON PERU S.A","Centro","0001-002407","2018-03-13",0,{"v":25299,"d":"25,299"},{"$f":"IF(t.base[[#This Row],[DIAS DE ATRASO]]=0,0,t.base[[#This Row],[TOTAL]])","v":0}]
["2018-01-12","IMMETAZ E.I.R.L.","Sur","0002-009543","2018-03-13",0,{"v":12790,"d":"12,790"},{"$f":"IF(t.base[[#This Row],[DIAS DE ATRASO]]=0,0,t.base[[#This Row],[TOTAL]])","v":0}]
["2018-02-06","MC SERVICE EIRL","Norte","0002-008225","2018-02-21",20,{"v":53079,"d":"53,079"},{"$f":"IF(t.base[[#This Row],[DIAS DE ATRASO]]=0,0,t.base[[#This Row],[TOTAL]])","v":53079}]
["2018-01-12","ARMESSO S.A.C","Centro","0002-003072","2018-03-13",0,{"v":13895,"d":"13,895"},{"$f":"IF(t.base[[#This Row],[DIAS DE ATRASO]]=0,0,t.base[[#This Row],[TOTAL]])","v":0}]
["2017-12-13","SEGUNDO POSHA SOFIA","Centro","0002-007132","2018-03-13",0,{"v":28216,"d":"28,216"},{"$f":"IF(t.base[[#This Row],[DIAS DE ATRASO]]=0,0,t.base[[#This Row],[TOTAL]])","v":0}]
["2018-03-13","JICKA S.R.L.","Centro","0001-003889","2018-03-13",0,{"v":11325,"d":"11,325"},{"$f":"IF(t.base[[#This Row],[DIAS DE ATRASO]]=0,0,t.base[[#This Row],[TOTAL]])","v":0}]
["2017-11-06","CRISTHIANS E.I.R.L","Centro","0001-003842","2017-12-06",97,{"v":28496,"d":"28,496"},{"$f":"IF(t.base[[#This Row],[DIAS DE ATRASO]]=0,0,t.base[[#This Row],[TOTAL]])","v":28496}]
["2018-02-11","NEXT CARGO S.A.C.","Centro","0002-003565","2018-03-13",0,{"v":18555,"d":"18,555"},{"$f":"IF(t.base[[#This Row],[DIAS DE ATRASO]]=0,0,t.base[[#This Row],[TOTAL]])","v":0}]
["2018-02-26","H & P TIRE E.I.R.L.","Sur","0002-004862","2018-03-13",0,{"v":17214,"d":"17,214"},{"$f":"IF(t.base[[#This Row],[DIAS DE ATRASO]]=0,0,t.base[[#This Row],[TOTAL]])","v":0}]
["2017-12-30","ZOGRAS E.I.R.L.","Centro","0002-002441","2018-01-29",43,{"v":26160,"d":"26,160"},{"$f":"IF(t.base[[#This Row],[DIAS DE ATRASO]]=0,0,t.base[[#This Row],[TOTAL]])","v":26160}]
["2017-12-18","LA ROCCA SAC","Centro","0002-007743","2018-02-16",25,{"v":11053,"d":"11,053"},{"$f":"IF(t.base[[#This Row],[DIAS DE ATRASO]]=0,0,t.base[[#This Row],[TOTAL]])","v":11053}]
["2018-01-12","BECAR E.I.R.L.","Sur","0002-004883","2018-03-13",0,{"v":10550,"d":"10,550"},{"$f":"IF(t.base[[#This Row],[DIAS DE ATRASO]]=0,0,t.base[[#This Row],[TOTAL]])","v":0}]
["2018-01-27","FRANK MEDICA S.A.C","Centro","0002-004633","2018-03-13",0,{"v":26141,"d":"26,141"},{"$f":"IF(t.base[[#This Row],[DIAS DE ATRASO]]=0,0,t.base[[#This Row],[TOTAL]])","v":0}]
["2018-01-26","TORSAL E.I.R.L.","Sur","0002-007587","2018-03-12",1,{"v":41576,"d":"41,576"},{"$f":"IF(t.base[[#This Row],[DIAS DE ATRASO]]=0,0,t.base[[#This Row],[TOTAL]])","v":41576}]
["2018-01-27","FENIX DEL PERU SRL","Centro","0002-008961","2018-03-13",0,{"v":19726,"d":"19,726"},{"$f":"IF(t.base[[#This Row],[DIAS DE ATRASO]]=0,0,t.base[[#This Row],[TOTAL]])","v":0}]
["2018-03-13","CARBOTEC II S.R.L.","Centro","0002-003877","2018-03-13",0,{"v":15191,"d":"15,191"},{"$f":"IF(t.base[[#This Row],[DIAS DE ATRASO]]=0,0,t.base[[#This Row],[TOTAL]])","v":0}]
["2017-11-22","XIAN CHUYAO","Centro","0001-002338","2018-01-06",66,{"v":28643,"d":"28,643"},{"$f":"IF(t.base[[#This Row],[DIAS DE ATRASO]]=0,0,t.base[[#This Row],[TOTAL]])","v":28643}]
["2018-03-13","AD LIBITUM S.A.C.","Centro","0001-001927","2018-03-13",0,{"v":17615,"d":"17,615"},{"$f":"IF(t.base[[#This Row],[DIAS DE ATRASO]]=0,0,t.base[[#This Row],[TOTAL]])","v":0}]
["2017-12-17","CALIGAS S.R.L.","Centro","0002-009952","2018-01-16",56,{"v":29014,"d":"29,014"},{"$f":"IF(t.base[[#This Row],[DIAS DE ATRASO]]=0,0,t.base[[#This Row],[TOTAL]])","v":29014}]
["2018-01-27","APAZA PUMA LEONARDA","Centro","0002-005025","2018-03-13",0,{"v":23379,"d":"23,379"},{"$f":"IF(t.base[[#This Row],[DIAS DE ATRASO]]=0,0,t.base[[#This Row],[TOTAL]])","v":0}]
["2017-09-14","NEXO GRAFICO S.A.C.","Centro","0002-002247","2017-12-13",90,{"v":25184,"d":"25,184"},{"$f":"IF(t.base[[#This Row],[DIAS DE ATRASO]]=0,0,t.base[[#This Row],[TOTAL]])","v":25184}]
["2018-02-26","MERP S.A.C.","Centro","0002-004329","2018-03-13",0,{"v":18700,"d":"18,700"},{"$f":"IF(t.base[[#This Row],[DIAS DE ATRASO]]=0,0,t.base[[#This Row],[TOTAL]])","v":0}]
["2017-12-13","GAGLIARDO E.I.R.L.","Centro","0001-009460","2018-03-13",0,{"v":21170,"d":"21,170"},{"$f":"IF(t.base[[#This Row],[DIAS DE ATRASO]]=0,0,t.base[[#This Row],[TOTAL]])","v":0}]
["2018-03-13","CONSORCIO LIMA","Centro","0002-005488","2018-03-13",0,{"v":24828,"d":"24,828"},{"$f":"IF(t.base[[#This Row],[DIAS DE ATRASO]]=0,0,t.base[[#This Row],[TOTAL]])","v":0}]
["2018-02-11","ISA BARHAM S.A.C.","Centro","0002-003627","2018-03-13",0,{"v":14183,"d":"14,183"},{"$f":"IF(t.base[[#This Row],[DIAS DE ATRASO]]=0,0,t.base[[#This Row],[TOTAL]])","v":0}]
["2018-01-23","NEYOR E.I.R.L.","Sur","0002-005814","2018-03-09",4,{"v":25967,"d":"25,967"},{"$f":"IF(t.base[[#This Row],[DIAS DE ATRASO]]=0,0,t.base[[#This Row],[TOTAL]])","v":25967}]
["2018-01-27","PAXI PAUCAR TEODORO","Centro","0002-009074","2018-03-13",0,{"v":28376,"d":"28,376"},{"$f":"IF(t.base[[#This Row],[DIAS DE ATRASO]]=0,0,t.base[[#This Row],[TOTAL]])","v":0}]
["2017-09-24","GRUPO VIGO S.A.C.","Centro","0001-001509","2017-09-24",170,{"v":10389,"d":"10,389"},{"$f":"IF(t.base[[#This Row],[DIAS DE ATRASO]]=0,0,t.base[[#This Row],[TOTAL]])","v":10389}]
["2018-01-09","GRUPO IMPORT EIRL","Norte","0001-005701","2018-01-09",63,{"v":34483,"d":"34,483"},{"$f":"IF(t.base[[#This Row],[DIAS DE ATRASO]]=0,0,t.base[[#This Row],[TOTAL]])","v":34483}]
["2018-01-27","DETAILHOUSE S.A.C.","Centro","0001-001148","2018-03-13",0,{"v":11417,"d":"11,417"},{"$f":"IF(t.base[[#This Row],[DIAS DE ATRASO]]=0,0,t.base[[#This Row],[TOTAL]])","v":0}]
["2017-12-07","C.S.I. S.A.C.","Sur","0002-004929","2018-01-21",51,{"v":15398,"d":"15,398"},{"$f":"IF(t.base[[#This Row],[DIAS DE ATRASO]]=0,0,t.base[[#This Row],[TOTAL]])","v":15398}]
["2018-01-27","LOGISTICA PERU SRL","Norte","0002-002526","2018-03-13",0,{"v":31402,"d":"31,402"},{"$f":"IF(t.base[[#This Row],[DIAS DE ATRASO]]=0,0,t.base[[#This Row],[TOTAL]])","v":0}]
["2018-01-26","FIVE PERU E.I.R.L.","Centro","0001-009012","2018-03-12",1,{"v":26227,"d":"26,227"},{"$f":"IF(t.base[[#This Row],[DIAS DE ATRASO]]=0,0,t.base[[#This Row],[TOTAL]])","v":26227}]
["2017-12-13","DACIA TRADING SAC","Centro","0002-001655","2018-03-13",0,{"v":10046,"d":"10,046"},{"$f":"IF(t.base[[#This Row],[DIAS DE ATRASO]]=0,0,t.base[[#This Row],[TOTAL]])","v":0}]
["2017-12-13","GIGABRANDS S.A.C.","Centro","0001-001811","2018-03-13",0,{"v":24590,"d":"24,590"},{"$f":"IF(t.base[[#This Row],[DIAS DE ATRASO]]=0,0,t.base[[#This Row],[TOTAL]])","v":0}]
["2018-02-17","TAI FENG SAC","Centro","0001-003331","2018-02-17",24,{"v":20881,"d":"20,881"},{"$f":"IF(t.base[[#This Row],[DIAS DE ATRASO]]=0,0,t.base[[#This Row],[TOTAL]])","v":20881}]
["2017-12-23","L & C SERVIS EIRL","Norte","0001-004096","2018-01-22",50,{"v":22593,"d":"22,593"},{"$f":"IF(t.base[[#This Row],[DIAS DE ATRASO]]=0,0,t.base[[#This Row],[TOTAL]])","v":22593}]
["2017-10-21","CHINANGO S.A.C.","Centro","0002-002613","2017-11-20",113,{"v":26453,"d":"26,453"},{"$f":"IF(t.base[[#This Row],[DIAS DE ATRASO]]=0,0,t.base[[#This Row],[TOTAL]])","v":26453}]
["2017-12-13","PINO VASQUEZ ALCIRA","Centro","0001-002555","2018-03-13",0,{"v":22485,"d":"22,485"},{"$f":"IF(t.base[[#This Row],[DIAS DE ATRASO]]=0,0,t.base[[#This Row],[TOTAL]])","v":0}]
["2017-12-13","ILOHOGAR E.I.R.L.","Sur","0002-001684","2018-03-13",0,{"v":26320,"d":"26,320"},{"$f":"IF(t.base[[#This Row],[DIAS DE ATRASO]]=0,0,t.base[[#This Row],[TOTAL]])","v":0}]
["2017-05-10","RIVERA COSME CAYO","Centro","0002-002889","2017-08-08",217,{"v":23232,"d":"23,232"},{"$f":"IF(t.base[[#This Row],[DIAS DE ATRASO]]=0,0,t.base[[#This Row],[TOTAL]])","v":23232}]
["2017-12-08","DIOS ES AMOR S.A.C.","Norte","0002-001933","2018-01-22",50,{"v":13562,"d":"13,562"},{"$f":"IF(t.base[[#This Row],[DIAS DE ATRASO]]=0,0,t.base[[#This Row],[TOTAL]])","v":13562}]
["2018-01-23","AGROVISION E.I.R.L.","Centro","0001-006072","2018-03-09",4,{"v":23704,"d":"23,704"},{"$f":"IF(t.base[[#This Row],[DIAS DE ATRASO]]=0,0,t.base[[#This Row],[TOTAL]])","v":23704}]
["2018-01-14","FEMMEGIN E.I.R.L.","Centro","0002-006302","2018-01-14",58,{"v":13976,"d":"13,976"},{"$f":"IF(t.base[[#This Row],[DIAS DE ATRASO]]=0,0,t.base[[#This Row],[TOTAL]])","v":13976}]
["2018-01-12","SATORI S.A.C.","Centro","0001-005611","2018-03-13",0,{"v":18654,"d":"18,654"},{"$f":"IF(t.base[[#This Row],[DIAS DE ATRASO]]=0,0,t.base[[#This Row],[TOTAL]])","v":0}]
["2017-10-20","RUWA S.A.C.","Centro","0002-004596","2017-10-20",144,{"v":19633,"d":"19,633"},{"$f":"IF(t.base[[#This Row],[DIAS DE ATRASO]]=0,0,t.base[[#This Row],[TOTAL]])","v":19633}]
["2017-12-13","ZELADA SILVA ANIBAL","Centro","0002-007338","2018-03-13",0,{"v":19671,"d":"19,671"},{"$f":"IF(t.base[[#This Row],[DIAS DE ATRASO]]=0,0,t.base[[#This Row],[TOTAL]])","v":0}]
["2017-12-28","SERVOX S.R.L.","Sur","0002-008886","2017-12-28",75,{"v":38111,"d":"38,111"},{"$f":"IF(t.base[[#This Row],[DIAS DE ATRASO]]=0,0,t.base[[#This Row],[TOTAL]])","v":38111}]
["2017-12-25","YANG SHAO ZHONG","Centro","0002-004277","2018-02-08",33,{"v":20317,"d":"20,317"},{"$f":"IF(t.base[[#This Row],[DIAS DE ATRASO]]=0,0,t.base[[#This Row],[TOTAL]])","v":20317}]
["2017-07-25","COMERCIAL ISIS SAC","Centro","0001-007216","2017-08-24",201,{"v":22470,"d":"22,470"},{"$f":"IF(t.base[[#This Row],[DIAS DE ATRASO]]=0,0,t.base[[#This Row],[TOTAL]])","v":22470}]
["2018-02-11","HARBINGER S.A.C.","Centro","0001-006912","2018-03-13",0,{"v":27501,"d":"27,501"},{"$f":"IF(t.base[[#This Row],[DIAS DE ATRASO]]=0,0,t.base[[#This Row],[TOTAL]])","v":0}]
["2018-02-25","CIA NEMER SAC","Sur","0001-004743","2018-03-12",1,{"v":31239,"d":"31,239"},{"$f":"IF(t.base[[#This Row],[DIAS DE ATRASO]]=0,0,t.base[[#This Row],[TOTAL]])","v":31239}]
["2017-09-14","OTUSS S.A.C.","Centro","0001-002697","2017-09-14",180,{"v":11841,"d":"11,841"},{"$f":"IF(t.base[[#This Row],[DIAS DE ATRASO]]=0,0,t.base[[#This Row],[TOTAL]])","v":11841}]
["2018-03-13","XIN HUI SAC","Centro","0002-003254","2018-03-13",0,{"v":24643,"d":"24,643"},{"$f":"IF(t.base[[#This Row],[DIAS DE ATRASO]]=0,0,t.base[[#This Row],[TOTAL]])","v":0}]
["2018-01-11","MEDFARMA EIRL","Norte","0002-005262","2018-03-12",1,{"v":35842,"d":"35,842"},{"$f":"IF(t.base[[#This Row],[DIAS DE ATRASO]]=0,0,t.base[[#This Row],[TOTAL]])","v":35842}]
["2018-02-18","REY - SIL E.I.R.L.","Norte","0002-007773","2018-02-18",23,{"v":47797,"d":"47,797"},{"$f":"IF(t.base[[#This Row],[DIAS DE ATRASO]]=0,0,t.base[[#This Row],[TOTAL]])","v":47797}]
["2017-11-30","LAGO IMPORT EIRL","Centro","0001-009508","2017-11-30",103,{"v":15615,"d":"15,615"},{"$f":"IF(t.base[[#This Row],[DIAS DE ATRASO]]=0,0,t.base[[#This Row],[TOTAL]])","v":15615}]
["2018-01-12","HT NAYELI S.A.C","Centro","0002-006966","2018-03-13",0,{"v":18433,"d":"18,433"},{"$f":"IF(t.base[[#This Row],[DIAS DE ATRASO]]=0,0,t.base[[#This Row],[TOTAL]])","v":0}]
["2018-03-13","AVETSA E.I.R.L.","Sur","0001-002439","2018-03-13",0,{"v":18631,"d":"18,631"},{"$f":"IF(t.base[[#This Row],[DIAS DE ATRASO]]=0,0,t.base[[#This Row],[TOTAL]])","v":0}]
["2017-07-21","ELITSUR S.R.L.","Sur","0001-002115","2017-10-19",145,{"v":16279,"d":"16,279"},{"$f":"IF(t.base[[#This Row],[DIAS DE ATRASO]]=0,0,t.base[[#This Row],[TOTAL]])","v":16279}]
["2018-02-15","L M MOTORS SA","Centro","0001-003509","2018-02-15",26,{"v":11109,"d":"11,109"},{"$f":"IF(t.base[[#This Row],[DIAS DE ATRASO]]=0,0,t.base[[#This Row],[TOTAL]])","v":11109}]
["2017-05-18","UNIGRUAS S.A.C.","Centro","0002-007298","2017-07-17",239,{"v":26416,"d":"26,416"},{"$f":"IF(t.base[[#This Row],[DIAS DE ATRASO]]=0,0,t.base[[#This Row],[TOTAL]])","v":26416}]
["2018-03-13","RUIZ VEGA ROBINSON","Centro","0001-007621","2018-03-13",0,{"v":18288,"d":"18,288"},{"$f":"IF(t.base[[#This Row],[DIAS DE ATRASO]]=0,0,t.base[[#This Row],[TOTAL]])","v":0}]
["2018-02-11","A & SAN JOSE S.A.C","Centro","0001-003608","2018-03-13",0,{"v":10910,"d":"10,910"},{"$f":"IF(t.base[[#This Row],[DIAS DE ATRASO]]=0,0,t.base[[#This Row],[TOTAL]])","v":0}]
["2017-09-26","TBS LOGISTICS S.A.","Centro","0001-005187","2017-12-25",78,{"v":11891,"d":"11,891"},{"$f":"IF(t.base[[#This Row],[DIAS DE ATRASO]]=0,0,t.base[[#This Row],[TOTAL]])","v":11891}]
["2017-06-21","COMFAST S.A.C.","Centro","0002-001298","2017-09-19",175,{"v":29368,"d":"29,368"},{"$f":"IF(t.base[[#This Row],[DIAS DE ATRASO]]=0,0,t.base[[#This Row],[TOTAL]])","v":29368}]
["2018-01-05","DAMERED S.A.C.","Centro","0001-001070","2018-03-06",7,{"v":27457,"d":"27,457"},{"$f":"IF(t.base[[#This Row],[DIAS DE ATRASO]]=0,0,t.base[[#This Row],[TOTAL]])","v":27457}]
["2018-02-26","BECAR E.I.R.L.","Sur","0001-009289","2018-03-13",0,{"v":11779,"d":"11,779"},{"$f":"IF(t.base[[#This Row],[DIAS DE ATRASO]]=0,0,t.base[[#This Row],[TOTAL]])","v":0}]
["2018-02-26","S.J2 S.A.C.","Norte","0001-007623","2018-03-13",0,{"v":50286,"d":"50,286"},{"$f":"IF(t.base[[#This Row],[DIAS DE ATRASO]]=0,0,t.base[[#This Row],[TOTAL]])","v":0}]
["2018-02-10","ALI - MART S.A.C.","Centro","0002-007480","2018-03-12",1,{"v":24424,"d":"24,424"},{"$f":"IF(t.base[[#This Row],[DIAS DE ATRASO]]=0,0,t.base[[#This Row],[TOTAL]])","v":24424}]
["2017-07-03","CRITIKOS S.A.C.","Centro","0002-008549","2017-07-18",238,{"v":15215,"d":"15,215"},{"$f":"IF(t.base[[#This Row],[DIAS DE ATRASO]]=0,0,t.base[[#This Row],[TOTAL]])","v":15215}]
["2018-02-10","LLANGRAF E.I.R.L","Centro","0001-003487","2018-03-12",1,{"v":13661,"d":"13,661"},{"$f":"IF(t.base[[#This Row],[DIAS DE ATRASO]]=0,0,t.base[[#This Row],[TOTAL]])","v":13661}]
["2017-08-22","MR MACELLAIO S.A.C.","Centro","0001-009780","2017-10-21",143,{"v":14173,"d":"14,173"},{"$f":"IF(t.base[[#This Row],[DIAS DE ATRASO]]=0,0,t.base[[#This Row],[TOTAL]])","v":14173}]
["2018-03-13","HELENTEX S.A.C.","Centro","0001-008377","2018-03-13",0,{"v":18328,"d":"18,328"},{"$f":"IF(t.base[[#This Row],[DIAS DE ATRASO]]=0,0,t.base[[#This Row],[TOTAL]])","v":0}]
["2017-12-13","3E SERVICIOS S.A.C.","Centro","0002-003704","2018-03-13",0,{"v":23162,"d":"23,162"},{"$f":"IF(t.base[[#This Row],[DIAS DE ATRASO]]=0,0,t.base[[#This Row],[TOTAL]])","v":0}]
["2018-02-11","TRANSJOHNNY S.A.C.","Centro","0002-009416","2018-03-13",0,{"v":15802,"d":"15,802"},{"$f":"IF(t.base[[#This Row],[DIAS DE ATRASO]]=0,0,t.base[[#This Row],[TOTAL]])","v":0}]
["2017-12-15","MEDELCO SRL","Sur","0001-008009","2018-02-13",28,{"v":14896,"d":"14,896"},{"$f":"IF(t.base[[#This Row],[DIAS DE ATRASO]]=0,0,t.base[[#This Row],[TOTAL]])","v":14896}]
["2018-03-13","CBMARKETERS S.A.C.","Centro","0002-006877","2018-03-13",0,{"v":20284,"d":"20,284"},{"$f":"IF(t.base[[#This Row],[DIAS DE ATRASO]]=0,0,t.base[[#This Row],[TOTAL]])","v":0}]
["2018-01-28","FEMAT S.A.C.","Centro","0002-008337","2018-01-28",44,{"v":25104,"d":"25,104"},{"$f":"IF(t.base[[#This Row],[DIAS DE ATRASO]]=0,0,t.base[[#This Row],[TOTAL]])","v":25104}]
["2018-01-27","JOMI TOURS S.A.C","Centro","0001-004357","2018-03-13",0,{"v":17195,"d":"17,195"},{"$f":"IF(t.base[[#This Row],[DIAS DE ATRASO]]=0,0,t.base[[#This Row],[TOTAL]])","v":0}]
["2018-02-11","SALISARA SAC","Centro","0002-004907","2018-03-13",0,{"v":27814,"d":"27,814"},{"$f":"IF(t.base[[#This Row],[DIAS DE ATRASO]]=0,0,t.base[[#This Row],[TOTAL]])","v":0}]
["2017-09-21","ITAPIER S.R.L.","Centro","0001-002799","2017-11-20",113,{"v":19601,"d":"19,601"},{"$f":"IF(t.base[[#This Row],[DIAS DE ATRASO]]=0,0,t.base[[#This Row],[TOTAL]])","v":19601}]
["2018-02-10","CHUMANCORP E.I.R.L.","Centro","0001-008629","2018-03-12",1,{"v":29831,"d":"29,831"},{"$f":"IF(t.base[[#This Row],[DIAS DE ATRASO]]=0,0,t.base[[#This Row],[TOTAL]])","v":29831}]
["2018-01-06","SOLISA S.A.C.","Centro","0001-003257","2018-03-07",6,{"v":15124,"d":"15,124"},{"$f":"IF(t.base[[#This Row],[DIAS DE ATRASO]]=0,0,t.base[[#This Row],[TOTAL]])","v":15124}]
["2017-12-22","HELENTEX S.A.C.","Centro","0001-009639","2018-02-05",36,{"v":23913,"d":"23,913"},{"$f":"IF(t.base[[#This Row],[DIAS DE ATRASO]]=0,0,t.base[[#This Row],[TOTAL]])","v":23913}]
["2017-12-13","REDIJUA S.R.L.","Sur","0001-005277","2018-03-13",0,{"v":9735,"d":"9,735"},{"$f":"IF(t.base[[#This Row],[DIAS DE ATRASO]]=0,0,t.base[[#This Row],[TOTAL]])","v":0}]
["2018-03-13","YON JAU JUAN","Centro","0002-003501","2018-03-13",0,{"v":25674,"d":"25,674"},{"$f":"IF(t.base[[#This Row],[DIAS DE ATRASO]]=0,0,t.base[[#This Row],[TOTAL]])","v":0}]
["2018-02-05","CAIMI PERU S.A.C.","Centro","0002-002821","2018-02-20",21,{"v":15101,"d":"15,101"},{"$f":"IF(t.base[[#This Row],[DIAS DE ATRASO]]=0,0,t.base[[#This Row],[TOTAL]])","v":15101}]
["2018-01-12","SERVIMEDICOS S.A.C.","Norte","0002-001568","2018-03-13",0,{"v":68161,"d":"68,161"},{"$f":"IF(t.base[[#This Row],[DIAS DE ATRASO]]=0,0,t.base[[#This Row],[TOTAL]])","v":0}]
["2017-06-15","REDISCAR E.I.R.L.","Sur","0001-005826","2017-07-30",226,{"v":15134,"d":"15,134"},{"$f":"IF(t.base[[#This Row],[DIAS DE ATRASO]]=0,0,t.base[[#This Row],[TOTAL]])","v":15134}]
["2018-01-27","GREY GROUP S.A.C","Centro","0001-002747","2018-03-13",0,{"v":11139,"d":"11,139"},{"$f":"IF(t.base[[#This Row],[DIAS DE ATRASO]]=0,0,t.base[[#This Row],[TOTAL]])","v":0}]
["2018-02-26","MIFARMA S.A.C.","Centro","0001-004661","2018-03-13",0,{"v":23458,"d":"23,458"},{"$f":"IF(t.base[[#This Row],[DIAS DE ATRASO]]=0,0,t.base[[#This Row],[TOTAL]])","v":0}]
["2018-01-12","HUISA ZAMATA JORGE","Centro","0001-005203","2018-03-13",0,{"v":23096,"d":"23,096"},{"$f":"IF(t.base[[#This Row],[DIAS DE ATRASO]]=0,0,t.base[[#This Row],[TOTAL]])","v":0}]
["2018-02-25","PENTAGRAF S.A.C.","Centro","0002-008568","2018-03-12",1,{"v":24307,"d":"24,307"},{"$f":"IF(t.base[[#This Row],[DIAS DE ATRASO]]=0,0,t.base[[#This Row],[TOTAL]])","v":24307}]
["2017-10-18","TRANSUNION PERU SAC","Centro","0001-008411","2017-12-17",86,{"v":22275,"d":"22,275"},{"$f":"IF(t.base[[#This Row],[DIAS DE ATRASO]]=0,0,t.base[[#This Row],[TOTAL]])","v":22275}]
["2018-02-26","CUEROS R SAC","Norte","0002-003728","2018-03-13",0,{"v":25658,"d":"25,658"},{"$f":"IF(t.base[[#This Row],[DIAS DE ATRASO]]=0,0,t.base[[#This Row],[TOTAL]])","v":0}]
["2017-12-13","FE GOLD S.A.C.","Centro","0002-004703","2018-03-13",0,{"v":21312,"d":"21,312"},{"$f":"IF(t.base[[#This Row],[DIAS DE ATRASO]]=0,0,t.base[[#This Row],[TOTAL]])","v":0}]
["2018-02-25","EPSON PERU S.A","Centro","0001-001099","2018-03-12",1,{"v":21289,"d":"21,289"},{"$f":"IF(t.base[[#This Row],[DIAS DE ATRASO]]=0,0,t.base[[#This Row],[TOTAL]])","v":21289}]
["2017-11-06","ANTONIO CARBONE SA","Centro","0002-003780","2018-01-05",67,{"v":13070,"d":"13,070"},{"$f":"IF(t.base[[#This Row],[DIAS DE ATRASO]]=0,0,t.base[[#This Row],[TOTAL]])","v":13070}]
["2018-01-27","LOPEZ ARIAS MANUEL","Centro","0001-008707","2018-03-13",0,{"v":28243,"d":"28,243"},{"$f":"IF(t.base[[#This Row],[DIAS DE ATRASO]]=0,0,t.base[[#This Row],[TOTAL]])","v":0}]
["2017-12-31","ORTIZ LOPEZ OSCAR","Centro","0001-009738","2018-03-01",12,{"v":12402,"d":"12,402"},{"$f":"IF(t.base[[#This Row],[DIAS DE ATRASO]]=0,0,t.base[[#This Row],[TOTAL]])","v":12402}]
["2018-02-26","JORTRANSPORT S.R.L.","Centro","0001-005185","2018-03-13",0,{"v":11011,"d":"11,011"},{"$f":"IF(t.base[[#This Row],[DIAS DE ATRASO]]=0,0,t.base[[#This Row],[TOTAL]])","v":0}]
["2018-02-10","IMMETAZ E.I.R.L.","Sur","0002-004168","2018-03-12",1,{"v":42656,"d":"42,656"},{"$f":"IF(t.base[[#This Row],[DIAS DE ATRASO]]=0,0,t.base[[#This Row],[TOTAL]])","v":42656}]
["2017-11-17","MAQ DEPOT S.A.C.","Centro","0002-001901","2017-11-17",116,{"v":24151,"d":"24,151"},{"$f":"IF(t.base[[#This Row],[DIAS DE ATRASO]]=0,0,t.base[[#This Row],[TOTAL]])","v":24151}]
["2018-01-12","TBS LOGISTICS S.A.","Centro","0001-008454","2018-03-13",0,{"v":13148,"d":"13,148"},{"$f":"IF(t.base[[#This Row],[DIAS DE ATRASO]]=0,0,t.base[[#This Row],[TOTAL]])","v":0}]
["2017-12-13","A Z CHEMICAL EIRL","Centro","0001-003196","2018-03-13",0,{"v":24001,"d":"24,001"},{"$f":"IF(t.base[[#This Row],[DIAS DE ATRASO]]=0,0,t.base[[#This Row],[TOTAL]])","v":0}]
["2018-01-12","HUAMAN NAPA ABRAHAM","Centro","0002-001315","2018-03-13",0,{"v":10515,"d":"10,515"},{"$f":"IF(t.base[[#This Row],[DIAS DE ATRASO]]=0,0,t.base[[#This Row],[TOTAL]])","v":0}]
["2017-12-13","MAMANI SOSA ANA","Centro","0002-008605","2017-12-13",90,{"v":28775,"d":"28,775"},{"$f":"IF(t.base[[#This Row],[DIAS DE ATRASO]]=0,0,t.base[[#This Row],[TOTAL]])","v":28775}]
["2018-02-11","BOTANY S.A.C.","Norte","0002-004288","2018-03-13",0,{"v":46496,"d":"46,496"},{"$f":"IF(t.base[[#This Row],[DIAS DE ATRASO]]=0,0,t.base[[#This Row],[TOTAL]])","v":0}]
["2018-03-12","COPY  GRAPH S.A.C.","Centro","0002-001121","2018-03-12",1,{"v":24312,"d":"24,312"},{"$f":"IF(t.base[[#This Row],[DIAS DE ATRASO]]=0,0,t.base[[#This Row],[TOTAL]])","v":24312}]
["2018-03-13","OROMONTE S.A","Centro","0001-004895","2018-03-13",0,{"v":16026,"d":"16,026"},{"$f":"IF(t.base[[#This Row],[DIAS DE ATRASO]]=0,0,t.base[[#This Row],[TOTAL]])","v":0}]
["2017-12-24","FUKU E.I.R.L.","Centro","0001-008340","2018-02-07",34,{"v":12819,"d":"12,819"},{"$f":"IF(t.base[[#This Row],[DIAS DE ATRASO]]=0,0,t.base[[#This Row],[TOTAL]])","v":12819}]
["2018-03-13","JINSEI SAC","Centro","0002-005835","2018-03-13",0,{"v":26600,"d":"26,600"},{"$f":"IF(t.base[[#This Row],[DIAS DE ATRASO]]=0,0,t.base[[#This Row],[TOTAL]])","v":0}]
["2018-01-27","TORSAL E.I.R.L.","Sur","0001-005117","2018-03-13",0,{"v":16993,"d":"16,993"},{"$f":"IF(t.base[[#This Row],[DIAS DE ATRASO]]=0,0,t.base[[#This Row],[TOTAL]])","v":0}]
["2018-01-27","GARCIA PEÐA MANUEL","Centro","0001-005312","2018-01-27",45,{"v":25909,"d":"25,909"},{"$f":"IF(t.base[[#This Row],[DIAS DE ATRASO]]=0,0,t.base[[#This Row],[TOTAL]])","v":25909}]
["2018-02-10","IRYOVI E.I.R.L.","Centro","0001-008512","2018-03-12",1,{"v":16359,"d":"16,359"},{"$f":"IF(t.base[[#This Row],[DIAS DE ATRASO]]=0,0,t.base[[#This Row],[TOTAL]])","v":16359}]
["2018-02-11","KATHY R S.A.C.","Centro","0002-006982","2018-03-13",0,{"v":14251,"d":"14,251"},{"$f":"IF(t.base[[#This Row],[DIAS DE ATRASO]]=0,0,t.base[[#This Row],[TOTAL]])","v":0}]
["2017-11-06","DESANA S.A.C.","Centro","0002-009445","2018-02-04",37,{"v":18138,"d":"18,138"},{"$f":"IF(t.base[[#This Row],[DIAS DE ATRASO]]=0,0,t.base[[#This Row],[TOTAL]])","v":18138}]
["2017-10-06","VERA PLAV S.A.C.","Centro","0002-009887","2018-01-04",68,{"v":26366,"d":"26,366"},{"$f":"IF(t.base[[#This Row],[DIAS DE ATRASO]]=0,0,t.base[[#This Row],[TOTAL]])","v":26366}]
["2017-11-03","STYLO EDWIL SRL","Centro","0002-004479","2017-12-18",85,{"v":27832,"d":"27,832"},{"$f":"IF(t.base[[#This Row],[DIAS DE ATRASO]]=0,0,t.base[[#This Row],[TOTAL]])","v":27832}]
["2017-11-20","XIE HUA CHUANG","Centro","0002-008478","2017-12-20",83,{"v":15816,"d":"15,816"},{"$f":"IF(t.base[[#This Row],[DIAS DE ATRASO]]=0,0,t.base[[#This Row],[TOTAL]])","v":15816}]
["2018-02-26","RV CONSULTORES SAC","Centro","0001-008648","2018-03-13",0,{"v":17697,"d":"17,697"},{"$f":"IF(t.base[[#This Row],[DIAS DE ATRASO]]=0,0,t.base[[#This Row],[TOTAL]])","v":0}]
["2018-03-13","RAINBOW S.A.","Centro","0001-004175","2018-03-13",0,{"v":15274,"d":"15,274"},{"$f":"IF(t.base[[#This Row],[DIAS DE ATRASO]]=0,0,t.base[[#This Row],[TOTAL]])","v":0}]
["2018-01-27","ANVI'S S.R.L.","Norte","0002-006388","2018-03-13",0,{"v":57004,"d":"57,004"},{"$f":"IF(t.base[[#This Row],[DIAS DE ATRASO]]=0,0,t.base[[#This Row],[TOTAL]])","v":0}]
["2018-02-11","REPDA PARTS S.R.L.","Sur","0002-002643","2018-03-13",0,{"v":19439,"d":"19,439"},{"$f":"IF(t.base[[#This Row],[DIAS DE ATRASO]]=0,0,t.base[[#This Row],[TOTAL]])","v":0}]
["2018-01-24","RAMOS ROCHA CARLOS","Centro","0002-009376","2018-03-10",3,{"v":11399,"d":"11,399"},{"$f":"IF(t.base[[#This Row],[DIAS DE ATRASO]]=0,0,t.base[[#This Row],[TOTAL]])","v":11399}]
["2018-02-26","PRO MAKEUP E.I.R.L.","Centro","0002-008465","2018-03-13",0,{"v":26203,"d":"26,203"},{"$f":"IF(t.base[[#This Row],[DIAS DE ATRASO]]=0,0,t.base[[#This Row],[TOTAL]])","v":0}]
["2018-02-06","RASCH S.A.C.","Sur","0002-001127","2018-02-06",35,{"v":44457,"d":"44,457"},{"$f":"IF(t.base[[#This Row],[DIAS DE ATRASO]]=0,0,t.base[[#This Row],[TOTAL]])","v":44457}]
["2018-01-12","STYLO EDWIL SRL","Centro","0001-005905","2018-03-13",0,{"v":28235,"d":"28,235"},{"$f":"IF(t.base[[#This Row],[DIAS DE ATRASO]]=0,0,t.base[[#This Row],[TOTAL]])","v":0}]
["2018-02-26","VHL FOOD SAC","Centro","0002-008382","2018-03-13",0,{"v":10157,"d":"10,157"},{"$f":"IF(t.base[[#This Row],[DIAS DE ATRASO]]=0,0,t.base[[#This Row],[TOTAL]])","v":0}]
["2018-02-11","MIKOMI SAC","Centro","0002-008907","2018-03-13",0,{"v":28589,"d":"28,589"},{"$f":"IF(t.base[[#This Row],[DIAS DE ATRASO]]=0,0,t.base[[#This Row],[TOTAL]])","v":0}]
["2017-12-24","VIPE TOURS E.I.R.L.","Sur","0001-001145","2018-02-07",34,{"v":48358,"d":"48,358"},{"$f":"IF(t.base[[#This Row],[DIAS DE ATRASO]]=0,0,t.base[[#This Row],[TOTAL]])","v":48358}]
["2017-10-03","FARMA OBLEA SAC","Centro","0001-008731","2018-01-01",71,{"v":15198,"d":"15,198"},{"$f":"IF(t.base[[#This Row],[DIAS DE ATRASO]]=0,0,t.base[[#This Row],[TOTAL]])","v":15198}]
["2017-07-06","2M SERVICIOS S.A.C.","Sur","0002-002015","2017-10-04",160,{"v":16703,"d":"16,703"},{"$f":"IF(t.base[[#This Row],[DIAS DE ATRASO]]=0,0,t.base[[#This Row],[TOTAL]])","v":16703}]
["2018-03-13","JON MARSIL E.I.R.L","Centro","0001-008405","2018-03-13",0,{"v":13881,"d":"13,881"},{"$f":"IF(t.base[[#This Row],[DIAS DE ATRASO]]=0,0,t.base[[#This Row],[TOTAL]])","v":0}]
["2018-02-26","ODFJELL PERU S.A.C.","Centro","0002-006364","2018-03-13",0,{"v":16987,"d":"16,987"},{"$f":"IF(t.base[[#This Row],[DIAS DE ATRASO]]=0,0,t.base[[#This Row],[TOTAL]])","v":0}]
["2018-03-12","PERALTA ROMAN YOISY","Centro","0002-007984","2018-03-12",1,{"v":15351,"d":"15,351"},{"$f":"IF(t.base[[#This Row],[DIAS DE ATRASO]]=0,0,t.base[[#This Row],[TOTAL]])","v":15351}]
["2018-03-10","MOLVIMAR S.A.C.","Norte","0002-003042","2018-03-10",3,{"v":63921,"d":"63,921"},{"$f":"IF(t.base[[#This Row],[DIAS DE ATRASO]]=0,0,t.base[[#This Row],[TOTAL]])","v":63921}]
["2018-02-11","GOLD TEXTIL S.A.C.","Centro","0001-003537","2018-03-13",0,{"v":16207,"d":"16,207"},{"$f":"IF(t.base[[#This Row],[DIAS DE ATRASO]]=0,0,t.base[[#This Row],[TOTAL]])","v":0}]
["2018-01-27","CORTES ROMAN NAHUM","Centro","0002-002194","2018-03-13",0,{"v":15127,"d":"15,127"},{"$f":"IF(t.base[[#This Row],[DIAS DE ATRASO]]=0,0,t.base[[#This Row],[TOTAL]])","v":0}]
["2018-02-26","RUTHY S S.R.LTDA","Centro","0001-002252","2018-03-13",0,{"v":11921,"d":"11,921"},{"$f":"IF(t.base[[#This Row],[DIAS DE ATRASO]]=0,0,t.base[[#This Row],[TOTAL]])","v":0}]
["2018-03-13","INKACLOTH S.A.C.","Centro","0001-001766","2018-03-13",0,{"v":25355,"d":"25,355"},{"$f":"IF(t.base[[#This Row],[DIAS DE ATRASO]]=0,0,t.base[[#This Row],[TOTAL]])","v":0}]
["2017-07-11","SIZU S.A.C.","Centro","0002-003272","2017-10-09",155,{"v":18319,"d":"18,319"},{"$f":"IF(t.base[[#This Row],[DIAS DE ATRASO]]=0,0,t.base[[#This Row],[TOTAL]])","v":18319}]
["2018-02-05","ALDELI S.A.","Centro","0001-002842","2018-03-07",6,{"v":14561,"d":"14,561"},{"$f":"IF(t.base[[#This Row],[DIAS DE ATRASO]]=0,0,t.base[[#This Row],[TOTAL]])","v":14561}]
["2018-02-26","A Z CHEMICAL EIRL","Centro","0002-007715","2018-03-13",0,{"v":18729,"d":"18,729"},{"$f":"IF(t.base[[#This Row],[DIAS DE ATRASO]]=0,0,t.base[[#This Row],[TOTAL]])","v":0}]
["2017-11-05","WAGER SLOTS S.A.C.","Centro","0002-005764","2017-12-20",83,{"v":18153,"d":"18,153"},{"$f":"IF(t.base[[#This Row],[DIAS DE ATRASO]]=0,0,t.base[[#This Row],[TOTAL]])","v":18153}]
["2017-12-14","POLYTEX S.A.","Centro","0002-005141","2018-01-28",44,{"v":16163,"d":"16,163"},{"$f":"IF(t.base[[#This Row],[DIAS DE ATRASO]]=0,0,t.base[[#This Row],[TOTAL]])","v":16163}]
["2017-12-13","SERVICON S.A.C.","Norte","0001-002454","2018-03-13",0,{"v":65587,"d":"65,587"},{"$f":"IF(t.base[[#This Row],[DIAS DE ATRASO]]=0,0,t.base[[#This Row],[TOTAL]])","v":0}]
["2018-01-12","CHAHUERRE S.C.R.L","Norte","0001-006526","2018-03-13",0,{"v":68981,"d":"68,981"},{"$f":"IF(t.base[[#This Row],[DIAS DE ATRASO]]=0,0,t.base[[#This Row],[TOTAL]])","v":0}]
["2018-01-27","GRUPO VASQUEZ SAC","Centro","0001-009953","2018-03-13",0,{"v":27525,"d":"27,525"},{"$f":"IF(t.base[[#This Row],[DIAS DE ATRASO]]=0,0,t.base[[#This Row],[TOTAL]])","v":0}]
["2017-11-16","GRUPO GXM E.I.R.L.","Sur","0002-009422","2018-02-14",27,{"v":21785,"d":"21,785"},{"$f":"IF(t.base[[#This Row],[DIAS DE ATRASO]]=0,0,t.base[[#This Row],[TOTAL]])","v":21785}]
["2018-02-11","PLAZA MOTORS S.A.C.","Centro","0002-006576","2018-03-13",0,{"v":23043,"d":"23,043"},{"$f":"IF(t.base[[#This Row],[DIAS DE ATRASO]]=0,0,t.base[[#This Row],[TOTAL]])","v":0}]
["2018-02-26","CODIGO 55 S.A.C.","Centro","0002-004663","2018-03-13",0,{"v":19924,"d":"19,924"},{"$f":"IF(t.base[[#This Row],[DIAS DE ATRASO]]=0,0,t.base[[#This Row],[TOTAL]])","v":0}]
["2017-10-30","TEXARIAN E.I.R.L.","Centro","0001-002373","2017-12-29",74,{"v":24968,"d":"24,968"},{"$f":"IF(t.base[[#This Row],[DIAS DE ATRASO]]=0,0,t.base[[#This Row],[TOTAL]])","v":24968}]
["2017-12-12","ESCOBAR VILLA EDGAR","Centro","0001-004142","2018-03-12",1,{"v":26159,"d":"26,159"},{"$f":"IF(t.base[[#This Row],[DIAS DE ATRASO]]=0,0,t.base[[#This Row],[TOTAL]])","v":26159}]
["2018-03-13","MAQUIHER E.I.R.L.","Sur","0002-009608","2018-03-13",0,{"v":20243,"d":"20,243"},{"$f":"IF(t.base[[#This Row],[DIAS DE ATRASO]]=0,0,t.base[[#This Row],[TOTAL]])","v":0}]
["2018-01-27","PROVESUR S.A.C","Centro","0001-004424","2018-03-13",0,{"v":13409,"d":"13,409"},{"$f":"IF(t.base[[#This Row],[DIAS DE ATRASO]]=0,0,t.base[[#This Row],[TOTAL]])","v":0}]
["2017-12-13","COMERCIAL M&P SRL","Sur","0002-006352","2018-03-13",0,{"v":17856,"d":"17,856"},{"$f":"IF(t.base[[#This Row],[DIAS DE ATRASO]]=0,0,t.base[[#This Row],[TOTAL]])","v":0}]
["2018-03-13","KENUAL S.A.C.","Centro","0002-002150","2018-03-13",0,{"v":11315,"d":"11,315"},{"$f":"IF(t.base[[#This Row],[DIAS DE ATRASO]]=0,0,t.base[[#This Row],[TOTAL]])","v":0}]
["2018-01-26","BIONOVA S.A.C.","Centro","0002-004288","2018-03-12",1,{"v":23474,"d":"23,474"},{"$f":"IF(t.base[[#This Row],[DIAS DE ATRASO]]=0,0,t.base[[#This Row],[TOTAL]])","v":23474}]
["2018-01-01","GEOINFORMACION S.A.","Centro","0001-008863","2018-01-31",41,{"v":25360,"d":"25,360"},{"$f":"IF(t.base[[#This Row],[DIAS DE ATRASO]]=0,0,t.base[[#This Row],[TOTAL]])","v":25360}]
["2018-02-11","NEGOCIOS A & D SRL","Norte","0001-009763","2018-03-13",0,{"v":15125,"d":"15,125"},{"$f":"IF(t.base[[#This Row],[DIAS DE ATRASO]]=0,0,t.base[[#This Row],[TOTAL]])","v":0}]
["2018-03-12","JOMI TOURS S.A.C","Centro","0001-005380","2018-03-12",1,{"v":22858,"d":"22,858"},{"$f":"IF(t.base[[#This Row],[DIAS DE ATRASO]]=0,0,t.base[[#This Row],[TOTAL]])","v":22858}]
["2017-10-25","LIMBERT E.I.R.L.","Sur","0002-008858","2017-12-24",79,{"v":18619,"d":"18,619"},{"$f":"IF(t.base[[#This Row],[DIAS DE ATRASO]]=0,0,t.base[[#This Row],[TOTAL]])","v":18619}]
["2018-01-20","ARENAS RAMOS FREDY","Centro","0001-006507","2018-02-04",37,{"v":19974,"d":"19,974"},{"$f":"IF(t.base[[#This Row],[DIAS DE ATRASO]]=0,0,t.base[[#This Row],[TOTAL]])","v":19974}]
["2018-01-15","TRAUMATOLOGIA S.A.","Centro","0001-006853","2018-03-01",12,{"v":10732,"d":"10,732"},{"$f":"IF(t.base[[#This Row],[DIAS DE ATRASO]]=0,0,t.base[[#This Row],[TOTAL]])","v":10732}]
["2017-11-21","LIMBERT E.I.R.L.","Sur","0001-009610","2017-12-21",82,{"v":38352,"d":"38,352"},{"$f":"IF(t.base[[#This Row],[DIAS DE ATRASO]]=0,0,t.base[[#This Row],[TOTAL]])","v":38352}]
["2018-03-13","PEREZ RUBIO IRENE","Centro","0001-004500","2018-03-13",0,{"v":20980,"d":"20,980"},{"$f":"IF(t.base[[#This Row],[DIAS DE ATRASO]]=0,0,t.base[[#This Row],[TOTAL]])","v":0}]
["2017-12-14","INICIO PC S.R.L.","Norte","0001-006228","2017-12-14",89,{"v":28225,"d":"28,225"},{"$f":"IF(t.base[[#This Row],[DIAS DE ATRASO]]=0,0,t.base[[#This Row],[TOTAL]])","v":28225}]
["2018-02-25","APAZA PUMA LEONARDA","Centro","0002-006316","2018-03-12",1,{"v":20039,"d":"20,039"},{"$f":"IF(t.base[[#This Row],[DIAS DE ATRASO]]=0,0,t.base[[#This Row],[TOTAL]])","v":20039}]
["2017-10-09","MORE CLASS S.A.C","Centro","0002-002673","2018-01-07",65,{"v":18380,"d":"18,380"},{"$f":"IF(t.base[[#This Row],[DIAS DE ATRASO]]=0,0,t.base[[#This Row],[TOTAL]])","v":18380}]
["2017-08-27","EMAPAVIGSSA","Sur","0001-003780","2017-09-11",183,{"v":10529,"d":"10,529"},{"$f":"IF(t.base[[#This Row],[DIAS DE ATRASO]]=0,0,t.base[[#This Row],[TOTAL]])","v":10529}]
["2017-10-11","EQUIPROBEZ E.I.R.L.","Centro","0002-006393","2017-11-25",108,{"v":18769,"d":"18,769"},{"$f":"IF(t.base[[#This Row],[DIAS DE ATRASO]]=0,0,t.base[[#This Row],[TOTAL]])","v":18769}]
["2018-02-11","ARMESSO S.A.C","Centro","0002-005774","2018-03-13",0,{"v":22006,"d":"22,006"},{"$f":"IF(t.base[[#This Row],[DIAS DE ATRASO]]=0,0,t.base[[#This Row],[TOTAL]])","v":0}]
["2018-01-27","VILLA FIORI S.A.C.","Centro","0002-006909","2018-03-13",0,{"v":24976,"d":"24,976"},{"$f":"IF(t.base[[#This Row],[DIAS DE ATRASO]]=0,0,t.base[[#This Row],[TOTAL]])","v":0}]
["2018-01-12","DATA PC S.R.L.","Sur","0001-004042","2018-03-13",0,{"v":26402,"d":"26,402"},{"$f":"IF(t.base[[#This Row],[DIAS DE ATRASO]]=0,0,t.base[[#This Row],[TOTAL]])","v":0}]
["2018-02-26","LAVA EXPRESS SAC","Centro","0001-008667","2018-03-13",0,{"v":13422,"d":"13,422"},{"$f":"IF(t.base[[#This Row],[DIAS DE ATRASO]]=0,0,t.base[[#This Row],[TOTAL]])","v":0}]
["2018-01-01","LOZANO E I R LTDA","Centro","0001-007879","2018-01-31",41,{"v":15371,"d":"15,371"},{"$f":"IF(t.base[[#This Row],[DIAS DE ATRASO]]=0,0,t.base[[#This Row],[TOTAL]])","v":15371}]
["2017-11-11","D'MARCAS E.I.R.L.","Sur","0002-001349","2017-11-11",122,{"v":46227,"d":"46,227"},{"$f":"IF(t.base[[#This Row],[DIAS DE ATRASO]]=0,0,t.base[[#This Row],[TOTAL]])","v":46227}]
["2017-12-16","J & L ALIMENTOS SAC","Centro","0001-009732","2017-12-31",72,{"v":16230,"d":"16,230"},{"$f":"IF(t.base[[#This Row],[DIAS DE ATRASO]]=0,0,t.base[[#This Row],[TOTAL]])","v":16230}]
["2017-12-13","VICENT S.A.C.","Centro","0002-006932","2018-03-13",0,{"v":11754,"d":"11,754"},{"$f":"IF(t.base[[#This Row],[DIAS DE ATRASO]]=0,0,t.base[[#This Row],[TOTAL]])","v":0}]
["2017-11-13","CABERY S.A.C.","Centro","0002-006838","2017-12-28",75,{"v":22250,"d":"22,250"},{"$f":"IF(t.base[[#This Row],[DIAS DE ATRASO]]=0,0,t.base[[#This Row],[TOTAL]])","v":22250}]
["2018-01-26","ODFJELL PERU S.A.C.","Centro","0001-006285","2018-03-12",1,{"v":16398,"d":"16,398"},{"$f":"IF(t.base[[#This Row],[DIAS DE ATRASO]]=0,0,t.base[[#This Row],[TOTAL]])","v":16398}]
["2017-12-08","J & F TRADERS S.A.","Centro","0001-007751","2018-01-07",65,{"v":15799,"d":"15,799"},{"$f":"IF(t.base[[#This Row],[DIAS DE ATRASO]]=0,0,t.base[[#This Row],[TOTAL]])","v":15799}]
["2018-03-13","LUBRILLANTE EIRL","Norte","0002-003428","2018-03-13",0,{"v":49258,"d":"49,258"},{"$f":"IF(t.base[[#This Row],[DIAS DE ATRASO]]=0,0,t.base[[#This Row],[TOTAL]])","v":0}]
["2018-03-13","JIANG JINGYI","Centro","0001-005771","2018-03-13",0,{"v":15149,"d":"15,149"},{"$f":"IF(t.base[[#This Row],[DIAS DE ATRASO]]=0,0,t.base[[#This Row],[TOTAL]])","v":0}]
["2017-07-11","MECDRILL  E.I.R.L.","Centro","0001-004674","2017-08-10",215,{"v":19031,"d":"19,031"},{"$f":"IF(t.base[[#This Row],[DIAS DE ATRASO]]=0,0,t.base[[#This Row],[TOTAL]])","v":19031}]
["2018-01-27","MSM INSUMOS S.A.C","Centro","0002-002277","2018-03-13",0,{"v":10199,"d":"10,199"},{"$f":"IF(t.base[[#This Row],[DIAS DE ATRASO]]=0,0,t.base[[#This Row],[TOTAL]])","v":0}]
["2017-10-20","TANG KONG FU","Centro","0002-006656","2017-12-04",99,{"v":10976,"d":"10,976"},{"$f":"IF(t.base[[#This Row],[DIAS DE ATRASO]]=0,0,t.base[[#This Row],[TOTAL]])","v":10976}]
["2017-12-15","HUISA MERMA DORIS","Centro","0001-003580","2018-01-14",58,{"v":16407,"d":"16,407"},{"$f":"IF(t.base[[#This Row],[DIAS DE ATRASO]]=0,0,t.base[[#This Row],[TOTAL]])","v":16407}]
["2018-02-11","ERAZO ERAZO TULIO","Centro","0002-008986","2018-03-13",0,{"v":10286,"d":"10,286"},{"$f":"IF(t.base[[#This Row],[DIAS DE ATRASO]]=0,0,t.base[[#This Row],[TOTAL]])","v":0}]
["2017-12-19","INSUVECA PERU SA","Centro","0001-008546","2018-01-18",54,{"v":18793,"d":"18,793"},{"$f":"IF(t.base[[#This Row],[DIAS DE ATRASO]]=0,0,t.base[[#This Row],[TOTAL]])","v":18793}]
["2017-12-13","VAMER E.I.R.L","Norte","0002-003778","2018-03-13",0,{"v":66572,"d":"66,572"},{"$f":"IF(t.base[[#This Row],[DIAS DE ATRASO]]=0,0,t.base[[#This Row],[TOTAL]])","v":0}]
["2017-12-28","ALI - MART S.A.C.","Centro","0002-004888","2017-12-28",75,{"v":26654,"d":"26,654"},{"$f":"IF(t.base[[#This Row],[DIAS DE ATRASO]]=0,0,t.base[[#This Row],[TOTAL]])","v":26654}]
["2018-02-11","MAMANI TONE MARLENI","Centro","0001-005739","2018-03-13",0,{"v":13458,"d":"13,458"},{"$f":"IF(t.base[[#This Row],[DIAS DE ATRASO]]=0,0,t.base[[#This Row],[TOTAL]])","v":0}]
["2017-12-13","JARRO ROJAS AMADOR","Centro","0002-002950","2018-03-13",0,{"v":11817,"d":"11,817"},{"$f":"IF(t.base[[#This Row],[DIAS DE ATRASO]]=0,0,t.base[[#This Row],[TOTAL]])","v":0}]
["2018-02-05","CUEROS R SAC","Norte","0001-005662","2018-03-07",6,{"v":34882,"d":"34,882"},{"$f":"IF(t.base[[#This Row],[DIAS DE ATRASO]]=0,0,t.base[[#This Row],[TOTAL]])","v":34882}]
["2017-09-16","LIMBERT E.I.R.L.","Sur","0001-003727","2017-10-31",133,{"v":7720,"d":"7,720"},{"$f":"IF(t.base[[#This Row],[DIAS DE ATRASO]]=0,0,t.base[[#This Row],[TOTAL]])","v":7720}]
["2017-12-13","FAMESOL E.I.R.L.","Sur","0001-005638","2018-03-13",0,{"v":37219,"d":"37,219"},{"$f":"IF(t.base[[#This Row],[DIAS DE ATRASO]]=0,0,t.base[[#This Row],[TOTAL]])","v":0}]
["2017-08-26","KROMO E.I.R.L.","Sur","0001-006692","2017-10-25",139,{"v":19830,"d":"19,830"},{"$f":"IF(t.base[[#This Row],[DIAS DE ATRASO]]=0,0,t.base[[#This Row],[TOTAL]])","v":19830}]
["2018-01-12","VILLA GALVEZ NEYCER","Centro","0001-001892","2018-03-13",0,{"v":24183,"d":"24,183"},{"$f":"IF(t.base[[#This Row],[DIAS DE ATRASO]]=0,0,t.base[[#This Row],[TOTAL]])","v":0}]
["2018-02-26","AUTOSERVIS E.I.R.L.","Norte","0002-004259","2018-03-13",0,{"v":12352,"d":"12,352"},{"$f":"IF(t.base[[#This Row],[DIAS DE ATRASO]]=0,0,t.base[[#This Row],[TOTAL]])","v":0}]
["2018-02-11","VIDA CORAL PERU SAC","Centro","0002-007016","2018-03-13",0,{"v":21724,"d":"21,724"},{"$f":"IF(t.base[[#This Row],[DIAS DE ATRASO]]=0,0,t.base[[#This Row],[TOTAL]])","v":0}]
["2018-02-25","ISHIZAWA OHBA JULIO","Centro","0001-004148","2018-03-12",1,{"v":17244,"d":"17,244"},{"$f":"IF(t.base[[#This Row],[DIAS DE ATRASO]]=0,0,t.base[[#This Row],[TOTAL]])","v":17244}]
["2018-01-26","TEXMACHINE S.A.C.","Centro","0002-002488","2018-03-12",1,{"v":15996,"d":"15,996"},{"$f":"IF(t.base[[#This Row],[DIAS DE ATRASO]]=0,0,t.base[[#This Row],[TOTAL]])","v":15996}]
["2017-10-12","SYSTCOM IMPORT SAC","Centro","0001-009450","2018-01-10",62,{"v":28009,"d":"28,009"},{"$f":"IF(t.base[[#This Row],[DIAS DE ATRASO]]=0,0,t.base[[#This Row],[TOTAL]])","v":28009}]
["2018-03-12","SONMAR S.R.L.","Sur","0001-001860","2018-03-12",1,{"v":11220,"d":"11,220"},{"$f":"IF(t.base[[#This Row],[DIAS DE ATRASO]]=0,0,t.base[[#This Row],[TOTAL]])","v":11220}]
["2018-01-12","TRANSFORPLAST SAC","Centro","0002-001813","2018-03-13",0,{"v":15085,"d":"15,085"},{"$f":"IF(t.base[[#This Row],[DIAS DE ATRASO]]=0,0,t.base[[#This Row],[TOTAL]])","v":0}]
["2018-02-11","JOSLYN PERU S.A.C.","Centro","0002-003512","2018-03-13",0,{"v":19048,"d":"19,048"},{"$f":"IF(t.base[[#This Row],[DIAS DE ATRASO]]=0,0,t.base[[#This Row],[TOTAL]])","v":0}]
["2018-01-27","WILCAS S.R.L.","Norte","0001-004415","2018-03-13",0,{"v":49481,"d":"49,481"},{"$f":"IF(t.base[[#This Row],[DIAS DE ATRASO]]=0,0,t.base[[#This Row],[TOTAL]])","v":0}]
["2018-01-12","FRANK MEDICA S.A.C","Centro","0001-003755","2018-03-13",0,{"v":24509,"d":"24,509"},{"$f":"IF(t.base[[#This Row],[DIAS DE ATRASO]]=0,0,t.base[[#This Row],[TOTAL]])","v":0}]
["2018-01-27","SATORI S.A.C.","Centro","0002-003182","2018-03-13",0,{"v":24622,"d":"24,622"},{"$f":"IF(t.base[[#This Row],[DIAS DE ATRASO]]=0,0,t.base[[#This Row],[TOTAL]])","v":0}]
["2017-11-01","TECH HOME E.I.R.L.","Sur","0001-009085","2017-12-31",72,{"v":16025,"d":"16,025"},{"$f":"IF(t.base[[#This Row],[DIAS DE ATRASO]]=0,0,t.base[[#This Row],[TOTAL]])","v":16025}]
["2018-02-11","DELPHINUS S.A.C.","Centro","0002-002304","2018-03-13",0,{"v":17349,"d":"17,349"},{"$f":"IF(t.base[[#This Row],[DIAS DE ATRASO]]=0,0,t.base[[#This Row],[TOTAL]])","v":0}]
["2018-03-13","APAZA DE CRUZ IRENE","Centro","0001-003995","2018-03-13",0,{"v":21675,"d":"21,675"},{"$f":"IF(t.base[[#This Row],[DIAS DE ATRASO]]=0,0,t.base[[#This Row],[TOTAL]])","v":0}]
["2017-12-12","GB ELECTRIC SAC","Centro","0002-001746","2018-03-12",1,{"v":28005,"d":"28,005"},{"$f":"IF(t.base[[#This Row],[DIAS DE ATRASO]]=0,0,t.base[[#This Row],[TOTAL]])","v":28005}]
["2018-01-12","GEOINFORMACION S.A.","Centro","0001-005885","2018-03-13",0,{"v":22232,"d":"22,232"},{"$f":"IF(t.base[[#This Row],[DIAS DE ATRASO]]=0,0,t.base[[#This Row],[TOTAL]])","v":0}]
["2018-02-11","LA TIENDA E.I.R.L.","Sur","0002-005348","2018-03-13",0,{"v":33594,"d":"33,594"},{"$f":"IF(t.base[[#This Row],[DIAS DE ATRASO]]=0,0,t.base[[#This Row],[TOTAL]])","v":0}]
["2018-01-27","PEREA VELA JANETH","Centro","0002-006796","2018-03-13",0,{"v":22572,"d":"22,572"},{"$f":"IF(t.base[[#This Row],[DIAS DE ATRASO]]=0,0,t.base[[#This Row],[TOTAL]])","v":0}]
["2018-01-12","TEXARIAN E.I.R.L.","Centro","0002-002068","2018-03-13",0,{"v":21253,"d":"21,253"},{"$f":"IF(t.base[[#This Row],[DIAS DE ATRASO]]=0,0,t.base[[#This Row],[TOTAL]])","v":0}]
["2017-12-26","J & W CIA S.A.","Centro","0002-007588","2018-01-10",62,{"v":14425,"d":"14,425"},{"$f":"IF(t.base[[#This Row],[DIAS DE ATRASO]]=0,0,t.base[[#This Row],[TOTAL]])","v":14425}]
["2017-12-13","SORUM S.R.L.","Sur","0001-005855","2018-03-13",0,{"v":32554,"d":"32,554"},{"$f":"IF(t.base[[#This Row],[DIAS DE ATRASO]]=0,0,t.base[[#This Row],[TOTAL]])","v":0}]
["2018-01-11","RIVERA COSME CAYO","Centro","0002-001318","2018-03-12",1,{"v":29011,"d":"29,011"},{"$f":"IF(t.base[[#This Row],[DIAS DE ATRASO]]=0,0,t.base[[#This Row],[TOTAL]])","v":29011}]
["2018-01-12","MEYTEX SAC","Centro","0001-009166","2018-03-13",0,{"v":17295,"d":"17,295"},{"$f":"IF(t.base[[#This Row],[DIAS DE ATRASO]]=0,0,t.base[[#This Row],[TOTAL]])","v":0}]
["2018-01-11","B2B CENTER S.A.C","Centro","0001-009322","2018-03-12",1,{"v":19468,"d":"19,468"},{"$f":"IF(t.base[[#This Row],[DIAS DE ATRASO]]=0,0,t.base[[#This Row],[TOTAL]])","v":19468}]
["2018-02-26","TECSE MUYOC","Sur","0002-001905","2018-03-13",0,{"v":22897,"d":"22,897"},{"$f":"IF(t.base[[#This Row],[DIAS DE ATRASO]]=0,0,t.base[[#This Row],[TOTAL]])","v":0}]
["2018-01-12","MEDROA SOTO ORBAL","Norte","0002-009574","2018-03-13",0,{"v":55026,"d":"55,026"},{"$f":"IF(t.base[[#This Row],[DIAS DE ATRASO]]=0,0,t.base[[#This Row],[TOTAL]])","v":0}]
["2018-01-12","SHAKAVAEL S.R.L.","Norte","0002-007615","2018-03-13",0,{"v":18229,"d":"18,229"},{"$f":"IF(t.base[[#This Row],[DIAS DE ATRASO]]=0,0,t.base[[#This Row],[TOTAL]])","v":0}]
["2018-02-11","GALAXY S R L","Centro","0002-008164","2018-03-13",0,{"v":17195,"d":"17,195"},{"$f":"IF(t.base[[#This Row],[DIAS DE ATRASO]]=0,0,t.base[[#This Row],[TOTAL]])","v":0}]
["2018-01-27","GRUPO 27 S.A.C.","Centro","0002-006517","2018-03-13",0,{"v":15239,"d":"15,239"},{"$f":"IF(t.base[[#This Row],[DIAS DE ATRASO]]=0,0,t.base[[#This Row],[TOTAL]])","v":0}]
["2018-01-26","ANDINA IMEX S.A.C","Centro","0002-002072","2018-03-12",1,{"v":19022,"d":"19,022"},{"$f":"IF(t.base[[#This Row],[DIAS DE ATRASO]]=0,0,t.base[[#This Row],[TOTAL]])","v":19022}]
["2018-01-27","TRUCK PERU S.A.C.","Centro","0001-003963","2018-03-13",0,{"v":29618,"d":"29,618"},{"$f":"IF(t.base[[#This Row],[DIAS DE ATRASO]]=0,0,t.base[[#This Row],[TOTAL]])","v":0}]
["2017-12-17","MIWA SPORT S.A.","Centro","0002-001567","2018-01-01",71,{"v":17206,"d":"17,206"},{"$f":"IF(t.base[[#This Row],[DIAS DE ATRASO]]=0,0,t.base[[#This Row],[TOTAL]])","v":17206}]
["2017-12-29","COMFAST S.A.C.","Centro","0002-006122","2018-01-13",59,{"v":11944,"d":"11,944"},{"$f":"IF(t.base[[#This Row],[DIAS DE ATRASO]]=0,0,t.base[[#This Row],[TOTAL]])","v":11944}]
["2018-03-12","EPSON PERU S.A","Centro","0002-003550","2018-03-12",1,{"v":11851,"d":"11,851"},{"$f":"IF(t.base[[#This Row],[DIAS DE ATRASO]]=0,0,t.base[[#This Row],[TOTAL]])","v":11851}]
["2018-01-27","OLRAS SRL.","Norte","0001-009706","2018-03-13",0,{"v":47369,"d":"47,369"},{"$f":"IF(t.base[[#This Row],[DIAS DE ATRASO]]=0,0,t.base[[#This Row],[TOTAL]])","v":0}]
["2018-01-12","AMEDEP E.I.R.L.","Centro","0001-005321","2018-03-13",0,{"v":27402,"d":"27,402"},{"$f":"IF(t.base[[#This Row],[DIAS DE ATRASO]]=0,0,t.base[[#This Row],[TOTAL]])","v":0}]
["2018-01-24","ECOREP S.A.C.","Centro","0001-004604","2018-03-10",3,{"v":26621,"d":"26,621"},{"$f":"IF(t.base[[#This Row],[DIAS DE ATRASO]]=0,0,t.base[[#This Row],[TOTAL]])","v":26621}]
["2018-01-12","M Y W SALAS S A","Centro","0002-004216","2018-03-13",0,{"v":10793,"d":"10,793"},{"$f":"IF(t.base[[#This Row],[DIAS DE ATRASO]]=0,0,t.base[[#This Row],[TOTAL]])","v":0}]
["2018-03-02","TORSAL E.I.R.L.","Sur","0001-005496","2018-03-02",11,{"v":27341,"d":"27,341"},{"$f":"IF(t.base[[#This Row],[DIAS DE ATRASO]]=0,0,t.base[[#This Row],[TOTAL]])","v":27341}]
["2018-02-11","GAVA PERU S.A.C.","Centro","0001-006942","2018-03-13",0,{"v":28811,"d":"28,811"},{"$f":"IF(t.base[[#This Row],[DIAS DE ATRASO]]=0,0,t.base[[#This Row],[TOTAL]])","v":0}]
["2018-02-26","BABY KNIT S.A.C","Centro","0002-002954","2018-03-13",0,{"v":24655,"d":"24,655"},{"$f":"IF(t.base[[#This Row],[DIAS DE ATRASO]]=0,0,t.base[[#This Row],[TOTAL]])","v":0}]
["2018-01-27","TRIGOZO DIAZ CLELIA","Centro","0002-001712","2018-02-11",30,{"v":28708,"d":"28,708"},{"$f":"IF(t.base[[#This Row],[DIAS DE ATRASO]]=0,0,t.base[[#This Row],[TOTAL]])","v":28708}]
["2018-03-13","SACOSA SAC.","Norte","0001-007461","2018-03-13",0,{"v":66930,"d":"66,930"},{"$f":"IF(t.base[[#This Row],[DIAS DE ATRASO]]=0,0,t.base[[#This Row],[TOTAL]])","v":0}]
["2017-12-13","MARINAS GUZMAN JOSE","Centro","0002-009973","2018-03-13",0,{"v":25209,"d":"25,209"},{"$f":"IF(t.base[[#This Row],[DIAS DE ATRASO]]=0,0,t.base[[#This Row],[TOTAL]])","v":0}]
["2018-01-27","CAM DE KAM KEN WAN","Centro","0002-006264","2018-03-13",0,{"v":26915,"d":"26,915"},{"$f":"IF(t.base[[#This Row],[DIAS DE ATRASO]]=0,0,t.base[[#This Row],[TOTAL]])","v":0}]
["2017-12-13","REDISCAR E.I.R.L.","Sur","0002-002914","2018-03-13",0,{"v":29112,"d":"29,112"},{"$f":"IF(t.base[[#This Row],[DIAS DE ATRASO]]=0,0,t.base[[#This Row],[TOTAL]])","v":0}]
["2017-05-10","MC SERVICE EIRL","Norte","0002-009601","2017-08-08",217,{"v":69049,"d":"69,049"},{"$f":"IF(t.base[[#This Row],[DIAS DE ATRASO]]=0,0,t.base[[#This Row],[TOTAL]])","v":69049}]
["2017-07-30","OXIMARC S.R.L.","Norte","0001-002893","2017-09-28",166,{"v":35173,"d":"35,173"},{"$f":"IF(t.base[[#This Row],[DIAS DE ATRASO]]=0,0,t.base[[#This Row],[TOTAL]])","v":35173}]
["2018-02-11","NEGOCIOS A & D SRL","Norte","0002-007775","2018-03-13",0,{"v":17923,"d":"17,923"},{"$f":"IF(t.base[[#This Row],[DIAS DE ATRASO]]=0,0,t.base[[#This Row],[TOTAL]])","v":0}]
["2017-10-11","JOMAR KOAN S.A.C.","Centro","0001-006168","2017-11-25",108,{"v":19582,"d":"19,582"},{"$f":"IF(t.base[[#This Row],[DIAS DE ATRASO]]=0,0,t.base[[#This Row],[TOTAL]])","v":19582}]
["2018-02-08","MAMANI SOSA ANA","Centro","0002-005009","2018-02-08",33,{"v":16922,"d":"16,922"},{"$f":"IF(t.base[[#This Row],[DIAS DE ATRASO]]=0,0,t.base[[#This Row],[TOTAL]])","v":16922}]
["2018-01-20","LOPEZ ARIAS MANUEL","Centro","0002-004352","2018-02-19",22,{"v":18178,"d":"18,178"},{"$f":"IF(t.base[[#This Row],[DIAS DE ATRASO]]=0,0,t.base[[#This Row],[TOTAL]])","v":18178}]
["2018-02-26","PRO VERDE SAC","Centro","0002-003454","2018-03-13",0,{"v":15769,"d":"15,769"},{"$f":"IF(t.base[[#This Row],[DIAS DE ATRASO]]=0,0,t.base[[#This Row],[TOTAL]])","v":0}]
["2018-03-13","J & W CIA S.A.","Centro","0002-007056","2018-03-13",0,{"v":24481,"d":"24,481"},{"$f":"IF(t.base[[#This Row],[DIAS DE ATRASO]]=0,0,t.base[[#This Row],[TOTAL]])","v":0}]
["2018-01-12","SEIKATSU  SAC","Centro","0001-007385","2018-03-13",0,{"v":20295,"d":"20,295"},{"$f":"IF(t.base[[#This Row],[DIAS DE ATRASO]]=0,0,t.base[[#This Row],[TOTAL]])","v":0}]
["2018-03-12","QUISPE TORRES OLGA","Centro","0001-006859","2018-03-12",1,{"v":19192,"d":"19,192"},{"$f":"IF(t.base[[#This Row],[DIAS DE ATRASO]]=0,0,t.base[[#This Row],[TOTAL]])","v":19192}]
["2018-01-12","REYAL SRLTDA","Centro","0001-002873","2018-03-13",0,{"v":10973,"d":"10,973"},{"$f":"IF(t.base[[#This Row],[DIAS DE ATRASO]]=0,0,t.base[[#This Row],[TOTAL]])","v":0}]
["2018-01-27","GOMEZ YUCRA SIMEON","Centro","0001-006708","2018-03-13",0,{"v":11855,"d":"11,855"},{"$f":"IF(t.base[[#This Row],[DIAS DE ATRASO]]=0,0,t.base[[#This Row],[TOTAL]])","v":0}]
["2018-02-10","CODIGO 55 S.A.C.","Centro","0001-006859","2018-03-12",1,{"v":27184,"d":"27,184"},{"$f":"IF(t.base[[#This Row],[DIAS DE ATRASO]]=0,0,t.base[[#This Row],[TOTAL]])","v":27184}]
["2017-09-15","DICASA Y CIA S.A.C","Centro","0001-009193","2017-12-14",89,{"v":29284,"d":"29,284"},{"$f":"IF(t.base[[#This Row],[DIAS DE ATRASO]]=0,0,t.base[[#This Row],[TOTAL]])","v":29284}]
["2018-02-11","MAQPOL S.A.C.","Centro","0001-003565","2018-03-13",0,{"v":29108,"d":"29,108"},{"$f":"IF(t.base[[#This Row],[DIAS DE ATRASO]]=0,0,t.base[[#This Row],[TOTAL]])","v":0}]
["2018-01-12","CEP SAN RAFAEL","Centro","0001-008039","2018-03-13",0,{"v":11044,"d":"11,044"},{"$f":"IF(t.base[[#This Row],[DIAS DE ATRASO]]=0,0,t.base[[#This Row],[TOTAL]])","v":0}]
["2017-12-13","CELESTE GAS S.A.C.","Centro","0001-008553","2018-03-13",0,{"v":10211,"d":"10,211"},{"$f":"IF(t.base[[#This Row],[DIAS DE ATRASO]]=0,0,t.base[[#This Row],[TOTAL]])","v":0}]
["2018-01-04","PRO VERDE SAC","Centro","0002-001818","2018-01-19",53,{"v":23712,"d":"23,712"},{"$f":"IF(t.base[[#This Row],[DIAS DE ATRASO]]=0,0,t.base[[#This Row],[TOTAL]])","v":23712}]
["2017-12-13","JASPE E.I.R.L.","Sur","0002-007787","2018-03-13",0,{"v":13774,"d":"13,774"},{"$f":"IF(t.base[[#This Row],[DIAS DE ATRASO]]=0,0,t.base[[#This Row],[TOTAL]])","v":0}]
["2017-07-12","CREDIVILSA EIRL","Norte","0001-006078","2017-10-10",154,{"v":47730,"d":"47,730"},{"$f":"IF(t.base[[#This Row],[DIAS DE ATRASO]]=0,0,t.base[[#This Row],[TOTAL]])","v":47730}]
["2018-02-26","LIANHE SRL","Centro","0002-006506","2018-03-13",0,{"v":11077,"d":"11,077"},{"$f":"IF(t.base[[#This Row],[DIAS DE ATRASO]]=0,0,t.base[[#This Row],[TOTAL]])","v":0}]
["2018-01-12","ISHIZAWA OHBA JULIO","Centro","0001-007443","2018-03-13",0,{"v":25717,"d":"25,717"},{"$f":"IF(t.base[[#This Row],[DIAS DE ATRASO]]=0,0,t.base[[#This Row],[TOTAL]])","v":0}]
["2018-01-14","COLOR Y BELLEZA SAC","Norte","0002-009639","2018-02-13",28,{"v":35938,"d":"35,938"},{"$f":"IF(t.base[[#This Row],[DIAS DE ATRASO]]=0,0,t.base[[#This Row],[TOTAL]])","v":35938}]
["2018-01-12","DELNOREP S.R.L.","Centro","0002-006257","2018-02-26",15,{"v":17565,"d":"17,565"},{"$f":"IF(t.base[[#This Row],[DIAS DE ATRASO]]=0,0,t.base[[#This Row],[TOTAL]])","v":17565}]
["2018-01-12","INCIVIAS S.A.C.","Centro","0002-005467","2018-03-13",0,{"v":26876,"d":"26,876"},{"$f":"IF(t.base[[#This Row],[DIAS DE ATRASO]]=0,0,t.base[[#This Row],[TOTAL]])","v":0}]
["2017-07-17","COMFAST S.A.C.","Centro","0001-009618","2017-09-15",179,{"v":12097,"d":"12,097"},{"$f":"IF(t.base[[#This Row],[DIAS DE ATRASO]]=0,0,t.base[[#This Row],[TOTAL]])","v":12097}]
["2018-02-26","VILELA ABAD JUAN","Centro","0001-003543","2018-03-13",0,{"v":29661,"d":"29,661"},{"$f":"IF(t.base[[#This Row],[DIAS DE ATRASO]]=0,0,t.base[[#This Row],[TOTAL]])","v":0}]
["2018-01-27","M & R TANQUE SAC","Centro","0002-003923","2018-03-13",0,{"v":12825,"d":"12,825"},{"$f":"IF(t.base[[#This Row],[DIAS DE ATRASO]]=0,0,t.base[[#This Row],[TOTAL]])","v":0}]
["2017-08-22","ITAPIER S.R.L.","Centro","0001-001458","2017-09-21",173,{"v":29782,"d":"29,782"},{"$f":"IF(t.base[[#This Row],[DIAS DE ATRASO]]=0,0,t.base[[#This Row],[TOTAL]])","v":29782}]
["2018-02-10","MZF EIRL","Centro","0001-002447","2018-03-12",1,{"v":19757,"d":"19,757"},{"$f":"IF(t.base[[#This Row],[DIAS DE ATRASO]]=0,0,t.base[[#This Row],[TOTAL]])","v":19757}]
["2017-08-07","ENCANTADA E.I.R.L.","Centro","0001-002131","2017-09-06",188,{"v":24249,"d":"24,249"},{"$f":"IF(t.base[[#This Row],[DIAS DE ATRASO]]=0,0,t.base[[#This Row],[TOTAL]])","v":24249}]
["2017-11-19","NEYRA MEDINA RAFAEL","Centro","0002-004391","2017-12-04",99,{"v":24183,"d":"24,183"},{"$f":"IF(t.base[[#This Row],[DIAS DE ATRASO]]=0,0,t.base[[#This Row],[TOTAL]])","v":24183}]
["2017-11-12","INSUVECA PERU SA","Centro","0001-001238","2017-11-27",106,{"v":26874,"d":"26,874"},{"$f":"IF(t.base[[#This Row],[DIAS DE ATRASO]]=0,0,t.base[[#This Row],[TOTAL]])","v":26874}]
["2018-01-27","CODICENTRO S.A.C.","Centro","0002-006113","2018-03-13",0,{"v":29625,"d":"29,625"},{"$f":"IF(t.base[[#This Row],[DIAS DE ATRASO]]=0,0,t.base[[#This Row],[TOTAL]])","v":0}]
["2018-01-30","BEKTON S.A.C.","Centro","0001-009587","2018-01-30",42,{"v":19391,"d":"19,391"},{"$f":"IF(t.base[[#This Row],[DIAS DE ATRASO]]=0,0,t.base[[#This Row],[TOTAL]])","v":19391}]
["2018-02-11","METRICO E.I.R.L.","Centro","0002-005522","2018-03-13",0,{"v":29871,"d":"29,871"},{"$f":"IF(t.base[[#This Row],[DIAS DE ATRASO]]=0,0,t.base[[#This Row],[TOTAL]])","v":0}]
["2018-02-11","BESTSOLTI SAC","Centro","0002-004061","2018-03-13",0,{"v":28821,"d":"28,821"},{"$f":"IF(t.base[[#This Row],[DIAS DE ATRASO]]=0,0,t.base[[#This Row],[TOTAL]])","v":0}]
["2017-11-23","ECONO TAXI S.R.L.","Centro","0002-005953","2017-12-23",80,{"v":21585,"d":"21,585"},{"$f":"IF(t.base[[#This Row],[DIAS DE ATRASO]]=0,0,t.base[[#This Row],[TOTAL]])","v":21585}]
["2018-01-12","FUKU E.I.R.L.","Centro","0001-008243","2018-03-13",0,{"v":28306,"d":"28,306"},{"$f":"IF(t.base[[#This Row],[DIAS DE ATRASO]]=0,0,t.base[[#This Row],[TOTAL]])","v":0}]
["2018-02-03","ELENA MARKET S.R.L.","Sur","0001-006388","2018-03-05",8,{"v":26741,"d":"26,741"},{"$f":"IF(t.base[[#This Row],[DIAS DE ATRASO]]=0,0,t.base[[#This Row],[TOTAL]])","v":26741}]
["2017-11-21","GB ELECTRIC SAC","Centro","0001-002299","2017-12-21",82,{"v":16264,"d":"16,264"},{"$f":"IF(t.base[[#This Row],[DIAS DE ATRASO]]=0,0,t.base[[#This Row],[TOTAL]])","v":16264}]
["2018-02-26","HOCADE S.A.","Centro","0001-007049","2018-03-13",0,{"v":29212,"d":"29,212"},{"$f":"IF(t.base[[#This Row],[DIAS DE ATRASO]]=0,0,t.base[[#This Row],[TOTAL]])","v":0}]
["2018-01-11","GAVA PERU S.A.C.","Centro","0002-005571","2018-03-12",1,{"v":11011,"d":"11,011"},{"$f":"IF(t.base[[#This Row],[DIAS DE ATRASO]]=0,0,t.base[[#This Row],[TOTAL]])","v":11011}]
["2017-12-19","ZHOU YA S.A.C","Centro","0001-008529","2018-02-17",24,{"v":12391,"d":"12,391"},{"$f":"IF(t.base[[#This Row],[DIAS DE ATRASO]]=0,0,t.base[[#This Row],[TOTAL]])","v":12391}]
["2018-01-19","BAN CAN S.A.C.","Centro","0002-009979","2018-01-19",53,{"v":27131,"d":"27,131"},{"$f":"IF(t.base[[#This Row],[DIAS DE ATRASO]]=0,0,t.base[[#This Row],[TOTAL]])","v":27131}]
["2018-01-05","ZEF PERU S.A.C.","Centro","0002-008302","2018-02-04",37,{"v":28930,"d":"28,930"},{"$f":"IF(t.base[[#This Row],[DIAS DE ATRASO]]=0,0,t.base[[#This Row],[TOTAL]])","v":28930}]
["2018-02-11","QUEQUE MAMANI LIDIA","Centro","0001-001497","2018-03-13",0,{"v":28377,"d":"28,377"},{"$f":"IF(t.base[[#This Row],[DIAS DE ATRASO]]=0,0,t.base[[#This Row],[TOTAL]])","v":0}]
["2018-01-12","INFORHOUSE S.R.L.","Centro","0001-005533","2018-03-13",0,{"v":11861,"d":"11,861"},{"$f":"IF(t.base[[#This Row],[DIAS DE ATRASO]]=0,0,t.base[[#This Row],[TOTAL]])","v":0}]
["2017-11-08","A.C.D. S.R.L.","Sur","0002-008267","2018-01-07",65,{"v":38368,"d":"38,368"},{"$f":"IF(t.base[[#This Row],[DIAS DE ATRASO]]=0,0,t.base[[#This Row],[TOTAL]])","v":38368}]
["2018-03-12","TRAUMA SPORT S.A.C.","Centro","0002-001097","2018-03-12",1,{"v":16384,"d":"16,384"},{"$f":"IF(t.base[[#This Row],[DIAS DE ATRASO]]=0,0,t.base[[#This Row],[TOTAL]])","v":16384}]
["2017-12-16","LI SHUI PIN","Centro","0001-002116","2018-01-15",57,{"v":11694,"d":"11,694"},{"$f":"IF(t.base[[#This Row],[DIAS DE ATRASO]]=0,0,t.base[[#This Row],[TOTAL]])","v":11694}]
["2017-09-22","TOLDOS J.J.V S.R.L.","Centro","0001-002411","2017-12-21",82,{"v":27242,"d":"27,242"},{"$f":"IF(t.base[[#This Row],[DIAS DE ATRASO]]=0,0,t.base[[#This Row],[TOTAL]])","v":27242}]
["2017-12-12","AGROSANTA E.I.R.L.","Centro","0001-008552","2018-03-12",1,{"v":10408,"d":"10,408"},{"$f":"IF(t.base[[#This Row],[DIAS DE ATRASO]]=0,0,t.base[[#This Row],[TOTAL]])","v":10408}]
["2018-02-07","SCORAL S.A.C.","Centro","0002-007592","2018-03-09",4,{"v":22561,"d":"22,561"},{"$f":"IF(t.base[[#This Row],[DIAS DE ATRASO]]=0,0,t.base[[#This Row],[TOTAL]])","v":22561}]
["2018-01-12","CEPE APOSTOL PABLO","Sur","0001-003320","2018-03-13",0,{"v":37406,"d":"37,406"},{"$f":"IF(t.base[[#This Row],[DIAS DE ATRASO]]=0,0,t.base[[#This Row],[TOTAL]])","v":0}]
["2018-03-13","EYE BUSINESS S.A.C","Centro","0001-004159","2018-03-13",0,{"v":14509,"d":"14,509"},{"$f":"IF(t.base[[#This Row],[DIAS DE ATRASO]]=0,0,t.base[[#This Row],[TOTAL]])","v":0}]
["2018-03-08","LAGO IMPORT EIRL","Centro","0002-007321","2018-03-08",5,{"v":27539,"d":"27,539"},{"$f":"IF(t.base[[#This Row],[DIAS DE ATRASO]]=0,0,t.base[[#This Row],[TOTAL]])","v":27539}]
["2017-11-30","CONSORCIO LIPESOL","Centro","0001-005569","2017-11-30",103,{"v":14544,"d":"14,544"},{"$f":"IF(t.base[[#This Row],[DIAS DE ATRASO]]=0,0,t.base[[#This Row],[TOTAL]])","v":14544}]
["2018-03-04","DELFINO MAR S.R.L.","Sur","0002-007074","2018-03-04",9,{"v":25767,"d":"25,767"},{"$f":"IF(t.base[[#This Row],[DIAS DE ATRASO]]=0,0,t.base[[#This Row],[TOTAL]])","v":25767}]
["2018-01-27","CIRIACA S.A.C.","Centro","0001-009228","2018-03-13",0,{"v":14920,"d":"14,920"},{"$f":"IF(t.base[[#This Row],[DIAS DE ATRASO]]=0,0,t.base[[#This Row],[TOTAL]])","v":0}]
["2018-02-26","FLORES PARI ROSALIA","Centro","0001-003983","2018-03-13",0,{"v":19573,"d":"19,573"},{"$f":"IF(t.base[[#This Row],[DIAS DE ATRASO]]=0,0,t.base[[#This Row],[TOTAL]])","v":0}]
["2017-11-29","EL CAIRO S.A.C.","Centro","0002-006197","2017-12-14",89,{"v":28436,"d":"28,436"},{"$f":"IF(t.base[[#This Row],[DIAS DE ATRASO]]=0,0,t.base[[#This Row],[TOTAL]])","v":28436}]
["2017-12-13","PROIMPULSA SAC","Centro","0002-007394","2018-01-27",45,{"v":26548,"d":"26,548"},{"$f":"IF(t.base[[#This Row],[DIAS DE ATRASO]]=0,0,t.base[[#This Row],[TOTAL]])","v":26548}]
["2018-03-13","SCHIENZA S.A.","Centro","0001-001839","2018-03-13",0,{"v":18138,"d":"18,138"},{"$f":"IF(t.base[[#This Row],[DIAS DE ATRASO]]=0,0,t.base[[#This Row],[TOTAL]])","v":0}]
["2018-02-10","CONASEM E.I.R.L.","Centro","0002-001770","2018-03-12",1,{"v":16552,"d":"16,552"},{"$f":"IF(t.base[[#This Row],[DIAS DE ATRASO]]=0,0,t.base[[#This Row],[TOTAL]])","v":16552}]
["2017-12-13","LYON SPORT EIRL","Sur","0001-003354","2018-03-13",0,{"v":21444,"d":"21,444"},{"$f":"IF(t.base[[#This Row],[DIAS DE ATRASO]]=0,0,t.base[[#This Row],[TOTAL]])","v":0}]
["2017-12-23","SERVITEC S A","Centro","0002-006333","2018-01-22",50,{"v":26587,"d":"26,587"},{"$f":"IF(t.base[[#This Row],[DIAS DE ATRASO]]=0,0,t.base[[#This Row],[TOTAL]])","v":26587}]
["2018-01-27","RODIMPORT S.R.L.","Norte","0002-002047","2018-03-13",0,{"v":31868,"d":"31,868"},{"$f":"IF(t.base[[#This Row],[DIAS DE ATRASO]]=0,0,t.base[[#This Row],[TOTAL]])","v":0}]
["2018-03-13","ALYJOV FARMA SRL","Centro","0002-004548","2018-03-13",0,{"v":27263,"d":"27,263"},{"$f":"IF(t.base[[#This Row],[DIAS DE ATRASO]]=0,0,t.base[[#This Row],[TOTAL]])","v":0}]
["2017-11-13","DDP ADUANAS S.A.C.","Sur","0001-009810","2018-01-12",60,{"v":8143,"d":"8,143"},{"$f":"IF(t.base[[#This Row],[DIAS DE ATRASO]]=0,0,t.base[[#This Row],[TOTAL]])","v":8143}]
["2018-01-26","SOBITEC PERU S.A.C.","Centro","0001-006269","2018-03-12",1,{"v":17913,"d":"17,913"},{"$f":"IF(t.base[[#This Row],[DIAS DE ATRASO]]=0,0,t.base[[#This Row],[TOTAL]])","v":17913}]
["2018-03-13","L & C SERVIS EIRL","Norte","0002-006000","2018-03-13",0,{"v":22724,"d":"22,724"},{"$f":"IF(t.base[[#This Row],[DIAS DE ATRASO]]=0,0,t.base[[#This Row],[TOTAL]])","v":0}]
["2017-11-05","EAC SAC","Centro","0001-006498","2018-02-03",38,{"v":26146,"d":"26,146"},{"$f":"IF(t.base[[#This Row],[DIAS DE ATRASO]]=0,0,t.base[[#This Row],[TOTAL]])","v":26146}]
["2018-01-18","FIDUCIARIA GBC S.A.","Centro","0002-006888","2018-03-04",9,{"v":23576,"d":"23,576"},{"$f":"IF(t.base[[#This Row],[DIAS DE ATRASO]]=0,0,t.base[[#This Row],[TOTAL]])","v":23576}]
["2017-12-01","HOJA GRANDE S.A.C.","Norte","0001-008356","2018-03-01",12,{"v":40292,"d":"40,292"},{"$f":"IF(t.base[[#This Row],[DIAS DE ATRASO]]=0,0,t.base[[#This Row],[TOTAL]])","v":40292}]
["2017-11-18","HELENTEX S.A.C.","Centro","0001-008125","2018-01-17",55,{"v":19827,"d":"19,827"},{"$f":"IF(t.base[[#This Row],[DIAS DE ATRASO]]=0,0,t.base[[#This Row],[TOTAL]])","v":19827}]
["2018-02-26","PHOENIX S.R.LTDA","Norte","0001-003738","2018-03-13",0,{"v":66757,"d":"66,757"},{"$f":"IF(t.base[[#This Row],[DIAS DE ATRASO]]=0,0,t.base[[#This Row],[TOTAL]])","v":0}]
["2017-11-10","CLORINA S.A.C.","Centro","0002-003709","2018-01-09",63,{"v":15632,"d":"15,632"},{"$f":"IF(t.base[[#This Row],[DIAS DE ATRASO]]=0,0,t.base[[#This Row],[TOTAL]])","v":15632}]
["2018-01-27","QUIMENSA EIRL","Centro","0001-008375","2018-03-13",0,{"v":19999,"d":"19,999"},{"$f":"IF(t.base[[#This Row],[DIAS DE ATRASO]]=0,0,t.base[[#This Row],[TOTAL]])","v":0}]
["2018-02-13","WIBGUS S.A.C.","Centro","0002-001492","2018-02-28",13,{"v":19764,"d":"19,764"},{"$f":"IF(t.base[[#This Row],[DIAS DE ATRASO]]=0,0,t.base[[#This Row],[TOTAL]])","v":19764}]
["2017-12-13","FEMAT S.A.C.","Centro","0002-005377","2018-03-13",0,{"v":11371,"d":"11,371"},{"$f":"IF(t.base[[#This Row],[DIAS DE ATRASO]]=0,0,t.base[[#This Row],[TOTAL]])","v":0}]
["2018-01-27","OLRAS SRL.","Norte","0001-005111","2018-03-13",0,{"v":17507,"d":"17,507"},{"$f":"IF(t.base[[#This Row],[DIAS DE ATRASO]]=0,0,t.base[[#This Row],[TOTAL]])","v":0}]
["2018-01-12","MC SERVICE EIRL","Norte","0002-004309","2018-03-13",0,{"v":20659,"d":"20,659"},{"$f":"IF(t.base[[#This Row],[DIAS DE ATRASO]]=0,0,t.base[[#This Row],[TOTAL]])","v":0}]
["2018-02-26","DICASA Y CIA S.A.C","Centro","0001-007120","2018-03-13",0,{"v":26399,"d":"26,399"},{"$f":"IF(t.base[[#This Row],[DIAS DE ATRASO]]=0,0,t.base[[#This Row],[TOTAL]])","v":0}]
["2017-12-11","JEPALA EIRL.","Sur","0001-004332","2018-02-09",32,{"v":25547,"d":"25,547"},{"$f":"IF(t.base[[#This Row],[DIAS DE ATRASO]]=0,0,t.base[[#This Row],[TOTAL]])","v":25547}]
["2017-10-12","PLUS MEDIC E.I.R.L.","Centro","0001-003936","2017-12-11",92,{"v":10383,"d":"10,383"},{"$f":"IF(t.base[[#This Row],[DIAS DE ATRASO]]=0,0,t.base[[#This Row],[TOTAL]])","v":10383}]
["2017-11-22","MOCHILEROS S.A.C.","Centro","0001-004153","2017-12-07",96,{"v":21508,"d":"21,508"},{"$f":"IF(t.base[[#This Row],[DIAS DE ATRASO]]=0,0,t.base[[#This Row],[TOTAL]])","v":21508}]
["2017-12-29","ALVARADO VEGA LESLY","Centro","0002-002799","2018-02-27",14,{"v":13685,"d":"13,685"},{"$f":"IF(t.base[[#This Row],[DIAS DE ATRASO]]=0,0,t.base[[#This Row],[TOTAL]])","v":13685}]
["2017-09-17","DELPHINUS S.A.C.","Centro","0002-001128","2017-12-16",87,{"v":14430,"d":"14,430"},{"$f":"IF(t.base[[#This Row],[DIAS DE ATRASO]]=0,0,t.base[[#This Row],[TOTAL]])","v":14430}]
["2017-12-13","FIDUCIARIA GBC S.A.","Centro","0001-004323","2018-03-13",0,{"v":25866,"d":"25,866"},{"$f":"IF(t.base[[#This Row],[DIAS DE ATRASO]]=0,0,t.base[[#This Row],[TOTAL]])","v":0}]
["2018-01-06","COPY  GRAPH S.A.C.","Centro","0001-009121","2018-03-07",6,{"v":27797,"d":"27,797"},{"$f":"IF(t.base[[#This Row],[DIAS DE ATRASO]]=0,0,t.base[[#This Row],[TOTAL]])","v":27797}]
["2017-10-25","CLAS CAYLLOMA ALTA","Sur","0002-006819","2018-01-23",49,{"v":40497,"d":"40,497"},{"$f":"IF(t.base[[#This Row],[DIAS DE ATRASO]]=0,0,t.base[[#This Row],[TOTAL]])","v":40497}]
["2017-12-12","CHIFA FULLRUM EIRL","Centro","0001-004503","2018-03-12",1,{"v":25384,"d":"25,384"},{"$f":"IF(t.base[[#This Row],[DIAS DE ATRASO]]=0,0,t.base[[#This Row],[TOTAL]])","v":25384}]
["2017-11-11","COPY DATA E.I.R.L.","Centro","0002-006490","2018-02-09",32,{"v":23206,"d":"23,206"},{"$f":"IF(t.base[[#This Row],[DIAS DE ATRASO]]=0,0,t.base[[#This Row],[TOTAL]])","v":23206}]
["2017-12-13","FUKU E.I.R.L.","Centro","0002-004139","2018-03-13",0,{"v":21031,"d":"21,031"},{"$f":"IF(t.base[[#This Row],[DIAS DE ATRASO]]=0,0,t.base[[#This Row],[TOTAL]])","v":0}]
["2017-12-26","MULTIVISION S.R.L.","Sur","0002-001143","2018-01-10",62,{"v":32809,"d":"32,809"},{"$f":"IF(t.base[[#This Row],[DIAS DE ATRASO]]=0,0,t.base[[#This Row],[TOTAL]])","v":32809}]
["2018-02-26","SPORTRADE S.A.C.","Centro","0002-008413","2018-03-13",0,{"v":16561,"d":"16,561"},{"$f":"IF(t.base[[#This Row],[DIAS DE ATRASO]]=0,0,t.base[[#This Row],[TOTAL]])","v":0}]
["2017-12-13","LA GRANJITA E.I.R.L","Sur","0001-001857","2018-03-13",0,{"v":43023,"d":"43,023"},{"$f":"IF(t.base[[#This Row],[DIAS DE ATRASO]]=0,0,t.base[[#This Row],[TOTAL]])","v":0}]
["2018-01-12","PERALTA ROMAN YOISY","Centro","0002-001364","2018-03-13",0,{"v":27828,"d":"27,828"},{"$f":"IF(t.base[[#This Row],[DIAS DE ATRASO]]=0,0,t.base[[#This Row],[TOTAL]])","v":0}]
["2018-02-26","ASCLEPIO S.A.C.","Centro","0002-003664","2018-03-13",0,{"v":13159,"d":"13,159"},{"$f":"IF(t.base[[#This Row],[DIAS DE ATRASO]]=0,0,t.base[[#This Row],[TOTAL]])","v":0}]
["2017-11-22","REDICAL SAC","Norte","0001-008443","2018-01-21",51,{"v":24791,"d":"24,791"},{"$f":"IF(t.base[[#This Row],[DIAS DE ATRASO]]=0,0,t.base[[#This Row],[TOTAL]])","v":24791}]
["2017-12-12","ENVER E.I.R.L.","Sur","0002-006459","2018-03-12",1,{"v":9528,"d":"9,528"},{"$f":"IF(t.base[[#This Row],[DIAS DE ATRASO]]=0,0,t.base[[#This Row],[TOTAL]])","v":9528}]
["2018-03-13","ARTIFICIUM S.A.C.","Centro","0001-006472","2018-03-13",0,{"v":27239,"d":"27,239"},{"$f":"IF(t.base[[#This Row],[DIAS DE ATRASO]]=0,0,t.base[[#This Row],[TOTAL]])","v":0}]
["2017-12-26","OMAN E.I.R.L.","Centro","0001-007807","2018-02-24",17,{"v":21277,"d":"21,277"},{"$f":"IF(t.base[[#This Row],[DIAS DE ATRASO]]=0,0,t.base[[#This Row],[TOTAL]])","v":21277}]
["2018-01-12","PERALTA ROMAN YOISY","Centro","0001-007079","2018-03-13",0,{"v":16387,"d":"16,387"},{"$f":"IF(t.base[[#This Row],[DIAS DE ATRASO]]=0,0,t.base[[#This Row],[TOTAL]])","v":0}]
["2017-12-13","TRAUMATOLOGIA S.A.","Centro","0001-001524","2018-03-13",0,{"v":26089,"d":"26,089"},{"$f":"IF(t.base[[#This Row],[DIAS DE ATRASO]]=0,0,t.base[[#This Row],[TOTAL]])","v":0}]
["2018-02-10","SERVIMEDICOS S.A.C.","Norte","0002-007946","2018-03-12",1,{"v":22925,"d":"22,925"},{"$f":"IF(t.base[[#This Row],[DIAS DE ATRASO]]=0,0,t.base[[#This Row],[TOTAL]])","v":22925}]
["2018-02-26","DR GAS S.A.C.","Centro","0001-007628","2018-03-13",0,{"v":11985,"d":"11,985"},{"$f":"IF(t.base[[#This Row],[DIAS DE ATRASO]]=0,0,t.base[[#This Row],[TOTAL]])","v":0}]
["2017-09-01","AMG KYODAI S.A.C.","Centro","0001-005722","2017-10-31",133,{"v":27407,"d":"27,407"},{"$f":"IF(t.base[[#This Row],[DIAS DE ATRASO]]=0,0,t.base[[#This Row],[TOTAL]])","v":27407}]
["2018-03-13","AZHOMBRO EIRL","Centro","0001-007243","2018-03-13",0,{"v":25973,"d":"25,973"},{"$f":"IF(t.base[[#This Row],[DIAS DE ATRASO]]=0,0,t.base[[#This Row],[TOTAL]])","v":0}]
["2017-12-13","MURPA S.A.","Centro","0002-007386","2018-03-13",0,{"v":28250,"d":"28,250"},{"$f":"IF(t.base[[#This Row],[DIAS DE ATRASO]]=0,0,t.base[[#This Row],[TOTAL]])","v":0}]
["2017-07-12","AZHOMBRO EIRL","Centro","0002-001598","2017-08-11",214,{"v":10418,"d":"10,418"},{"$f":"IF(t.base[[#This Row],[DIAS DE ATRASO]]=0,0,t.base[[#This Row],[TOTAL]])","v":10418}]
["2017-12-01","DIMACAR S.A.C.","Sur","0001-006007","2017-12-16",87,{"v":6129,"d":"6,129"},{"$f":"IF(t.base[[#This Row],[DIAS DE ATRASO]]=0,0,t.base[[#This Row],[TOTAL]])","v":6129}]
["2017-12-23","CEIGNE MUNDO AMIGO","Centro","0001-005012","2018-01-07",65,{"v":19987,"d":"19,987"},{"$f":"IF(t.base[[#This Row],[DIAS DE ATRASO]]=0,0,t.base[[#This Row],[TOTAL]])","v":19987}]
["2017-12-11","MAYO TAQUIA JOVANA","Centro","0001-007905","2017-12-26",77,{"v":17719,"d":"17,719"},{"$f":"IF(t.base[[#This Row],[DIAS DE ATRASO]]=0,0,t.base[[#This Row],[TOTAL]])","v":17719}]
["2017-10-22","CELESTE GAS S.A.C.","Centro","0002-008954","2017-12-21",82,{"v":24288,"d":"24,288"},{"$f":"IF(t.base[[#This Row],[DIAS DE ATRASO]]=0,0,t.base[[#This Row],[TOTAL]])","v":24288}]
["2018-02-26","ITAPIER S.R.L.","Centro","0001-009278","2018-03-13",0,{"v":19066,"d":"19,066"},{"$f":"IF(t.base[[#This Row],[DIAS DE ATRASO]]=0,0,t.base[[#This Row],[TOTAL]])","v":0}]
["2017-12-13","CUEROS R SAC","Norte","0002-007271","2018-03-13",0,{"v":43108,"d":"43,108"},{"$f":"IF(t.base[[#This Row],[DIAS DE ATRASO]]=0,0,t.base[[#This Row],[TOTAL]])","v":0}]
["2018-02-11","SIMCA S.A.C.","Sur","0002-002379","2018-03-13",0,{"v":6121,"d":"6,121"},{"$f":"IF(t.base[[#This Row],[DIAS DE ATRASO]]=0,0,t.base[[#This Row],[TOTAL]])","v":0}]
["2018-02-25","CLICK FARMA S.A.C.","Centro","0001-003623","2018-03-12",1,{"v":13221,"d":"13,221"},{"$f":"IF(t.base[[#This Row],[DIAS DE ATRASO]]=0,0,t.base[[#This Row],[TOTAL]])","v":13221}]
["2017-12-13","RODIMPORT S.R.L.","Norte","0002-002381","2018-03-13",0,{"v":19244,"d":"19,244"},{"$f":"IF(t.base[[#This Row],[DIAS DE ATRASO]]=0,0,t.base[[#This Row],[TOTAL]])","v":0}]
["2018-01-26","SERVIMEDICOS S.A.C.","Norte","0001-004308","2018-03-12",1,{"v":32149,"d":"32,149"},{"$f":"IF(t.base[[#This Row],[DIAS DE ATRASO]]=0,0,t.base[[#This Row],[TOTAL]])","v":32149}]
["2018-01-27","SOTO VILA ROBERTO","Centro","0002-008702","2018-03-13",0,{"v":26640,"d":"26,640"},{"$f":"IF(t.base[[#This Row],[DIAS DE ATRASO]]=0,0,t.base[[#This Row],[TOTAL]])","v":0}]
["2018-01-23","PRU SAC","Centro","0001-006914","2018-03-09",4,{"v":15058,"d":"15,058"},{"$f":"IF(t.base[[#This Row],[DIAS DE ATRASO]]=0,0,t.base[[#This Row],[TOTAL]])","v":15058}]
["2018-02-11","J & W CIA S.A.","Centro","0002-007446","2018-03-13",0,{"v":24202,"d":"24,202"},{"$f":"IF(t.base[[#This Row],[DIAS DE ATRASO]]=0,0,t.base[[#This Row],[TOTAL]])","v":0}]
["2017-07-01","EXPROM EIRL","Centro","0002-003243","2017-07-16",240,{"v":28769,"d":"28,769"},{"$f":"IF(t.base[[#This Row],[DIAS DE ATRASO]]=0,0,t.base[[#This Row],[TOTAL]])","v":28769}]
["2017-10-10","A.C.D. S.R.L.","Sur","0002-002065","2017-11-09",124,{"v":21576,"d":"21,576"},{"$f":"IF(t.base[[#This Row],[DIAS DE ATRASO]]=0,0,t.base[[#This Row],[TOTAL]])","v":21576}]
["2018-01-28","COPYNET DATA S.A.C.","Centro","0001-007074","2018-01-28",44,{"v":15421,"d":"15,421"},{"$f":"IF(t.base[[#This Row],[DIAS DE ATRASO]]=0,0,t.base[[#This Row],[TOTAL]])","v":15421}]
["2017-10-15","FEMAT S.A.C.","Centro","0002-007069","2017-11-14",119,{"v":10681,"d":"10,681"},{"$f":"IF(t.base[[#This Row],[DIAS DE ATRASO]]=0,0,t.base[[#This Row],[TOTAL]])","v":10681}]
["2018-02-10","CAIMI PERU S.A.C.","Centro","0002-008439","2018-03-12",1,{"v":20650,"d":"20,650"},{"$f":"IF(t.base[[#This Row],[DIAS DE ATRASO]]=0,0,t.base[[#This Row],[TOTAL]])","v":20650}]
["2018-03-13","LIDER GRAFICO SRL","Norte","0001-007551","2018-03-13",0,{"v":69882,"d":"69,882"},{"$f":"IF(t.base[[#This Row],[DIAS DE ATRASO]]=0,0,t.base[[#This Row],[TOTAL]])","v":0}]
["2018-02-14","HONGYING ZHOU","Centro","0002-009691","2018-03-01",12,{"v":27826,"d":"27,826"},{"$f":"IF(t.base[[#This Row],[DIAS DE ATRASO]]=0,0,t.base[[#This Row],[TOTAL]])","v":27826}]
["2018-02-05","MENCANI E.I.R.L.","Centro","0002-009001","2018-02-05",36,{"v":16387,"d":"16,387"},{"$f":"IF(t.base[[#This Row],[DIAS DE ATRASO]]=0,0,t.base[[#This Row],[TOTAL]])","v":16387}]
["2017-12-31","DISGAR S.A.C.","Sur","0002-006392","2018-01-15",57,{"v":46255,"d":"46,255"},{"$f":"IF(t.base[[#This Row],[DIAS DE ATRASO]]=0,0,t.base[[#This Row],[TOTAL]])","v":46255}]
["2018-02-26","AGRO FALCON S.R.L.","Norte","0001-004315","2018-03-13",0,{"v":54930,"d":"54,930"},{"$f":"IF(t.base[[#This Row],[DIAS DE ATRASO]]=0,0,t.base[[#This Row],[TOTAL]])","v":0}]
["2018-02-11","ESCOBAR VILLA EDGAR","Centro","0001-003874","2018-03-13",0,{"v":27421,"d":"27,421"},{"$f":"IF(t.base[[#This Row],[DIAS DE ATRASO]]=0,0,t.base[[#This Row],[TOTAL]])","v":0}]
["2018-02-11","MSM INSUMOS S.A.C","Centro","0001-008327","2018-03-13",0,{"v":24527,"d":"24,527"},{"$f":"IF(t.base[[#This Row],[DIAS DE ATRASO]]=0,0,t.base[[#This Row],[TOTAL]])","v":0}]
["2017-11-26","LA ROCCA SAC","Centro","0001-003906","2017-12-26",77,{"v":27917,"d":"27,917"},{"$f":"IF(t.base[[#This Row],[DIAS DE ATRASO]]=0,0,t.base[[#This Row],[TOTAL]])","v":27917}]
["2017-08-01","CIRIACA S.A.C.","Centro","0001-007593","2017-10-30",134,{"v":17498,"d":"17,498"},{"$f":"IF(t.base[[#This Row],[DIAS DE ATRASO]]=0,0,t.base[[#This Row],[TOTAL]])","v":17498}]
["2018-01-12","CAMPO LIMPIO","Centro","0001-006790","2018-03-13",0,{"v":28411,"d":"28,411"},{"$f":"IF(t.base[[#This Row],[DIAS DE ATRASO]]=0,0,t.base[[#This Row],[TOTAL]])","v":0}]
["2017-07-01","ERIKA LENS E.I.R.L.","Centro","0002-006890","2017-09-29",165,{"v":15047,"d":"15,047"},{"$f":"IF(t.base[[#This Row],[DIAS DE ATRASO]]=0,0,t.base[[#This Row],[TOTAL]])","v":15047}]
["2018-01-10","C. CHINININ S.A.C.","Centro","0001-003130","2018-01-25",47,{"v":25086,"d":"25,086"},{"$f":"IF(t.base[[#This Row],[DIAS DE ATRASO]]=0,0,t.base[[#This Row],[TOTAL]])","v":25086}]
["2018-01-26","ONCOINVEST E.I.R.L.","Centro","0001-006231","2018-03-12",1,{"v":19528,"d":"19,528"},{"$f":"IF(t.base[[#This Row],[DIAS DE ATRASO]]=0,0,t.base[[#This Row],[TOTAL]])","v":19528}]
["2018-02-02","RUIZ LAVADO HEBER","Centro","0001-002479","2018-03-04",9,{"v":17612,"d":"17,612"},{"$f":"IF(t.base[[#This Row],[DIAS DE ATRASO]]=0,0,t.base[[#This Row],[TOTAL]])","v":17612}]
["2017-11-06","PORCELL  S.A.C.","Centro","0002-001557","2018-01-05",67,{"v":28723,"d":"28,723"},{"$f":"IF(t.base[[#This Row],[DIAS DE ATRASO]]=0,0,t.base[[#This Row],[TOTAL]])","v":28723}]
["2018-02-26","AD LIBITUM S.A.C.","Centro","0002-008513","2018-03-13",0,{"v":10557,"d":"10,557"},{"$f":"IF(t.base[[#This Row],[DIAS DE ATRASO]]=0,0,t.base[[#This Row],[TOTAL]])","v":0}]
["2018-02-10","JHOSBET E.I.R.L.","Centro","0001-001469","2018-03-12",1,{"v":10237,"d":"10,237"},{"$f":"IF(t.base[[#This Row],[DIAS DE ATRASO]]=0,0,t.base[[#This Row],[TOTAL]])","v":10237}]
["2017-11-10","COANDINA S R LTDA","Centro","0001-007871","2017-11-25",108,{"v":10370,"d":"10,370"},{"$f":"IF(t.base[[#This Row],[DIAS DE ATRASO]]=0,0,t.base[[#This Row],[TOTAL]])","v":10370}]
["2018-02-26","DAMERED S.A.C.","Centro","0002-008818","2018-03-13",0,{"v":18242,"d":"18,242"},{"$f":"IF(t.base[[#This Row],[DIAS DE ATRASO]]=0,0,t.base[[#This Row],[TOTAL]])","v":0}]
["2018-01-19","MEI-NOI SAC.","Centro","0002-006355","2018-02-03",38,{"v":23994,"d":"23,994"},{"$f":"IF(t.base[[#This Row],[DIAS DE ATRASO]]=0,0,t.base[[#This Row],[TOTAL]])","v":23994}]
["2017-12-23","LUBRILLANTE EIRL","Norte","0002-002648","2017-12-23",80,{"v":53276,"d":"53,276"},{"$f":"IF(t.base[[#This Row],[DIAS DE ATRASO]]=0,0,t.base[[#This Row],[TOTAL]])","v":53276}]
["2018-01-09","ANTONIO CARBONE SA","Centro","0001-007787","2018-02-08",33,{"v":16603,"d":"16,603"},{"$f":"IF(t.base[[#This Row],[DIAS DE ATRASO]]=0,0,t.base[[#This Row],[TOTAL]])","v":16603}]
["2017-11-01","BODEGA OJEDA","Norte","0001-001748","2018-01-30",42,{"v":17777,"d":"17,777"},{"$f":"IF(t.base[[#This Row],[DIAS DE ATRASO]]=0,0,t.base[[#This Row],[TOTAL]])","v":17777}]
["2017-12-24","ENVER E.I.R.L.","Sur","0001-005994","2018-02-07",34,{"v":7122,"d":"7,122"},{"$f":"IF(t.base[[#This Row],[DIAS DE ATRASO]]=0,0,t.base[[#This Row],[TOTAL]])","v":7122}]
["2018-03-13","CHR HANSEN S.A.","Centro","0001-007362","2018-03-13",0,{"v":14021,"d":"14,021"},{"$f":"IF(t.base[[#This Row],[DIAS DE ATRASO]]=0,0,t.base[[#This Row],[TOTAL]])","v":0}]
["2018-01-12","VILLA GALVEZ NEYCER","Centro","0002-007479","2018-03-13",0,{"v":18736,"d":"18,736"},{"$f":"IF(t.base[[#This Row],[DIAS DE ATRASO]]=0,0,t.base[[#This Row],[TOTAL]])","v":0}]
["2018-02-24","QB&A S.A.C.","Sur","0001-008512","2018-02-24",17,{"v":34204,"d":"34,204"},{"$f":"IF(t.base[[#This Row],[DIAS DE ATRASO]]=0,0,t.base[[#This Row],[TOTAL]])","v":34204}]
["2017-12-13","CUBO MAGICO S.A.C.","Centro","0001-009980","2018-03-13",0,{"v":24943,"d":"24,943"},{"$f":"IF(t.base[[#This Row],[DIAS DE ATRASO]]=0,0,t.base[[#This Row],[TOTAL]])","v":0}]
["2017-11-21","HATHOR S.R.L.","Centro","0002-002723","2018-01-20",52,{"v":14980,"d":"14,980"},{"$f":"IF(t.base[[#This Row],[DIAS DE ATRASO]]=0,0,t.base[[#This Row],[TOTAL]])","v":14980}]
["2018-01-12","E - MARKET E.I.R.L.","Centro","0002-004670","2018-01-12",60,{"v":10854,"d":"10,854"},{"$f":"IF(t.base[[#This Row],[DIAS DE ATRASO]]=0,0,t.base[[#This Row],[TOTAL]])","v":10854}]
["2018-03-13","YOAAN EIRL","Centro","0001-003514","2018-03-13",0,{"v":26628,"d":"26,628"},{"$f":"IF(t.base[[#This Row],[DIAS DE ATRASO]]=0,0,t.base[[#This Row],[TOTAL]])","v":0}]
["2017-06-22","RPS PERU S.A.C.","Centro","0001-001744","2017-08-21",204,{"v":13168,"d":"13,168"},{"$f":"IF(t.base[[#This Row],[DIAS DE ATRASO]]=0,0,t.base[[#This Row],[TOTAL]])","v":13168}]
["2018-03-12","COPLASTGROUP S.A.","Centro","0001-002028","2018-03-12",1,{"v":27709,"d":"27,709"},{"$f":"IF(t.base[[#This Row],[DIAS DE ATRASO]]=0,0,t.base[[#This Row],[TOTAL]])","v":27709}]
["2017-12-13","PROYECONSA S.A.C.","Centro","0002-008997","2018-03-13",0,{"v":26303,"d":"26,303"},{"$f":"IF(t.base[[#This Row],[DIAS DE ATRASO]]=0,0,t.base[[#This Row],[TOTAL]])","v":0}]
["2017-11-12","REAL EQUIPOS S R L.","Centro","0001-003624","2018-02-10",31,{"v":25045,"d":"25,045"},{"$f":"IF(t.base[[#This Row],[DIAS DE ATRASO]]=0,0,t.base[[#This Row],[TOTAL]])","v":25045}]
["2018-02-11","SVITZER ANDINO S.A.","Centro","0002-008422","2018-03-13",0,{"v":10779,"d":"10,779"},{"$f":"IF(t.base[[#This Row],[DIAS DE ATRASO]]=0,0,t.base[[#This Row],[TOTAL]])","v":0}]
["2018-03-13","LI XINNAN","Centro","0001-004609","2018-03-13",0,{"v":26253,"d":"26,253"},{"$f":"IF(t.base[[#This Row],[DIAS DE ATRASO]]=0,0,t.base[[#This Row],[TOTAL]])","v":0}]
["2018-02-25","ANVI'S S.R.L.","Norte","0001-002380","2018-03-12",1,{"v":59693,"d":"59,693"},{"$f":"IF(t.base[[#This Row],[DIAS DE ATRASO]]=0,0,t.base[[#This Row],[TOTAL]])","v":59693}]
["2018-03-13","MAMANI SOSA ANA","Centro","0002-009992","2018-03-13",0,{"v":29892,"d":"29,892"},{"$f":"IF(t.base[[#This Row],[DIAS DE ATRASO]]=0,0,t.base[[#This Row],[TOTAL]])","v":0}]
["2018-01-12","MULTIMUELLES S.A.","Centro","0002-004681","2018-03-13",0,{"v":17418,"d":"17,418"},{"$f":"IF(t.base[[#This Row],[DIAS DE ATRASO]]=0,0,t.base[[#This Row],[TOTAL]])","v":0}]
["2017-10-30","ISHIZAWA OHBA JULIO","Centro","0002-001543","2017-12-14",89,{"v":20854,"d":"20,854"},{"$f":"IF(t.base[[#This Row],[DIAS DE ATRASO]]=0,0,t.base[[#This Row],[TOTAL]])","v":20854}]
["2017-11-30","ECONO TAXI S.R.L.","Centro","0002-002329","2017-12-15",88,{"v":10702,"d":"10,702"},{"$f":"IF(t.base[[#This Row],[DIAS DE ATRASO]]=0,0,t.base[[#This Row],[TOTAL]])","v":10702}]
["2018-01-02","A & G S.A.C.","Sur","0001-001143","2018-02-01",40,{"v":37416,"d":"37,416"},{"$f":"IF(t.base[[#This Row],[DIAS DE ATRASO]]=0,0,t.base[[#This Row],[TOTAL]])","v":37416}]
["2018-02-26","CPTECH S.A.C","Centro","0002-003918","2018-03-13",0,{"v":12461,"d":"12,461"},{"$f":"IF(t.base[[#This Row],[DIAS DE ATRASO]]=0,0,t.base[[#This Row],[TOTAL]])","v":0}]
["2017-10-11","EFC EXPRESS SAC","Centro","0001-009340","2017-12-10",93,{"v":27060,"d":"27,060"},{"$f":"IF(t.base[[#This Row],[DIAS DE ATRASO]]=0,0,t.base[[#This Row],[TOTAL]])","v":27060}]
["2017-12-13","WALLPA SUA  S.A.C","Sur","0001-004843","2018-03-13",0,{"v":30064,"d":"30,064"},{"$f":"IF(t.base[[#This Row],[DIAS DE ATRASO]]=0,0,t.base[[#This Row],[TOTAL]])","v":0}]
["2017-06-19","CASINOS AMERICA SAC","Norte","0001-005902","2017-08-03",222,{"v":24289,"d":"24,289"},{"$f":"IF(t.base[[#This Row],[DIAS DE ATRASO]]=0,0,t.base[[#This Row],[TOTAL]])","v":24289}]
["2018-02-26","CROWN GAMING S.A.C.","Centro","0001-006714","2018-03-13",0,{"v":14545,"d":"14,545"},{"$f":"IF(t.base[[#This Row],[DIAS DE ATRASO]]=0,0,t.base[[#This Row],[TOTAL]])","v":0}]
["2018-01-12","CUEROS R SAC","Norte","0002-002638","2018-03-13",0,{"v":52328,"d":"52,328"},{"$f":"IF(t.base[[#This Row],[DIAS DE ATRASO]]=0,0,t.base[[#This Row],[TOTAL]])","v":0}]
["2017-12-25","INVESTCORP S.A.","Centro","0001-004033","2018-01-24",48,{"v":22406,"d":"22,406"},{"$f":"IF(t.base[[#This Row],[DIAS DE ATRASO]]=0,0,t.base[[#This Row],[TOTAL]])","v":22406}]
["2018-02-26","SANKUAY S.R.LTDA.","Centro","0001-005806","2018-03-13",0,{"v":25653,"d":"25,653"},{"$f":"IF(t.base[[#This Row],[DIAS DE ATRASO]]=0,0,t.base[[#This Row],[TOTAL]])","v":0}]
["2017-11-18","MR MACELLAIO S.A.C.","Centro","0001-005920","2018-01-02",70,{"v":26092,"d":"26,092"},{"$f":"IF(t.base[[#This Row],[DIAS DE ATRASO]]=0,0,t.base[[#This Row],[TOTAL]])","v":26092}]
["2017-10-22","TORSAL E.I.R.L.","Sur","0001-003008","2017-10-22",142,{"v":45025,"d":"45,025"},{"$f":"IF(t.base[[#This Row],[DIAS DE ATRASO]]=0,0,t.base[[#This Row],[TOTAL]])","v":45025}]
["2018-01-12","SISCOM E.I.R.L.","Sur","0001-007461","2018-03-13",0,{"v":41270,"d":"41,270"},{"$f":"IF(t.base[[#This Row],[DIAS DE ATRASO]]=0,0,t.base[[#This Row],[TOTAL]])","v":0}]
["2018-01-27","ORE TAIPE YOLANDA","Centro","0001-004952","2018-03-13",0,{"v":18119,"d":"18,119"},{"$f":"IF(t.base[[#This Row],[DIAS DE ATRASO]]=0,0,t.base[[#This Row],[TOTAL]])","v":0}]
["2018-02-11","ARTROTRAUMAS SAC","Centro","0001-007023","2018-03-13",0,{"v":12164,"d":"12,164"},{"$f":"IF(t.base[[#This Row],[DIAS DE ATRASO]]=0,0,t.base[[#This Row],[TOTAL]])","v":0}]
["2018-02-10","AUTOSERVIS E.I.R.L.","Norte","0001-007393","2018-03-12",1,{"v":68358,"d":"68,358"},{"$f":"IF(t.base[[#This Row],[DIAS DE ATRASO]]=0,0,t.base[[#This Row],[TOTAL]])","v":68358}]
["2017-12-13","CHOQUE COPA CARLOS","Centro","0002-008145","2018-03-13",0,{"v":17836,"d":"17,836"},{"$f":"IF(t.base[[#This Row],[DIAS DE ATRASO]]=0,0,t.base[[#This Row],[TOTAL]])","v":0}]
["2018-03-13","LONGE VITA SAC","Centro","0001-001766","2018-03-13",0,{"v":16078,"d":"16,078"},{"$f":"IF(t.base[[#This Row],[DIAS DE ATRASO]]=0,0,t.base[[#This Row],[TOTAL]])","v":0}]
["2017-11-04","MEDELCO SRL","Sur","0001-004294","2017-12-19",84,{"v":31067,"d":"31,067"},{"$f":"IF(t.base[[#This Row],[DIAS DE ATRASO]]=0,0,t.base[[#This Row],[TOTAL]])","v":31067}]
["2018-02-26","G & T CARGO S.A.C.","Centro","0001-009260","2018-03-13",0,{"v":29896,"d":"29,896"},{"$f":"IF(t.base[[#This Row],[DIAS DE ATRASO]]=0,0,t.base[[#This Row],[TOTAL]])","v":0}]
["2018-03-13","A.C.D. S.R.L.","Sur","0002-005796","2018-03-13",0,{"v":10979,"d":"10,979"},{"$f":"IF(t.base[[#This Row],[DIAS DE ATRASO]]=0,0,t.base[[#This Row],[TOTAL]])","v":0}]
["2018-02-25","MAMANI ANCCO DAMIAN","Centro","0001-009500","2018-03-12",1,{"v":27291,"d":"27,291"},{"$f":"IF(t.base[[#This Row],[DIAS DE ATRASO]]=0,0,t.base[[#This Row],[TOTAL]])","v":27291}]
["2017-12-13","TRANSUNION PERU SAC","Centro","0002-002540","2018-03-13",0,{"v":27640,"d":"27,640"},{"$f":"IF(t.base[[#This Row],[DIAS DE ATRASO]]=0,0,t.base[[#This Row],[TOTAL]])","v":0}]
["2018-01-27","ARMERIA CALIBRE SAC","Centro","0001-005444","2018-03-13",0,{"v":13142,"d":"13,142"},{"$f":"IF(t.base[[#This Row],[DIAS DE ATRASO]]=0,0,t.base[[#This Row],[TOTAL]])","v":0}]
["2017-11-02","RONG YINGLIN","Centro","0002-003636","2018-01-01",71,{"v":19506,"d":"19,506"},{"$f":"IF(t.base[[#This Row],[DIAS DE ATRASO]]=0,0,t.base[[#This Row],[TOTAL]])","v":19506}]
["2018-01-12","CLAS CAYLLOMA ALTA","Sur","0002-007354","2018-03-13",0,{"v":27903,"d":"27,903"},{"$f":"IF(t.base[[#This Row],[DIAS DE ATRASO]]=0,0,t.base[[#This Row],[TOTAL]])","v":0}]
["2017-11-03","SAINT LOUIS S.A.C.","Centro","0002-008082","2018-02-01",40,{"v":16939,"d":"16,939"},{"$f":"IF(t.base[[#This Row],[DIAS DE ATRASO]]=0,0,t.base[[#This Row],[TOTAL]])","v":16939}]
["2017-12-12","RODIMPORT S.R.L.","Norte","0002-004322","2018-03-12",1,{"v":41334,"d":"41,334"},{"$f":"IF(t.base[[#This Row],[DIAS DE ATRASO]]=0,0,t.base[[#This Row],[TOTAL]])","v":41334}]
["2018-01-12","KAMIFE E.I.R.L.","Sur","0001-004666","2018-03-13",0,{"v":16518,"d":"16,518"},{"$f":"IF(t.base[[#This Row],[DIAS DE ATRASO]]=0,0,t.base[[#This Row],[TOTAL]])","v":0}]
["2017-12-13","EL REPOSTERO SAC","Centro","0001-009759","2018-03-13",0,{"v":12512,"d":"12,512"},{"$f":"IF(t.base[[#This Row],[DIAS DE ATRASO]]=0,0,t.base[[#This Row],[TOTAL]])","v":0}]
["2017-12-01","INTELECTRIC  S.A.C.","Centro","0002-003474","2017-12-31",72,{"v":29399,"d":"29,399"},{"$f":"IF(t.base[[#This Row],[DIAS DE ATRASO]]=0,0,t.base[[#This Row],[TOTAL]])","v":29399}]
["2017-11-30","ORE TAIPE YOLANDA","Centro","0002-006432","2017-12-30",73,{"v":29091,"d":"29,091"},{"$f":"IF(t.base[[#This Row],[DIAS DE ATRASO]]=0,0,t.base[[#This Row],[TOTAL]])","v":29091}]
["2017-12-10","TBS LOGISTICS S.A.","Centro","0002-008778","2018-01-09",63,{"v":18686,"d":"18,686"},{"$f":"IF(t.base[[#This Row],[DIAS DE ATRASO]]=0,0,t.base[[#This Row],[TOTAL]])","v":18686}]
["2018-01-27","SEGURINDUSTRIA SA","Norte","0001-004260","2018-03-13",0,{"v":34169,"d":"34,169"},{"$f":"IF(t.base[[#This Row],[DIAS DE ATRASO]]=0,0,t.base[[#This Row],[TOTAL]])","v":0}]
["2018-01-27","TEXMACHINE S.A.C.","Centro","0001-005699","2018-03-13",0,{"v":16029,"d":"16,029"},{"$f":"IF(t.base[[#This Row],[DIAS DE ATRASO]]=0,0,t.base[[#This Row],[TOTAL]])","v":0}]
["2017-06-23","VLALDO E.I.R.L.","Norte","0002-008226","2017-08-22",203,{"v":32123,"d":"32,123"},{"$f":"IF(t.base[[#This Row],[DIAS DE ATRASO]]=0,0,t.base[[#This Row],[TOTAL]])","v":32123}]
["2017-12-12","RIMASSA S.A.C.","Sur","0002-002573","2018-03-12",1,{"v":20018,"d":"20,018"},{"$f":"IF(t.base[[#This Row],[DIAS DE ATRASO]]=0,0,t.base[[#This Row],[TOTAL]])","v":20018}]
["2018-02-11","BOTANY S.A.C.","Norte","0002-001126","2018-03-13",0,{"v":35747,"d":"35,747"},{"$f":"IF(t.base[[#This Row],[DIAS DE ATRASO]]=0,0,t.base[[#This Row],[TOTAL]])","v":0}]
["2018-02-25","PLASTILEON EIRL","Centro","0002-004144","2018-02-25",16,{"v":29326,"d":"29,326"},{"$f":"IF(t.base[[#This Row],[DIAS DE ATRASO]]=0,0,t.base[[#This Row],[TOTAL]])","v":29326}]
["2018-01-26","JASPE E.I.R.L.","Sur","0002-007332","2018-03-12",1,{"v":22455,"d":"22,455"},{"$f":"IF(t.base[[#This Row],[DIAS DE ATRASO]]=0,0,t.base[[#This Row],[TOTAL]])","v":22455}]
["2018-01-12","UNIGRUAS S.A.C.","Centro","0001-002508","2018-03-13",0,{"v":27738,"d":"27,738"},{"$f":"IF(t.base[[#This Row],[DIAS DE ATRASO]]=0,0,t.base[[#This Row],[TOTAL]])","v":0}]
["2018-01-12","MANBREN S.A.","Centro","0001-005616","2018-03-13",0,{"v":13717,"d":"13,717"},{"$f":"IF(t.base[[#This Row],[DIAS DE ATRASO]]=0,0,t.base[[#This Row],[TOTAL]])","v":0}]
["2018-01-27","DAVILA RIVERA MARIA","Centro","0002-003001","2018-03-13",0,{"v":19586,"d":"19,586"},{"$f":"IF(t.base[[#This Row],[DIAS DE ATRASO]]=0,0,t.base[[#This Row],[TOTAL]])","v":0}]
["2017-12-13","MAGROF S.A.","Centro","0002-001228","2018-03-13",0,{"v":26032,"d":"26,032"},{"$f":"IF(t.base[[#This Row],[DIAS DE ATRASO]]=0,0,t.base[[#This Row],[TOTAL]])","v":0}]
["2018-01-26","J & W CIA S.A.","Centro","0001-004530","2018-03-12",1,{"v":21195,"d":"21,195"},{"$f":"IF(t.base[[#This Row],[DIAS DE ATRASO]]=0,0,t.base[[#This Row],[TOTAL]])","v":21195}]
["2018-02-26","JARRO ROJAS AMADOR","Centro","0001-008033","2018-03-13",0,{"v":18390,"d":"18,390"},{"$f":"IF(t.base[[#This Row],[DIAS DE ATRASO]]=0,0,t.base[[#This Row],[TOTAL]])","v":0}]
["2017-10-14","CROWN GAMING S.A.C.","Centro","0002-009076","2017-12-13",90,{"v":21809,"d":"21,809"},{"$f":"IF(t.base[[#This Row],[DIAS DE ATRASO]]=0,0,t.base[[#This Row],[TOTAL]])","v":21809}]
["2018-03-12","DELFINO MAR S.R.L.","Sur","0001-006406","2018-03-12",1,{"v":36920,"d":"36,920"},{"$f":"IF(t.base[[#This Row],[DIAS DE ATRASO]]=0,0,t.base[[#This Row],[TOTAL]])","v":36920}]
["2018-03-12","CONSORCIO LIMA","Centro","0001-009936","2018-03-12",1,{"v":27191,"d":"27,191"},{"$f":"IF(t.base[[#This Row],[DIAS DE ATRASO]]=0,0,t.base[[#This Row],[TOTAL]])","v":27191}]
["2018-03-13","SERVIMAX E.I.R.L","Norte","0002-004578","2018-03-13",0,{"v":64259,"d":"64,259"},{"$f":"IF(t.base[[#This Row],[DIAS DE ATRASO]]=0,0,t.base[[#This Row],[TOTAL]])","v":0}]
["2018-02-26","GOLD TEXTIL S.A.C.","Centro","0001-006690","2018-03-13",0,{"v":22621,"d":"22,621"},{"$f":"IF(t.base[[#This Row],[DIAS DE ATRASO]]=0,0,t.base[[#This Row],[TOTAL]])","v":0}]
["2018-01-27","RADIO ASTORIA S A","Norte","0002-007685","2018-03-13",0,{"v":44068,"d":"44,068"},{"$f":"IF(t.base[[#This Row],[DIAS DE ATRASO]]=0,0,t.base[[#This Row],[TOTAL]])","v":0}]
["2018-01-12","EPSON PERU S.A","Centro","0001-001395","2018-03-13",0,{"v":25791,"d":"25,791"},{"$f":"IF(t.base[[#This Row],[DIAS DE ATRASO]]=0,0,t.base[[#This Row],[TOTAL]])","v":0}]
["2017-12-13","CELESTE GAS S.A.C.","Centro","0002-003457","2018-03-13",0,{"v":20101,"d":"20,101"},{"$f":"IF(t.base[[#This Row],[DIAS DE ATRASO]]=0,0,t.base[[#This Row],[TOTAL]])","v":0}]
["2018-01-27","VEGA GRAF E.I.R.L.","Centro","0001-008603","2018-03-13",0,{"v":22024,"d":"22,024"},{"$f":"IF(t.base[[#This Row],[DIAS DE ATRASO]]=0,0,t.base[[#This Row],[TOTAL]])","v":0}]
["2018-01-12","CRITIKOS S.A.C.","Centro","0001-009169","2018-03-13",0,{"v":13256,"d":"13,256"},{"$f":"IF(t.base[[#This Row],[DIAS DE ATRASO]]=0,0,t.base[[#This Row],[TOTAL]])","v":0}]
["2018-02-11","T-MOVIL S.A.C.","Norte","0001-003183","2018-03-13",0,{"v":31710,"d":"31,710"},{"$f":"IF(t.base[[#This Row],[DIAS DE ATRASO]]=0,0,t.base[[#This Row],[TOTAL]])","v":0}]
["2017-12-13","PROIMPULSA SAC","Centro","0002-002897","2018-03-13",0,{"v":14960,"d":"14,960"},{"$f":"IF(t.base[[#This Row],[DIAS DE ATRASO]]=0,0,t.base[[#This Row],[TOTAL]])","v":0}]
["2018-02-16","CHAMS S.R.L.","Centro","0001-001352","2018-03-03",10,{"v":16408,"d":"16,408"},{"$f":"IF(t.base[[#This Row],[DIAS DE ATRASO]]=0,0,t.base[[#This Row],[TOTAL]])","v":16408}]
["2017-08-01","PROVINAK S.A.C.","Centro","0002-001885","2017-10-30",134,{"v":10842,"d":"10,842"},{"$f":"IF(t.base[[#This Row],[DIAS DE ATRASO]]=0,0,t.base[[#This Row],[TOTAL]])","v":10842}]
["2018-03-13","AIS PERU S.A.","Centro","0002-005494","2018-03-13",0,{"v":18634,"d":"18,634"},{"$f":"IF(t.base[[#This Row],[DIAS DE ATRASO]]=0,0,t.base[[#This Row],[TOTAL]])","v":0}]
["2018-02-26","FARMA OBLEA SAC","Centro","0001-002787","2018-03-13",0,{"v":16795,"d":"16,795"},{"$f":"IF(t.base[[#This Row],[DIAS DE ATRASO]]=0,0,t.base[[#This Row],[TOTAL]])","v":0}]
["2018-02-26","DIOS ES AMOR S.A.C.","Norte","0001-005427","2018-03-13",0,{"v":40732,"d":"40,732"},{"$f":"IF(t.base[[#This Row],[DIAS DE ATRASO]]=0,0,t.base[[#This Row],[TOTAL]])","v":0}]
["2017-12-13","MIYAGUI S.A.C.","Centro","0001-005826","2018-03-13",0,{"v":20475,"d":"20,475"},{"$f":"IF(t.base[[#This Row],[DIAS DE ATRASO]]=0,0,t.base[[#This Row],[TOTAL]])","v":0}]
["2017-12-13","JADE TRES SAC","Centro","0002-009027","2018-03-13",0,{"v":22610,"d":"22,610"},{"$f":"IF(t.base[[#This Row],[DIAS DE ATRASO]]=0,0,t.base[[#This Row],[TOTAL]])","v":0}]
["2017-08-10","GEEKS  E.I.R.L.","Centro","0002-009736","2017-08-10",215,{"v":14429,"d":"14,429"},{"$f":"IF(t.base[[#This Row],[DIAS DE ATRASO]]=0,0,t.base[[#This Row],[TOTAL]])","v":14429}]
["2018-03-13","MERMA CHOQUE HECTOR","Centro","0001-003384","2018-03-13",0,{"v":18237,"d":"18,237"},{"$f":"IF(t.base[[#This Row],[DIAS DE ATRASO]]=0,0,t.base[[#This Row],[TOTAL]])","v":0}]
["2017-12-28","TLI ADUANAS S.A.C.","Centro","0002-007019","2018-02-26",15,{"v":21435,"d":"21,435"},{"$f":"IF(t.base[[#This Row],[DIAS DE ATRASO]]=0,0,t.base[[#This Row],[TOTAL]])","v":21435}]
["2018-02-25","CLAS CABANACONDE","Sur","0002-005763","2018-03-12",1,{"v":26696,"d":"26,696"},{"$f":"IF(t.base[[#This Row],[DIAS DE ATRASO]]=0,0,t.base[[#This Row],[TOTAL]])","v":26696}]
["2017-07-18","WILCAS S.R.L.","Norte","0002-002090","2017-09-01",193,{"v":20679,"d":"20,679"},{"$f":"IF(t.base[[#This Row],[DIAS DE ATRASO]]=0,0,t.base[[#This Row],[TOTAL]])","v":20679}]
["2018-01-23","DELFINO MAR S.R.L.","Sur","0001-005059","2018-02-22",19,{"v":23957,"d":"23,957"},{"$f":"IF(t.base[[#This Row],[DIAS DE ATRASO]]=0,0,t.base[[#This Row],[TOTAL]])","v":23957}]
["2017-12-18","AJRAZ THOME FELIPE","Centro","0001-004602","2018-02-16",25,{"v":23908,"d":"23,908"},{"$f":"IF(t.base[[#This Row],[DIAS DE ATRASO]]=0,0,t.base[[#This Row],[TOTAL]])","v":23908}]
["2018-01-10","S'DROP'S E.I.R.L.","Centro","0001-005380","2018-03-11",2,{"v":16454,"d":"16,454"},{"$f":"IF(t.base[[#This Row],[DIAS DE ATRASO]]=0,0,t.base[[#This Row],[TOTAL]])","v":16454}]
["2017-10-07","DEMAFER S.R.L.","Norte","0002-007106","2017-10-07",157,{"v":51753,"d":"51,753"},{"$f":"IF(t.base[[#This Row],[DIAS DE ATRASO]]=0,0,t.base[[#This Row],[TOTAL]])","v":51753}]
["2018-01-12","RUIZ VEGA ROBINSON","Centro","0001-006449","2018-03-13",0,{"v":29926,"d":"29,926"},{"$f":"IF(t.base[[#This Row],[DIAS DE ATRASO]]=0,0,t.base[[#This Row],[TOTAL]])","v":0}]
["2018-01-27","TOLDOS J.J.V S.R.L.","Centro","0001-002252","2018-03-13",0,{"v":23307,"d":"23,307"},{"$f":"IF(t.base[[#This Row],[DIAS DE ATRASO]]=0,0,t.base[[#This Row],[TOTAL]])","v":0}]
["2018-02-25","JIANG JINGYI","Centro","0001-008069","2018-03-12",1,{"v":14460,"d":"14,460"},{"$f":"IF(t.base[[#This Row],[DIAS DE ATRASO]]=0,0,t.base[[#This Row],[TOTAL]])","v":14460}]
["2018-02-26","ECONOFARMA S.A.C.","Centro","0002-006287","2018-03-13",0,{"v":12187,"d":"12,187"},{"$f":"IF(t.base[[#This Row],[DIAS DE ATRASO]]=0,0,t.base[[#This Row],[TOTAL]])","v":0}]
["2018-01-23","APAZA PUMA LEONARDA","Centro","0001-001868","2018-03-09",4,{"v":28023,"d":"28,023"},{"$f":"IF(t.base[[#This Row],[DIAS DE ATRASO]]=0,0,t.base[[#This Row],[TOTAL]])","v":28023}]
["2017-09-19","GOMEZ YUCRA SIMEON","Centro","0001-003874","2017-09-19",175,{"v":15308,"d":"15,308"},{"$f":"IF(t.base[[#This Row],[DIAS DE ATRASO]]=0,0,t.base[[#This Row],[TOTAL]])","v":15308}]
["2017-08-14","EFC EXPRESS SAC","Centro","0001-006362","2017-11-12",121,{"v":10028,"d":"10,028"},{"$f":"IF(t.base[[#This Row],[DIAS DE ATRASO]]=0,0,t.base[[#This Row],[TOTAL]])","v":10028}]
["2018-02-10","BOMPER E.I.R.L.","Centro","0001-009843","2018-03-12",1,{"v":28806,"d":"28,806"},{"$f":"IF(t.base[[#This Row],[DIAS DE ATRASO]]=0,0,t.base[[#This Row],[TOTAL]])","v":28806}]
["2018-02-11","ALBACONSULT S.A.C.","Centro","0001-008208","2018-03-13",0,{"v":21799,"d":"21,799"},{"$f":"IF(t.base[[#This Row],[DIAS DE ATRASO]]=0,0,t.base[[#This Row],[TOTAL]])","v":0}]
["2018-01-27","SALLO LEVA ISABEL","Centro","0001-009588","2018-03-13",0,{"v":12569,"d":"12,569"},{"$f":"IF(t.base[[#This Row],[DIAS DE ATRASO]]=0,0,t.base[[#This Row],[TOTAL]])","v":0}]
["2017-12-13","SLENDER SAC","Centro","0001-001045","2018-03-13",0,{"v":11546,"d":"11,546"},{"$f":"IF(t.base[[#This Row],[DIAS DE ATRASO]]=0,0,t.base[[#This Row],[TOTAL]])","v":0}]
["2018-02-15","CONASEM E.I.R.L.","Centro","0001-009382","2018-02-15",26,{"v":11525,"d":"11,525"},{"$f":"IF(t.base[[#This Row],[DIAS DE ATRASO]]=0,0,t.base[[#This Row],[TOTAL]])","v":11525}]
["2018-01-27","SPEAK EASY","Sur","0002-004824","2018-03-13",0,{"v":18714,"d":"18,714"},{"$f":"IF(t.base[[#This Row],[DIAS DE ATRASO]]=0,0,t.base[[#This Row],[TOTAL]])","v":0}]
["2017-12-13","LAVA EXPRESS SAC","Centro","0002-003180","2018-03-13",0,{"v":26482,"d":"26,482"},{"$f":"IF(t.base[[#This Row],[DIAS DE ATRASO]]=0,0,t.base[[#This Row],[TOTAL]])","v":0}]
["2018-01-26","SPRIND S.A.C.","Centro","0001-003796","2018-03-12",1,{"v":13280,"d":"13,280"},{"$f":"IF(t.base[[#This Row],[DIAS DE ATRASO]]=0,0,t.base[[#This Row],[TOTAL]])","v":13280}]
["2017-12-12","NOVAX E.I.R.L.","Centro","0001-004003","2018-03-12",1,{"v":24253,"d":"24,253"},{"$f":"IF(t.base[[#This Row],[DIAS DE ATRASO]]=0,0,t.base[[#This Row],[TOTAL]])","v":24253}]
["2017-08-19","SALVADOR LAZO FIDEL","Centro","0002-006367","2017-09-18",176,{"v":23364,"d":"23,364"},{"$f":"IF(t.base[[#This Row],[DIAS DE ATRASO]]=0,0,t.base[[#This Row],[TOTAL]])","v":23364}]
["2017-12-12","TECH LAB S.A.C.","Centro","0001-009021","2018-03-12",1,{"v":27779,"d":"27,779"},{"$f":"IF(t.base[[#This Row],[DIAS DE ATRASO]]=0,0,t.base[[#This Row],[TOTAL]])","v":27779}]
["2018-01-27","VILELA ABAD JUAN","Centro","0002-009353","2018-03-13",0,{"v":11776,"d":"11,776"},{"$f":"IF(t.base[[#This Row],[DIAS DE ATRASO]]=0,0,t.base[[#This Row],[TOTAL]])","v":0}]
["2017-11-02","SONMAR S.R.L.","Sur","0002-004523","2018-01-31",41,{"v":16859,"d":"16,859"},{"$f":"IF(t.base[[#This Row],[DIAS DE ATRASO]]=0,0,t.base[[#This Row],[TOTAL]])","v":16859}]
["2017-11-20","AGF VULCANO S.R.L.","Centro","0002-008534","2018-01-04",68,{"v":21085,"d":"21,085"},{"$f":"IF(t.base[[#This Row],[DIAS DE ATRASO]]=0,0,t.base[[#This Row],[TOTAL]])","v":21085}]
["2018-02-25","KOZUMI PERU S.A.","Centro","0002-009739","2018-03-12",1,{"v":13560,"d":"13,560"},{"$f":"IF(t.base[[#This Row],[DIAS DE ATRASO]]=0,0,t.base[[#This Row],[TOTAL]])","v":13560}]
["2018-02-26","KARCIL S.A.C","Centro","0001-009387","2018-03-13",0,{"v":13120,"d":"13,120"},{"$f":"IF(t.base[[#This Row],[DIAS DE ATRASO]]=0,0,t.base[[#This Row],[TOTAL]])","v":0}]
["2018-01-27","DELFINO MAR S.R.L.","Sur","0002-003698","2018-03-13",0,{"v":27100,"d":"27,100"},{"$f":"IF(t.base[[#This Row],[DIAS DE ATRASO]]=0,0,t.base[[#This Row],[TOTAL]])","v":0}]
["2018-02-10","FARMABCO S.A.C","Centro","0001-001763","2018-03-12",1,{"v":23017,"d":"23,017"},{"$f":"IF(t.base[[#This Row],[DIAS DE ATRASO]]=0,0,t.base[[#This Row],[TOTAL]])","v":23017}]
["2017-12-12","RODIMPORT S.R.L.","Norte","0002-007733","2018-03-12",1,{"v":65059,"d":"65,059"},{"$f":"IF(t.base[[#This Row],[DIAS DE ATRASO]]=0,0,t.base[[#This Row],[TOTAL]])","v":65059}]
["2017-12-22","CAPITEX S.A.C","Centro","0002-001627","2018-01-06",66,{"v":27977,"d":"27,977"},{"$f":"IF(t.base[[#This Row],[DIAS DE ATRASO]]=0,0,t.base[[#This Row],[TOTAL]])","v":27977}]
["2018-01-12","MANBREN S.A.","Centro","0002-003168","2018-03-13",0,{"v":23523,"d":"23,523"},{"$f":"IF(t.base[[#This Row],[DIAS DE ATRASO]]=0,0,t.base[[#This Row],[TOTAL]])","v":0}]
["2018-03-12","MEPAL S.A.C","Centro","0001-001061","2018-03-12",1,{"v":18437,"d":"18,437"},{"$f":"IF(t.base[[#This Row],[DIAS DE ATRASO]]=0,0,t.base[[#This Row],[TOTAL]])","v":18437}]
["2017-11-22","IKEA E.I.R.L.","Sur","0002-008150","2018-01-21",51,{"v":28278,"d":"28,278"},{"$f":"IF(t.base[[#This Row],[DIAS DE ATRASO]]=0,0,t.base[[#This Row],[TOTAL]])","v":28278}]
["2018-02-26","GRUPO 27 S.A.C.","Centro","0001-006178","2018-03-13",0,{"v":18984,"d":"18,984"},{"$f":"IF(t.base[[#This Row],[DIAS DE ATRASO]]=0,0,t.base[[#This Row],[TOTAL]])","v":0}]
["2018-02-26","NUTRE PERU E.I.R.L.","Centro","0002-006226","2018-03-13",0,{"v":26178,"d":"26,178"},{"$f":"IF(t.base[[#This Row],[DIAS DE ATRASO]]=0,0,t.base[[#This Row],[TOTAL]])","v":0}]
["2017-07-22","CARBOTEC S.A.","Centro","0002-006112","2017-08-21",204,{"v":13962,"d":"13,962"},{"$f":"IF(t.base[[#This Row],[DIAS DE ATRASO]]=0,0,t.base[[#This Row],[TOTAL]])","v":13962}]
["2018-01-04","GRANJA TOSHI S.A.","Centro","0002-002384","2018-02-18",23,{"v":13093,"d":"13,093"},{"$f":"IF(t.base[[#This Row],[DIAS DE ATRASO]]=0,0,t.base[[#This Row],[TOTAL]])","v":13093}]
["2017-12-13","GZM EIRL","Norte","0001-003921","2018-03-13",0,{"v":61228,"d":"61,228"},{"$f":"IF(t.base[[#This Row],[DIAS DE ATRASO]]=0,0,t.base[[#This Row],[TOTAL]])","v":0}]
["2018-01-12","GLEW SAC","Centro","0002-001084","2018-03-13",0,{"v":11532,"d":"11,532"},{"$f":"IF(t.base[[#This Row],[DIAS DE ATRASO]]=0,0,t.base[[#This Row],[TOTAL]])","v":0}]
["2017-12-13","CONSORCIO LIPESOL","Centro","0001-001052","2018-03-13",0,{"v":20282,"d":"20,282"},{"$f":"IF(t.base[[#This Row],[DIAS DE ATRASO]]=0,0,t.base[[#This Row],[TOTAL]])","v":0}]
["2018-01-12","YANG  JINZHAO","Centro","0001-006864","2018-03-13",0,{"v":20849,"d":"20,849"},{"$f":"IF(t.base[[#This Row],[DIAS DE ATRASO]]=0,0,t.base[[#This Row],[TOTAL]])","v":0}]
["2017-12-13","FALLA CHALEN SAMUEL","Centro","0002-008158","2018-03-13",0,{"v":22161,"d":"22,161"},{"$f":"IF(t.base[[#This Row],[DIAS DE ATRASO]]=0,0,t.base[[#This Row],[TOTAL]])","v":0}]
["2017-12-13","DISTRIMED S.A.C.","Centro","0002-003120","2018-03-13",0,{"v":26251,"d":"26,251"},{"$f":"IF(t.base[[#This Row],[DIAS DE ATRASO]]=0,0,t.base[[#This Row],[TOTAL]])","v":0}]
["2018-03-13","BESTSOLTI SAC","Centro","0001-007067","2018-03-13",0,{"v":11700,"d":"11,700"},{"$f":"IF(t.base[[#This Row],[DIAS DE ATRASO]]=0,0,t.base[[#This Row],[TOTAL]])","v":0}]
["2017-11-26","NAYMLAP INN S.A.C","Centro","0002-009435","2017-12-11",92,{"v":21204,"d":"21,204"},{"$f":"IF(t.base[[#This Row],[DIAS DE ATRASO]]=0,0,t.base[[#This Row],[TOTAL]])","v":21204}]
["2017-12-20","TRAUMA SPORT S.A.C.","Centro","0002-007450","2018-01-04",68,{"v":12020,"d":"12,020"},{"$f":"IF(t.base[[#This Row],[DIAS DE ATRASO]]=0,0,t.base[[#This Row],[TOTAL]])","v":12020}]
["2018-03-13","LARCO PETS EIRL","Norte","0002-005694","2018-03-13",0,{"v":55099,"d":"55,099"},{"$f":"IF(t.base[[#This Row],[DIAS DE ATRASO]]=0,0,t.base[[#This Row],[TOTAL]])","v":0}]
["2017-12-21","AGREGA S.A.C.","Centro","0001-007871","2018-01-20",52,{"v":14135,"d":"14,135"},{"$f":"IF(t.base[[#This Row],[DIAS DE ATRASO]]=0,0,t.base[[#This Row],[TOTAL]])","v":14135}]
["2017-12-20","MAQUERA RAMOS IRMA","Centro","0002-005967","2018-02-03",38,{"v":15861,"d":"15,861"},{"$f":"IF(t.base[[#This Row],[DIAS DE ATRASO]]=0,0,t.base[[#This Row],[TOTAL]])","v":15861}]
["2018-02-11","TRIGOZO DIAZ CLELIA","Centro","0001-008989","2018-03-13",0,{"v":10458,"d":"10,458"},{"$f":"IF(t.base[[#This Row],[DIAS DE ATRASO]]=0,0,t.base[[#This Row],[TOTAL]])","v":0}]
["2018-02-26","MERZARIO PERU SAC","Centro","0001-007142","2018-03-13",0,{"v":24263,"d":"24,263"},{"$f":"IF(t.base[[#This Row],[DIAS DE ATRASO]]=0,0,t.base[[#This Row],[TOTAL]])","v":0}]
["2017-12-13","FINAS COMPUTER SAC","Norte","0002-003908","2018-03-13",0,{"v":45049,"d":"45,049"},{"$f":"IF(t.base[[#This Row],[DIAS DE ATRASO]]=0,0,t.base[[#This Row],[TOTAL]])","v":0}]
["2017-06-22","ROSA ELENA S.R.L.","Norte","0001-002439","2017-08-06",219,{"v":66682,"d":"66,682"},{"$f":"IF(t.base[[#This Row],[DIAS DE ATRASO]]=0,0,t.base[[#This Row],[TOTAL]])","v":66682}]
["2018-03-13","STEKIAN S.A.C.","Centro","0002-005952","2018-03-13",0,{"v":13978,"d":"13,978"},{"$f":"IF(t.base[[#This Row],[DIAS DE ATRASO]]=0,0,t.base[[#This Row],[TOTAL]])","v":0}]
["2017-12-12","OXIMARC S.R.L.","Norte","0001-005387","2018-03-12",1,{"v":27953,"d":"27,953"},{"$f":"IF(t.base[[#This Row],[DIAS DE ATRASO]]=0,0,t.base[[#This Row],[TOTAL]])","v":27953}]
["2017-12-13","LUMOGA   E.I.R.L.","Centro","0001-002571","2018-03-13",0,{"v":16400,"d":"16,400"},{"$f":"IF(t.base[[#This Row],[DIAS DE ATRASO]]=0,0,t.base[[#This Row],[TOTAL]])","v":0}]
["2018-01-27","JIANG HUANYI","Centro","0001-003239","2018-03-13",0,{"v":13324,"d":"13,324"},{"$f":"IF(t.base[[#This Row],[DIAS DE ATRASO]]=0,0,t.base[[#This Row],[TOTAL]])","v":0}]
["2017-12-19","HUAMALI ANCO TITO","Centro","0002-008528","2018-02-17",24,{"v":18172,"d":"18,172"},{"$f":"IF(t.base[[#This Row],[DIAS DE ATRASO]]=0,0,t.base[[#This Row],[TOTAL]])","v":18172}]
["2017-10-06","LEON GROUP E.I.R.L.","Sur","0002-009929","2017-10-06",158,{"v":17566,"d":"17,566"},{"$f":"IF(t.base[[#This Row],[DIAS DE ATRASO]]=0,0,t.base[[#This Row],[TOTAL]])","v":17566}]
["2018-02-26","MEGA GESTION S.A.C","Centro","0002-006033","2018-03-13",0,{"v":15496,"d":"15,496"},{"$f":"IF(t.base[[#This Row],[DIAS DE ATRASO]]=0,0,t.base[[#This Row],[TOTAL]])","v":0}]
["2018-02-11","VIP PERU S.A.C.","Centro","0002-004270","2018-03-13",0,{"v":16343,"d":"16,343"},{"$f":"IF(t.base[[#This Row],[DIAS DE ATRASO]]=0,0,t.base[[#This Row],[TOTAL]])","v":0}]
["2018-02-26","CIRIACA S.A.C.","Centro","0002-004839","2018-03-13",0,{"v":22669,"d":"22,669"},{"$f":"IF(t.base[[#This Row],[DIAS DE ATRASO]]=0,0,t.base[[#This Row],[TOTAL]])","v":0}]
["2017-12-13","S.J2 S.A.C.","Norte","0001-001627","2018-03-13",0,{"v":29409,"d":"29,409"},{"$f":"IF(t.base[[#This Row],[DIAS DE ATRASO]]=0,0,t.base[[#This Row],[TOTAL]])","v":0}]
["2017-12-13","ESTETICA VENUS SRL","Centro","0002-007682","2018-03-13",0,{"v":26790,"d":"26,790"},{"$f":"IF(t.base[[#This Row],[DIAS DE ATRASO]]=0,0,t.base[[#This Row],[TOTAL]])","v":0}]
["2018-01-02","MPK E.I.R.L.","Sur","0001-004457","2018-03-03",10,{"v":6964,"d":"6,964"},{"$f":"IF(t.base[[#This Row],[DIAS DE ATRASO]]=0,0,t.base[[#This Row],[TOTAL]])","v":6964}]
["2018-01-23","GRUPO 27 S.A.C.","Centro","0002-008186","2018-01-23",49,{"v":28158,"d":"28,158"},{"$f":"IF(t.base[[#This Row],[DIAS DE ATRASO]]=0,0,t.base[[#This Row],[TOTAL]])","v":28158}]
["2017-12-19","ILOP  S.A.C.","Centro","0001-005240","2018-02-17",24,{"v":18941,"d":"18,941"},{"$f":"IF(t.base[[#This Row],[DIAS DE ATRASO]]=0,0,t.base[[#This Row],[TOTAL]])","v":18941}]
["2017-12-13","JEPALA EIRL.","Sur","0002-002179","2018-03-13",0,{"v":48984,"d":"48,984"},{"$f":"IF(t.base[[#This Row],[DIAS DE ATRASO]]=0,0,t.base[[#This Row],[TOTAL]])","v":0}]
["2018-01-04","INVERGALAZ S.R.L.","Norte","0001-006672","2018-01-04",68,{"v":65233,"d":"65,233"},{"$f":"IF(t.base[[#This Row],[DIAS DE ATRASO]]=0,0,t.base[[#This Row],[TOTAL]])","v":65233}]
["2018-02-26","PASTAGIORNO E.I.R.L","Centro","0002-008610","2018-03-13",0,{"v":16341,"d":"16,341"},{"$f":"IF(t.base[[#This Row],[DIAS DE ATRASO]]=0,0,t.base[[#This Row],[TOTAL]])","v":0}]
["2018-01-27","EYE BUSINESS S.A.C","Centro","0002-009310","2018-03-13",0,{"v":13459,"d":"13,459"},{"$f":"IF(t.base[[#This Row],[DIAS DE ATRASO]]=0,0,t.base[[#This Row],[TOTAL]])","v":0}]
["2018-02-11","CEP SAN RAFAEL","Centro","0001-006191","2018-03-13",0,{"v":14117,"d":"14,117"},{"$f":"IF(t.base[[#This Row],[DIAS DE ATRASO]]=0,0,t.base[[#This Row],[TOTAL]])","v":0}]
["2018-01-27","IMPRENTA W&Y EIRL","Norte","0001-009020","2018-03-13",0,{"v":65066,"d":"65,066"},{"$f":"IF(t.base[[#This Row],[DIAS DE ATRASO]]=0,0,t.base[[#This Row],[TOTAL]])","v":0}]
["2018-03-13","INCOSERGEL S.A.C","Centro","0002-006560","2018-03-13",0,{"v":28804,"d":"28,804"},{"$f":"IF(t.base[[#This Row],[DIAS DE ATRASO]]=0,0,t.base[[#This Row],[TOTAL]])","v":0}]
["2018-01-12","TRANSUNION PERU SAC","Centro","0001-006787","2018-03-13",0,{"v":26724,"d":"26,724"},{"$f":"IF(t.base[[#This Row],[DIAS DE ATRASO]]=0,0,t.base[[#This Row],[TOTAL]])","v":0}]
["2018-02-11","TRANSVED S.R.L.","Sur","0001-005436","2018-03-13",0,{"v":43085,"d":"43,085"},{"$f":"IF(t.base[[#This Row],[DIAS DE ATRASO]]=0,0,t.base[[#This Row],[TOTAL]])","v":0}]
["2018-03-12","AURODISA EIRL","Centro","0002-004587","2018-03-12",1,{"v":12849,"d":"12,849"},{"$f":"IF(t.base[[#This Row],[DIAS DE ATRASO]]=0,0,t.base[[#This Row],[TOTAL]])","v":12849}]
["2018-02-11","MORE CLASS S.A.C","Centro","0001-004826","2018-03-13",0,{"v":14702,"d":"14,702"},{"$f":"IF(t.base[[#This Row],[DIAS DE ATRASO]]=0,0,t.base[[#This Row],[TOTAL]])","v":0}]
["2018-02-26","TECNO LASER S.A.C.","Centro","0002-002692","2018-03-13",0,{"v":12208,"d":"12,208"},{"$f":"IF(t.base[[#This Row],[DIAS DE ATRASO]]=0,0,t.base[[#This Row],[TOTAL]])","v":0}]
["2018-03-13","DARMA S.A","Centro","0002-006651","2018-03-13",0,{"v":21935,"d":"21,935"},{"$f":"IF(t.base[[#This Row],[DIAS DE ATRASO]]=0,0,t.base[[#This Row],[TOTAL]])","v":0}]
["2018-01-27","DICASA Y CIA S.A.C","Centro","0001-002447","2018-03-13",0,{"v":19345,"d":"19,345"},{"$f":"IF(t.base[[#This Row],[DIAS DE ATRASO]]=0,0,t.base[[#This Row],[TOTAL]])","v":0}]
["2018-02-11","AD LIBITUM S.A.C.","Centro","0002-004752","2018-03-13",0,{"v":13803,"d":"13,803"},{"$f":"IF(t.base[[#This Row],[DIAS DE ATRASO]]=0,0,t.base[[#This Row],[TOTAL]])","v":0}]
["2017-10-14","BAN CAN S.A.C.","Centro","0001-009336","2018-01-12",60,{"v":26366,"d":"26,366"},{"$f":"IF(t.base[[#This Row],[DIAS DE ATRASO]]=0,0,t.base[[#This Row],[TOTAL]])","v":26366}]
["2018-02-10","HUAMAN NAPA ABRAHAM","Centro","0002-006662","2018-03-12",1,{"v":11501,"d":"11,501"},{"$f":"IF(t.base[[#This Row],[DIAS DE ATRASO]]=0,0,t.base[[#This Row],[TOTAL]])","v":11501}]
["2017-09-03","TEXTILAN S.R.LTDA","Sur","0002-002381","2017-09-18",176,{"v":18410,"d":"18,410"},{"$f":"IF(t.base[[#This Row],[DIAS DE ATRASO]]=0,0,t.base[[#This Row],[TOTAL]])","v":18410}]
["2018-02-11","PUROCORAZON S.A.C.","Centro","0001-002889","2018-03-13",0,{"v":16494,"d":"16,494"},{"$f":"IF(t.base[[#This Row],[DIAS DE ATRASO]]=0,0,t.base[[#This Row],[TOTAL]])","v":0}]
["2018-01-27","VILLA FIORI S.A.C.","Centro","0001-009432","2018-03-13",0,{"v":16485,"d":"16,485"},{"$f":"IF(t.base[[#This Row],[DIAS DE ATRASO]]=0,0,t.base[[#This Row],[TOTAL]])","v":0}]
["2018-01-27","LIDER GRAFICO SRL","Norte","0002-003201","2018-03-13",0,{"v":68196,"d":"68,196"},{"$f":"IF(t.base[[#This Row],[DIAS DE ATRASO]]=0,0,t.base[[#This Row],[TOTAL]])","v":0}]
["2018-01-12","HOJA GRANDE S.A.C.","Norte","0002-001642","2018-03-13",0,{"v":41649,"d":"41,649"},{"$f":"IF(t.base[[#This Row],[DIAS DE ATRASO]]=0,0,t.base[[#This Row],[TOTAL]])","v":0}]
["2018-02-25","ALBACONSULT S.A.C.","Centro","0002-003552","2018-03-12",1,{"v":20771,"d":"20,771"},{"$f":"IF(t.base[[#This Row],[DIAS DE ATRASO]]=0,0,t.base[[#This Row],[TOTAL]])","v":20771}]
["2018-01-12","SALCOM S.A.C.","Centro","0001-001370","2018-03-13",0,{"v":13384,"d":"13,384"},{"$f":"IF(t.base[[#This Row],[DIAS DE ATRASO]]=0,0,t.base[[#This Row],[TOTAL]])","v":0}]
["2018-02-22","A Z CHEMICAL EIRL","Centro","0001-008846","2018-03-09",4,{"v":23443,"d":"23,443"},{"$f":"IF(t.base[[#This Row],[DIAS DE ATRASO]]=0,0,t.base[[#This Row],[TOTAL]])","v":23443}]
["2017-12-23","NEXO GRAFICO S.A.C.","Centro","0002-005704","2017-12-23",80,{"v":10895,"d":"10,895"},{"$f":"IF(t.base[[#This Row],[DIAS DE ATRASO]]=0,0,t.base[[#This Row],[TOTAL]])","v":10895}]
["2018-02-11","CEM JEANS E.I.R.L.","Centro","0002-007503","2018-03-13",0,{"v":10614,"d":"10,614"},{"$f":"IF(t.base[[#This Row],[DIAS DE ATRASO]]=0,0,t.base[[#This Row],[TOTAL]])","v":0}]
["2018-02-10","ACQUAM S.R.LTDA","Centro","0002-008225","2018-03-12",1,{"v":12138,"d":"12,138"},{"$f":"IF(t.base[[#This Row],[DIAS DE ATRASO]]=0,0,t.base[[#This Row],[TOTAL]])","v":12138}]
["2018-02-11","ACQUAM S.R.LTDA","Centro","0001-003582","2018-03-13",0,{"v":27771,"d":"27,771"},{"$f":"IF(t.base[[#This Row],[DIAS DE ATRASO]]=0,0,t.base[[#This Row],[TOTAL]])","v":0}]
["2017-12-23","NOVA GAS S A","Centro","0001-003076","2017-12-23",80,{"v":17800,"d":"17,800"},{"$f":"IF(t.base[[#This Row],[DIAS DE ATRASO]]=0,0,t.base[[#This Row],[TOTAL]])","v":17800}]
["2018-01-12","PERVISAC SRL","Centro","0001-004249","2018-03-13",0,{"v":17997,"d":"17,997"},{"$f":"IF(t.base[[#This Row],[DIAS DE ATRASO]]=0,0,t.base[[#This Row],[TOTAL]])","v":0}]
["2017-11-26","TRANSPOVAR S.R.L.","Centro","0002-008838","2017-11-26",107,{"v":21866,"d":"21,866"},{"$f":"IF(t.base[[#This Row],[DIAS DE ATRASO]]=0,0,t.base[[#This Row],[TOTAL]])","v":21866}]
["2018-01-12","INCOSERGEL S.A.C","Centro","0002-009071","2018-03-13",0,{"v":14908,"d":"14,908"},{"$f":"IF(t.base[[#This Row],[DIAS DE ATRASO]]=0,0,t.base[[#This Row],[TOTAL]])","v":0}]
["2018-02-26","ALCANZANDO","Centro","0001-007413","2018-03-13",0,{"v":23198,"d":"23,198"},{"$f":"IF(t.base[[#This Row],[DIAS DE ATRASO]]=0,0,t.base[[#This Row],[TOTAL]])","v":0}]
["2018-01-11","ACEROS JK S.A.C.","Centro","0002-005174","2018-03-12",1,{"v":21920,"d":"21,920"},{"$f":"IF(t.base[[#This Row],[DIAS DE ATRASO]]=0,0,t.base[[#This Row],[TOTAL]])","v":21920}]
["2018-02-02","TV. CARD E.I.R.L.","Centro","0002-007855","2018-02-02",39,{"v":17136,"d":"17,136"},{"$f":"IF(t.base[[#This Row],[DIAS DE ATRASO]]=0,0,t.base[[#This Row],[TOTAL]])","v":17136}]
["2018-03-12","TAPIPLASTIC  S.A.C.","Norte","0002-002535","2018-03-12",1,{"v":47594,"d":"47,594"},{"$f":"IF(t.base[[#This Row],[DIAS DE ATRASO]]=0,0,t.base[[#This Row],[TOTAL]])","v":47594}]
["2018-01-26","SAN CARLOS S.A.C.","Centro","0002-004010","2018-03-12",1,{"v":19163,"d":"19,163"},{"$f":"IF(t.base[[#This Row],[DIAS DE ATRASO]]=0,0,t.base[[#This Row],[TOTAL]])","v":19163}]
["2017-12-07","S & J IMPORT S.A.C.","Centro","0002-009453","2018-01-21",51,{"v":14488,"d":"14,488"},{"$f":"IF(t.base[[#This Row],[DIAS DE ATRASO]]=0,0,t.base[[#This Row],[TOTAL]])","v":14488}]
["2018-03-13","APAZA MAMANI NATTY","Centro","0002-007890","2018-03-13",0,{"v":25352,"d":"25,352"},{"$f":"IF(t.base[[#This Row],[DIAS DE ATRASO]]=0,0,t.base[[#This Row],[TOTAL]])","v":0}]
["2017-10-30","MENDOZA GARCIA RAUL","Centro","0001-008557","2017-11-29",104,{"v":22120,"d":"22,120"},{"$f":"IF(t.base[[#This Row],[DIAS DE ATRASO]]=0,0,t.base[[#This Row],[TOTAL]])","v":22120}]
["2017-11-11","DAMIAN SRLTDA.","Centro","0002-005421","2017-12-26",77,{"v":14297,"d":"14,297"},{"$f":"IF(t.base[[#This Row],[DIAS DE ATRASO]]=0,0,t.base[[#This Row],[TOTAL]])","v":14297}]
["2017-11-09","CUEROS R SAC","Norte","0002-004255","2017-12-24",79,{"v":42036,"d":"42,036"},{"$f":"IF(t.base[[#This Row],[DIAS DE ATRASO]]=0,0,t.base[[#This Row],[TOTAL]])","v":42036}]
["2017-11-01","KETZI S.A.C.","Norte","0002-009720","2017-12-16",87,{"v":29558,"d":"29,558"},{"$f":"IF(t.base[[#This Row],[DIAS DE ATRASO]]=0,0,t.base[[#This Row],[TOTAL]])","v":29558}]
["2018-01-12","L & C SERVIS EIRL","Norte","0002-009382","2018-03-13",0,{"v":65631,"d":"65,631"},{"$f":"IF(t.base[[#This Row],[DIAS DE ATRASO]]=0,0,t.base[[#This Row],[TOTAL]])","v":0}]
["2017-11-30","CHIFA FULLRUM EIRL","Centro","0002-004141","2018-02-28",13,{"v":24218,"d":"24,218"},{"$f":"IF(t.base[[#This Row],[DIAS DE ATRASO]]=0,0,t.base[[#This Row],[TOTAL]])","v":24218}]
["2018-02-26","ZOEY EIRL","Norte","0001-002107","2018-03-13",0,{"v":34249,"d":"34,249"},{"$f":"IF(t.base[[#This Row],[DIAS DE ATRASO]]=0,0,t.base[[#This Row],[TOTAL]])","v":0}]
["2018-01-12","E - MARKET E.I.R.L.","Centro","0002-009027","2018-03-13",0,{"v":29305,"d":"29,305"},{"$f":"IF(t.base[[#This Row],[DIAS DE ATRASO]]=0,0,t.base[[#This Row],[TOTAL]])","v":0}]
["2017-12-23","WILCAS S.R.L.","Norte","0002-003766","2018-01-07",65,{"v":33678,"d":"33,678"},{"$f":"IF(t.base[[#This Row],[DIAS DE ATRASO]]=0,0,t.base[[#This Row],[TOTAL]])","v":33678}]
["2018-02-26","MISS TOPAZIO S.A.C.","Centro","0001-001624","2018-03-13",0,{"v":18890,"d":"18,890"},{"$f":"IF(t.base[[#This Row],[DIAS DE ATRASO]]=0,0,t.base[[#This Row],[TOTAL]])","v":0}]
["2018-02-26","GLASSCORP S.A.C.","Centro","0002-009399","2018-03-13",0,{"v":22344,"d":"22,344"},{"$f":"IF(t.base[[#This Row],[DIAS DE ATRASO]]=0,0,t.base[[#This Row],[TOTAL]])","v":0}]
["2018-01-12","SPRIND S.A.C.","Centro","0002-001063","2018-03-13",0,{"v":19626,"d":"19,626"},{"$f":"IF(t.base[[#This Row],[DIAS DE ATRASO]]=0,0,t.base[[#This Row],[TOTAL]])","v":0}]
["2017-12-13","GRUPO 27 S.A.C.","Centro","0001-007977","2018-03-13",0,{"v":14592,"d":"14,592"},{"$f":"IF(t.base[[#This Row],[DIAS DE ATRASO]]=0,0,t.base[[#This Row],[TOTAL]])","v":0}]
["2017-12-03","TROQPA SAC","Centro","0001-006792","2018-01-17",55,{"v":10481,"d":"10,481"},{"$f":"IF(t.base[[#This Row],[DIAS DE ATRASO]]=0,0,t.base[[#This Row],[TOTAL]])","v":10481}]
["2018-01-26","ITAPIER S.R.L.","Centro","0002-007052","2018-03-12",1,{"v":18012,"d":"18,012"},{"$f":"IF(t.base[[#This Row],[DIAS DE ATRASO]]=0,0,t.base[[#This Row],[TOTAL]])","v":18012}]
["2018-02-11","MSM INSUMOS S.A.C","Centro","0002-002865","2018-03-13",0,{"v":25682,"d":"25,682"},{"$f":"IF(t.base[[#This Row],[DIAS DE ATRASO]]=0,0,t.base[[#This Row],[TOTAL]])","v":0}]
["2017-12-13","INKACLOTH S.A.C.","Centro","0001-002792","2018-03-13",0,{"v":22814,"d":"22,814"},{"$f":"IF(t.base[[#This Row],[DIAS DE ATRASO]]=0,0,t.base[[#This Row],[TOTAL]])","v":0}]
["2018-01-12","PLUS MEDIC E.I.R.L.","Centro","0002-001840","2018-03-13",0,{"v":23933,"d":"23,933"},{"$f":"IF(t.base[[#This Row],[DIAS DE ATRASO]]=0,0,t.base[[#This Row],[TOTAL]])","v":0}]
["2018-01-12","SOLO SERVICE S.A.C.","Norte","0002-003418","2018-03-13",0,{"v":32144,"d":"32,144"},{"$f":"IF(t.base[[#This Row],[DIAS DE ATRASO]]=0,0,t.base[[#This Row],[TOTAL]])","v":0}]
["2018-01-11","WSILVAP E.I.R.L","Centro","0001-003182","2018-03-12",1,{"v":20451,"d":"20,451"},{"$f":"IF(t.base[[#This Row],[DIAS DE ATRASO]]=0,0,t.base[[#This Row],[TOTAL]])","v":20451}]
["2018-02-26","PLUS MEDIC E.I.R.L.","Centro","0001-007554","2018-03-13",0,{"v":10512,"d":"10,512"},{"$f":"IF(t.base[[#This Row],[DIAS DE ATRASO]]=0,0,t.base[[#This Row],[TOTAL]])","v":0}]
["2018-01-29","JOMAHI E.I.R.L.","Norte","0002-002616","2018-01-29",43,{"v":62664,"d":"62,664"},{"$f":"IF(t.base[[#This Row],[DIAS DE ATRASO]]=0,0,t.base[[#This Row],[TOTAL]])","v":62664}]
["2017-10-18","VILLA GALVEZ NEYCER","Centro","0002-001894","2018-01-16",56,{"v":21599,"d":"21,599"},{"$f":"IF(t.base[[#This Row],[DIAS DE ATRASO]]=0,0,t.base[[#This Row],[TOTAL]])","v":21599}]
["2018-02-26","KOIMED S.A.C.","Centro","0001-003213","2018-03-13",0,{"v":23017,"d":"23,017"},{"$f":"IF(t.base[[#This Row],[DIAS DE ATRASO]]=0,0,t.base[[#This Row],[TOTAL]])","v":0}]
["2017-12-29","MAQPOL S.A.C.","Centro","0001-003152","2018-01-13",59,{"v":15522,"d":"15,522"},{"$f":"IF(t.base[[#This Row],[DIAS DE ATRASO]]=0,0,t.base[[#This Row],[TOTAL]])","v":15522}]
["2018-02-26","TORSAL E.I.R.L.","Sur","0001-004520","2018-03-13",0,{"v":22095,"d":"22,095"},{"$f":"IF(t.base[[#This Row],[DIAS DE ATRASO]]=0,0,t.base[[#This Row],[TOTAL]])","v":0}]
["2017-10-19","SERVITEC S.R.L.","Sur","0002-007604","2018-01-17",55,{"v":6778,"d":"6,778"},{"$f":"IF(t.base[[#This Row],[DIAS DE ATRASO]]=0,0,t.base[[#This Row],[TOTAL]])","v":6778}]
["2017-12-09","LAM LEUNG ALEJANDRO","Centro","0001-006388","2018-01-23",49,{"v":29922,"d":"29,922"},{"$f":"IF(t.base[[#This Row],[DIAS DE ATRASO]]=0,0,t.base[[#This Row],[TOTAL]])","v":29922}]
["2017-12-13","HIROSHI S.A.C.","Norte","0002-007540","2018-03-13",0,{"v":61115,"d":"61,115"},{"$f":"IF(t.base[[#This Row],[DIAS DE ATRASO]]=0,0,t.base[[#This Row],[TOTAL]])","v":0}]
["2018-03-13","ALPAMEL S.A.C.","Sur","0001-002675","2018-03-13",0,{"v":34685,"d":"34,685"},{"$f":"IF(t.base[[#This Row],[DIAS DE ATRASO]]=0,0,t.base[[#This Row],[TOTAL]])","v":0}]
["2018-02-10","NEXT CARGO S.A.C.","Centro","0001-002076","2018-03-12",1,{"v":11906,"d":"11,906"},{"$f":"IF(t.base[[#This Row],[DIAS DE ATRASO]]=0,0,t.base[[#This Row],[TOTAL]])","v":11906}]
["2018-02-26","RODIMPORT S.R.L.","Norte","0002-005580","2018-03-13",0,{"v":12751,"d":"12,751"},{"$f":"IF(t.base[[#This Row],[DIAS DE ATRASO]]=0,0,t.base[[#This Row],[TOTAL]])","v":0}]
["2018-01-12","GB ELECTRIC SAC","Centro","0001-009273","2018-03-13",0,{"v":23253,"d":"23,253"},{"$f":"IF(t.base[[#This Row],[DIAS DE ATRASO]]=0,0,t.base[[#This Row],[TOTAL]])","v":0}]
["2018-02-02","NUEVA ATLANTIS SAC","Norte","0002-001559","2018-02-17",24,{"v":22776,"d":"22,776"},{"$f":"IF(t.base[[#This Row],[DIAS DE ATRASO]]=0,0,t.base[[#This Row],[TOTAL]])","v":22776}]
["2018-03-13","PROVESUR S.A.C","Centro","0002-009247","2018-03-13",0,{"v":15476,"d":"15,476"},{"$f":"IF(t.base[[#This Row],[DIAS DE ATRASO]]=0,0,t.base[[#This Row],[TOTAL]])","v":0}]
["2017-12-13","DAMERED S.A.C.","Centro","0001-004057","2018-03-13",0,{"v":10108,"d":"10,108"},{"$f":"IF(t.base[[#This Row],[DIAS DE ATRASO]]=0,0,t.base[[#This Row],[TOTAL]])","v":0}]
["2018-03-13","AGRORETAIL  S.A.C.","Centro","0002-002445","2018-03-13",0,{"v":18029,"d":"18,029"},{"$f":"IF(t.base[[#This Row],[DIAS DE ATRASO]]=0,0,t.base[[#This Row],[TOTAL]])","v":0}]
["2017-09-07","ALI - MART S.A.C.","Centro","0002-006170","2017-09-07",187,{"v":13321,"d":"13,321"},{"$f":"IF(t.base[[#This Row],[DIAS DE ATRASO]]=0,0,t.base[[#This Row],[TOTAL]])","v":13321}]
["2017-12-13","LINDO HOGAR S.A.C","Centro","0002-002717","2018-03-13",0,{"v":12609,"d":"12,609"},{"$f":"IF(t.base[[#This Row],[DIAS DE ATRASO]]=0,0,t.base[[#This Row],[TOTAL]])","v":0}]
["2017-09-10","KE JIANQING","Centro","0002-006490","2017-09-10",184,{"v":19483,"d":"19,483"},{"$f":"IF(t.base[[#This Row],[DIAS DE ATRASO]]=0,0,t.base[[#This Row],[TOTAL]])","v":19483}]
["2018-01-27","JOMAR KOAN S.A.C.","Centro","0002-009913","2018-03-13",0,{"v":10738,"d":"10,738"},{"$f":"IF(t.base[[#This Row],[DIAS DE ATRASO]]=0,0,t.base[[#This Row],[TOTAL]])","v":0}]
["2018-03-13","TEXARIAN E.I.R.L.","Centro","0001-006218","2018-03-13",0,{"v":19381,"d":"19,381"},{"$f":"IF(t.base[[#This Row],[DIAS DE ATRASO]]=0,0,t.base[[#This Row],[TOTAL]])","v":0}]
["2017-12-13","DOMNAR S.A.C.","Centro","0002-007684","2018-03-13",0,{"v":23974,"d":"23,974"},{"$f":"IF(t.base[[#This Row],[DIAS DE ATRASO]]=0,0,t.base[[#This Row],[TOTAL]])","v":0}]
["2018-01-27","LA TIENDA E.I.R.L.","Sur","0002-009428","2018-03-13",0,{"v":6181,"d":"6,181"},{"$f":"IF(t.base[[#This Row],[DIAS DE ATRASO]]=0,0,t.base[[#This Row],[TOTAL]])","v":0}]
["2018-03-13","VILLA FIORI S.A.C.","Centro","0001-007765","2018-03-13",0,{"v":20429,"d":"20,429"},{"$f":"IF(t.base[[#This Row],[DIAS DE ATRASO]]=0,0,t.base[[#This Row],[TOTAL]])","v":0}]
["2018-02-25","UNIGRUAS S.A.C.","Centro","0001-002890","2018-03-12",1,{"v":13040,"d":"13,040"},{"$f":"IF(t.base[[#This Row],[DIAS DE ATRASO]]=0,0,t.base[[#This Row],[TOTAL]])","v":13040}]
["2018-02-11","YON JAU JUAN","Centro","0001-009983","2018-03-13",0,{"v":26236,"d":"26,236"},{"$f":"IF(t.base[[#This Row],[DIAS DE ATRASO]]=0,0,t.base[[#This Row],[TOTAL]])","v":0}]
["2018-01-27","PROVINAK S.A.C.","Centro","0001-002645","2018-03-13",0,{"v":24513,"d":"24,513"},{"$f":"IF(t.base[[#This Row],[DIAS DE ATRASO]]=0,0,t.base[[#This Row],[TOTAL]])","v":0}]
["2018-02-26","AUTOS MH EIRL","Centro","0002-008401","2018-03-13",0,{"v":14346,"d":"14,346"},{"$f":"IF(t.base[[#This Row],[DIAS DE ATRASO]]=0,0,t.base[[#This Row],[TOTAL]])","v":0}]
["2018-01-27","MEDELCO SRL","Sur","0002-009272","2018-03-13",0,{"v":21547,"d":"21,547"},{"$f":"IF(t.base[[#This Row],[DIAS DE ATRASO]]=0,0,t.base[[#This Row],[TOTAL]])","v":0}]
["2018-03-13","JIANG HUANYI","Centro","0001-008129","2018-03-13",0,{"v":18263,"d":"18,263"},{"$f":"IF(t.base[[#This Row],[DIAS DE ATRASO]]=0,0,t.base[[#This Row],[TOTAL]])","v":0}]
["2017-12-13","QUAN-FHU S.C.R.L.","Centro","0002-003635","2018-03-13",0,{"v":25978,"d":"25,978"},{"$f":"IF(t.base[[#This Row],[DIAS DE ATRASO]]=0,0,t.base[[#This Row],[TOTAL]])","v":0}]
["2017-07-20","SOLO SERVICE S.A.C.","Norte","0001-006194","2017-09-18",176,{"v":49935,"d":"49,935"},{"$f":"IF(t.base[[#This Row],[DIAS DE ATRASO]]=0,0,t.base[[#This Row],[TOTAL]])","v":49935}]
["2018-01-26","VHL FOOD SAC","Centro","0002-008262","2018-03-12",1,{"v":23345,"d":"23,345"},{"$f":"IF(t.base[[#This Row],[DIAS DE ATRASO]]=0,0,t.base[[#This Row],[TOTAL]])","v":23345}]
["2017-10-21","INSANOR S.A.C.","Centro","0001-009916","2017-12-20",83,{"v":19125,"d":"19,125"},{"$f":"IF(t.base[[#This Row],[DIAS DE ATRASO]]=0,0,t.base[[#This Row],[TOTAL]])","v":19125}]
["2018-03-13","WIBGUS S.A.C.","Centro","0002-001239","2018-03-13",0,{"v":18898,"d":"18,898"},{"$f":"IF(t.base[[#This Row],[DIAS DE ATRASO]]=0,0,t.base[[#This Row],[TOTAL]])","v":0}]
["2018-01-17","J.D. PLASTIC S.A.C.","Centro","0002-007507","2018-03-03",10,{"v":12530,"d":"12,530"},{"$f":"IF(t.base[[#This Row],[DIAS DE ATRASO]]=0,0,t.base[[#This Row],[TOTAL]])","v":12530}]
["2017-12-13","D'SAYOMA EIRL","Sur","0002-003534","2018-03-13",0,{"v":39512,"d":"39,512"},{"$f":"IF(t.base[[#This Row],[DIAS DE ATRASO]]=0,0,t.base[[#This Row],[TOTAL]])","v":0}]
["2018-01-16","AMG KYODAI S.A.C.","Centro","0002-008043","2018-01-16",56,{"v":23370,"d":"23,370"},{"$f":"IF(t.base[[#This Row],[DIAS DE ATRASO]]=0,0,t.base[[#This Row],[TOTAL]])","v":23370}]
["2018-02-25","S & J IMPORT S.A.C.","Centro","0002-009776","2018-03-12",1,{"v":20606,"d":"20,606"},{"$f":"IF(t.base[[#This Row],[DIAS DE ATRASO]]=0,0,t.base[[#This Row],[TOTAL]])","v":20606}]
["2017-07-29","TRAUMA S.A.C.","Centro","0001-008349","2017-09-12",182,{"v":11508,"d":"11,508"},{"$f":"IF(t.base[[#This Row],[DIAS DE ATRASO]]=0,0,t.base[[#This Row],[TOTAL]])","v":11508}]
["2018-01-12","SONMAR S.R.L.","Sur","0001-006461","2018-03-13",0,{"v":30089,"d":"30,089"},{"$f":"IF(t.base[[#This Row],[DIAS DE ATRASO]]=0,0,t.base[[#This Row],[TOTAL]])","v":0}]
["2018-01-12","INGEMEC PERU SAC","Norte","0002-001286","2018-03-13",0,{"v":21354,"d":"21,354"},{"$f":"IF(t.base[[#This Row],[DIAS DE ATRASO]]=0,0,t.base[[#This Row],[TOTAL]])","v":0}]
["2017-08-29","ERAZO ERAZO TULIO","Centro","0001-001842","2017-11-27",106,{"v":29564,"d":"29,564"},{"$f":"IF(t.base[[#This Row],[DIAS DE ATRASO]]=0,0,t.base[[#This Row],[TOTAL]])","v":29564}]
["2018-01-12","RUTHY S S.R.LTDA","Centro","0001-008515","2018-03-13",0,{"v":25529,"d":"25,529"},{"$f":"IF(t.base[[#This Row],[DIAS DE ATRASO]]=0,0,t.base[[#This Row],[TOTAL]])","v":0}]
["2018-02-26","TAPIPLASTIC  S.A.C.","Norte","0001-005523","2018-03-13",0,{"v":35881,"d":"35,881"},{"$f":"IF(t.base[[#This Row],[DIAS DE ATRASO]]=0,0,t.base[[#This Row],[TOTAL]])","v":0}]
["2018-01-11","SERVIMAX E.I.R.L","Norte","0001-006132","2018-03-12",1,{"v":30652,"d":"30,652"},{"$f":"IF(t.base[[#This Row],[DIAS DE ATRASO]]=0,0,t.base[[#This Row],[TOTAL]])","v":30652}]
["2018-01-25","ORTIZ LOPEZ OSCAR","Centro","0001-008093","2018-03-11",2,{"v":15487,"d":"15,487"},{"$f":"IF(t.base[[#This Row],[DIAS DE ATRASO]]=0,0,t.base[[#This Row],[TOTAL]])","v":15487}]
["2018-02-26","PERU BOX AIR S.A.C.","Centro","0001-009898","2018-03-13",0,{"v":20968,"d":"20,968"},{"$f":"IF(t.base[[#This Row],[DIAS DE ATRASO]]=0,0,t.base[[#This Row],[TOTAL]])","v":0}]
["2018-01-23","IMPORT JHV E.I.R.L.","Centro","0001-001989","2018-03-09",4,{"v":25141,"d":"25,141"},{"$f":"IF(t.base[[#This Row],[DIAS DE ATRASO]]=0,0,t.base[[#This Row],[TOTAL]])","v":25141}]
["2017-08-24","FENIX DEL PERU SRL","Centro","0002-003150","2017-09-08",186,{"v":13153,"d":"13,153"},{"$f":"IF(t.base[[#This Row],[DIAS DE ATRASO]]=0,0,t.base[[#This Row],[TOTAL]])","v":13153}]
["2018-02-11","CYPRESS PERU S.A.C.","Centro","0001-005569","2018-03-13",0,{"v":22687,"d":"22,687"},{"$f":"IF(t.base[[#This Row],[DIAS DE ATRASO]]=0,0,t.base[[#This Row],[TOTAL]])","v":0}]
["2018-01-27","HUISA MERMA DORIS","Centro","0001-007042","2018-03-13",0,{"v":25248,"d":"25,248"},{"$f":"IF(t.base[[#This Row],[DIAS DE ATRASO]]=0,0,t.base[[#This Row],[TOTAL]])","v":0}]
["2018-02-26","WAGER SLOTS S.A.C.","Centro","0002-007529","2018-03-13",0,{"v":26401,"d":"26,401"},{"$f":"IF(t.base[[#This Row],[DIAS DE ATRASO]]=0,0,t.base[[#This Row],[TOTAL]])","v":0}]
["2018-01-27","SVITZER ANDINO S.A.","Centro","0001-006454","2018-03-13",0,{"v":23720,"d":"23,720"},{"$f":"IF(t.base[[#This Row],[DIAS DE ATRASO]]=0,0,t.base[[#This Row],[TOTAL]])","v":0}]
["2018-02-11","ENERGY GASS SRL","Norte","0001-009284","2018-03-13",0,{"v":29313,"d":"29,313"},{"$f":"IF(t.base[[#This Row],[DIAS DE ATRASO]]=0,0,t.base[[#This Row],[TOTAL]])","v":0}]
["2017-12-07","HIROSHI S.A.C.","Norte","0002-002649","2018-01-06",66,{"v":67688,"d":"67,688"},{"$f":"IF(t.base[[#This Row],[DIAS DE ATRASO]]=0,0,t.base[[#This Row],[TOTAL]])","v":67688}]
["2018-01-26","OTERO NUÐEZ NESTOR","Centro","0002-001739","2018-03-12",1,{"v":17927,"d":"17,927"},{"$f":"IF(t.base[[#This Row],[DIAS DE ATRASO]]=0,0,t.base[[#This Row],[TOTAL]])","v":17927}]
["2017-10-12","DDP ADUANAS S.A.C.","Sur","0001-004457","2017-10-12",152,{"v":18068,"d":"18,068"},{"$f":"IF(t.base[[#This Row],[DIAS DE ATRASO]]=0,0,t.base[[#This Row],[TOTAL]])","v":18068}]
["2018-02-11","MICASA E.I.R.L.","Sur","0002-006524","2018-03-13",0,{"v":39898,"d":"39,898"},{"$f":"IF(t.base[[#This Row],[DIAS DE ATRASO]]=0,0,t.base[[#This Row],[TOTAL]])","v":0}]
["2018-03-13","XIE SHIYA","Centro","0001-005269","2018-03-13",0,{"v":11315,"d":"11,315"},{"$f":"IF(t.base[[#This Row],[DIAS DE ATRASO]]=0,0,t.base[[#This Row],[TOTAL]])","v":0}]
["2018-02-11","MRP E.I.R.L.","Centro","0002-003027","2018-03-13",0,{"v":13302,"d":"13,302"},{"$f":"IF(t.base[[#This Row],[DIAS DE ATRASO]]=0,0,t.base[[#This Row],[TOTAL]])","v":0}]
["2017-10-30","LAURI S.A.C.","Norte","0001-006457","2017-12-29",74,{"v":19907,"d":"19,907"},{"$f":"IF(t.base[[#This Row],[DIAS DE ATRASO]]=0,0,t.base[[#This Row],[TOTAL]])","v":19907}]
["2018-01-27","REDITEC E.I.R.L.","Sur","0001-004322","2018-03-13",0,{"v":27581,"d":"27,581"},{"$f":"IF(t.base[[#This Row],[DIAS DE ATRASO]]=0,0,t.base[[#This Row],[TOTAL]])","v":0}]
["2018-01-27","ZOGRAS E.I.R.L.","Centro","0002-004178","2018-03-13",0,{"v":17526,"d":"17,526"},{"$f":"IF(t.base[[#This Row],[DIAS DE ATRASO]]=0,0,t.base[[#This Row],[TOTAL]])","v":0}]
["2017-08-02","JARRO ROJAS AMADOR","Centro","0001-005671","2017-10-31",133,{"v":20976,"d":"20,976"},{"$f":"IF(t.base[[#This Row],[DIAS DE ATRASO]]=0,0,t.base[[#This Row],[TOTAL]])","v":20976}]
["2017-12-13","GLEW SAC","Centro","0002-002831","2018-03-13",0,{"v":12261,"d":"12,261"},{"$f":"IF(t.base[[#This Row],[DIAS DE ATRASO]]=0,0,t.base[[#This Row],[TOTAL]])","v":0}]
["2018-02-26","J.D. PLASTIC S.A.C.","Centro","0001-001139","2018-03-13",0,{"v":18115,"d":"18,115"},{"$f":"IF(t.base[[#This Row],[DIAS DE ATRASO]]=0,0,t.base[[#This Row],[TOTAL]])","v":0}]
["2017-11-18","MAMANI TONE MARLENI","Centro","0001-007911","2018-01-02",70,{"v":24480,"d":"24,480"},{"$f":"IF(t.base[[#This Row],[DIAS DE ATRASO]]=0,0,t.base[[#This Row],[TOTAL]])","v":24480}]
["2017-11-30","MOLVIMAR S.A.C.","Norte","0001-006756","2018-01-29",43,{"v":65336,"d":"65,336"},{"$f":"IF(t.base[[#This Row],[DIAS DE ATRASO]]=0,0,t.base[[#This Row],[TOTAL]])","v":65336}]
["2017-11-28","LARCO PETS EIRL","Norte","0002-008778","2018-02-26",15,{"v":65524,"d":"65,524"},{"$f":"IF(t.base[[#This Row],[DIAS DE ATRASO]]=0,0,t.base[[#This Row],[TOTAL]])","v":65524}]
["2017-12-12","KE JIANQING","Centro","0002-005134","2018-03-12",1,{"v":22496,"d":"22,496"},{"$f":"IF(t.base[[#This Row],[DIAS DE ATRASO]]=0,0,t.base[[#This Row],[TOTAL]])","v":22496}]
["2018-01-27","SERVITEC S.R.L.","Sur","0002-006041","2018-03-13",0,{"v":40581,"d":"40,581"},{"$f":"IF(t.base[[#This Row],[DIAS DE ATRASO]]=0,0,t.base[[#This Row],[TOTAL]])","v":0}]
["2018-01-12","DISMOTSA","Centro","0001-004344","2018-03-13",0,{"v":14240,"d":"14,240"},{"$f":"IF(t.base[[#This Row],[DIAS DE ATRASO]]=0,0,t.base[[#This Row],[TOTAL]])","v":0}]
["2017-10-20","CAO  JINGHUI","Centro","0001-005202","2017-12-19",84,{"v":20124,"d":"20,124"},{"$f":"IF(t.base[[#This Row],[DIAS DE ATRASO]]=0,0,t.base[[#This Row],[TOTAL]])","v":20124}]
["2017-12-13","VIGATEC E.I.R.L.","Norte","0001-002223","2018-03-13",0,{"v":22946,"d":"22,946"},{"$f":"IF(t.base[[#This Row],[DIAS DE ATRASO]]=0,0,t.base[[#This Row],[TOTAL]])","v":0}]
["2017-12-13","KEV S.A.C.","Centro","0002-001983","2018-03-13",0,{"v":27132,"d":"27,132"},{"$f":"IF(t.base[[#This Row],[DIAS DE ATRASO]]=0,0,t.base[[#This Row],[TOTAL]])","v":0}]
["2018-02-11","LIZFEL E.I.R.L.","Centro","0001-005160","2018-03-13",0,{"v":19096,"d":"19,096"},{"$f":"IF(t.base[[#This Row],[DIAS DE ATRASO]]=0,0,t.base[[#This Row],[TOTAL]])","v":0}]
["2017-09-16","DICASA Y CIA S.A.C","Centro","0001-002461","2017-09-16",178,{"v":24767,"d":"24,767"},{"$f":"IF(t.base[[#This Row],[DIAS DE ATRASO]]=0,0,t.base[[#This Row],[TOTAL]])","v":24767}]
["2018-01-27","35-17 CARGO S.A.C.","Centro","0001-002396","2018-03-13",0,{"v":25966,"d":"25,966"},{"$f":"IF(t.base[[#This Row],[DIAS DE ATRASO]]=0,0,t.base[[#This Row],[TOTAL]])","v":0}]
["2017-10-30","S'DROP'S E.I.R.L.","Centro","0002-003579","2017-12-29",74,{"v":18562,"d":"18,562"},{"$f":"IF(t.base[[#This Row],[DIAS DE ATRASO]]=0,0,t.base[[#This Row],[TOTAL]])","v":18562}]
["2018-02-11","CAPITEX S.A.C","Centro","0002-009377","2018-03-13",0,{"v":11117,"d":"11,117"},{"$f":"IF(t.base[[#This Row],[DIAS DE ATRASO]]=0,0,t.base[[#This Row],[TOTAL]])","v":0}]
["2018-01-12","NUTRE PERU E.I.R.L.","Centro","0001-002826","2018-03-13",0,{"v":17383,"d":"17,383"},{"$f":"IF(t.base[[#This Row],[DIAS DE ATRASO]]=0,0,t.base[[#This Row],[TOTAL]])","v":0}]
["2017-12-13","RAUDO PERU S.A.C.","Norte","0002-006997","2018-03-13",0,{"v":17944,"d":"17,944"},{"$f":"IF(t.base[[#This Row],[DIAS DE ATRASO]]=0,0,t.base[[#This Row],[TOTAL]])","v":0}]
["2017-11-07","BAGSERVIS S.A.C.","Norte","0001-006302","2018-01-06",66,{"v":21038,"d":"21,038"},{"$f":"IF(t.base[[#This Row],[DIAS DE ATRASO]]=0,0,t.base[[#This Row],[TOTAL]])","v":21038}]
["2017-09-21","BLAIROC E.I.R.L.","Centro","0001-007545","2017-10-21",143,{"v":12476,"d":"12,476"},{"$f":"IF(t.base[[#This Row],[DIAS DE ATRASO]]=0,0,t.base[[#This Row],[TOTAL]])","v":12476}]
["2018-02-11","TSABAZIS VASSILIOS","Centro","0002-009156","2018-03-13",0,{"v":19053,"d":"19,053"},{"$f":"IF(t.base[[#This Row],[DIAS DE ATRASO]]=0,0,t.base[[#This Row],[TOTAL]])","v":0}]
["2018-01-11","MEDICAL CT S.A.C.","Centro","0001-001532","2018-01-26",46,{"v":10571,"d":"10,571"},{"$f":"IF(t.base[[#This Row],[DIAS DE ATRASO]]=0,0,t.base[[#This Row],[TOTAL]])","v":10571}]
["2018-01-12","CEPE APOSTOL PABLO","Sur","0002-006552","2018-03-13",0,{"v":38086,"d":"38,086"},{"$f":"IF(t.base[[#This Row],[DIAS DE ATRASO]]=0,0,t.base[[#This Row],[TOTAL]])","v":0}]
["2018-01-27","TSABAZIS VASSILIOS","Centro","0001-005053","2018-03-13",0,{"v":19049,"d":"19,049"},{"$f":"IF(t.base[[#This Row],[DIAS DE ATRASO]]=0,0,t.base[[#This Row],[TOTAL]])","v":0}]
["2017-08-24","DELNOREP S.R.L.","Centro","0001-006096","2017-09-23",171,{"v":13901,"d":"13,901"},{"$f":"IF(t.base[[#This Row],[DIAS DE ATRASO]]=0,0,t.base[[#This Row],[TOTAL]])","v":13901}]
["2018-02-11","TUPER S.A.C.","Centro","0001-009545","2018-03-13",0,{"v":18305,"d":"18,305"},{"$f":"IF(t.base[[#This Row],[DIAS DE ATRASO]]=0,0,t.base[[#This Row],[TOTAL]])","v":0}]
["2018-03-13","SILVER & ME S.A.","Centro","0002-007310","2018-03-13",0,{"v":22203,"d":"22,203"},{"$f":"IF(t.base[[#This Row],[DIAS DE ATRASO]]=0,0,t.base[[#This Row],[TOTAL]])","v":0}]
["2017-09-19","MULTITAPS S.A.C.","Centro","0002-004806","2017-12-18",85,{"v":17306,"d":"17,306"},{"$f":"IF(t.base[[#This Row],[DIAS DE ATRASO]]=0,0,t.base[[#This Row],[TOTAL]])","v":17306}]
["2018-01-27","ACQUAM S.R.LTDA","Centro","0001-004759","2018-03-13",0,{"v":16714,"d":"16,714"},{"$f":"IF(t.base[[#This Row],[DIAS DE ATRASO]]=0,0,t.base[[#This Row],[TOTAL]])","v":0}]
["2018-01-12","PUROCORAZON S.A.C.","Centro","0002-006313","2018-03-13",0,{"v":29559,"d":"29,559"},{"$f":"IF(t.base[[#This Row],[DIAS DE ATRASO]]=0,0,t.base[[#This Row],[TOTAL]])","v":0}]
["2017-12-13","PEREA VELA JANETH","Centro","0002-001289","2018-03-13",0,{"v":10914,"d":"10,914"},{"$f":"IF(t.base[[#This Row],[DIAS DE ATRASO]]=0,0,t.base[[#This Row],[TOTAL]])","v":0}]
["2018-02-26","TECH HOME E.I.R.L.","Sur","0002-002543","2018-03-13",0,{"v":38079,"d":"38,079"},{"$f":"IF(t.base[[#This Row],[DIAS DE ATRASO]]=0,0,t.base[[#This Row],[TOTAL]])","v":0}]
["2017-12-13","TOP MODEL S.A.C","Norte","0001-005236","2018-03-13",0,{"v":55061,"d":"55,061"},{"$f":"IF(t.base[[#This Row],[DIAS DE ATRASO]]=0,0,t.base[[#This Row],[TOTAL]])","v":0}]
["2018-03-13","SACOSA SAC.","Norte","0001-001149","2018-03-13",0,{"v":28622,"d":"28,622"},{"$f":"IF(t.base[[#This Row],[DIAS DE ATRASO]]=0,0,t.base[[#This Row],[TOTAL]])","v":0}]
["2018-01-12","METRICO E.I.R.L.","Centro","0002-003068","2018-03-13",0,{"v":22364,"d":"22,364"},{"$f":"IF(t.base[[#This Row],[DIAS DE ATRASO]]=0,0,t.base[[#This Row],[TOTAL]])","v":0}]
["2018-02-11","CODIGO 55 S.A.C.","Centro","0002-002828","2018-03-13",0,{"v":23928,"d":"23,928"},{"$f":"IF(t.base[[#This Row],[DIAS DE ATRASO]]=0,0,t.base[[#This Row],[TOTAL]])","v":0}]
["2017-08-13","SYSTCOM IMPORT SAC","Centro","0002-004188","2017-08-28",197,{"v":25193,"d":"25,193"},{"$f":"IF(t.base[[#This Row],[DIAS DE ATRASO]]=0,0,t.base[[#This Row],[TOTAL]])","v":25193}]
["2017-12-03","ANVI'S S.R.L.","Norte","0001-001285","2017-12-18",85,{"v":23527,"d":"23,527"},{"$f":"IF(t.base[[#This Row],[DIAS DE ATRASO]]=0,0,t.base[[#This Row],[TOTAL]])","v":23527}]
["2018-01-27","NEOSALUD S.A.C.","Centro","0002-009181","2018-03-13",0,{"v":12772,"d":"12,772"},{"$f":"IF(t.base[[#This Row],[DIAS DE ATRASO]]=0,0,t.base[[#This Row],[TOTAL]])","v":0}]
["2018-02-26","RIVERA COSME CAYO","Centro","0001-003699","2018-03-13",0,{"v":15053,"d":"15,053"},{"$f":"IF(t.base[[#This Row],[DIAS DE ATRASO]]=0,0,t.base[[#This Row],[TOTAL]])","v":0}]
["2018-02-26","TORSAL E.I.R.L.","Sur","0001-009241","2018-03-13",0,{"v":40512,"d":"40,512"},{"$f":"IF(t.base[[#This Row],[DIAS DE ATRASO]]=0,0,t.base[[#This Row],[TOTAL]])","v":0}]
["2017-12-13","EYE BUSINESS S.A.C","Centro","0002-007076","2018-03-13",0,{"v":10640,"d":"10,640"},{"$f":"IF(t.base[[#This Row],[DIAS DE ATRASO]]=0,0,t.base[[#This Row],[TOTAL]])","v":0}]
["2017-09-23","GLOBAL PAPER SAC","Centro","0001-001616","2017-11-07",126,{"v":13683,"d":"13,683"},{"$f":"IF(t.base[[#This Row],[DIAS DE ATRASO]]=0,0,t.base[[#This Row],[TOTAL]])","v":13683}]
["2018-01-27","CAM DE KAM KEN WAN","Centro","0002-008835","2018-03-13",0,{"v":11334,"d":"11,334"},{"$f":"IF(t.base[[#This Row],[DIAS DE ATRASO]]=0,0,t.base[[#This Row],[TOTAL]])","v":0}]
["2018-02-08","QUAN-FHU S.C.R.L.","Centro","0001-006418","2018-02-08",33,{"v":17271,"d":"17,271"},{"$f":"IF(t.base[[#This Row],[DIAS DE ATRASO]]=0,0,t.base[[#This Row],[TOTAL]])","v":17271}]
["2017-12-13","BABY KNIT S.A.C","Centro","0001-009178","2018-03-13",0,{"v":21005,"d":"21,005"},{"$f":"IF(t.base[[#This Row],[DIAS DE ATRASO]]=0,0,t.base[[#This Row],[TOTAL]])","v":0}]
["2017-12-13","MEDITERRANEO S.A.C.","Sur","0001-007888","2017-12-13",90,{"v":32884,"d":"32,884"},{"$f":"IF(t.base[[#This Row],[DIAS DE ATRASO]]=0,0,t.base[[#This Row],[TOTAL]])","v":32884}]
["2018-02-11","AGRO SELECTO S.A.C.","Centro","0001-006324","2018-03-13",0,{"v":27472,"d":"27,472"},{"$f":"IF(t.base[[#This Row],[DIAS DE ATRASO]]=0,0,t.base[[#This Row],[TOTAL]])","v":0}]
["2018-03-13","PJJR EIRL","Norte","0002-009050","2018-03-13",0,{"v":22377,"d":"22,377"},{"$f":"IF(t.base[[#This Row],[DIAS DE ATRASO]]=0,0,t.base[[#This Row],[TOTAL]])","v":0}]
["2018-02-26","CRISTHIANS E.I.R.L","Centro","0002-002014","2018-03-13",0,{"v":10164,"d":"10,164"},{"$f":"IF(t.base[[#This Row],[DIAS DE ATRASO]]=0,0,t.base[[#This Row],[TOTAL]])","v":0}]
["2017-10-22","KINSA WARMI SRL","Centro","0001-009301","2017-11-21",112,{"v":15202,"d":"15,202"},{"$f":"IF(t.base[[#This Row],[DIAS DE ATRASO]]=0,0,t.base[[#This Row],[TOTAL]])","v":15202}]
["2017-12-03","BIOFER S.A.C.","Centro","0001-001308","2017-12-18",85,{"v":13034,"d":"13,034"},{"$f":"IF(t.base[[#This Row],[DIAS DE ATRASO]]=0,0,t.base[[#This Row],[TOTAL]])","v":13034}]
["2017-12-13","ERIKA LENS E.I.R.L.","Centro","0001-001805","2018-01-12",60,{"v":18225,"d":"18,225"},{"$f":"IF(t.base[[#This Row],[DIAS DE ATRASO]]=0,0,t.base[[#This Row],[TOTAL]])","v":18225}]
["2018-01-27","DUNKEL E.I.R.L.","Sur","0001-006376","2018-03-13",0,{"v":20485,"d":"20,485"},{"$f":"IF(t.base[[#This Row],[DIAS DE ATRASO]]=0,0,t.base[[#This Row],[TOTAL]])","v":0}]
["2018-01-12","LIDER GRAFICO SRL","Norte","0002-006845","2018-03-13",0,{"v":68253,"d":"68,253"},{"$f":"IF(t.base[[#This Row],[DIAS DE ATRASO]]=0,0,t.base[[#This Row],[TOTAL]])","v":0}]
["2017-09-23","ALTAMIRANO SRL","Norte","0002-008673","2017-12-22",81,{"v":54121,"d":"54,121"},{"$f":"IF(t.base[[#This Row],[DIAS DE ATRASO]]=0,0,t.base[[#This Row],[TOTAL]])","v":54121}]
["2017-11-13","YANG  JINZHAO","Centro","0002-007230","2018-02-11",30,{"v":28525,"d":"28,525"},{"$f":"IF(t.base[[#This Row],[DIAS DE ATRASO]]=0,0,t.base[[#This Row],[TOTAL]])","v":28525}]
["2017-11-04","GREEN STAR S.A.C","Centro","0002-002416","2017-12-19",84,{"v":23082,"d":"23,082"},{"$f":"IF(t.base[[#This Row],[DIAS DE ATRASO]]=0,0,t.base[[#This Row],[TOTAL]])","v":23082}]
["2017-10-26","FLORES PARI ROSALIA","Centro","0001-005895","2018-01-24",48,{"v":16570,"d":"16,570"},{"$f":"IF(t.base[[#This Row],[DIAS DE ATRASO]]=0,0,t.base[[#This Row],[TOTAL]])","v":16570}]
["2017-12-21","ORBE EMPRESARIAL SA","Centro","0001-005765","2018-02-04",37,{"v":13477,"d":"13,477"},{"$f":"IF(t.base[[#This Row],[DIAS DE ATRASO]]=0,0,t.base[[#This Row],[TOTAL]])","v":13477}]
["2017-11-16","G.M. TRAMAS S.A.","Centro","0001-008804","2018-02-14",27,{"v":28837,"d":"28,837"},{"$f":"IF(t.base[[#This Row],[DIAS DE ATRASO]]=0,0,t.base[[#This Row],[TOTAL]])","v":28837}]
["2018-01-16","MAQ DEPOT S.A.C.","Centro","0001-002957","2018-03-02",11,{"v":19436,"d":"19,436"},{"$f":"IF(t.base[[#This Row],[DIAS DE ATRASO]]=0,0,t.base[[#This Row],[TOTAL]])","v":19436}]
["2017-12-02","MORE CLASS S.A.C","Centro","0002-007152","2018-01-16",56,{"v":18607,"d":"18,607"},{"$f":"IF(t.base[[#This Row],[DIAS DE ATRASO]]=0,0,t.base[[#This Row],[TOTAL]])","v":18607}]
["2018-01-27","BIOFER S.A.C.","Centro","0002-003177","2018-03-13",0,{"v":26780,"d":"26,780"},{"$f":"IF(t.base[[#This Row],[DIAS DE ATRASO]]=0,0,t.base[[#This Row],[TOTAL]])","v":0}]
["2018-01-26","EL CAIRO S.A.C.","Centro","0001-005372","2018-03-12",1,{"v":29565,"d":"29,565"},{"$f":"IF(t.base[[#This Row],[DIAS DE ATRASO]]=0,0,t.base[[#This Row],[TOTAL]])","v":29565}]
["2018-03-12","IKEA E.I.R.L.","Sur","0001-009822","2018-03-12",1,{"v":6312,"d":"6,312"},{"$f":"IF(t.base[[#This Row],[DIAS DE ATRASO]]=0,0,t.base[[#This Row],[TOTAL]])","v":6312}]
["2018-02-25","CAR SALES E.I.R.L.","Centro","0002-008474","2018-03-12",1,{"v":11433,"d":"11,433"},{"$f":"IF(t.base[[#This Row],[DIAS DE ATRASO]]=0,0,t.base[[#This Row],[TOTAL]])","v":11433}]
["2018-02-04","DIENST S.A.C.","Centro","0002-009071","2018-02-19",22,{"v":28230,"d":"28,230"},{"$f":"IF(t.base[[#This Row],[DIAS DE ATRASO]]=0,0,t.base[[#This Row],[TOTAL]])","v":28230}]
["2018-03-13","RAMOS JACINTO PEDRO","Centro","0001-007671","2018-03-13",0,{"v":12249,"d":"12,249"},{"$f":"IF(t.base[[#This Row],[DIAS DE ATRASO]]=0,0,t.base[[#This Row],[TOTAL]])","v":0}]
["2017-12-21","STYLO EDWIL SRL","Centro","0001-002977","2018-02-19",22,{"v":11498,"d":"11,498"},{"$f":"IF(t.base[[#This Row],[DIAS DE ATRASO]]=0,0,t.base[[#This Row],[TOTAL]])","v":11498}]
["2017-12-30","CASTRO NUÐEZ NELSON","Centro","0002-006725","2017-12-30",73,{"v":24769,"d":"24,769"},{"$f":"IF(t.base[[#This Row],[DIAS DE ATRASO]]=0,0,t.base[[#This Row],[TOTAL]])","v":24769}]
["2018-02-11","BRANAT E.I.R.L.","Centro","0002-006713","2018-03-13",0,{"v":17331,"d":"17,331"},{"$f":"IF(t.base[[#This Row],[DIAS DE ATRASO]]=0,0,t.base[[#This Row],[TOTAL]])","v":0}]
["2017-12-12","ECONO TAXI S.R.L.","Centro","0002-004654","2018-03-12",1,{"v":19984,"d":"19,984"},{"$f":"IF(t.base[[#This Row],[DIAS DE ATRASO]]=0,0,t.base[[#This Row],[TOTAL]])","v":19984}]
["2018-01-27","DISGAR S.A.C.","Sur","0001-001112","2018-03-13",0,{"v":32102,"d":"32,102"},{"$f":"IF(t.base[[#This Row],[DIAS DE ATRASO]]=0,0,t.base[[#This Row],[TOTAL]])","v":0}]
["2018-03-13","LUCMOIS E.I.R.L.","Centro","0001-006011","2018-03-13",0,{"v":26670,"d":"26,670"},{"$f":"IF(t.base[[#This Row],[DIAS DE ATRASO]]=0,0,t.base[[#This Row],[TOTAL]])","v":0}]
["2018-02-10","CEM JEANS E.I.R.L.","Centro","0001-006438","2018-03-12",1,{"v":26225,"d":"26,225"},{"$f":"IF(t.base[[#This Row],[DIAS DE ATRASO]]=0,0,t.base[[#This Row],[TOTAL]])","v":26225}]
["2018-03-13","A & G S.A.C.","Sur","0001-003259","2018-03-13",0,{"v":35958,"d":"35,958"},{"$f":"IF(t.base[[#This Row],[DIAS DE ATRASO]]=0,0,t.base[[#This Row],[TOTAL]])","v":0}]
["2018-01-22","VIVEL S.A.","Norte","0002-008874","2018-03-08",5,{"v":57046,"d":"57,046"},{"$f":"IF(t.base[[#This Row],[DIAS DE ATRASO]]=0,0,t.base[[#This Row],[TOTAL]])","v":57046}]
["2018-01-27","B. CHANG E.I.R.L.","Sur","0002-005768","2018-03-13",0,{"v":17711,"d":"17,711"},{"$f":"IF(t.base[[#This Row],[DIAS DE ATRASO]]=0,0,t.base[[#This Row],[TOTAL]])","v":0}]
["2017-12-13","TMF PERU S.R.L.","Centro","0002-008947","2018-03-13",0,{"v":15434,"d":"15,434"},{"$f":"IF(t.base[[#This Row],[DIAS DE ATRASO]]=0,0,t.base[[#This Row],[TOTAL]])","v":0}]
["2017-08-13","SUNI NUNONCCA SIMON","Centro","0002-007423","2017-08-28",197,{"v":29022,"d":"29,022"},{"$f":"IF(t.base[[#This Row],[DIAS DE ATRASO]]=0,0,t.base[[#This Row],[TOTAL]])","v":29022}]
["2018-02-26","SIZU S.A.C.","Centro","0002-002582","2018-03-13",0,{"v":29268,"d":"29,268"},{"$f":"IF(t.base[[#This Row],[DIAS DE ATRASO]]=0,0,t.base[[#This Row],[TOTAL]])","v":0}]
["2018-03-13","KAMIFE E.I.R.L.","Sur","0002-008796","2018-03-13",0,{"v":43846,"d":"43,846"},{"$f":"IF(t.base[[#This Row],[DIAS DE ATRASO]]=0,0,t.base[[#This Row],[TOTAL]])","v":0}]
["2018-03-03","MANBREN S.A.","Centro","0001-006467","2018-03-03",10,{"v":20182,"d":"20,182"},{"$f":"IF(t.base[[#This Row],[DIAS DE ATRASO]]=0,0,t.base[[#This Row],[TOTAL]])","v":20182}]
["2018-02-18","COMFAST S.A.C.","Centro","0002-006204","2018-03-05",8,{"v":17689,"d":"17,689"},{"$f":"IF(t.base[[#This Row],[DIAS DE ATRASO]]=0,0,t.base[[#This Row],[TOTAL]])","v":17689}]
["2017-12-12","D'OLPHINS E.I.R.L.","Norte","0002-003223","2018-03-12",1,{"v":38595,"d":"38,595"},{"$f":"IF(t.base[[#This Row],[DIAS DE ATRASO]]=0,0,t.base[[#This Row],[TOTAL]])","v":38595}]
["2018-02-11","GARCIA CAVERO MAURA","Centro","0002-003881","2018-03-13",0,{"v":19045,"d":"19,045"},{"$f":"IF(t.base[[#This Row],[DIAS DE ATRASO]]=0,0,t.base[[#This Row],[TOTAL]])","v":0}]
["2018-03-13","CLAS CONDESUYOS","Sur","0001-001732","2018-03-13",0,{"v":22276,"d":"22,276"},{"$f":"IF(t.base[[#This Row],[DIAS DE ATRASO]]=0,0,t.base[[#This Row],[TOTAL]])","v":0}]
["2018-03-13","GRUPO IMPORT EIRL","Norte","0001-004168","2018-03-13",0,{"v":54407,"d":"54,407"},{"$f":"IF(t.base[[#This Row],[DIAS DE ATRASO]]=0,0,t.base[[#This Row],[TOTAL]])","v":0}]
["2018-02-22","COPA S A","Centro","0002-009729","2018-03-09",4,{"v":14379,"d":"14,379"},{"$f":"IF(t.base[[#This Row],[DIAS DE ATRASO]]=0,0,t.base[[#This Row],[TOTAL]])","v":14379}]
["2018-01-29","BAZAR SUBCAFAE","Norte","0001-002850","2018-01-29",43,{"v":49774,"d":"49,774"},{"$f":"IF(t.base[[#This Row],[DIAS DE ATRASO]]=0,0,t.base[[#This Row],[TOTAL]])","v":49774}]
["2018-02-11","MAC HARE S.A.C.","Centro","0002-003985","2018-03-13",0,{"v":15340,"d":"15,340"},{"$f":"IF(t.base[[#This Row],[DIAS DE ATRASO]]=0,0,t.base[[#This Row],[TOTAL]])","v":0}]
["2018-02-26","PLAZA MOTORS S.A.C.","Centro","0001-005138","2018-03-13",0,{"v":11591,"d":"11,591"},{"$f":"IF(t.base[[#This Row],[DIAS DE ATRASO]]=0,0,t.base[[#This Row],[TOTAL]])","v":0}]
["2018-01-23","OLEVAS E.I.R.L.","Norte","0001-002525","2018-03-09",4,{"v":68109,"d":"68,109"},{"$f":"IF(t.base[[#This Row],[DIAS DE ATRASO]]=0,0,t.base[[#This Row],[TOTAL]])","v":68109}]
["2017-12-13","ISA BARHAM S.A.C.","Centro","0002-005744","2018-03-13",0,{"v":13784,"d":"13,784"},{"$f":"IF(t.base[[#This Row],[DIAS DE ATRASO]]=0,0,t.base[[#This Row],[TOTAL]])","v":0}]
["2018-03-13","TRICOTTON S.A.C","Centro","0001-008009","2018-03-13",0,{"v":24481,"d":"24,481"},{"$f":"IF(t.base[[#This Row],[DIAS DE ATRASO]]=0,0,t.base[[#This Row],[TOTAL]])","v":0}]
["2017-10-16","VAMER E.I.R.L","Norte","0002-007044","2017-11-30",103,{"v":33216,"d":"33,216"},{"$f":"IF(t.base[[#This Row],[DIAS DE ATRASO]]=0,0,t.base[[#This Row],[TOTAL]])","v":33216}]
["2017-07-18","G & T CARGO S.A.C.","Centro","0001-005198","2017-08-17",208,{"v":12102,"d":"12,102"},{"$f":"IF(t.base[[#This Row],[DIAS DE ATRASO]]=0,0,t.base[[#This Row],[TOTAL]])","v":12102}]
["2018-01-12","PILCO VILCA PASTORA","Centro","0002-004764","2018-03-13",0,{"v":18192,"d":"18,192"},{"$f":"IF(t.base[[#This Row],[DIAS DE ATRASO]]=0,0,t.base[[#This Row],[TOTAL]])","v":0}]
["2018-02-11","ODFJELL PERU S.A.C.","Centro","0002-009592","2018-03-13",0,{"v":11248,"d":"11,248"},{"$f":"IF(t.base[[#This Row],[DIAS DE ATRASO]]=0,0,t.base[[#This Row],[TOTAL]])","v":0}]
["2018-02-11","HUISA ZAMATA JORGE","Centro","0001-001252","2018-03-13",0,{"v":25808,"d":"25,808"},{"$f":"IF(t.base[[#This Row],[DIAS DE ATRASO]]=0,0,t.base[[#This Row],[TOTAL]])","v":0}]
["2018-01-16","MR MACELLAIO S.A.C.","Centro","0002-004689","2018-02-15",26,{"v":21348,"d":"21,348"},{"$f":"IF(t.base[[#This Row],[DIAS DE ATRASO]]=0,0,t.base[[#This Row],[TOTAL]])","v":21348}]
["2017-10-14","OFITECC S.A.C.","Norte","0002-003525","2017-12-13",90,{"v":32306,"d":"32,306"},{"$f":"IF(t.base[[#This Row],[DIAS DE ATRASO]]=0,0,t.base[[#This Row],[TOTAL]])","v":32306}]
["2018-02-25","BRIDAG E.I.R.LTDA.","Centro","0002-003393","2018-03-12",1,{"v":21431,"d":"21,431"},{"$f":"IF(t.base[[#This Row],[DIAS DE ATRASO]]=0,0,t.base[[#This Row],[TOTAL]])","v":21431}]
["2017-12-28","NEGYSER PERU S.A.C.","Centro","0002-007496","2018-02-11",30,{"v":21986,"d":"21,986"},{"$f":"IF(t.base[[#This Row],[DIAS DE ATRASO]]=0,0,t.base[[#This Row],[TOTAL]])","v":21986}]
["2018-02-11","AMG KYODAI S.A.C.","Centro","0002-007473","2018-03-13",0,{"v":23188,"d":"23,188"},{"$f":"IF(t.base[[#This Row],[DIAS DE ATRASO]]=0,0,t.base[[#This Row],[TOTAL]])","v":0}]
["2018-03-13","ALFA & ALFA E.I.R.L","Centro","0002-007629","2018-03-13",0,{"v":25020,"d":"25,020"},{"$f":"IF(t.base[[#This Row],[DIAS DE ATRASO]]=0,0,t.base[[#This Row],[TOTAL]])","v":0}]
["2018-03-12","GRAVICOM S.A.C.","Sur","0002-007294","2018-03-12",1,{"v":42057,"d":"42,057"},{"$f":"IF(t.base[[#This Row],[DIAS DE ATRASO]]=0,0,t.base[[#This Row],[TOTAL]])","v":42057}]
["2017-10-18","DERMASALUD S.R.L.","Centro","0001-009000","2017-12-17",86,{"v":23633,"d":"23,633"},{"$f":"IF(t.base[[#This Row],[DIAS DE ATRASO]]=0,0,t.base[[#This Row],[TOTAL]])","v":23633}]
["2017-12-23","TRANSJOHNNY S.A.C.","Centro","0001-005990","2018-01-07",65,{"v":14117,"d":"14,117"},{"$f":"IF(t.base[[#This Row],[DIAS DE ATRASO]]=0,0,t.base[[#This Row],[TOTAL]])","v":14117}]
["2017-05-02","FERNANDEZ SRL","Norte","0001-005372","2017-07-31",225,{"v":13139,"d":"13,139"},{"$f":"IF(t.base[[#This Row],[DIAS DE ATRASO]]=0,0,t.base[[#This Row],[TOTAL]])","v":13139}]
["2018-02-11","FUMIGUERRA EIRL","Centro","0002-009105","2018-03-13",0,{"v":15157,"d":"15,157"},{"$f":"IF(t.base[[#This Row],[DIAS DE ATRASO]]=0,0,t.base[[#This Row],[TOTAL]])","v":0}]
["2018-03-13","JOMAR KOAN S.A.C.","Centro","0001-008119","2018-03-13",0,{"v":21057,"d":"21,057"},{"$f":"IF(t.base[[#This Row],[DIAS DE ATRASO]]=0,0,t.base[[#This Row],[TOTAL]])","v":0}]
["2017-12-19","COANDINA S R LTDA","Centro","0002-002407","2018-02-17",24,{"v":27036,"d":"27,036"},{"$f":"IF(t.base[[#This Row],[DIAS DE ATRASO]]=0,0,t.base[[#This Row],[TOTAL]])","v":27036}]
["2018-01-26","TRIGOZO DIAZ CLELIA","Centro","0002-004630","2018-03-12",1,{"v":20642,"d":"20,642"},{"$f":"IF(t.base[[#This Row],[DIAS DE ATRASO]]=0,0,t.base[[#This Row],[TOTAL]])","v":20642}]
["2017-11-03","CROWN GAMING S.A.C.","Centro","0002-006986","2018-02-01",40,{"v":29512,"d":"29,512"},{"$f":"IF(t.base[[#This Row],[DIAS DE ATRASO]]=0,0,t.base[[#This Row],[TOTAL]])","v":29512}]
["2017-12-13","ITAPIER S.R.L.","Centro","0002-008137","2018-03-13",0,{"v":17468,"d":"17,468"},{"$f":"IF(t.base[[#This Row],[DIAS DE ATRASO]]=0,0,t.base[[#This Row],[TOTAL]])","v":0}]
["2018-02-25","PLASTILEON EIRL","Centro","0002-004931","2018-03-12",1,{"v":21441,"d":"21,441"},{"$f":"IF(t.base[[#This Row],[DIAS DE ATRASO]]=0,0,t.base[[#This Row],[TOTAL]])","v":21441}]
["2018-01-31","BRENCO SAC","Norte","0002-004234","2018-03-02",11,{"v":18937,"d":"18,937"},{"$f":"IF(t.base[[#This Row],[DIAS DE ATRASO]]=0,0,t.base[[#This Row],[TOTAL]])","v":18937}]
["2018-01-27","CRITIKOS S.A.C.","Centro","0001-006371","2018-03-13",0,{"v":21030,"d":"21,030"},{"$f":"IF(t.base[[#This Row],[DIAS DE ATRASO]]=0,0,t.base[[#This Row],[TOTAL]])","v":0}]
["2018-02-01","DICASA Y CIA S.A.C","Centro","0001-005122","2018-02-16",25,{"v":23375,"d":"23,375"},{"$f":"IF(t.base[[#This Row],[DIAS DE ATRASO]]=0,0,t.base[[#This Row],[TOTAL]])","v":23375}]
["2018-01-11","LA TIENDA E.I.R.L.","Sur","0002-006524","2018-03-12",1,{"v":31978,"d":"31,978"},{"$f":"IF(t.base[[#This Row],[DIAS DE ATRASO]]=0,0,t.base[[#This Row],[TOTAL]])","v":31978}]
["2017-12-13","FARMA OBLEA SAC","Centro","0001-003527","2018-03-13",0,{"v":21423,"d":"21,423"},{"$f":"IF(t.base[[#This Row],[DIAS DE ATRASO]]=0,0,t.base[[#This Row],[TOTAL]])","v":0}]
["2018-01-27","LUCMOIS E.I.R.L.","Centro","0001-008605","2018-03-13",0,{"v":17423,"d":"17,423"},{"$f":"IF(t.base[[#This Row],[DIAS DE ATRASO]]=0,0,t.base[[#This Row],[TOTAL]])","v":0}]
["2018-02-25","MODULEC S.A.C.","Centro","0002-004160","2018-03-12",1,{"v":28903,"d":"28,903"},{"$f":"IF(t.base[[#This Row],[DIAS DE ATRASO]]=0,0,t.base[[#This Row],[TOTAL]])","v":28903}]
["2017-06-03","S A RINCON GAUCHO","Centro","0001-006894","2017-07-18",238,{"v":22161,"d":"22,161"},{"$f":"IF(t.base[[#This Row],[DIAS DE ATRASO]]=0,0,t.base[[#This Row],[TOTAL]])","v":22161}]
["2018-02-11","G & M PNEUMATIC SAC","Centro","0001-003919","2018-03-13",0,{"v":23131,"d":"23,131"},{"$f":"IF(t.base[[#This Row],[DIAS DE ATRASO]]=0,0,t.base[[#This Row],[TOTAL]])","v":0}]
["2018-02-25","SEGURITEMP E.I.R.L.","Norte","0001-004724","2018-03-12",1,{"v":34411,"d":"34,411"},{"$f":"IF(t.base[[#This Row],[DIAS DE ATRASO]]=0,0,t.base[[#This Row],[TOTAL]])","v":34411}]
["2018-01-12","GRANJA AZUL S A","Centro","0001-007059","2018-03-13",0,{"v":18617,"d":"18,617"},{"$f":"IF(t.base[[#This Row],[DIAS DE ATRASO]]=0,0,t.base[[#This Row],[TOTAL]])","v":0}]
["2018-02-01","VAMER E.I.R.L","Norte","0001-004539","2018-02-16",25,{"v":57948,"d":"57,948"},{"$f":"IF(t.base[[#This Row],[DIAS DE ATRASO]]=0,0,t.base[[#This Row],[TOTAL]])","v":57948}]
["2018-01-27","RV COMPUTER S.A.C.","Centro","0002-001887","2018-03-13",0,{"v":28073,"d":"28,073"},{"$f":"IF(t.base[[#This Row],[DIAS DE ATRASO]]=0,0,t.base[[#This Row],[TOTAL]])","v":0}]
["2018-01-13","MODULEC S.A.C.","Centro","0001-001073","2018-01-13",59,{"v":22670,"d":"22,670"},{"$f":"IF(t.base[[#This Row],[DIAS DE ATRASO]]=0,0,t.base[[#This Row],[TOTAL]])","v":22670}]
["2018-01-12","DISMOTSA","Centro","0002-003339","2018-03-13",0,{"v":12927,"d":"12,927"},{"$f":"IF(t.base[[#This Row],[DIAS DE ATRASO]]=0,0,t.base[[#This Row],[TOTAL]])","v":0}]
["2017-12-01","DOMNAR S.A.C.","Centro","0002-005424","2018-03-01",12,{"v":19929,"d":"19,929"},{"$f":"IF(t.base[[#This Row],[DIAS DE ATRASO]]=0,0,t.base[[#This Row],[TOTAL]])","v":19929}]
["2018-01-27","LIDER GRAFICO SRL","Norte","0002-006197","2018-03-13",0,{"v":65645,"d":"65,645"},{"$f":"IF(t.base[[#This Row],[DIAS DE ATRASO]]=0,0,t.base[[#This Row],[TOTAL]])","v":0}]
["2017-12-13","CLAS ZAMACOLA","Sur","0002-008281","2018-03-13",0,{"v":41530,"d":"41,530"},{"$f":"IF(t.base[[#This Row],[DIAS DE ATRASO]]=0,0,t.base[[#This Row],[TOTAL]])","v":0}]
["2018-02-19","FUMIGUERRA EIRL","Centro","0001-005619","2018-03-06",7,{"v":11733,"d":"11,733"},{"$f":"IF(t.base[[#This Row],[DIAS DE ATRASO]]=0,0,t.base[[#This Row],[TOTAL]])","v":11733}]
["2017-08-25","LUCMOIS E.I.R.L.","Centro","0001-005354","2017-08-25",200,{"v":12400,"d":"12,400"},{"$f":"IF(t.base[[#This Row],[DIAS DE ATRASO]]=0,0,t.base[[#This Row],[TOTAL]])","v":12400}]
["2018-01-12","RODIMPORT S.R.L.","Norte","0002-006456","2018-03-13",0,{"v":42918,"d":"42,918"},{"$f":"IF(t.base[[#This Row],[DIAS DE ATRASO]]=0,0,t.base[[#This Row],[TOTAL]])","v":0}]
["2017-11-18","QUIMENSA EIRL","Centro","0002-003476","2018-01-17",55,{"v":23209,"d":"23,209"},{"$f":"IF(t.base[[#This Row],[DIAS DE ATRASO]]=0,0,t.base[[#This Row],[TOTAL]])","v":23209}]
["2018-01-12","SERVISAIR S.A.C.","Centro","0001-007729","2018-03-13",0,{"v":11390,"d":"11,390"},{"$f":"IF(t.base[[#This Row],[DIAS DE ATRASO]]=0,0,t.base[[#This Row],[TOTAL]])","v":0}]
["2018-01-12","TV. CARD E.I.R.L.","Centro","0001-005166","2018-03-13",0,{"v":15741,"d":"15,741"},{"$f":"IF(t.base[[#This Row],[DIAS DE ATRASO]]=0,0,t.base[[#This Row],[TOTAL]])","v":0}]
["2018-02-26","COPYNET DATA S.A.C.","Centro","0002-006165","2018-03-13",0,{"v":10923,"d":"10,923"},{"$f":"IF(t.base[[#This Row],[DIAS DE ATRASO]]=0,0,t.base[[#This Row],[TOTAL]])","v":0}]
["2017-12-25","G.M. TRAMAS S.A.","Centro","0002-008875","2018-02-08",33,{"v":11587,"d":"11,587"},{"$f":"IF(t.base[[#This Row],[DIAS DE ATRASO]]=0,0,t.base[[#This Row],[TOTAL]])","v":11587}]
["2018-02-11","AURODISA EIRL","Centro","0002-004128","2018-03-13",0,{"v":25502,"d":"25,502"},{"$f":"IF(t.base[[#This Row],[DIAS DE ATRASO]]=0,0,t.base[[#This Row],[TOTAL]])","v":0}]
["2017-12-12","DR GAS S.A.C.","Centro","0001-005871","2018-01-26",46,{"v":27129,"d":"27,129"},{"$f":"IF(t.base[[#This Row],[DIAS DE ATRASO]]=0,0,t.base[[#This Row],[TOTAL]])","v":27129}]
["2018-01-26","HOYOS CAMPOS LAZARO","Centro","0002-002053","2018-03-12",1,{"v":16588,"d":"16,588"},{"$f":"IF(t.base[[#This Row],[DIAS DE ATRASO]]=0,0,t.base[[#This Row],[TOTAL]])","v":16588}]
["2018-01-12","INFOGESTION S.A.C.","Centro","0001-001921","2018-03-13",0,{"v":17387,"d":"17,387"},{"$f":"IF(t.base[[#This Row],[DIAS DE ATRASO]]=0,0,t.base[[#This Row],[TOTAL]])","v":0}]
["2017-12-05","MEDELCO SRL","Sur","0002-007246","2018-01-19",53,{"v":32634,"d":"32,634"},{"$f":"IF(t.base[[#This Row],[DIAS DE ATRASO]]=0,0,t.base[[#This Row],[TOTAL]])","v":32634}]
["2018-03-13","DREAM POWER S.A.C.","Centro","0002-009560","2018-03-13",0,{"v":14088,"d":"14,088"},{"$f":"IF(t.base[[#This Row],[DIAS DE ATRASO]]=0,0,t.base[[#This Row],[TOTAL]])","v":0}]
["2017-11-24","CAR SALES E.I.R.L.","Centro","0002-009213","2018-02-22",19,{"v":20416,"d":"20,416"},{"$f":"IF(t.base[[#This Row],[DIAS DE ATRASO]]=0,0,t.base[[#This Row],[TOTAL]])","v":20416}]
["2018-01-26","INKACLOTH S.A.C.","Centro","0002-007079","2018-03-12",1,{"v":24414,"d":"24,414"},{"$f":"IF(t.base[[#This Row],[DIAS DE ATRASO]]=0,0,t.base[[#This Row],[TOTAL]])","v":24414}]
["2018-01-12","DAMERED S.A.C.","Centro","0001-004500","2018-03-13",0,{"v":15525,"d":"15,525"},{"$f":"IF(t.base[[#This Row],[DIAS DE ATRASO]]=0,0,t.base[[#This Row],[TOTAL]])","v":0}]
["2017-12-30","MOTO ANDES S.A.C.","Centro","0001-009790","2017-12-30",73,{"v":24613,"d":"24,613"},{"$f":"IF(t.base[[#This Row],[DIAS DE ATRASO]]=0,0,t.base[[#This Row],[TOTAL]])","v":24613}]
["2018-01-24","ARMERIA CALIBRE SAC","Centro","0001-002967","2018-01-24",48,{"v":11644,"d":"11,644"},{"$f":"IF(t.base[[#This Row],[DIAS DE ATRASO]]=0,0,t.base[[#This Row],[TOTAL]])","v":11644}]
["2018-01-27","PORCELL  S.A.C.","Centro","0002-002474","2018-03-13",0,{"v":16532,"d":"16,532"},{"$f":"IF(t.base[[#This Row],[DIAS DE ATRASO]]=0,0,t.base[[#This Row],[TOTAL]])","v":0}]
["2017-10-19","NORSOL S.A.C","Centro","0001-009403","2017-12-03",100,{"v":26809,"d":"26,809"},{"$f":"IF(t.base[[#This Row],[DIAS DE ATRASO]]=0,0,t.base[[#This Row],[TOTAL]])","v":26809}]
["2018-03-13","ALPAMEL S.A.C.","Sur","0001-009547","2018-03-13",0,{"v":18012,"d":"18,012"},{"$f":"IF(t.base[[#This Row],[DIAS DE ATRASO]]=0,0,t.base[[#This Row],[TOTAL]])","v":0}]
["2018-03-05","SALCOM S.A.C.","Centro","0002-002101","2018-03-05",8,{"v":10390,"d":"10,390"},{"$f":"IF(t.base[[#This Row],[DIAS DE ATRASO]]=0,0,t.base[[#This Row],[TOTAL]])","v":10390}]
["2018-01-11","JON MARSIL E.I.R.L","Centro","0001-001656","2018-03-12",1,{"v":21575,"d":"21,575"},{"$f":"IF(t.base[[#This Row],[DIAS DE ATRASO]]=0,0,t.base[[#This Row],[TOTAL]])","v":21575}]
["2018-01-12","COMPUMAGIC S.A.C.","Centro","0001-003234","2018-03-13",0,{"v":10278,"d":"10,278"},{"$f":"IF(t.base[[#This Row],[DIAS DE ATRASO]]=0,0,t.base[[#This Row],[TOTAL]])","v":0}]
["2018-03-13","AGRO SELECTO S.A.C.","Centro","0001-007014","2018-03-13",0,{"v":22225,"d":"22,225"},{"$f":"IF(t.base[[#This Row],[DIAS DE ATRASO]]=0,0,t.base[[#This Row],[TOTAL]])","v":0}]
["2017-09-23","PUBLICITY S.R.L","Centro","0002-003370","2017-09-23",171,{"v":25920,"d":"25,920"},{"$f":"IF(t.base[[#This Row],[DIAS DE ATRASO]]=0,0,t.base[[#This Row],[TOTAL]])","v":25920}]
["2017-12-15","AITER'S SRL","Centro","0001-002540","2018-01-29",43,{"v":12569,"d":"12,569"},{"$f":"IF(t.base[[#This Row],[DIAS DE ATRASO]]=0,0,t.base[[#This Row],[TOTAL]])","v":12569}]
["2018-02-15","BENING S.A.C.","Norte","0002-007251","2018-02-15",26,{"v":20913,"d":"20,913"},{"$f":"IF(t.base[[#This Row],[DIAS DE ATRASO]]=0,0,t.base[[#This Row],[TOTAL]])","v":20913}]
["2018-02-28","TONG WONG MU CHIN","Centro","0002-002508","2018-02-28",13,{"v":14381,"d":"14,381"},{"$f":"IF(t.base[[#This Row],[DIAS DE ATRASO]]=0,0,t.base[[#This Row],[TOTAL]])","v":14381}]
["2018-02-11","KYODAI PERU S.A.C.","Centro","0001-004067","2018-03-13",0,{"v":15999,"d":"15,999"},{"$f":"IF(t.base[[#This Row],[DIAS DE ATRASO]]=0,0,t.base[[#This Row],[TOTAL]])","v":0}]
["2018-01-12","LIDER GAS E.I.R.L.","Centro","0002-005852","2018-03-13",0,{"v":12806,"d":"12,806"},{"$f":"IF(t.base[[#This Row],[DIAS DE ATRASO]]=0,0,t.base[[#This Row],[TOTAL]])","v":0}]
["2018-02-11","A & SAN JOSE S.A.C","Centro","0002-001297","2018-03-13",0,{"v":21824,"d":"21,824"},{"$f":"IF(t.base[[#This Row],[DIAS DE ATRASO]]=0,0,t.base[[#This Row],[TOTAL]])","v":0}]
["2017-11-05","JICKA S.R.L.","Centro","0002-009916","2017-12-20",83,{"v":18975,"d":"18,975"},{"$f":"IF(t.base[[#This Row],[DIAS DE ATRASO]]=0,0,t.base[[#This Row],[TOTAL]])","v":18975}]
["2018-03-13","RIFUSE EIRL","Sur","0001-004549","2018-03-13",0,{"v":17013,"d":"17,013"},{"$f":"IF(t.base[[#This Row],[DIAS DE ATRASO]]=0,0,t.base[[#This Row],[TOTAL]])","v":0}]
["2018-03-13","CONASEM E.I.R.L.","Centro","0001-001846","2018-03-13",0,{"v":28666,"d":"28,666"},{"$f":"IF(t.base[[#This Row],[DIAS DE ATRASO]]=0,0,t.base[[#This Row],[TOTAL]])","v":0}]
["2017-12-13","VARGAS S.R.L.","Norte","0001-003403","2018-03-13",0,{"v":42016,"d":"42,016"},{"$f":"IF(t.base[[#This Row],[DIAS DE ATRASO]]=0,0,t.base[[#This Row],[TOTAL]])","v":0}]
["2017-12-13","MI CASA JNC S.A.C.","Centro","0002-008071","2018-03-13",0,{"v":11004,"d":"11,004"},{"$f":"IF(t.base[[#This Row],[DIAS DE ATRASO]]=0,0,t.base[[#This Row],[TOTAL]])","v":0}]
["2018-03-13","TECSE MUYOC","Sur","0002-003468","2018-03-13",0,{"v":8625,"d":"8,625"},{"$f":"IF(t.base[[#This Row],[DIAS DE ATRASO]]=0,0,t.base[[#This Row],[TOTAL]])","v":0}]
["2017-10-18","MULTIMUELLES S.A.","Centro","0002-004678","2017-11-02",131,{"v":22149,"d":"22,149"},{"$f":"IF(t.base[[#This Row],[DIAS DE ATRASO]]=0,0,t.base[[#This Row],[TOTAL]])","v":22149}]
["2017-12-13","SYSTCOM IMPORT SAC","Centro","0001-005462","2018-03-13",0,{"v":26778,"d":"26,778"},{"$f":"IF(t.base[[#This Row],[DIAS DE ATRASO]]=0,0,t.base[[#This Row],[TOTAL]])","v":0}]
["2018-01-12","LEUNG PANG EILEEN","Centro","0001-003437","2018-03-13",0,{"v":10881,"d":"10,881"},{"$f":"IF(t.base[[#This Row],[DIAS DE ATRASO]]=0,0,t.base[[#This Row],[TOTAL]])","v":0}]
["2018-02-11","SANATEL VIDA S.A.C.","Centro","0001-002123","2018-03-13",0,{"v":19185,"d":"19,185"},{"$f":"IF(t.base[[#This Row],[DIAS DE ATRASO]]=0,0,t.base[[#This Row],[TOTAL]])","v":0}]
["2018-02-26","MEI-NOI SAC.","Centro","0001-001007","2018-03-13",0,{"v":11175,"d":"11,175"},{"$f":"IF(t.base[[#This Row],[DIAS DE ATRASO]]=0,0,t.base[[#This Row],[TOTAL]])","v":0}]
["2018-01-27","BALTRONIX E.I.R.L.","Centro","0002-002381","2018-03-13",0,{"v":10570,"d":"10,570"},{"$f":"IF(t.base[[#This Row],[DIAS DE ATRASO]]=0,0,t.base[[#This Row],[TOTAL]])","v":0}]
["2017-12-13","DIVESA SERVICE S A","Centro","0002-003012","2018-03-13",0,{"v":13410,"d":"13,410"},{"$f":"IF(t.base[[#This Row],[DIAS DE ATRASO]]=0,0,t.base[[#This Row],[TOTAL]])","v":0}]
["2017-12-28","CLINICA ELERA S.R.L","Centro","0002-007634","2018-01-12",60,{"v":12581,"d":"12,581"},{"$f":"IF(t.base[[#This Row],[DIAS DE ATRASO]]=0,0,t.base[[#This Row],[TOTAL]])","v":12581}]
["2018-02-26","NEGYSER PERU S.A.C.","Centro","0001-006123","2018-03-13",0,{"v":25101,"d":"25,101"},{"$f":"IF(t.base[[#This Row],[DIAS DE ATRASO]]=0,0,t.base[[#This Row],[TOTAL]])","v":0}]
["2018-01-11","LOZANO E I R LTDA","Centro","0002-008601","2018-03-12",1,{"v":28942,"d":"28,942"},{"$f":"IF(t.base[[#This Row],[DIAS DE ATRASO]]=0,0,t.base[[#This Row],[TOTAL]])","v":28942}]
["2017-10-05","BODEGA OJEDA","Norte","0002-008792","2017-12-04",99,{"v":29016,"d":"29,016"},{"$f":"IF(t.base[[#This Row],[DIAS DE ATRASO]]=0,0,t.base[[#This Row],[TOTAL]])","v":29016}]
["2017-10-04","SOBITEC PERU S.A.C.","Centro","0002-004649","2018-01-02",70,{"v":13516,"d":"13,516"},{"$f":"IF(t.base[[#This Row],[DIAS DE ATRASO]]=0,0,t.base[[#This Row],[TOTAL]])","v":13516}]
["2018-02-11","TAI FENG SAC","Centro","0001-006737","2018-03-13",0,{"v":23057,"d":"23,057"},{"$f":"IF(t.base[[#This Row],[DIAS DE ATRASO]]=0,0,t.base[[#This Row],[TOTAL]])","v":0}]
["2017-12-13","AUTOSERVIS E.I.R.L.","Norte","0001-002802","2018-03-13",0,{"v":39143,"d":"39,143"},{"$f":"IF(t.base[[#This Row],[DIAS DE ATRASO]]=0,0,t.base[[#This Row],[TOTAL]])","v":0}]
["2018-01-26","KUNTUR WASSI S.A.C.","Sur","0001-004695","2018-03-12",1,{"v":10437,"d":"10,437"},{"$f":"IF(t.base[[#This Row],[DIAS DE ATRASO]]=0,0,t.base[[#This Row],[TOTAL]])","v":10437}]
["2018-02-11","S & J IMPORT S.A.C.","Centro","0002-004926","2018-03-13",0,{"v":19591,"d":"19,591"},{"$f":"IF(t.base[[#This Row],[DIAS DE ATRASO]]=0,0,t.base[[#This Row],[TOTAL]])","v":0}]
["2017-12-30","FALLA CHALEN SAMUEL","Centro","0001-005848","2017-12-30",73,{"v":23896,"d":"23,896"},{"$f":"IF(t.base[[#This Row],[DIAS DE ATRASO]]=0,0,t.base[[#This Row],[TOTAL]])","v":23896}]
["2017-12-12","TRANS ITAL S.A.C.","Centro","0002-008889","2018-03-12",1,{"v":26497,"d":"26,497"},{"$f":"IF(t.base[[#This Row],[DIAS DE ATRASO]]=0,0,t.base[[#This Row],[TOTAL]])","v":26497}]
["2017-07-23","SLENDER SAC","Centro","0002-006263","2017-09-21",173,{"v":12083,"d":"12,083"},{"$f":"IF(t.base[[#This Row],[DIAS DE ATRASO]]=0,0,t.base[[#This Row],[TOTAL]])","v":12083}]
["2017-05-19","RONG YINGLIN","Centro","0002-004627","2017-08-17",208,{"v":10765,"d":"10,765"},{"$f":"IF(t.base[[#This Row],[DIAS DE ATRASO]]=0,0,t.base[[#This Row],[TOTAL]])","v":10765}]
["2018-03-13","TBS LOGISTICS S.A.","Centro","0002-006897","2018-03-13",0,{"v":21156,"d":"21,156"},{"$f":"IF(t.base[[#This Row],[DIAS DE ATRASO]]=0,0,t.base[[#This Row],[TOTAL]])","v":0}]
["2018-02-10","SOTO BAZAN WILFREDO","Centro","0001-009193","2018-03-12",1,{"v":11816,"d":"11,816"},{"$f":"IF(t.base[[#This Row],[DIAS DE ATRASO]]=0,0,t.base[[#This Row],[TOTAL]])","v":11816}]
["2017-12-01","JIANG JINGYI","Centro","0002-009695","2018-03-01",12,{"v":20827,"d":"20,827"},{"$f":"IF(t.base[[#This Row],[DIAS DE ATRASO]]=0,0,t.base[[#This Row],[TOTAL]])","v":20827}]
["2018-01-31","JIANG JINGYI","Centro","0002-006379","2018-01-31",41,{"v":17392,"d":"17,392"},{"$f":"IF(t.base[[#This Row],[DIAS DE ATRASO]]=0,0,t.base[[#This Row],[TOTAL]])","v":17392}]
["2017-12-13","JOSLYN PERU S.A.C.","Centro","0002-009203","2018-03-13",0,{"v":12677,"d":"12,677"},{"$f":"IF(t.base[[#This Row],[DIAS DE ATRASO]]=0,0,t.base[[#This Row],[TOTAL]])","v":0}]
["2017-11-16","VHL FOOD SAC","Centro","0002-005713","2017-12-31",72,{"v":21184,"d":"21,184"},{"$f":"IF(t.base[[#This Row],[DIAS DE ATRASO]]=0,0,t.base[[#This Row],[TOTAL]])","v":21184}]
["2018-02-11","RUWA S.A.C.","Centro","0002-007837","2018-03-13",0,{"v":13196,"d":"13,196"},{"$f":"IF(t.base[[#This Row],[DIAS DE ATRASO]]=0,0,t.base[[#This Row],[TOTAL]])","v":0}]
["2017-12-13","KAMASENI S.A.C.","Centro","0002-007728","2018-03-13",0,{"v":25346,"d":"25,346"},{"$f":"IF(t.base[[#This Row],[DIAS DE ATRASO]]=0,0,t.base[[#This Row],[TOTAL]])","v":0}]
["2017-04-17","VICENT S.A.C.","Centro","0002-001799","2017-07-16",240,{"v":25751,"d":"25,751"},{"$f":"IF(t.base[[#This Row],[DIAS DE ATRASO]]=0,0,t.base[[#This Row],[TOTAL]])","v":25751}]
["2017-09-27","OMAN E.I.R.L.","Centro","0002-001642","2017-10-12",152,{"v":10636,"d":"10,636"},{"$f":"IF(t.base[[#This Row],[DIAS DE ATRASO]]=0,0,t.base[[#This Row],[TOTAL]])","v":10636}]
["2018-03-13","MEDICAL MED SAC","Centro","0001-006513","2018-03-13",0,{"v":19513,"d":"19,513"},{"$f":"IF(t.base[[#This Row],[DIAS DE ATRASO]]=0,0,t.base[[#This Row],[TOTAL]])","v":0}]
["2017-11-06","MENESES SAC","Centro","0001-005673","2018-01-05",67,{"v":20413,"d":"20,413"},{"$f":"IF(t.base[[#This Row],[DIAS DE ATRASO]]=0,0,t.base[[#This Row],[TOTAL]])","v":20413}]
["2018-01-12","ZAMOL S.A.C.","Centro","0002-005271","2018-03-13",0,{"v":17910,"d":"17,910"},{"$f":"IF(t.base[[#This Row],[DIAS DE ATRASO]]=0,0,t.base[[#This Row],[TOTAL]])","v":0}]
["2017-10-20","CHAVEZ FLORES BETZY","Centro","0001-009267","2017-12-04",99,{"v":23836,"d":"23,836"},{"$f":"IF(t.base[[#This Row],[DIAS DE ATRASO]]=0,0,t.base[[#This Row],[TOTAL]])","v":23836}]
["2018-02-11","SERTEL PC S.R.L.","Norte","0002-008329","2018-03-13",0,{"v":31421,"d":"31,421"},{"$f":"IF(t.base[[#This Row],[DIAS DE ATRASO]]=0,0,t.base[[#This Row],[TOTAL]])","v":0}]
["2017-12-16","AITER'S SRL","Centro","0002-001399","2018-01-15",57,{"v":10683,"d":"10,683"},{"$f":"IF(t.base[[#This Row],[DIAS DE ATRASO]]=0,0,t.base[[#This Row],[TOTAL]])","v":10683}]
["2018-01-27","JOMAHI E.I.R.L.","Norte","0001-008737","2018-03-13",0,{"v":67117,"d":"67,117"},{"$f":"IF(t.base[[#This Row],[DIAS DE ATRASO]]=0,0,t.base[[#This Row],[TOTAL]])","v":0}]
["2018-01-02","REDIJUA S.R.L.","Sur","0002-006959","2018-02-01",40,{"v":30252,"d":"30,252"},{"$f":"IF(t.base[[#This Row],[DIAS DE ATRASO]]=0,0,t.base[[#This Row],[TOTAL]])","v":30252}]
["2018-01-12","JJJ KADAR S.A.C.","Centro","0001-003627","2018-03-13",0,{"v":26800,"d":"26,800"},{"$f":"IF(t.base[[#This Row],[DIAS DE ATRASO]]=0,0,t.base[[#This Row],[TOTAL]])","v":0}]
["2018-02-26","KARPATRI S.A.C.","Centro","0002-001883","2018-03-13",0,{"v":25984,"d":"25,984"},{"$f":"IF(t.base[[#This Row],[DIAS DE ATRASO]]=0,0,t.base[[#This Row],[TOTAL]])","v":0}]
["2017-10-19","JASPE E.I.R.L.","Sur","0001-006737","2017-12-18",85,{"v":9206,"d":"9,206"},{"$f":"IF(t.base[[#This Row],[DIAS DE ATRASO]]=0,0,t.base[[#This Row],[TOTAL]])","v":9206}]
["2018-02-13","FARMA OBLEA SAC","Centro","0002-002713","2018-02-13",28,{"v":10325,"d":"10,325"},{"$f":"IF(t.base[[#This Row],[DIAS DE ATRASO]]=0,0,t.base[[#This Row],[TOTAL]])","v":10325}]
["2018-01-22","GRIFOS AQP S.R.L.","Sur","0002-005913","2018-01-22",50,{"v":46168,"d":"46,168"},{"$f":"IF(t.base[[#This Row],[DIAS DE ATRASO]]=0,0,t.base[[#This Row],[TOTAL]])","v":46168}]
["2017-12-13","OMNITEC S.R.L.","Sur","0002-004181","2018-03-13",0,{"v":25608,"d":"25,608"},{"$f":"IF(t.base[[#This Row],[DIAS DE ATRASO]]=0,0,t.base[[#This Row],[TOTAL]])","v":0}]
["2017-12-22","ALCANZANDO","Centro","0002-009661","2018-02-20",21,{"v":28509,"d":"28,509"},{"$f":"IF(t.base[[#This Row],[DIAS DE ATRASO]]=0,0,t.base[[#This Row],[TOTAL]])","v":28509}]
["2018-01-27","COK LINO ROBERTO","Centro","0002-008149","2018-03-13",0,{"v":21921,"d":"21,921"},{"$f":"IF(t.base[[#This Row],[DIAS DE ATRASO]]=0,0,t.base[[#This Row],[TOTAL]])","v":0}]
["2018-01-26","ANVACHRIS E.I.R.L.","Centro","0001-001334","2018-01-26",46,{"v":24114,"d":"24,114"},{"$f":"IF(t.base[[#This Row],[DIAS DE ATRASO]]=0,0,t.base[[#This Row],[TOTAL]])","v":24114}]
["2017-11-15","MAQUIHER E.I.R.L.","Sur","0002-004324","2018-01-14",58,{"v":40565,"d":"40,565"},{"$f":"IF(t.base[[#This Row],[DIAS DE ATRASO]]=0,0,t.base[[#This Row],[TOTAL]])","v":40565}]
["2017-08-11","MHO IMPORT S.A.C.","Centro","0002-003952","2017-10-10",154,{"v":25660,"d":"25,660"},{"$f":"IF(t.base[[#This Row],[DIAS DE ATRASO]]=0,0,t.base[[#This Row],[TOTAL]])","v":25660}]
["2017-09-07","KETZI S.A.C.","Norte","0001-008637","2017-12-06",97,{"v":27956,"d":"27,956"},{"$f":"IF(t.base[[#This Row],[DIAS DE ATRASO]]=0,0,t.base[[#This Row],[TOTAL]])","v":27956}]
["2018-01-27","GRUPO VASQUEZ SAC","Centro","0001-008723","2018-03-13",0,{"v":22623,"d":"22,623"},{"$f":"IF(t.base[[#This Row],[DIAS DE ATRASO]]=0,0,t.base[[#This Row],[TOTAL]])","v":0}]
["2018-03-13","ICM CONSULTING SAC","Centro","0002-003692","2018-03-13",0,{"v":17413,"d":"17,413"},{"$f":"IF(t.base[[#This Row],[DIAS DE ATRASO]]=0,0,t.base[[#This Row],[TOTAL]])","v":0}]
["2017-12-13","RODIMPORT S.R.L.","Norte","0001-007062","2018-03-13",0,{"v":44741,"d":"44,741"},{"$f":"IF(t.base[[#This Row],[DIAS DE ATRASO]]=0,0,t.base[[#This Row],[TOTAL]])","v":0}]
["2018-03-13","CARGRAPHICS S.A.C.","Centro","0002-007473","2018-03-13",0,{"v":13233,"d":"13,233"},{"$f":"IF(t.base[[#This Row],[DIAS DE ATRASO]]=0,0,t.base[[#This Row],[TOTAL]])","v":0}]
["2018-01-27","RICAVA S.A.C.","Centro","0002-003294","2018-03-13",0,{"v":17741,"d":"17,741"},{"$f":"IF(t.base[[#This Row],[DIAS DE ATRASO]]=0,0,t.base[[#This Row],[TOTAL]])","v":0}]
["2018-02-10","JORTRANSPORT S.R.L.","Centro","0002-005576","2018-03-12",1,{"v":25380,"d":"25,380"},{"$f":"IF(t.base[[#This Row],[DIAS DE ATRASO]]=0,0,t.base[[#This Row],[TOTAL]])","v":25380}]
["2018-02-11","MOTOREMA S.A.C.","Centro","0001-006836","2018-03-13",0,{"v":19650,"d":"19,650"},{"$f":"IF(t.base[[#This Row],[DIAS DE ATRASO]]=0,0,t.base[[#This Row],[TOTAL]])","v":0}]
["2018-01-12","MERP S.A.C.","Centro","0001-003677","2018-03-13",0,{"v":26021,"d":"26,021"},{"$f":"IF(t.base[[#This Row],[DIAS DE ATRASO]]=0,0,t.base[[#This Row],[TOTAL]])","v":0}]
["2018-02-11","DATA PC S.R.L.","Sur","0001-003312","2018-03-13",0,{"v":19742,"d":"19,742"},{"$f":"IF(t.base[[#This Row],[DIAS DE ATRASO]]=0,0,t.base[[#This Row],[TOTAL]])","v":0}]
["2018-01-12","XSTRATA PERU S.A","Centro","0001-006838","2018-03-13",0,{"v":29883,"d":"29,883"},{"$f":"IF(t.base[[#This Row],[DIAS DE ATRASO]]=0,0,t.base[[#This Row],[TOTAL]])","v":0}]
["2018-01-27","REDIJUA S.R.L.","Sur","0001-002948","2018-03-13",0,{"v":48915,"d":"48,915"},{"$f":"IF(t.base[[#This Row],[DIAS DE ATRASO]]=0,0,t.base[[#This Row],[TOTAL]])","v":0}]
["2018-03-12","ARCATEX S.A.C.","Centro","0002-002800","2018-03-12",1,{"v":18103,"d":"18,103"},{"$f":"IF(t.base[[#This Row],[DIAS DE ATRASO]]=0,0,t.base[[#This Row],[TOTAL]])","v":18103}]
["2018-02-11","ARPE EIRL","Norte","0002-008605","2018-03-13",0,{"v":49934,"d":"49,934"},{"$f":"IF(t.base[[#This Row],[DIAS DE ATRASO]]=0,0,t.base[[#This Row],[TOTAL]])","v":0}]
["2018-01-27","ORBE EMPRESARIAL SA","Centro","0002-007677","2018-03-13",0,{"v":20178,"d":"20,178"},{"$f":"IF(t.base[[#This Row],[DIAS DE ATRASO]]=0,0,t.base[[#This Row],[TOTAL]])","v":0}]
["2018-02-04","ITAPIER S.R.L.","Centro","0001-009741","2018-02-19",22,{"v":24830,"d":"24,830"},{"$f":"IF(t.base[[#This Row],[DIAS DE ATRASO]]=0,0,t.base[[#This Row],[TOTAL]])","v":24830}]
["2018-01-27","COPY  GRAPH S.A.C.","Centro","0001-007224","2018-03-13",0,{"v":24810,"d":"24,810"},{"$f":"IF(t.base[[#This Row],[DIAS DE ATRASO]]=0,0,t.base[[#This Row],[TOTAL]])","v":0}]
["2018-03-13","YOAAN EIRL","Centro","0002-007856","2018-03-13",0,{"v":29989,"d":"29,989"},{"$f":"IF(t.base[[#This Row],[DIAS DE ATRASO]]=0,0,t.base[[#This Row],[TOTAL]])","v":0}]
["2018-02-14","INVERIAS S.A.C.","Sur","0002-006875","2018-03-01",12,{"v":37681,"d":"37,681"},{"$f":"IF(t.base[[#This Row],[DIAS DE ATRASO]]=0,0,t.base[[#This Row],[TOTAL]])","v":37681}]
["2017-08-13","CASAPAN PERU S.A.C.","Centro","0001-008804","2017-11-11",122,{"v":23973,"d":"23,973"},{"$f":"IF(t.base[[#This Row],[DIAS DE ATRASO]]=0,0,t.base[[#This Row],[TOTAL]])","v":23973}]
["2017-12-05","MAQUERA RAMOS IRMA","Centro","0002-003533","2018-01-19",53,{"v":21841,"d":"21,841"},{"$f":"IF(t.base[[#This Row],[DIAS DE ATRASO]]=0,0,t.base[[#This Row],[TOTAL]])","v":21841}]
["2017-12-30","MIKOMI SAC","Centro","0002-001672","2018-02-13",28,{"v":11958,"d":"11,958"},{"$f":"IF(t.base[[#This Row],[DIAS DE ATRASO]]=0,0,t.base[[#This Row],[TOTAL]])","v":11958}]
["2018-03-13","MORE CLASS S.A.C","Centro","0001-004879","2018-03-13",0,{"v":13205,"d":"13,205"},{"$f":"IF(t.base[[#This Row],[DIAS DE ATRASO]]=0,0,t.base[[#This Row],[TOTAL]])","v":0}]
["2018-02-11","RONESK S.A.C.","Centro","0002-003254","2018-03-13",0,{"v":26039,"d":"26,039"},{"$f":"IF(t.base[[#This Row],[DIAS DE ATRASO]]=0,0,t.base[[#This Row],[TOTAL]])","v":0}]
["2017-12-13","LOPEZ DURAND ISAAC","Centro","0002-001855","2018-03-13",0,{"v":22850,"d":"22,850"},{"$f":"IF(t.base[[#This Row],[DIAS DE ATRASO]]=0,0,t.base[[#This Row],[TOTAL]])","v":0}]
["2017-10-23","MEGA GESTION S.A.C","Centro","0001-001841","2017-12-22",81,{"v":26371,"d":"26,371"},{"$f":"IF(t.base[[#This Row],[DIAS DE ATRASO]]=0,0,t.base[[#This Row],[TOTAL]])","v":26371}]
["2018-01-12","CONSORCIO LIPESOL","Centro","0001-009545","2018-03-13",0,{"v":11161,"d":"11,161"},{"$f":"IF(t.base[[#This Row],[DIAS DE ATRASO]]=0,0,t.base[[#This Row],[TOTAL]])","v":0}]
["2017-12-13","PERALTA ROMAN YOISY","Centro","0002-005931","2018-03-13",0,{"v":19733,"d":"19,733"},{"$f":"IF(t.base[[#This Row],[DIAS DE ATRASO]]=0,0,t.base[[#This Row],[TOTAL]])","v":0}]
["2017-10-19","REYAL SRLTDA","Centro","0002-005878","2017-11-18",115,{"v":22638,"d":"22,638"},{"$f":"IF(t.base[[#This Row],[DIAS DE ATRASO]]=0,0,t.base[[#This Row],[TOTAL]])","v":22638}]
["2018-02-11","WASHOKU S.A.C.","Centro","0001-004561","2018-02-11",30,{"v":21290,"d":"21,290"},{"$f":"IF(t.base[[#This Row],[DIAS DE ATRASO]]=0,0,t.base[[#This Row],[TOTAL]])","v":21290}]
["2017-07-24","GIGABRANDS S.A.C.","Centro","0001-006219","2017-08-08",217,{"v":14507,"d":"14,507"},{"$f":"IF(t.base[[#This Row],[DIAS DE ATRASO]]=0,0,t.base[[#This Row],[TOTAL]])","v":14507}]
["2018-02-26","KORN S.A.C.","Centro","0001-003871","2018-03-13",0,{"v":24086,"d":"24,086"},{"$f":"IF(t.base[[#This Row],[DIAS DE ATRASO]]=0,0,t.base[[#This Row],[TOTAL]])","v":0}]
["2018-01-26","AGREGA S.A.C.","Centro","0002-001790","2018-02-25",16,{"v":15414,"d":"15,414"},{"$f":"IF(t.base[[#This Row],[DIAS DE ATRASO]]=0,0,t.base[[#This Row],[TOTAL]])","v":15414}]
["2018-01-27","BRANAT E.I.R.L.","Centro","0001-003491","2018-03-13",0,{"v":14296,"d":"14,296"},{"$f":"IF(t.base[[#This Row],[DIAS DE ATRASO]]=0,0,t.base[[#This Row],[TOTAL]])","v":0}]
["2017-12-13","ROSAS PANDO ANIBAL","Centro","0002-007101","2018-03-13",0,{"v":16384,"d":"16,384"},{"$f":"IF(t.base[[#This Row],[DIAS DE ATRASO]]=0,0,t.base[[#This Row],[TOTAL]])","v":0}]
["2018-02-26","KIYOTAMA  S.A.C.","Centro","0002-002260","2018-03-13",0,{"v":22845,"d":"22,845"},{"$f":"IF(t.base[[#This Row],[DIAS DE ATRASO]]=0,0,t.base[[#This Row],[TOTAL]])","v":0}]
["2018-02-03","SCHIENZA S.A.","Centro","0002-005818","2018-03-05",8,{"v":27244,"d":"27,244"},{"$f":"IF(t.base[[#This Row],[DIAS DE ATRASO]]=0,0,t.base[[#This Row],[TOTAL]])","v":27244}]
["2018-03-12","CLAS CABANACONDE","Sur","0001-008666","2018-03-12",1,{"v":5317,"d":"5,317"},{"$f":"IF(t.base[[#This Row],[DIAS DE ATRASO]]=0,0,t.base[[#This Row],[TOTAL]])","v":5317}]
["2018-01-27","OMAN E.I.R.L.","Centro","0001-001453","2018-03-13",0,{"v":23117,"d":"23,117"},{"$f":"IF(t.base[[#This Row],[DIAS DE ATRASO]]=0,0,t.base[[#This Row],[TOTAL]])","v":0}]
["2018-02-11","FUKU E.I.R.L.","Centro","0001-002630","2018-03-13",0,{"v":24552,"d":"24,552"},{"$f":"IF(t.base[[#This Row],[DIAS DE ATRASO]]=0,0,t.base[[#This Row],[TOTAL]])","v":0}]
["2018-02-11","C & F PRINTS S.A.C.","Centro","0001-003140","2018-03-13",0,{"v":11629,"d":"11,629"},{"$f":"IF(t.base[[#This Row],[DIAS DE ATRASO]]=0,0,t.base[[#This Row],[TOTAL]])","v":0}]
["2017-12-04","HOSTAL RUIZ SRL","Norte","0001-009938","2018-01-03",69,{"v":15525,"d":"15,525"},{"$f":"IF(t.base[[#This Row],[DIAS DE ATRASO]]=0,0,t.base[[#This Row],[TOTAL]])","v":15525}]
["2018-02-17","CLAS CONDESUYOS","Sur","0002-003783","2018-02-17",24,{"v":12449,"d":"12,449"},{"$f":"IF(t.base[[#This Row],[DIAS DE ATRASO]]=0,0,t.base[[#This Row],[TOTAL]])","v":12449}]
["2017-12-04","CARRASCO RUIZ ELINO","Centro","0002-008966","2018-01-18",54,{"v":14903,"d":"14,903"},{"$f":"IF(t.base[[#This Row],[DIAS DE ATRASO]]=0,0,t.base[[#This Row],[TOTAL]])","v":14903}]
["2018-02-11","MEGA GESTION S.A.C","Centro","0002-006034","2018-02-11",30,{"v":11803,"d":"11,803"},{"$f":"IF(t.base[[#This Row],[DIAS DE ATRASO]]=0,0,t.base[[#This Row],[TOTAL]])","v":11803}]
["2017-12-13","VIRGO PERU SAC","Centro","0002-008031","2018-03-13",0,{"v":25250,"d":"25,250"},{"$f":"IF(t.base[[#This Row],[DIAS DE ATRASO]]=0,0,t.base[[#This Row],[TOTAL]])","v":0}]
["2018-02-10","ALDELI S.A.","Centro","0001-009481","2018-03-12",1,{"v":18597,"d":"18,597"},{"$f":"IF(t.base[[#This Row],[DIAS DE ATRASO]]=0,0,t.base[[#This Row],[TOTAL]])","v":18597}]
["2018-02-26","DISTRIMED S.A.C.","Centro","0002-002078","2018-03-13",0,{"v":19435,"d":"19,435"},{"$f":"IF(t.base[[#This Row],[DIAS DE ATRASO]]=0,0,t.base[[#This Row],[TOTAL]])","v":0}]
["2018-02-26","ECOREP S.A.C.","Centro","0002-005658","2018-03-13",0,{"v":26471,"d":"26,471"},{"$f":"IF(t.base[[#This Row],[DIAS DE ATRASO]]=0,0,t.base[[#This Row],[TOTAL]])","v":0}]
["2018-01-12","DARMA S.A","Centro","0001-001889","2018-03-13",0,{"v":12708,"d":"12,708"},{"$f":"IF(t.base[[#This Row],[DIAS DE ATRASO]]=0,0,t.base[[#This Row],[TOTAL]])","v":0}]
["2018-02-10","JON MARSIL E.I.R.L","Centro","0002-001029","2018-03-12",1,{"v":25637,"d":"25,637"},{"$f":"IF(t.base[[#This Row],[DIAS DE ATRASO]]=0,0,t.base[[#This Row],[TOTAL]])","v":25637}]
["2017-11-18","AGREGA S.A.C.","Centro","0001-009198","2018-01-02",70,{"v":15488,"d":"15,488"},{"$f":"IF(t.base[[#This Row],[DIAS DE ATRASO]]=0,0,t.base[[#This Row],[TOTAL]])","v":15488}]
["2018-02-10","TRANSPORTE ZEM EIRL","Centro","0001-007259","2018-02-10",31,{"v":26475,"d":"26,475"},{"$f":"IF(t.base[[#This Row],[DIAS DE ATRASO]]=0,0,t.base[[#This Row],[TOTAL]])","v":26475}]
["2018-03-12","FERRICENTRO SAC","Norte","0002-008141","2018-03-12",1,{"v":40163,"d":"40,163"},{"$f":"IF(t.base[[#This Row],[DIAS DE ATRASO]]=0,0,t.base[[#This Row],[TOTAL]])","v":40163}]
["2018-01-12","PILCO VILCA PASTORA","Centro","0001-008311","2018-03-13",0,{"v":16256,"d":"16,256"},{"$f":"IF(t.base[[#This Row],[DIAS DE ATRASO]]=0,0,t.base[[#This Row],[TOTAL]])","v":0}]
["2018-01-12","FAMESOL E.I.R.L.","Sur","0002-004820","2018-03-13",0,{"v":49655,"d":"49,655"},{"$f":"IF(t.base[[#This Row],[DIAS DE ATRASO]]=0,0,t.base[[#This Row],[TOTAL]])","v":0}]
["2017-08-26","QUISPE NINA AMERICO","Centro","0001-003253","2017-10-25",139,{"v":16398,"d":"16,398"},{"$f":"IF(t.base[[#This Row],[DIAS DE ATRASO]]=0,0,t.base[[#This Row],[TOTAL]])","v":16398}]
["2018-02-11","M & R TANQUE SAC","Centro","0002-004666","2018-03-13",0,{"v":18753,"d":"18,753"},{"$f":"IF(t.base[[#This Row],[DIAS DE ATRASO]]=0,0,t.base[[#This Row],[TOTAL]])","v":0}]
["2018-02-09","CASINOS AMERICA SAC","Norte","0002-003823","2018-02-24",17,{"v":28374,"d":"28,374"},{"$f":"IF(t.base[[#This Row],[DIAS DE ATRASO]]=0,0,t.base[[#This Row],[TOTAL]])","v":28374}]
["2018-02-26","PIGMOOL E.I.R.L.","Sur","0002-005081","2018-03-13",0,{"v":18877,"d":"18,877"},{"$f":"IF(t.base[[#This Row],[DIAS DE ATRASO]]=0,0,t.base[[#This Row],[TOTAL]])","v":0}]
["2018-01-12","BISMAR E.I.R.L","Norte","0001-008963","2018-03-13",0,{"v":35760,"d":"35,760"},{"$f":"IF(t.base[[#This Row],[DIAS DE ATRASO]]=0,0,t.base[[#This Row],[TOTAL]])","v":0}]
["2018-02-11","BAZAR SUBCAFAE","Norte","0002-001057","2018-03-13",0,{"v":33793,"d":"33,793"},{"$f":"IF(t.base[[#This Row],[DIAS DE ATRASO]]=0,0,t.base[[#This Row],[TOTAL]])","v":0}]
["2017-11-22","VICKO Y CO S.A.","Centro","0002-001824","2017-12-22",81,{"v":24672,"d":"24,672"},{"$f":"IF(t.base[[#This Row],[DIAS DE ATRASO]]=0,0,t.base[[#This Row],[TOTAL]])","v":24672}]
["2018-02-25","KARCIL S.A.C","Centro","0002-007258","2018-03-12",1,{"v":20681,"d":"20,681"},{"$f":"IF(t.base[[#This Row],[DIAS DE ATRASO]]=0,0,t.base[[#This Row],[TOTAL]])","v":20681}]
["2018-03-13","LOPEZ ARIAS MANUEL","Centro","0001-005385","2018-03-13",0,{"v":18641,"d":"18,641"},{"$f":"IF(t.base[[#This Row],[DIAS DE ATRASO]]=0,0,t.base[[#This Row],[TOTAL]])","v":0}]
["2018-02-11","FRANK MEDICA S.A.C","Centro","0002-004109","2018-03-13",0,{"v":22011,"d":"22,011"},{"$f":"IF(t.base[[#This Row],[DIAS DE ATRASO]]=0,0,t.base[[#This Row],[TOTAL]])","v":0}]
["2017-11-16","ARTIFICIUM S.A.C.","Centro","0001-006940","2017-12-31",72,{"v":14196,"d":"14,196"},{"$f":"IF(t.base[[#This Row],[DIAS DE ATRASO]]=0,0,t.base[[#This Row],[TOTAL]])","v":14196}]
["2018-03-13","DDP ADUANAS S.A.C.","Sur","0001-001050","2018-03-13",0,{"v":18860,"d":"18,860"},{"$f":"IF(t.base[[#This Row],[DIAS DE ATRASO]]=0,0,t.base[[#This Row],[TOTAL]])","v":0}]
["2018-01-11","MAQ DEPOT S.A.C.","Centro","0001-001512","2018-03-12",1,{"v":24126,"d":"24,126"},{"$f":"IF(t.base[[#This Row],[DIAS DE ATRASO]]=0,0,t.base[[#This Row],[TOTAL]])","v":24126}]
["2018-01-27","ATELCINE PERU SAC","Centro","0001-005253","2018-03-13",0,{"v":19679,"d":"19,679"},{"$f":"IF(t.base[[#This Row],[DIAS DE ATRASO]]=0,0,t.base[[#This Row],[TOTAL]])","v":0}]
["2018-01-11","TEXARIAN E.I.R.L.","Centro","0002-009388","2018-03-12",1,{"v":28365,"d":"28,365"},{"$f":"IF(t.base[[#This Row],[DIAS DE ATRASO]]=0,0,t.base[[#This Row],[TOTAL]])","v":28365}]
["2018-01-27","KENUAL S.A.C.","Centro","0001-006903","2018-03-13",0,{"v":14845,"d":"14,845"},{"$f":"IF(t.base[[#This Row],[DIAS DE ATRASO]]=0,0,t.base[[#This Row],[TOTAL]])","v":0}]
["2018-01-12","MAMANI SOSA ANA","Centro","0002-001685","2018-03-13",0,{"v":19330,"d":"19,330"},{"$f":"IF(t.base[[#This Row],[DIAS DE ATRASO]]=0,0,t.base[[#This Row],[TOTAL]])","v":0}]
["2017-12-13","TV. CARD E.I.R.L.","Centro","0001-008506","2018-03-13",0,{"v":23927,"d":"23,927"},{"$f":"IF(t.base[[#This Row],[DIAS DE ATRASO]]=0,0,t.base[[#This Row],[TOTAL]])","v":0}]
["2018-03-12","LUCMOIS E.I.R.L.","Centro","0001-004270","2018-03-12",1,{"v":12376,"d":"12,376"},{"$f":"IF(t.base[[#This Row],[DIAS DE ATRASO]]=0,0,t.base[[#This Row],[TOTAL]])","v":12376}]
["2018-03-13","COMERCIAL M&P SRL","Sur","0001-009747","2018-03-13",0,{"v":33170,"d":"33,170"},{"$f":"IF(t.base[[#This Row],[DIAS DE ATRASO]]=0,0,t.base[[#This Row],[TOTAL]])","v":0}]
["2018-03-12","COMERCIAL ISIS SAC","Centro","0001-003773","2018-03-12",1,{"v":13035,"d":"13,035"},{"$f":"IF(t.base[[#This Row],[DIAS DE ATRASO]]=0,0,t.base[[#This Row],[TOTAL]])","v":13035}]
["2018-02-11","L & C SERVIS EIRL","Norte","0001-004964","2018-03-13",0,{"v":37560,"d":"37,560"},{"$f":"IF(t.base[[#This Row],[DIAS DE ATRASO]]=0,0,t.base[[#This Row],[TOTAL]])","v":0}]
["2017-12-11","HUARACA ARIAS FABIO","Centro","0001-006106","2018-02-09",32,{"v":17024,"d":"17,024"},{"$f":"IF(t.base[[#This Row],[DIAS DE ATRASO]]=0,0,t.base[[#This Row],[TOTAL]])","v":17024}]
["2017-12-13","ECO TAXI S.A.C.","Centro","0002-006666","2018-03-13",0,{"v":16174,"d":"16,174"},{"$f":"IF(t.base[[#This Row],[DIAS DE ATRASO]]=0,0,t.base[[#This Row],[TOTAL]])","v":0}]
["2017-12-22","TOPOGIS S.A.C.","Centro","0001-006852","2018-01-21",51,{"v":26106,"d":"26,106"},{"$f":"IF(t.base[[#This Row],[DIAS DE ATRASO]]=0,0,t.base[[#This Row],[TOTAL]])","v":26106}]
["2018-02-11","OFITECC S.A.C.","Norte","0002-008550","2018-03-13",0,{"v":41943,"d":"41,943"},{"$f":"IF(t.base[[#This Row],[DIAS DE ATRASO]]=0,0,t.base[[#This Row],[TOTAL]])","v":0}]
["2018-01-26","BISMAR E.I.R.L","Norte","0001-009670","2018-03-12",1,{"v":64939,"d":"64,939"},{"$f":"IF(t.base[[#This Row],[DIAS DE ATRASO]]=0,0,t.base[[#This Row],[TOTAL]])","v":64939}]
["2018-01-11","VAMER E.I.R.L","Norte","0002-009086","2018-03-12",1,{"v":64622,"d":"64,622"},{"$f":"IF(t.base[[#This Row],[DIAS DE ATRASO]]=0,0,t.base[[#This Row],[TOTAL]])","v":64622}]
["2018-01-12","CAMPOS QUISPE MARIO","Centro","0001-006739","2018-03-13",0,{"v":10206,"d":"10,206"},{"$f":"IF(t.base[[#This Row],[DIAS DE ATRASO]]=0,0,t.base[[#This Row],[TOTAL]])","v":0}]
["2017-12-21","MRP E.I.R.L.","Centro","0001-007696","2017-12-21",82,{"v":18033,"d":"18,033"},{"$f":"IF(t.base[[#This Row],[DIAS DE ATRASO]]=0,0,t.base[[#This Row],[TOTAL]])","v":18033}]
["2018-02-11","TEXMACHINE S.A.C.","Centro","0001-001271","2018-03-13",0,{"v":11885,"d":"11,885"},{"$f":"IF(t.base[[#This Row],[DIAS DE ATRASO]]=0,0,t.base[[#This Row],[TOTAL]])","v":0}]
["2018-01-27","TAPIPLASTIC  S.A.C.","Norte","0002-005222","2018-03-13",0,{"v":31168,"d":"31,168"},{"$f":"IF(t.base[[#This Row],[DIAS DE ATRASO]]=0,0,t.base[[#This Row],[TOTAL]])","v":0}]
["2018-02-26","TECENG S.A.C.","Centro","0002-008625","2018-03-13",0,{"v":16306,"d":"16,306"},{"$f":"IF(t.base[[#This Row],[DIAS DE ATRASO]]=0,0,t.base[[#This Row],[TOTAL]])","v":0}]
["2017-11-18","MEDICAL MED SAC","Centro","0002-001807","2018-01-17",55,{"v":28279,"d":"28,279"},{"$f":"IF(t.base[[#This Row],[DIAS DE ATRASO]]=0,0,t.base[[#This Row],[TOTAL]])","v":28279}]
["2017-10-27","FIVE PERU E.I.R.L.","Centro","0001-008094","2017-12-26",77,{"v":27027,"d":"27,027"},{"$f":"IF(t.base[[#This Row],[DIAS DE ATRASO]]=0,0,t.base[[#This Row],[TOTAL]])","v":27027}]
["2018-01-27","TEXMACHINE S.A.C.","Centro","0002-004424","2018-03-13",0,{"v":16216,"d":"16,216"},{"$f":"IF(t.base[[#This Row],[DIAS DE ATRASO]]=0,0,t.base[[#This Row],[TOTAL]])","v":0}]
["2018-01-27","LEON GROUP E.I.R.L.","Sur","0001-001119","2018-03-13",0,{"v":33428,"d":"33,428"},{"$f":"IF(t.base[[#This Row],[DIAS DE ATRASO]]=0,0,t.base[[#This Row],[TOTAL]])","v":0}]
["2018-01-27","T-APRUEBO S.A.C.","Centro","0002-007232","2018-03-13",0,{"v":21234,"d":"21,234"},{"$f":"IF(t.base[[#This Row],[DIAS DE ATRASO]]=0,0,t.base[[#This Row],[TOTAL]])","v":0}]
["2017-12-13","BOMPER E.I.R.L.","Centro","0001-004979","2018-03-13",0,{"v":12801,"d":"12,801"},{"$f":"IF(t.base[[#This Row],[DIAS DE ATRASO]]=0,0,t.base[[#This Row],[TOTAL]])","v":0}]
["2018-01-10","KENUAL S.A.C.","Centro","0001-007223","2018-02-24",17,{"v":13421,"d":"13,421"},{"$f":"IF(t.base[[#This Row],[DIAS DE ATRASO]]=0,0,t.base[[#This Row],[TOTAL]])","v":13421}]
["2017-11-11","RUWA S.A.C.","Centro","0001-003862","2017-12-26",77,{"v":14905,"d":"14,905"},{"$f":"IF(t.base[[#This Row],[DIAS DE ATRASO]]=0,0,t.base[[#This Row],[TOTAL]])","v":14905}]
["2018-01-12","BOTICA MUNICIPAL","Norte","0001-009776","2018-03-13",0,{"v":13203,"d":"13,203"},{"$f":"IF(t.base[[#This Row],[DIAS DE ATRASO]]=0,0,t.base[[#This Row],[TOTAL]])","v":0}]
["2018-01-12","E - MARKET E.I.R.L.","Centro","0001-002590","2018-03-13",0,{"v":11074,"d":"11,074"},{"$f":"IF(t.base[[#This Row],[DIAS DE ATRASO]]=0,0,t.base[[#This Row],[TOTAL]])","v":0}]
["2018-02-10","NORSOL S.A.C","Centro","0001-002523","2018-03-12",1,{"v":13539,"d":"13,539"},{"$f":"IF(t.base[[#This Row],[DIAS DE ATRASO]]=0,0,t.base[[#This Row],[TOTAL]])","v":13539}]
["2018-01-15","DISMOTSA","Centro","0002-008546","2018-02-14",27,{"v":25924,"d":"25,924"},{"$f":"IF(t.base[[#This Row],[DIAS DE ATRASO]]=0,0,t.base[[#This Row],[TOTAL]])","v":25924}]
["2017-12-13","FM INDUSTRIAL S.A.","Centro","0002-003979","2018-03-13",0,{"v":19438,"d":"19,438"},{"$f":"IF(t.base[[#This Row],[DIAS DE ATRASO]]=0,0,t.base[[#This Row],[TOTAL]])","v":0}]
["2017-10-25","PORCELL  S.A.C.","Centro","0001-003578","2018-01-23",49,{"v":18859,"d":"18,859"},{"$f":"IF(t.base[[#This Row],[DIAS DE ATRASO]]=0,0,t.base[[#This Row],[TOTAL]])","v":18859}]
["2018-03-13","CASINOS AMERICA SAC","Norte","0002-009741","2018-03-13",0,{"v":11962,"d":"11,962"},{"$f":"IF(t.base[[#This Row],[DIAS DE ATRASO]]=0,0,t.base[[#This Row],[TOTAL]])","v":0}]
["2018-02-26","DEMAFER S.R.L.","Norte","0001-005421","2018-03-13",0,{"v":16665,"d":"16,665"},{"$f":"IF(t.base[[#This Row],[DIAS DE ATRASO]]=0,0,t.base[[#This Row],[TOTAL]])","v":0}]
["2017-11-14","GONCORP S.A.C.","Centro","0001-009285","2017-12-14",89,{"v":10879,"d":"10,879"},{"$f":"IF(t.base[[#This Row],[DIAS DE ATRASO]]=0,0,t.base[[#This Row],[TOTAL]])","v":10879}]
["2017-12-13","BIOCARE S.A.C.","Sur","0002-003148","2018-03-13",0,{"v":37666,"d":"37,666"},{"$f":"IF(t.base[[#This Row],[DIAS DE ATRASO]]=0,0,t.base[[#This Row],[TOTAL]])","v":0}]
["2018-01-11","TRAUMA S.A.C.","Centro","0002-009899","2018-03-12",1,{"v":16754,"d":"16,754"},{"$f":"IF(t.base[[#This Row],[DIAS DE ATRASO]]=0,0,t.base[[#This Row],[TOTAL]])","v":16754}]
["2017-12-12","QUIMICHEM S.A.C.","Centro","0001-009398","2018-03-12",1,{"v":13032,"d":"13,032"},{"$f":"IF(t.base[[#This Row],[DIAS DE ATRASO]]=0,0,t.base[[#This Row],[TOTAL]])","v":13032}]
["2017-07-08","MARCESA S.R.L.","Centro","0002-005098","2017-08-07",218,{"v":27916,"d":"27,916"},{"$f":"IF(t.base[[#This Row],[DIAS DE ATRASO]]=0,0,t.base[[#This Row],[TOTAL]])","v":27916}]
["2018-01-26","EPIC LABS S.A.C.","Centro","0002-008359","2018-03-12",1,{"v":12853,"d":"12,853"},{"$f":"IF(t.base[[#This Row],[DIAS DE ATRASO]]=0,0,t.base[[#This Row],[TOTAL]])","v":12853}]
["2018-02-26","AGREGA S.A.C.","Centro","0001-007007","2018-03-13",0,{"v":26800,"d":"26,800"},{"$f":"IF(t.base[[#This Row],[DIAS DE ATRASO]]=0,0,t.base[[#This Row],[TOTAL]])","v":0}]
["2018-01-27","REY - SIL E.I.R.L.","Norte","0002-006788","2018-03-13",0,{"v":59694,"d":"59,694"},{"$f":"IF(t.base[[#This Row],[DIAS DE ATRASO]]=0,0,t.base[[#This Row],[TOTAL]])","v":0}]
["2018-01-22","INVERIAS S.A.C.","Sur","0001-001199","2018-01-22",50,{"v":26089,"d":"26,089"},{"$f":"IF(t.base[[#This Row],[DIAS DE ATRASO]]=0,0,t.base[[#This Row],[TOTAL]])","v":26089}]
["2017-11-03","A & G S.A.C.","Sur","0001-007096","2018-02-01",40,{"v":34695,"d":"34,695"},{"$f":"IF(t.base[[#This Row],[DIAS DE ATRASO]]=0,0,t.base[[#This Row],[TOTAL]])","v":34695}]
["2018-02-11","TAPIPLASTIC  S.A.C.","Norte","0002-002139","2018-03-13",0,{"v":13958,"d":"13,958"},{"$f":"IF(t.base[[#This Row],[DIAS DE ATRASO]]=0,0,t.base[[#This Row],[TOTAL]])","v":0}]
["2018-03-07","PROVESUR S.A.C","Centro","0002-005272","2018-03-07",6,{"v":11521,"d":"11,521"},{"$f":"IF(t.base[[#This Row],[DIAS DE ATRASO]]=0,0,t.base[[#This Row],[TOTAL]])","v":11521}]
["2018-01-27","SPRIND S.A.C.","Centro","0001-003977","2018-03-13",0,{"v":26005,"d":"26,005"},{"$f":"IF(t.base[[#This Row],[DIAS DE ATRASO]]=0,0,t.base[[#This Row],[TOTAL]])","v":0}]
["2018-03-10","GARCIA CAVERO MAURA","Centro","0001-007884","2018-03-10",3,{"v":27681,"d":"27,681"},{"$f":"IF(t.base[[#This Row],[DIAS DE ATRASO]]=0,0,t.base[[#This Row],[TOTAL]])","v":27681}]
["2018-01-26","TRAUMA S.A.C.","Centro","0002-003598","2018-03-12",1,{"v":10982,"d":"10,982"},{"$f":"IF(t.base[[#This Row],[DIAS DE ATRASO]]=0,0,t.base[[#This Row],[TOTAL]])","v":10982}]
["2018-01-12","NEYOR E.I.R.L.","Sur","0002-001708","2018-03-13",0,{"v":23613,"d":"23,613"},{"$f":"IF(t.base[[#This Row],[DIAS DE ATRASO]]=0,0,t.base[[#This Row],[TOTAL]])","v":0}]
["2018-02-26","EXPROM EIRL","Centro","0002-005352","2018-03-13",0,{"v":27951,"d":"27,951"},{"$f":"IF(t.base[[#This Row],[DIAS DE ATRASO]]=0,0,t.base[[#This Row],[TOTAL]])","v":0}]
["2018-03-13","CIGREN PERU S.A.C.","Centro","0001-009247","2018-03-13",0,{"v":25547,"d":"25,547"},{"$f":"IF(t.base[[#This Row],[DIAS DE ATRASO]]=0,0,t.base[[#This Row],[TOTAL]])","v":0}]
["2017-12-13","TRANSFORPLAST SAC","Centro","0002-006103","2018-03-13",0,{"v":27505,"d":"27,505"},{"$f":"IF(t.base[[#This Row],[DIAS DE ATRASO]]=0,0,t.base[[#This Row],[TOTAL]])","v":0}]
["2018-02-26","SYSTCOM IMPORT SAC","Centro","0001-001180","2018-03-13",0,{"v":15017,"d":"15,017"},{"$f":"IF(t.base[[#This Row],[DIAS DE ATRASO]]=0,0,t.base[[#This Row],[TOTAL]])","v":0}]
["2018-01-12","CACERESA S.A.C.","Centro","0001-005268","2018-03-13",0,{"v":29048,"d":"29,048"},{"$f":"IF(t.base[[#This Row],[DIAS DE ATRASO]]=0,0,t.base[[#This Row],[TOTAL]])","v":0}]
["2018-02-11","EFC EXPRESS SAC","Centro","0001-008861","2018-03-13",0,{"v":20799,"d":"20,799"},{"$f":"IF(t.base[[#This Row],[DIAS DE ATRASO]]=0,0,t.base[[#This Row],[TOTAL]])","v":0}]
["2017-12-13","MOTO ANDES S.A.C.","Centro","0001-001370","2018-03-13",0,{"v":26522,"d":"26,522"},{"$f":"IF(t.base[[#This Row],[DIAS DE ATRASO]]=0,0,t.base[[#This Row],[TOTAL]])","v":0}]
["2018-01-11","GORVEZ E.I.R.L.","Norte","0001-007064","2018-01-26",46,{"v":65857,"d":"65,857"},{"$f":"IF(t.base[[#This Row],[DIAS DE ATRASO]]=0,0,t.base[[#This Row],[TOTAL]])","v":65857}]
["2018-02-11","ONCOINVEST E.I.R.L.","Centro","0001-002265","2018-03-13",0,{"v":16297,"d":"16,297"},{"$f":"IF(t.base[[#This Row],[DIAS DE ATRASO]]=0,0,t.base[[#This Row],[TOTAL]])","v":0}]
["2018-01-12","DIMACAR S.A.C.","Sur","0002-003567","2018-03-13",0,{"v":13215,"d":"13,215"},{"$f":"IF(t.base[[#This Row],[DIAS DE ATRASO]]=0,0,t.base[[#This Row],[TOTAL]])","v":0}]
["2018-03-13","BALTRONIX E.I.R.L.","Centro","0001-008103","2018-03-13",0,{"v":10665,"d":"10,665"},{"$f":"IF(t.base[[#This Row],[DIAS DE ATRASO]]=0,0,t.base[[#This Row],[TOTAL]])","v":0}]
["2017-12-04","LOLA & MIGUEL SAC","Centro","0002-001531","2018-01-03",69,{"v":27862,"d":"27,862"},{"$f":"IF(t.base[[#This Row],[DIAS DE ATRASO]]=0,0,t.base[[#This Row],[TOTAL]])","v":27862}]
["2017-12-13","DIENST S.A.C.","Centro","0002-004387","2018-03-13",0,{"v":10478,"d":"10,478"},{"$f":"IF(t.base[[#This Row],[DIAS DE ATRASO]]=0,0,t.base[[#This Row],[TOTAL]])","v":0}]
["2017-12-07","COLCA TREK EIRL.","Sur","0002-008748","2018-01-06",66,{"v":33000,"d":"33,000"},{"$f":"IF(t.base[[#This Row],[DIAS DE ATRASO]]=0,0,t.base[[#This Row],[TOTAL]])","v":33000}]
["2017-12-09","EYE BUSINESS S.A.C","Centro","0001-008422","2018-02-07",34,{"v":24413,"d":"24,413"},{"$f":"IF(t.base[[#This Row],[DIAS DE ATRASO]]=0,0,t.base[[#This Row],[TOTAL]])","v":24413}]
["2017-12-25","BIOFER S.A.C.","Centro","0002-001116","2018-02-08",33,{"v":26269,"d":"26,269"},{"$f":"IF(t.base[[#This Row],[DIAS DE ATRASO]]=0,0,t.base[[#This Row],[TOTAL]])","v":26269}]
["2018-01-12","TRANSFORPLAST SAC","Centro","0002-005966","2018-03-13",0,{"v":19441,"d":"19,441"},{"$f":"IF(t.base[[#This Row],[DIAS DE ATRASO]]=0,0,t.base[[#This Row],[TOTAL]])","v":0}]
["2018-01-16","KATHY R S.A.C.","Centro","0001-006808","2018-03-02",11,{"v":29917,"d":"29,917"},{"$f":"IF(t.base[[#This Row],[DIAS DE ATRASO]]=0,0,t.base[[#This Row],[TOTAL]])","v":29917}]
["2017-10-14","YON JAU JUAN","Centro","0002-007104","2018-01-12",60,{"v":27893,"d":"27,893"},{"$f":"IF(t.base[[#This Row],[DIAS DE ATRASO]]=0,0,t.base[[#This Row],[TOTAL]])","v":27893}]
["2018-02-25","BOTICA MUNICIPAL","Norte","0002-005475","2018-03-12",1,{"v":63046,"d":"63,046"},{"$f":"IF(t.base[[#This Row],[DIAS DE ATRASO]]=0,0,t.base[[#This Row],[TOTAL]])","v":63046}]
["2017-12-24","SYSTCOM IMPORT SAC","Centro","0002-004206","2018-01-08",64,{"v":10201,"d":"10,201"},{"$f":"IF(t.base[[#This Row],[DIAS DE ATRASO]]=0,0,t.base[[#This Row],[TOTAL]])","v":10201}]
["2017-07-14","LMS MENAGE S.A.C.","Centro","0001-003540","2017-09-12",182,{"v":12652,"d":"12,652"},{"$f":"IF(t.base[[#This Row],[DIAS DE ATRASO]]=0,0,t.base[[#This Row],[TOTAL]])","v":12652}]
["2017-12-12","CHR HANSEN S.A.","Centro","0002-008488","2018-03-12",1,{"v":29582,"d":"29,582"},{"$f":"IF(t.base[[#This Row],[DIAS DE ATRASO]]=0,0,t.base[[#This Row],[TOTAL]])","v":29582}]
["2018-02-11","GREEN STAR S.A.C","Centro","0002-002552","2018-03-13",0,{"v":25376,"d":"25,376"},{"$f":"IF(t.base[[#This Row],[DIAS DE ATRASO]]=0,0,t.base[[#This Row],[TOTAL]])","v":0}]
["2018-03-13","ISA BARHAM S.A.C.","Centro","0001-002025","2018-03-13",0,{"v":25846,"d":"25,846"},{"$f":"IF(t.base[[#This Row],[DIAS DE ATRASO]]=0,0,t.base[[#This Row],[TOTAL]])","v":0}]
["2017-11-12","3E SERVICIOS S.A.C.","Centro","0001-001325","2017-12-27",76,{"v":26686,"d":"26,686"},{"$f":"IF(t.base[[#This Row],[DIAS DE ATRASO]]=0,0,t.base[[#This Row],[TOTAL]])","v":26686}]
["2018-02-26","SALVADOR LAZO FIDEL","Centro","0002-002561","2018-03-13",0,{"v":11938,"d":"11,938"},{"$f":"IF(t.base[[#This Row],[DIAS DE ATRASO]]=0,0,t.base[[#This Row],[TOTAL]])","v":0}]
["2018-03-13","TRUCK PERU S.A.C.","Centro","0001-002188","2018-03-13",0,{"v":11671,"d":"11,671"},{"$f":"IF(t.base[[#This Row],[DIAS DE ATRASO]]=0,0,t.base[[#This Row],[TOTAL]])","v":0}]
["2018-02-11","CLORINA S.A.C.","Centro","0001-002081","2018-03-13",0,{"v":29541,"d":"29,541"},{"$f":"IF(t.base[[#This Row],[DIAS DE ATRASO]]=0,0,t.base[[#This Row],[TOTAL]])","v":0}]
["2018-01-27","AURODISA EIRL","Centro","0001-004210","2018-03-13",0,{"v":24509,"d":"24,509"},{"$f":"IF(t.base[[#This Row],[DIAS DE ATRASO]]=0,0,t.base[[#This Row],[TOTAL]])","v":0}]
["2017-12-13","CURASMA POMA YODI","Centro","0002-008047","2018-03-13",0,{"v":27047,"d":"27,047"},{"$f":"IF(t.base[[#This Row],[DIAS DE ATRASO]]=0,0,t.base[[#This Row],[TOTAL]])","v":0}]
["2018-02-26","MI CASA JNC S.A.C.","Centro","0002-005809","2018-03-13",0,{"v":17236,"d":"17,236"},{"$f":"IF(t.base[[#This Row],[DIAS DE ATRASO]]=0,0,t.base[[#This Row],[TOTAL]])","v":0}]
["2017-09-10","MORAN VALENCIA ENMA","Centro","0002-004182","2017-09-10",184,{"v":26829,"d":"26,829"},{"$f":"IF(t.base[[#This Row],[DIAS DE ATRASO]]=0,0,t.base[[#This Row],[TOTAL]])","v":26829}]
["2017-05-31","KOZUMI PERU S.A.","Centro","0001-004552","2017-07-30",226,{"v":15765,"d":"15,765"},{"$f":"IF(t.base[[#This Row],[DIAS DE ATRASO]]=0,0,t.base[[#This Row],[TOTAL]])","v":15765}]
["2017-12-13","CARGRAPHICS S.A.C.","Centro","0001-008704","2018-03-13",0,{"v":27093,"d":"27,093"},{"$f":"IF(t.base[[#This Row],[DIAS DE ATRASO]]=0,0,t.base[[#This Row],[TOTAL]])","v":0}]
["2017-06-05","ARTROSTICO EIRL","Centro","0002-005681","2017-07-20",236,{"v":10747,"d":"10,747"},{"$f":"IF(t.base[[#This Row],[DIAS DE ATRASO]]=0,0,t.base[[#This Row],[TOTAL]])","v":10747}]
["2017-12-13","REDICAL SAC","Norte","0001-006565","2018-03-13",0,{"v":42110,"d":"42,110"},{"$f":"IF(t.base[[#This Row],[DIAS DE ATRASO]]=0,0,t.base[[#This Row],[TOTAL]])","v":0}]
["2017-05-26","ESCOBAR VILLA EDGAR","Centro","0002-007174","2017-08-24",201,{"v":21744,"d":"21,744"},{"$f":"IF(t.base[[#This Row],[DIAS DE ATRASO]]=0,0,t.base[[#This Row],[TOTAL]])","v":21744}]
["2018-01-27","CACERES RAMOS JORGE","Centro","0002-007607","2018-03-13",0,{"v":24862,"d":"24,862"},{"$f":"IF(t.base[[#This Row],[DIAS DE ATRASO]]=0,0,t.base[[#This Row],[TOTAL]])","v":0}]
["2018-02-11","IMPORT JHV E.I.R.L.","Centro","0002-001171","2018-03-13",0,{"v":14194,"d":"14,194"},{"$f":"IF(t.base[[#This Row],[DIAS DE ATRASO]]=0,0,t.base[[#This Row],[TOTAL]])","v":0}]
["2018-03-13","ARCPERU S.A.C.","Norte","0001-005156","2018-03-13",0,{"v":53405,"d":"53,405"},{"$f":"IF(t.base[[#This Row],[DIAS DE ATRASO]]=0,0,t.base[[#This Row],[TOTAL]])","v":0}]
["2018-01-27","TEXCOPE S.A.C.","Centro","0002-003360","2018-03-13",0,{"v":26925,"d":"26,925"},{"$f":"IF(t.base[[#This Row],[DIAS DE ATRASO]]=0,0,t.base[[#This Row],[TOTAL]])","v":0}]
["2018-01-27","CASAPAN PERU S.A.C.","Centro","0001-005991","2018-03-13",0,{"v":21026,"d":"21,026"},{"$f":"IF(t.base[[#This Row],[DIAS DE ATRASO]]=0,0,t.base[[#This Row],[TOTAL]])","v":0}]
["2017-12-13","OFITECC S.A.C.","Norte","0002-006949","2018-03-13",0,{"v":22257,"d":"22,257"},{"$f":"IF(t.base[[#This Row],[DIAS DE ATRASO]]=0,0,t.base[[#This Row],[TOTAL]])","v":0}]
["2018-01-12","SPEAK EASY","Sur","0002-008448","2018-03-13",0,{"v":28679,"d":"28,679"},{"$f":"IF(t.base[[#This Row],[DIAS DE ATRASO]]=0,0,t.base[[#This Row],[TOTAL]])","v":0}]
["2017-12-25","LEI HUANLAN","Centro","0001-003671","2018-02-23",18,{"v":24372,"d":"24,372"},{"$f":"IF(t.base[[#This Row],[DIAS DE ATRASO]]=0,0,t.base[[#This Row],[TOTAL]])","v":24372}]
["2017-12-07","FRANK MEDICA S.A.C","Centro","0002-009043","2018-01-21",51,{"v":17798,"d":"17,798"},{"$f":"IF(t.base[[#This Row],[DIAS DE ATRASO]]=0,0,t.base[[#This Row],[TOTAL]])","v":17798}]
["2018-02-11","CHOQUE COPA CARLOS","Centro","0001-008241","2018-03-13",0,{"v":20311,"d":"20,311"},{"$f":"IF(t.base[[#This Row],[DIAS DE ATRASO]]=0,0,t.base[[#This Row],[TOTAL]])","v":0}]
["2017-12-16","GOMEZ ROMANI LEONOR","Centro","0002-004301","2018-01-30",42,{"v":27076,"d":"27,076"},{"$f":"IF(t.base[[#This Row],[DIAS DE ATRASO]]=0,0,t.base[[#This Row],[TOTAL]])","v":27076}]
["2017-11-06","RADIO LORETO S.A.C","Norte","0001-002020","2017-12-06",97,{"v":49410,"d":"49,410"},{"$f":"IF(t.base[[#This Row],[DIAS DE ATRASO]]=0,0,t.base[[#This Row],[TOTAL]])","v":49410}]
["2018-03-13","DIENST S.A.C.","Centro","0001-006448","2018-03-13",0,{"v":19147,"d":"19,147"},{"$f":"IF(t.base[[#This Row],[DIAS DE ATRASO]]=0,0,t.base[[#This Row],[TOTAL]])","v":0}]
["2018-02-10","MEDICAL HOPE S.A.C.","Centro","0002-001174","2018-03-12",1,{"v":13463,"d":"13,463"},{"$f":"IF(t.base[[#This Row],[DIAS DE ATRASO]]=0,0,t.base[[#This Row],[TOTAL]])","v":13463}]
["2017-11-26","CRITIKOS S.A.C.","Centro","0001-002970","2018-01-25",47,{"v":13165,"d":"13,165"},{"$f":"IF(t.base[[#This Row],[DIAS DE ATRASO]]=0,0,t.base[[#This Row],[TOTAL]])","v":13165}]
["2017-12-23","MAC HARE S.A.C.","Centro","0001-002849","2018-01-07",65,{"v":20088,"d":"20,088"},{"$f":"IF(t.base[[#This Row],[DIAS DE ATRASO]]=0,0,t.base[[#This Row],[TOTAL]])","v":20088}]
["2018-02-26","GRUPO GXM E.I.R.L.","Sur","0002-005474","2018-03-13",0,{"v":24406,"d":"24,406"},{"$f":"IF(t.base[[#This Row],[DIAS DE ATRASO]]=0,0,t.base[[#This Row],[TOTAL]])","v":0}]
["2018-02-11","LI & MAN S.R.L.","Centro","0002-008680","2018-03-13",0,{"v":26941,"d":"26,941"},{"$f":"IF(t.base[[#This Row],[DIAS DE ATRASO]]=0,0,t.base[[#This Row],[TOTAL]])","v":0}]
["2017-12-13","FOSAM S.A.C.","Centro","0001-009831","2018-03-13",0,{"v":15878,"d":"15,878"},{"$f":"IF(t.base[[#This Row],[DIAS DE ATRASO]]=0,0,t.base[[#This Row],[TOTAL]])","v":0}]
["2018-01-14","JOMI TOURS S.A.C","Centro","0002-006369","2018-02-28",13,{"v":27537,"d":"27,537"},{"$f":"IF(t.base[[#This Row],[DIAS DE ATRASO]]=0,0,t.base[[#This Row],[TOTAL]])","v":27537}]
["2018-03-13","OLRAS SRL.","Norte","0001-004265","2018-03-13",0,{"v":16516,"d":"16,516"},{"$f":"IF(t.base[[#This Row],[DIAS DE ATRASO]]=0,0,t.base[[#This Row],[TOTAL]])","v":0}]
["2018-03-12","C.V INVESTMENTS S.A","Centro","0001-005495","2018-03-12",1,{"v":15611,"d":"15,611"},{"$f":"IF(t.base[[#This Row],[DIAS DE ATRASO]]=0,0,t.base[[#This Row],[TOTAL]])","v":15611}]
["2018-02-26","MAGROF S.A.","Centro","0002-002747","2018-03-13",0,{"v":27080,"d":"27,080"},{"$f":"IF(t.base[[#This Row],[DIAS DE ATRASO]]=0,0,t.base[[#This Row],[TOTAL]])","v":0}]
["2017-12-13","MATOS CAMAC FELIX","Centro","0002-005032","2018-03-13",0,{"v":19634,"d":"19,634"},{"$f":"IF(t.base[[#This Row],[DIAS DE ATRASO]]=0,0,t.base[[#This Row],[TOTAL]])","v":0}]
["2017-12-13","AYAME S.A.C.","Centro","0002-002190","2018-03-13",0,{"v":14955,"d":"14,955"},{"$f":"IF(t.base[[#This Row],[DIAS DE ATRASO]]=0,0,t.base[[#This Row],[TOTAL]])","v":0}]
["2018-03-12","PORCELL  S.A.C.","Centro","0001-005176","2018-03-12",1,{"v":18146,"d":"18,146"},{"$f":"IF(t.base[[#This Row],[DIAS DE ATRASO]]=0,0,t.base[[#This Row],[TOTAL]])","v":18146}]
["2017-12-13","LA BRETAÐA S.A.C.","Sur","0001-003995","2018-03-13",0,{"v":46447,"d":"46,447"},{"$f":"IF(t.base[[#This Row],[DIAS DE ATRASO]]=0,0,t.base[[#This Row],[TOTAL]])","v":0}]
["2017-12-12","SACOSA SAC.","Norte","0002-008091","2018-03-12",1,{"v":52182,"d":"52,182"},{"$f":"IF(t.base[[#This Row],[DIAS DE ATRASO]]=0,0,t.base[[#This Row],[TOTAL]])","v":52182}]
["2018-02-11","AGF VULCANO S.R.L.","Centro","0002-006510","2018-03-13",0,{"v":13479,"d":"13,479"},{"$f":"IF(t.base[[#This Row],[DIAS DE ATRASO]]=0,0,t.base[[#This Row],[TOTAL]])","v":0}]
["2018-02-11","INSANOR S.A.C.","Centro","0001-002310","2018-03-13",0,{"v":10311,"d":"10,311"},{"$f":"IF(t.base[[#This Row],[DIAS DE ATRASO]]=0,0,t.base[[#This Row],[TOTAL]])","v":0}]
["2017-12-12","CUEROS R SAC","Norte","0001-009226","2018-03-12",1,{"v":44454,"d":"44,454"},{"$f":"IF(t.base[[#This Row],[DIAS DE ATRASO]]=0,0,t.base[[#This Row],[TOTAL]])","v":44454}]
["2017-11-06","INFOGESTION S.A.C.","Centro","0001-008156","2017-11-21",112,{"v":24837,"d":"24,837"},{"$f":"IF(t.base[[#This Row],[DIAS DE ATRASO]]=0,0,t.base[[#This Row],[TOTAL]])","v":24837}]
["2017-12-01","ARENAS RAMOS FREDY","Centro","0002-006400","2017-12-16",87,{"v":11876,"d":"11,876"},{"$f":"IF(t.base[[#This Row],[DIAS DE ATRASO]]=0,0,t.base[[#This Row],[TOTAL]])","v":11876}]
["2018-01-07","C & F PRINTS S.A.C.","Centro","0002-009205","2018-03-08",5,{"v":21969,"d":"21,969"},{"$f":"IF(t.base[[#This Row],[DIAS DE ATRASO]]=0,0,t.base[[#This Row],[TOTAL]])","v":21969}]
["2017-10-08","ENCANTADA E.I.R.L.","Centro","0002-009297","2017-11-07",126,{"v":21747,"d":"21,747"},{"$f":"IF(t.base[[#This Row],[DIAS DE ATRASO]]=0,0,t.base[[#This Row],[TOTAL]])","v":21747}]
["2018-02-26","DOLLAR GROUP SA","Centro","0002-006110","2018-03-13",0,{"v":24629,"d":"24,629"},{"$f":"IF(t.base[[#This Row],[DIAS DE ATRASO]]=0,0,t.base[[#This Row],[TOTAL]])","v":0}]
["2018-01-06","SOTO BAZAN WILFREDO","Centro","0001-008261","2018-01-21",51,{"v":20822,"d":"20,822"},{"$f":"IF(t.base[[#This Row],[DIAS DE ATRASO]]=0,0,t.base[[#This Row],[TOTAL]])","v":20822}]
["2018-02-11","GRUPO VIGO S.A.C.","Centro","0002-006334","2018-03-13",0,{"v":27537,"d":"27,537"},{"$f":"IF(t.base[[#This Row],[DIAS DE ATRASO]]=0,0,t.base[[#This Row],[TOTAL]])","v":0}]
["2018-02-11","DISMOTSA","Centro","0002-008263","2018-03-13",0,{"v":25038,"d":"25,038"},{"$f":"IF(t.base[[#This Row],[DIAS DE ATRASO]]=0,0,t.base[[#This Row],[TOTAL]])","v":0}]
["2018-01-12","ATELCINE PERU SAC","Centro","0001-003507","2018-03-13",0,{"v":24230,"d":"24,230"},{"$f":"IF(t.base[[#This Row],[DIAS DE ATRASO]]=0,0,t.base[[#This Row],[TOTAL]])","v":0}]
["2017-11-22","LMS MENAGE S.A.C.","Centro","0002-007059","2017-12-22",81,{"v":27148,"d":"27,148"},{"$f":"IF(t.base[[#This Row],[DIAS DE ATRASO]]=0,0,t.base[[#This Row],[TOTAL]])","v":27148}]
["2017-10-28","GHL INVERSIONES SA","Centro","0002-007028","2017-12-27",76,{"v":17165,"d":"17,165"},{"$f":"IF(t.base[[#This Row],[DIAS DE ATRASO]]=0,0,t.base[[#This Row],[TOTAL]])","v":17165}]
["2018-02-26","QUISPE TORRES OLGA","Centro","0001-006714","2018-03-13",0,{"v":12015,"d":"12,015"},{"$f":"IF(t.base[[#This Row],[DIAS DE ATRASO]]=0,0,t.base[[#This Row],[TOTAL]])","v":0}]
["2017-11-23","DACIA TRADING SAC","Centro","0002-004208","2018-01-07",65,{"v":10758,"d":"10,758"},{"$f":"IF(t.base[[#This Row],[DIAS DE ATRASO]]=0,0,t.base[[#This Row],[TOTAL]])","v":10758}]
["2018-03-13","SATORI S.A.C.","Centro","0001-007300","2018-03-13",0,{"v":15947,"d":"15,947"},{"$f":"IF(t.base[[#This Row],[DIAS DE ATRASO]]=0,0,t.base[[#This Row],[TOTAL]])","v":0}]
["2018-01-12","ECOMODA S.A.C.","Centro","0001-008591","2018-03-13",0,{"v":27633,"d":"27,633"},{"$f":"IF(t.base[[#This Row],[DIAS DE ATRASO]]=0,0,t.base[[#This Row],[TOTAL]])","v":0}]
["2017-12-13","ROSAS PANDO ANIBAL","Centro","0001-002649","2018-03-13",0,{"v":12820,"d":"12,820"},{"$f":"IF(t.base[[#This Row],[DIAS DE ATRASO]]=0,0,t.base[[#This Row],[TOTAL]])","v":0}]
["2018-01-27","ITAPIER S.R.L.","Centro","0002-002035","2018-03-13",0,{"v":29208,"d":"29,208"},{"$f":"IF(t.base[[#This Row],[DIAS DE ATRASO]]=0,0,t.base[[#This Row],[TOTAL]])","v":0}]
["2017-12-19","CAO JINHONG","Centro","0001-006025","2018-02-02",39,{"v":21206,"d":"21,206"},{"$f":"IF(t.base[[#This Row],[DIAS DE ATRASO]]=0,0,t.base[[#This Row],[TOTAL]])","v":21206}]
["2017-12-13","RENGIFO LOPEZ SARA","Centro","0001-002733","2018-03-13",0,{"v":17232,"d":"17,232"},{"$f":"IF(t.base[[#This Row],[DIAS DE ATRASO]]=0,0,t.base[[#This Row],[TOTAL]])","v":0}]
["2017-10-29","RIMASSA S.A.C.","Sur","0001-004234","2017-12-13",90,{"v":12098,"d":"12,098"},{"$f":"IF(t.base[[#This Row],[DIAS DE ATRASO]]=0,0,t.base[[#This Row],[TOTAL]])","v":12098}]
["2017-10-15","CLAS CONDESUYOS","Sur","0001-009378","2018-01-13",59,{"v":33330,"d":"33,330"},{"$f":"IF(t.base[[#This Row],[DIAS DE ATRASO]]=0,0,t.base[[#This Row],[TOTAL]])","v":33330}]
["2018-01-12","ARDESIA SAC","Centro","0001-001576","2018-03-13",0,{"v":13527,"d":"13,527"},{"$f":"IF(t.base[[#This Row],[DIAS DE ATRASO]]=0,0,t.base[[#This Row],[TOTAL]])","v":0}]
["2018-01-12","ONCOINVEST E.I.R.L.","Centro","0001-005777","2018-03-13",0,{"v":19520,"d":"19,520"},{"$f":"IF(t.base[[#This Row],[DIAS DE ATRASO]]=0,0,t.base[[#This Row],[TOTAL]])","v":0}]
["2017-12-06","JOSLYN PERU S.A.C.","Centro","0002-008059","2018-01-20",52,{"v":14990,"d":"14,990"},{"$f":"IF(t.base[[#This Row],[DIAS DE ATRASO]]=0,0,t.base[[#This Row],[TOTAL]])","v":14990}]
["2018-02-11","X-TRA PLUS E.I.R.L.","Sur","0001-007549","2018-03-13",0,{"v":39093,"d":"39,093"},{"$f":"IF(t.base[[#This Row],[DIAS DE ATRASO]]=0,0,t.base[[#This Row],[TOTAL]])","v":0}]
["2018-01-27","GRUPO GXM E.I.R.L.","Sur","0001-002294","2018-03-13",0,{"v":10920,"d":"10,920"},{"$f":"IF(t.base[[#This Row],[DIAS DE ATRASO]]=0,0,t.base[[#This Row],[TOTAL]])","v":0}]
["2017-11-10","POZO TORRES CLAUDIA","Centro","0002-009022","2018-01-09",63,{"v":18784,"d":"18,784"},{"$f":"IF(t.base[[#This Row],[DIAS DE ATRASO]]=0,0,t.base[[#This Row],[TOTAL]])","v":18784}]
["2018-03-13","PUBLICITY S.R.L","Centro","0002-001886","2018-03-13",0,{"v":17511,"d":"17,511"},{"$f":"IF(t.base[[#This Row],[DIAS DE ATRASO]]=0,0,t.base[[#This Row],[TOTAL]])","v":0}]
["2018-02-20","EQUIPROBEZ E.I.R.L.","Centro","0001-003271","2018-02-20",21,{"v":28617,"d":"28,617"},{"$f":"IF(t.base[[#This Row],[DIAS DE ATRASO]]=0,0,t.base[[#This Row],[TOTAL]])","v":28617}]
["2018-01-27","KOZUMI PERU S.A.","Centro","0002-008148","2018-03-13",0,{"v":21941,"d":"21,941"},{"$f":"IF(t.base[[#This Row],[DIAS DE ATRASO]]=0,0,t.base[[#This Row],[TOTAL]])","v":0}]
["2018-01-12","BRIDAG E.I.R.LTDA.","Centro","0002-009074","2018-03-13",0,{"v":26360,"d":"26,360"},{"$f":"IF(t.base[[#This Row],[DIAS DE ATRASO]]=0,0,t.base[[#This Row],[TOTAL]])","v":0}]
["2017-11-23","GLOBAL PAPER SAC","Centro","0001-006816","2018-01-22",50,{"v":15543,"d":"15,543"},{"$f":"IF(t.base[[#This Row],[DIAS DE ATRASO]]=0,0,t.base[[#This Row],[TOTAL]])","v":15543}]
["2018-02-26","C.V.GLOBAL S.A.C.","Centro","0002-009441","2018-03-13",0,{"v":15259,"d":"15,259"},{"$f":"IF(t.base[[#This Row],[DIAS DE ATRASO]]=0,0,t.base[[#This Row],[TOTAL]])","v":0}]
["2017-11-13","SERVIMAX E.I.R.L","Norte","0001-006001","2017-12-28",75,{"v":66726,"d":"66,726"},{"$f":"IF(t.base[[#This Row],[DIAS DE ATRASO]]=0,0,t.base[[#This Row],[TOTAL]])","v":66726}]
["2017-11-27","ARMERIA CALIBRE SAC","Centro","0002-006428","2018-01-26",46,{"v":16901,"d":"16,901"},{"$f":"IF(t.base[[#This Row],[DIAS DE ATRASO]]=0,0,t.base[[#This Row],[TOTAL]])","v":16901}]
["2017-11-29","D & M MEDICAL EIRL","Centro","0002-005030","2018-01-28",44,{"v":12730,"d":"12,730"},{"$f":"IF(t.base[[#This Row],[DIAS DE ATRASO]]=0,0,t.base[[#This Row],[TOTAL]])","v":12730}]
["2017-12-24","COMERCIAL M&P SRL","Sur","0002-006315","2017-12-24",79,{"v":36343,"d":"36,343"},{"$f":"IF(t.base[[#This Row],[DIAS DE ATRASO]]=0,0,t.base[[#This Row],[TOTAL]])","v":36343}]
["2018-01-12","INFORHOUSE S.R.L.","Centro","0001-003234","2018-03-13",0,{"v":10153,"d":"10,153"},{"$f":"IF(t.base[[#This Row],[DIAS DE ATRASO]]=0,0,t.base[[#This Row],[TOTAL]])","v":0}]
["2017-12-16","KOIMED S.A.C.","Centro","0001-002477","2017-12-31",72,{"v":14360,"d":"14,360"},{"$f":"IF(t.base[[#This Row],[DIAS DE ATRASO]]=0,0,t.base[[#This Row],[TOTAL]])","v":14360}]
["2018-03-13","RUIZ PIÐA REMIGIO","Centro","0002-003019","2018-03-13",0,{"v":28467,"d":"28,467"},{"$f":"IF(t.base[[#This Row],[DIAS DE ATRASO]]=0,0,t.base[[#This Row],[TOTAL]])","v":0}]
["2017-12-12","DISCOFERT SRL","Centro","0001-005683","2018-03-12",1,{"v":20857,"d":"20,857"},{"$f":"IF(t.base[[#This Row],[DIAS DE ATRASO]]=0,0,t.base[[#This Row],[TOTAL]])","v":20857}]
["2018-03-13","SALCOM S.A.C.","Centro","0002-002171","2018-03-13",0,{"v":11624,"d":"11,624"},{"$f":"IF(t.base[[#This Row],[DIAS DE ATRASO]]=0,0,t.base[[#This Row],[TOTAL]])","v":0}]
["2018-03-12","ARTROSTICO EIRL","Centro","0001-005158","2018-03-12",1,{"v":13368,"d":"13,368"},{"$f":"IF(t.base[[#This Row],[DIAS DE ATRASO]]=0,0,t.base[[#This Row],[TOTAL]])","v":13368}]
["2018-01-12","LIANHE SRL","Centro","0001-001101","2018-03-13",0,{"v":27636,"d":"27,636"},{"$f":"IF(t.base[[#This Row],[DIAS DE ATRASO]]=0,0,t.base[[#This Row],[TOTAL]])","v":0}]
["2018-02-11","MOLVIMAR S.A.C.","Norte","0001-006407","2018-03-13",0,{"v":43022,"d":"43,022"},{"$f":"IF(t.base[[#This Row],[DIAS DE ATRASO]]=0,0,t.base[[#This Row],[TOTAL]])","v":0}]
["2018-03-13","CLAS ZAMACOLA","Sur","0001-009373","2018-03-13",0,{"v":19465,"d":"19,465"},{"$f":"IF(t.base[[#This Row],[DIAS DE ATRASO]]=0,0,t.base[[#This Row],[TOTAL]])","v":0}]
["2017-09-14","SEIKATSU  SAC","Centro","0001-006420","2017-09-29",165,{"v":14222,"d":"14,222"},{"$f":"IF(t.base[[#This Row],[DIAS DE ATRASO]]=0,0,t.base[[#This Row],[TOTAL]])","v":14222}]
["2018-03-13","PROVESUR S.A.C","Centro","0001-009532","2018-03-13",0,{"v":13974,"d":"13,974"},{"$f":"IF(t.base[[#This Row],[DIAS DE ATRASO]]=0,0,t.base[[#This Row],[TOTAL]])","v":0}]
["2017-12-13","FIVE PERU E.I.R.L.","Centro","0002-005458","2018-03-13",0,{"v":22590,"d":"22,590"},{"$f":"IF(t.base[[#This Row],[DIAS DE ATRASO]]=0,0,t.base[[#This Row],[TOTAL]])","v":0}]
["2017-10-24","BRENCO SAC","Norte","0001-005698","2017-11-08",125,{"v":43787,"d":"43,787"},{"$f":"IF(t.base[[#This Row],[DIAS DE ATRASO]]=0,0,t.base[[#This Row],[TOTAL]])","v":43787}]
["2017-12-13","FAVET E.I.R.L.","Norte","0002-004888","2017-12-13",90,{"v":54475,"d":"54,475"},{"$f":"IF(t.base[[#This Row],[DIAS DE ATRASO]]=0,0,t.base[[#This Row],[TOTAL]])","v":54475}]
["2018-01-12","TORSAL E.I.R.L.","Sur","0002-007786","2018-03-13",0,{"v":33713,"d":"33,713"},{"$f":"IF(t.base[[#This Row],[DIAS DE ATRASO]]=0,0,t.base[[#This Row],[TOTAL]])","v":0}]
["2017-12-12","CACERES RAMOS JORGE","Centro","0001-004053","2018-03-12",1,{"v":23657,"d":"23,657"},{"$f":"IF(t.base[[#This Row],[DIAS DE ATRASO]]=0,0,t.base[[#This Row],[TOTAL]])","v":23657}]
["2018-01-19","JIANG JINGYI","Centro","0001-009808","2018-02-18",23,{"v":10349,"d":"10,349"},{"$f":"IF(t.base[[#This Row],[DIAS DE ATRASO]]=0,0,t.base[[#This Row],[TOTAL]])","v":10349}]
["2018-01-23","ALBACONSULT S.A.C.","Centro","0001-001210","2018-02-07",34,{"v":29902,"d":"29,902"},{"$f":"IF(t.base[[#This Row],[DIAS DE ATRASO]]=0,0,t.base[[#This Row],[TOTAL]])","v":29902}]
["2017-12-13","DAMERED S.A.C.","Centro","0002-009754","2018-03-13",0,{"v":14120,"d":"14,120"},{"$f":"IF(t.base[[#This Row],[DIAS DE ATRASO]]=0,0,t.base[[#This Row],[TOTAL]])","v":0}]
["2018-02-26","RIOS SOLIS ALCIDES","Centro","0001-001788","2018-03-13",0,{"v":12754,"d":"12,754"},{"$f":"IF(t.base[[#This Row],[DIAS DE ATRASO]]=0,0,t.base[[#This Row],[TOTAL]])","v":0}]
["2018-03-13","BRENCO SAC","Norte","0001-001041","2018-03-13",0,{"v":15255,"d":"15,255"},{"$f":"IF(t.base[[#This Row],[DIAS DE ATRASO]]=0,0,t.base[[#This Row],[TOTAL]])","v":0}]
["2018-01-31","PRO MAKEUP E.I.R.L.","Centro","0001-005254","2018-02-15",26,{"v":18660,"d":"18,660"},{"$f":"IF(t.base[[#This Row],[DIAS DE ATRASO]]=0,0,t.base[[#This Row],[TOTAL]])","v":18660}]
["2017-11-08","AITER'S SRL","Centro","0002-006285","2017-12-23",80,{"v":16972,"d":"16,972"},{"$f":"IF(t.base[[#This Row],[DIAS DE ATRASO]]=0,0,t.base[[#This Row],[TOTAL]])","v":16972}]
["2017-12-13","SERVICON S.A.C.","Norte","0001-001232","2018-03-13",0,{"v":21297,"d":"21,297"},{"$f":"IF(t.base[[#This Row],[DIAS DE ATRASO]]=0,0,t.base[[#This Row],[TOTAL]])","v":0}]
["2018-01-11","MEDICAL CT S.A.C.","Centro","0002-001612","2018-03-12",1,{"v":12879,"d":"12,879"},{"$f":"IF(t.base[[#This Row],[DIAS DE ATRASO]]=0,0,t.base[[#This Row],[TOTAL]])","v":12879}]
["2017-12-13","ALFAMODA S.A.C.","Centro","0002-005605","2018-03-13",0,{"v":17562,"d":"17,562"},{"$f":"IF(t.base[[#This Row],[DIAS DE ATRASO]]=0,0,t.base[[#This Row],[TOTAL]])","v":0}]
["2017-12-31","COANDINA S R LTDA","Centro","0001-005470","2018-01-15",57,{"v":15228,"d":"15,228"},{"$f":"IF(t.base[[#This Row],[DIAS DE ATRASO]]=0,0,t.base[[#This Row],[TOTAL]])","v":15228}]
["2017-11-13","OTERO NUÐEZ NESTOR","Centro","0001-008068","2018-02-11",30,{"v":26509,"d":"26,509"},{"$f":"IF(t.base[[#This Row],[DIAS DE ATRASO]]=0,0,t.base[[#This Row],[TOTAL]])","v":26509}]
["2017-12-24","VALDEZ OCHOA NHELY","Centro","0002-003431","2018-01-23",49,{"v":22201,"d":"22,201"},{"$f":"IF(t.base[[#This Row],[DIAS DE ATRASO]]=0,0,t.base[[#This Row],[TOTAL]])","v":22201}]
["2017-11-11","PLAZA MOTORS S.A.C.","Centro","0001-006179","2018-01-10",62,{"v":29729,"d":"29,729"},{"$f":"IF(t.base[[#This Row],[DIAS DE ATRASO]]=0,0,t.base[[#This Row],[TOTAL]])","v":29729}]
["2017-12-12","CASTRO NUÐEZ NELSON","Centro","0001-004713","2018-03-12",1,{"v":20096,"d":"20,096"},{"$f":"IF(t.base[[#This Row],[DIAS DE ATRASO]]=0,0,t.base[[#This Row],[TOTAL]])","v":20096}]
["2017-12-07","TOUS PERU S.A.C.","Centro","0001-007619","2018-01-06",66,{"v":23185,"d":"23,185"},{"$f":"IF(t.base[[#This Row],[DIAS DE ATRASO]]=0,0,t.base[[#This Row],[TOTAL]])","v":23185}]
["2018-02-26","SAMMYTEC S.A.","Centro","0002-007378","2018-03-13",0,{"v":25846,"d":"25,846"},{"$f":"IF(t.base[[#This Row],[DIAS DE ATRASO]]=0,0,t.base[[#This Row],[TOTAL]])","v":0}]
["2018-02-25","JAR DECO EIRL","Centro","0002-009773","2018-03-12",1,{"v":16774,"d":"16,774"},{"$f":"IF(t.base[[#This Row],[DIAS DE ATRASO]]=0,0,t.base[[#This Row],[TOTAL]])","v":16774}]
["2017-11-11","RIE SAKATA E.I.R.L.","Centro","0001-009801","2018-01-10",62,{"v":11303,"d":"11,303"},{"$f":"IF(t.base[[#This Row],[DIAS DE ATRASO]]=0,0,t.base[[#This Row],[TOTAL]])","v":11303}]
["2018-01-12","J.O.B GAMES S.A.C.","Centro","0001-003471","2018-03-13",0,{"v":23173,"d":"23,173"},{"$f":"IF(t.base[[#This Row],[DIAS DE ATRASO]]=0,0,t.base[[#This Row],[TOTAL]])","v":0}]
["2018-02-11","LLANGRAF E.I.R.L","Centro","0002-004778","2018-03-13",0,{"v":19818,"d":"19,818"},{"$f":"IF(t.base[[#This Row],[DIAS DE ATRASO]]=0,0,t.base[[#This Row],[TOTAL]])","v":0}]
["2018-02-26","EFC EXPRESS SAC","Centro","0002-009666","2018-03-13",0,{"v":26133,"d":"26,133"},{"$f":"IF(t.base[[#This Row],[DIAS DE ATRASO]]=0,0,t.base[[#This Row],[TOTAL]])","v":0}]
["2018-02-10","RUIZ PIÐA REMIGIO","Centro","0001-009566","2018-03-12",1,{"v":25259,"d":"25,259"},{"$f":"IF(t.base[[#This Row],[DIAS DE ATRASO]]=0,0,t.base[[#This Row],[TOTAL]])","v":25259}]
["2018-02-26","PRO MAKEUP E.I.R.L.","Centro","0002-006830","2018-03-13",0,{"v":13768,"d":"13,768"},{"$f":"IF(t.base[[#This Row],[DIAS DE ATRASO]]=0,0,t.base[[#This Row],[TOTAL]])","v":0}]
["2017-10-15","JORTRANSPORT S.R.L.","Centro","0001-006928","2018-01-13",59,{"v":14168,"d":"14,168"},{"$f":"IF(t.base[[#This Row],[DIAS DE ATRASO]]=0,0,t.base[[#This Row],[TOTAL]])","v":14168}]
["2017-07-08","LINDO HOGAR S.A.C","Centro","0002-008976","2017-09-06",188,{"v":15704,"d":"15,704"},{"$f":"IF(t.base[[#This Row],[DIAS DE ATRASO]]=0,0,t.base[[#This Row],[TOTAL]])","v":15704}]
["2017-08-15","JOMI TOURS S.A.C","Centro","0001-008449","2017-08-15",210,{"v":23893,"d":"23,893"},{"$f":"IF(t.base[[#This Row],[DIAS DE ATRASO]]=0,0,t.base[[#This Row],[TOTAL]])","v":23893}]
["2017-12-18","SERMATFER E.I.R.L","Centro","0002-007589","2018-02-16",25,{"v":21921,"d":"21,921"},{"$f":"IF(t.base[[#This Row],[DIAS DE ATRASO]]=0,0,t.base[[#This Row],[TOTAL]])","v":21921}]
["2018-01-12","EL CAIRO S.A.C.","Centro","0002-007382","2018-03-13",0,{"v":24369,"d":"24,369"},{"$f":"IF(t.base[[#This Row],[DIAS DE ATRASO]]=0,0,t.base[[#This Row],[TOTAL]])","v":0}]
["2018-01-27","VHL FOOD SAC","Centro","0002-008649","2018-03-13",0,{"v":23448,"d":"23,448"},{"$f":"IF(t.base[[#This Row],[DIAS DE ATRASO]]=0,0,t.base[[#This Row],[TOTAL]])","v":0}]
["2017-12-13","PENTAGRAF S.A.C.","Centro","0002-007078","2018-03-13",0,{"v":17547,"d":"17,547"},{"$f":"IF(t.base[[#This Row],[DIAS DE ATRASO]]=0,0,t.base[[#This Row],[TOTAL]])","v":0}]
["2017-12-26","FIDUCIARIA GBC S.A.","Centro","0002-001793","2018-02-09",32,{"v":13536,"d":"13,536"},{"$f":"IF(t.base[[#This Row],[DIAS DE ATRASO]]=0,0,t.base[[#This Row],[TOTAL]])","v":13536}]
["2018-02-11","SALCOM S.A.C.","Centro","0002-004233","2018-03-13",0,{"v":10946,"d":"10,946"},{"$f":"IF(t.base[[#This Row],[DIAS DE ATRASO]]=0,0,t.base[[#This Row],[TOTAL]])","v":0}]
["2017-11-20","MEPAL S.A.C","Centro","0001-002260","2017-12-20",83,{"v":26973,"d":"26,973"},{"$f":"IF(t.base[[#This Row],[DIAS DE ATRASO]]=0,0,t.base[[#This Row],[TOTAL]])","v":26973}]
["2018-03-05","TEXCOPE S.A.C.","Centro","0002-008100","2018-03-05",8,{"v":23620,"d":"23,620"},{"$f":"IF(t.base[[#This Row],[DIAS DE ATRASO]]=0,0,t.base[[#This Row],[TOTAL]])","v":23620}]
["2017-06-16","ERICELL S.A.C.","Norte","0001-003882","2017-07-31",225,{"v":51714,"d":"51,714"},{"$f":"IF(t.base[[#This Row],[DIAS DE ATRASO]]=0,0,t.base[[#This Row],[TOTAL]])","v":51714}]
["2017-12-13","ESTRATEGICA S.A.C.","Centro","0002-002893","2018-03-13",0,{"v":10296,"d":"10,296"},{"$f":"IF(t.base[[#This Row],[DIAS DE ATRASO]]=0,0,t.base[[#This Row],[TOTAL]])","v":0}]
["2018-01-12","LAGO IMPORT EIRL","Centro","0001-004493","2018-03-13",0,{"v":21277,"d":"21,277"},{"$f":"IF(t.base[[#This Row],[DIAS DE ATRASO]]=0,0,t.base[[#This Row],[TOTAL]])","v":0}]
["2017-12-07","ECONOFARMA S.A.C.","Centro","0002-004782","2018-03-07",6,{"v":19178,"d":"19,178"},{"$f":"IF(t.base[[#This Row],[DIAS DE ATRASO]]=0,0,t.base[[#This Row],[TOTAL]])","v":19178}]
["2017-11-03","ALMAPEL E.I.R.L.","Sur","0001-007112","2018-02-01",40,{"v":42443,"d":"42,443"},{"$f":"IF(t.base[[#This Row],[DIAS DE ATRASO]]=0,0,t.base[[#This Row],[TOTAL]])","v":42443}]
["2018-01-07","AIS PERU S.A.","Centro","0002-009941","2018-01-07",65,{"v":24814,"d":"24,814"},{"$f":"IF(t.base[[#This Row],[DIAS DE ATRASO]]=0,0,t.base[[#This Row],[TOTAL]])","v":24814}]
["2017-12-13","DETAILHOUSE S.A.C.","Centro","0001-004594","2018-03-13",0,{"v":12064,"d":"12,064"},{"$f":"IF(t.base[[#This Row],[DIAS DE ATRASO]]=0,0,t.base[[#This Row],[TOTAL]])","v":0}]
["2018-02-11","KINSA WARMI SRL","Centro","0001-001132","2018-03-13",0,{"v":21575,"d":"21,575"},{"$f":"IF(t.base[[#This Row],[DIAS DE ATRASO]]=0,0,t.base[[#This Row],[TOTAL]])","v":0}]
["2018-02-16","NUTRE PERU E.I.R.L.","Centro","0002-009744","2018-02-16",25,{"v":18593,"d":"18,593"},{"$f":"IF(t.base[[#This Row],[DIAS DE ATRASO]]=0,0,t.base[[#This Row],[TOTAL]])","v":18593}]
["2018-02-11","RADIO ASTORIA S A","Norte","0001-009092","2018-03-13",0,{"v":51908,"d":"51,908"},{"$f":"IF(t.base[[#This Row],[DIAS DE ATRASO]]=0,0,t.base[[#This Row],[TOTAL]])","v":0}]
["2018-01-23","RODIMPORT S.R.L.","Norte","0002-003144","2018-02-07",34,{"v":56324,"d":"56,324"},{"$f":"IF(t.base[[#This Row],[DIAS DE ATRASO]]=0,0,t.base[[#This Row],[TOTAL]])","v":56324}]
["2018-01-27","JOYAS ANTHONY EIRL","Centro","0002-002845","2018-03-13",0,{"v":19439,"d":"19,439"},{"$f":"IF(t.base[[#This Row],[DIAS DE ATRASO]]=0,0,t.base[[#This Row],[TOTAL]])","v":0}]
["2018-01-27","VARGAS S.R.L.","Norte","0002-005632","2018-03-13",0,{"v":47176,"d":"47,176"},{"$f":"IF(t.base[[#This Row],[DIAS DE ATRASO]]=0,0,t.base[[#This Row],[TOTAL]])","v":0}]
["2017-11-16","IMPORT JHV E.I.R.L.","Centro","0002-006445","2017-12-16",87,{"v":25582,"d":"25,582"},{"$f":"IF(t.base[[#This Row],[DIAS DE ATRASO]]=0,0,t.base[[#This Row],[TOTAL]])","v":25582}]
["2017-12-11","ACEROS JK S.A.C.","Centro","0001-006075","2017-12-26",77,{"v":25837,"d":"25,837"},{"$f":"IF(t.base[[#This Row],[DIAS DE ATRASO]]=0,0,t.base[[#This Row],[TOTAL]])","v":25837}]
["2017-12-31","DIOS ES AMOR S.A.C.","Norte","0001-009501","2017-12-31",72,{"v":52424,"d":"52,424"},{"$f":"IF(t.base[[#This Row],[DIAS DE ATRASO]]=0,0,t.base[[#This Row],[TOTAL]])","v":52424}]
["2018-01-26","XIAN CHUYAO","Centro","0002-001889","2018-03-12",1,{"v":18434,"d":"18,434"},{"$f":"IF(t.base[[#This Row],[DIAS DE ATRASO]]=0,0,t.base[[#This Row],[TOTAL]])","v":18434}]
["2018-03-13","RUWA S.A.C.","Centro","0002-008231","2018-03-13",0,{"v":21661,"d":"21,661"},{"$f":"IF(t.base[[#This Row],[DIAS DE ATRASO]]=0,0,t.base[[#This Row],[TOTAL]])","v":0}]
["2017-12-07","LONGE VITA SAC","Centro","0002-008264","2017-12-22",81,{"v":18394,"d":"18,394"},{"$f":"IF(t.base[[#This Row],[DIAS DE ATRASO]]=0,0,t.base[[#This Row],[TOTAL]])","v":18394}]
["2018-02-25","FIDUCIARIA GBC S.A.","Centro","0001-005735","2018-03-12",1,{"v":18289,"d":"18,289"},{"$f":"IF(t.base[[#This Row],[DIAS DE ATRASO]]=0,0,t.base[[#This Row],[TOTAL]])","v":18289}]
["2018-01-27","RADIO ASTORIA S A","Norte","0001-001870","2018-03-13",0,{"v":48746,"d":"48,746"},{"$f":"IF(t.base[[#This Row],[DIAS DE ATRASO]]=0,0,t.base[[#This Row],[TOTAL]])","v":0}]
["2018-02-26","AD LIBITUM S.A.C.","Centro","0001-003321","2018-03-13",0,{"v":18684,"d":"18,684"},{"$f":"IF(t.base[[#This Row],[DIAS DE ATRASO]]=0,0,t.base[[#This Row],[TOTAL]])","v":0}]
["2018-02-26","INTERBIKE EIRL","Centro","0002-008876","2018-03-13",0,{"v":24375,"d":"24,375"},{"$f":"IF(t.base[[#This Row],[DIAS DE ATRASO]]=0,0,t.base[[#This Row],[TOTAL]])","v":0}]
["2018-02-11","RONESK S.A.C.","Centro","0001-001682","2018-03-13",0,{"v":10496,"d":"10,496"},{"$f":"IF(t.base[[#This Row],[DIAS DE ATRASO]]=0,0,t.base[[#This Row],[TOTAL]])","v":0}]
["2018-03-13","S.J2 S.A.C.","Norte","0002-005930","2018-03-13",0,{"v":66572,"d":"66,572"},{"$f":"IF(t.base[[#This Row],[DIAS DE ATRASO]]=0,0,t.base[[#This Row],[TOTAL]])","v":0}]
["2017-12-10","PABEL S.A.C.","Norte","0001-007809","2018-01-24",48,{"v":64796,"d":"64,796"},{"$f":"IF(t.base[[#This Row],[DIAS DE ATRASO]]=0,0,t.base[[#This Row],[TOTAL]])","v":64796}]
["2018-02-11","TRIGOZO DIAZ CLELIA","Centro","0002-002678","2018-03-13",0,{"v":29048,"d":"29,048"},{"$f":"IF(t.base[[#This Row],[DIAS DE ATRASO]]=0,0,t.base[[#This Row],[TOTAL]])","v":0}]
["2018-01-12","GRANJA AZUL S A","Centro","0002-009920","2018-03-13",0,{"v":16366,"d":"16,366"},{"$f":"IF(t.base[[#This Row],[DIAS DE ATRASO]]=0,0,t.base[[#This Row],[TOTAL]])","v":0}]
["2018-01-12","M & ST SALUD S.A.C","Centro","0002-006378","2018-03-13",0,{"v":11291,"d":"11,291"},{"$f":"IF(t.base[[#This Row],[DIAS DE ATRASO]]=0,0,t.base[[#This Row],[TOTAL]])","v":0}]
["2017-09-23","IMPORT JHV E.I.R.L.","Centro","0001-001570","2017-12-22",81,{"v":22911,"d":"22,911"},{"$f":"IF(t.base[[#This Row],[DIAS DE ATRASO]]=0,0,t.base[[#This Row],[TOTAL]])","v":22911}]
["2018-01-12","CHIFA FULLRUM EIRL","Centro","0002-008168","2018-03-13",0,{"v":13415,"d":"13,415"},{"$f":"IF(t.base[[#This Row],[DIAS DE ATRASO]]=0,0,t.base[[#This Row],[TOTAL]])","v":0}]
["2018-02-07","SERV&DATA S.A.C.","Centro","0002-005787","2018-02-07",34,{"v":17340,"d":"17,340"},{"$f":"IF(t.base[[#This Row],[DIAS DE ATRASO]]=0,0,t.base[[#This Row],[TOTAL]])","v":17340}]
["2018-01-26","GOMEZ YUCRA SIMEON","Centro","0001-006924","2018-03-12",1,{"v":25668,"d":"25,668"},{"$f":"IF(t.base[[#This Row],[DIAS DE ATRASO]]=0,0,t.base[[#This Row],[TOTAL]])","v":25668}]
["2018-01-26","COLOR Y BELLEZA SAC","Norte","0001-006484","2018-03-12",1,{"v":64428,"d":"64,428"},{"$f":"IF(t.base[[#This Row],[DIAS DE ATRASO]]=0,0,t.base[[#This Row],[TOTAL]])","v":64428}]
["2017-12-24","A.C.D. S.R.L.","Sur","0002-006977","2018-01-23",49,{"v":35024,"d":"35,024"},{"$f":"IF(t.base[[#This Row],[DIAS DE ATRASO]]=0,0,t.base[[#This Row],[TOTAL]])","v":35024}]
["2017-12-13","PEREZ ROMERO ROGER","Centro","0002-002031","2018-03-13",0,{"v":27188,"d":"27,188"},{"$f":"IF(t.base[[#This Row],[DIAS DE ATRASO]]=0,0,t.base[[#This Row],[TOTAL]])","v":0}]
["2018-02-11","INVERMEDIC SAC","Norte","0002-003287","2018-03-13",0,{"v":66072,"d":"66,072"},{"$f":"IF(t.base[[#This Row],[DIAS DE ATRASO]]=0,0,t.base[[#This Row],[TOTAL]])","v":0}]
["2017-12-30","MAC HARE S.A.C.","Centro","0002-006749","2018-01-29",43,{"v":27473,"d":"27,473"},{"$f":"IF(t.base[[#This Row],[DIAS DE ATRASO]]=0,0,t.base[[#This Row],[TOTAL]])","v":27473}]
["2018-02-11","ARCATEX S.A.C.","Centro","0001-002251","2018-03-13",0,{"v":27216,"d":"27,216"},{"$f":"IF(t.base[[#This Row],[DIAS DE ATRASO]]=0,0,t.base[[#This Row],[TOTAL]])","v":0}]
["2018-03-11","CACERESA S.A.C.","Centro","0001-009790","2018-03-11",2,{"v":19644,"d":"19,644"},{"$f":"IF(t.base[[#This Row],[DIAS DE ATRASO]]=0,0,t.base[[#This Row],[TOTAL]])","v":19644}]
["2018-01-20","TOP CENTER E.I.R.L.","Sur","0002-007780","2018-02-19",22,{"v":47053,"d":"47,053"},{"$f":"IF(t.base[[#This Row],[DIAS DE ATRASO]]=0,0,t.base[[#This Row],[TOTAL]])","v":47053}]
["2018-02-26","EPOJE S.A.C","Centro","0001-008995","2018-03-13",0,{"v":20625,"d":"20,625"},{"$f":"IF(t.base[[#This Row],[DIAS DE ATRASO]]=0,0,t.base[[#This Row],[TOTAL]])","v":0}]
["2018-01-26","NENE TEXTIL S.A.C.","Centro","0002-001830","2018-03-12",1,{"v":18970,"d":"18,970"},{"$f":"IF(t.base[[#This Row],[DIAS DE ATRASO]]=0,0,t.base[[#This Row],[TOTAL]])","v":18970}]
["2017-10-14","BLAIROC E.I.R.L.","Centro","0002-002315","2017-12-13",90,{"v":22732,"d":"22,732"},{"$f":"IF(t.base[[#This Row],[DIAS DE ATRASO]]=0,0,t.base[[#This Row],[TOTAL]])","v":22732}]
["2017-12-06","ARMYCOX S.A.","Centro","0002-002999","2018-01-20",52,{"v":18064,"d":"18,064"},{"$f":"IF(t.base[[#This Row],[DIAS DE ATRASO]]=0,0,t.base[[#This Row],[TOTAL]])","v":18064}]
["2018-01-12","RICAVA S.A.C.","Centro","0002-002750","2018-03-13",0,{"v":23387,"d":"23,387"},{"$f":"IF(t.base[[#This Row],[DIAS DE ATRASO]]=0,0,t.base[[#This Row],[TOTAL]])","v":0}]
["2017-11-04","BODEGA OJEDA","Norte","0002-007457","2017-12-19",84,{"v":25687,"d":"25,687"},{"$f":"IF(t.base[[#This Row],[DIAS DE ATRASO]]=0,0,t.base[[#This Row],[TOTAL]])","v":25687}]
["2017-12-03","SOLO SERVICE S.A.C.","Norte","0002-005056","2018-01-17",55,{"v":36094,"d":"36,094"},{"$f":"IF(t.base[[#This Row],[DIAS DE ATRASO]]=0,0,t.base[[#This Row],[TOTAL]])","v":36094}]
["2018-03-13","CLARIGO S.A.C.","Centro","0002-005680","2018-03-13",0,{"v":26918,"d":"26,918"},{"$f":"IF(t.base[[#This Row],[DIAS DE ATRASO]]=0,0,t.base[[#This Row],[TOTAL]])","v":0}]
["2017-11-12","EMAPAVIGSSA","Sur","0001-005002","2018-02-10",31,{"v":23281,"d":"23,281"},{"$f":"IF(t.base[[#This Row],[DIAS DE ATRASO]]=0,0,t.base[[#This Row],[TOTAL]])","v":23281}]
["2018-02-25","UNIDAX E.I.R.L.","Sur","0002-009160","2018-03-12",1,{"v":20879,"d":"20,879"},{"$f":"IF(t.base[[#This Row],[DIAS DE ATRASO]]=0,0,t.base[[#This Row],[TOTAL]])","v":20879}]
["2018-02-11","PROVINAK S.A.C.","Centro","0002-002891","2018-03-13",0,{"v":10772,"d":"10,772"},{"$f":"IF(t.base[[#This Row],[DIAS DE ATRASO]]=0,0,t.base[[#This Row],[TOTAL]])","v":0}]
["2018-02-11","OROMONTE S.A","Centro","0002-002177","2018-03-13",0,{"v":16739,"d":"16,739"},{"$f":"IF(t.base[[#This Row],[DIAS DE ATRASO]]=0,0,t.base[[#This Row],[TOTAL]])","v":0}]
["2018-01-12","VIP CHANNEL S.A.C.","Centro","0001-007441","2018-03-13",0,{"v":26209,"d":"26,209"},{"$f":"IF(t.base[[#This Row],[DIAS DE ATRASO]]=0,0,t.base[[#This Row],[TOTAL]])","v":0}]
["2018-01-27","TECENG S.A.C.","Centro","0002-006785","2018-03-13",0,{"v":28233,"d":"28,233"},{"$f":"IF(t.base[[#This Row],[DIAS DE ATRASO]]=0,0,t.base[[#This Row],[TOTAL]])","v":0}]
["2018-02-10","LOZANO IMPORT SAC.","Norte","0001-008520","2018-03-12",1,{"v":35911,"d":"35,911"},{"$f":"IF(t.base[[#This Row],[DIAS DE ATRASO]]=0,0,t.base[[#This Row],[TOTAL]])","v":35911}]
["2018-03-13","TOPOGIS S.A.C.","Centro","0002-005551","2018-03-13",0,{"v":13802,"d":"13,802"},{"$f":"IF(t.base[[#This Row],[DIAS DE ATRASO]]=0,0,t.base[[#This Row],[TOTAL]])","v":0}]
["2018-02-26","CINSA E.I.R.L","Sur","0001-007407","2018-03-13",0,{"v":10677,"d":"10,677"},{"$f":"IF(t.base[[#This Row],[DIAS DE ATRASO]]=0,0,t.base[[#This Row],[TOTAL]])","v":0}]
["2017-11-12","RB & RD S.R.L.","Sur","0002-002221","2017-11-12",121,{"v":25644,"d":"25,644"},{"$f":"IF(t.base[[#This Row],[DIAS DE ATRASO]]=0,0,t.base[[#This Row],[TOTAL]])","v":25644}]
["2018-03-13","JINSEI SAC","Centro","0001-002291","2018-03-13",0,{"v":18306,"d":"18,306"},{"$f":"IF(t.base[[#This Row],[DIAS DE ATRASO]]=0,0,t.base[[#This Row],[TOTAL]])","v":0}]
["2018-03-13","SERMATFER E.I.R.L","Centro","0002-003394","2018-03-13",0,{"v":16737,"d":"16,737"},{"$f":"IF(t.base[[#This Row],[DIAS DE ATRASO]]=0,0,t.base[[#This Row],[TOTAL]])","v":0}]
["2018-01-27","REY - SIL E.I.R.L.","Norte","0002-008969","2018-03-13",0,{"v":68271,"d":"68,271"},{"$f":"IF(t.base[[#This Row],[DIAS DE ATRASO]]=0,0,t.base[[#This Row],[TOTAL]])","v":0}]
["2017-04-29","ZOEY EIRL","Norte","0002-009557","2017-07-28",228,{"v":50698,"d":"50,698"},{"$f":"IF(t.base[[#This Row],[DIAS DE ATRASO]]=0,0,t.base[[#This Row],[TOTAL]])","v":50698}]
["2018-02-26","FAVET E.I.R.L.","Norte","0002-002573","2018-03-13",0,{"v":52294,"d":"52,294"},{"$f":"IF(t.base[[#This Row],[DIAS DE ATRASO]]=0,0,t.base[[#This Row],[TOTAL]])","v":0}]
["2017-12-13","DIOS ES AMOR S.A.C.","Norte","0001-008767","2018-03-13",0,{"v":27120,"d":"27,120"},{"$f":"IF(t.base[[#This Row],[DIAS DE ATRASO]]=0,0,t.base[[#This Row],[TOTAL]])","v":0}]
["2018-02-26","LAGO IMPORT EIRL","Centro","0002-007189","2018-03-13",0,{"v":16488,"d":"16,488"},{"$f":"IF(t.base[[#This Row],[DIAS DE ATRASO]]=0,0,t.base[[#This Row],[TOTAL]])","v":0}]
["2017-10-28","YOAAN EIRL","Centro","0002-003548","2017-10-28",136,{"v":20968,"d":"20,968"},{"$f":"IF(t.base[[#This Row],[DIAS DE ATRASO]]=0,0,t.base[[#This Row],[TOTAL]])","v":20968}]
["2018-03-13","RB & RD S.R.L.","Sur","0002-007320","2018-03-13",0,{"v":33658,"d":"33,658"},{"$f":"IF(t.base[[#This Row],[DIAS DE ATRASO]]=0,0,t.base[[#This Row],[TOTAL]])","v":0}]
["2018-01-27","INTERBIKE EIRL","Centro","0002-007045","2018-03-13",0,{"v":24375,"d":"24,375"},{"$f":"IF(t.base[[#This Row],[DIAS DE ATRASO]]=0,0,t.base[[#This Row],[TOTAL]])","v":0}]
["2018-02-11","SILVA RIVERA HAYDEE","Centro","0002-001965","2018-03-13",0,{"v":16462,"d":"16,462"},{"$f":"IF(t.base[[#This Row],[DIAS DE ATRASO]]=0,0,t.base[[#This Row],[TOTAL]])","v":0}]
["2017-12-28","TMF PERU S.R.L.","Centro","0001-005795","2018-01-27",45,{"v":19565,"d":"19,565"},{"$f":"IF(t.base[[#This Row],[DIAS DE ATRASO]]=0,0,t.base[[#This Row],[TOTAL]])","v":19565}]
["2017-12-12","IMMETAZ E.I.R.L.","Sur","0002-001796","2018-03-12",1,{"v":48402,"d":"48,402"},{"$f":"IF(t.base[[#This Row],[DIAS DE ATRASO]]=0,0,t.base[[#This Row],[TOTAL]])","v":48402}]
["2018-03-13","CLAS CHIVAY","Sur","0001-001379","2018-03-13",0,{"v":13876,"d":"13,876"},{"$f":"IF(t.base[[#This Row],[DIAS DE ATRASO]]=0,0,t.base[[#This Row],[TOTAL]])","v":0}]
["2017-09-18","GEOINFORMACION S.A.","Centro","0002-006495","2017-09-18",176,{"v":17559,"d":"17,559"},{"$f":"IF(t.base[[#This Row],[DIAS DE ATRASO]]=0,0,t.base[[#This Row],[TOTAL]])","v":17559}]
["2018-03-13","COPLASTGROUP S.A.","Centro","0001-009445","2018-03-13",0,{"v":19016,"d":"19,016"},{"$f":"IF(t.base[[#This Row],[DIAS DE ATRASO]]=0,0,t.base[[#This Row],[TOTAL]])","v":0}]
["2018-02-11","PABEL S.A.C.","Norte","0002-003246","2018-03-13",0,{"v":36955,"d":"36,955"},{"$f":"IF(t.base[[#This Row],[DIAS DE ATRASO]]=0,0,t.base[[#This Row],[TOTAL]])","v":0}]
["2018-01-11","RADIO LORETO S.A.C","Norte","0002-006261","2018-03-12",1,{"v":64739,"d":"64,739"},{"$f":"IF(t.base[[#This Row],[DIAS DE ATRASO]]=0,0,t.base[[#This Row],[TOTAL]])","v":64739}]
["2018-03-13","MAQUIHER E.I.R.L.","Sur","0001-003499","2018-03-13",0,{"v":47826,"d":"47,826"},{"$f":"IF(t.base[[#This Row],[DIAS DE ATRASO]]=0,0,t.base[[#This Row],[TOTAL]])","v":0}]
["2017-12-03","FAVET E.I.R.L.","Norte","0002-002339","2018-01-17",55,{"v":67742,"d":"67,742"},{"$f":"IF(t.base[[#This Row],[DIAS DE ATRASO]]=0,0,t.base[[#This Row],[TOTAL]])","v":67742}]
["2018-02-11","E - MARKET E.I.R.L.","Centro","0001-001698","2018-03-13",0,{"v":12722,"d":"12,722"},{"$f":"IF(t.base[[#This Row],[DIAS DE ATRASO]]=0,0,t.base[[#This Row],[TOTAL]])","v":0}]
["2017-10-07","NEOSALUD S.A.C.","Centro","0001-002590","2017-10-07",157,{"v":21067,"d":"21,067"},{"$f":"IF(t.base[[#This Row],[DIAS DE ATRASO]]=0,0,t.base[[#This Row],[TOTAL]])","v":21067}]
["2018-01-12","FALLA CHALEN SAMUEL","Centro","0001-001326","2018-03-13",0,{"v":20442,"d":"20,442"},{"$f":"IF(t.base[[#This Row],[DIAS DE ATRASO]]=0,0,t.base[[#This Row],[TOTAL]])","v":0}]
["2017-11-30","SILVA RIVERA HAYDEE","Centro","0002-006693","2018-02-28",13,{"v":19578,"d":"19,578"},{"$f":"IF(t.base[[#This Row],[DIAS DE ATRASO]]=0,0,t.base[[#This Row],[TOTAL]])","v":19578}]
["2018-01-27","JARRO ROJAS AMADOR","Centro","0001-005368","2018-03-13",0,{"v":21078,"d":"21,078"},{"$f":"IF(t.base[[#This Row],[DIAS DE ATRASO]]=0,0,t.base[[#This Row],[TOTAL]])","v":0}]
["2017-09-07","ARENAS RAMOS FREDY","Centro","0001-009632","2017-11-06",127,{"v":16904,"d":"16,904"},{"$f":"IF(t.base[[#This Row],[DIAS DE ATRASO]]=0,0,t.base[[#This Row],[TOTAL]])","v":16904}]
["2018-03-13","KEMALU S.A.C.","Centro","0002-005125","2018-03-13",0,{"v":25644,"d":"25,644"},{"$f":"IF(t.base[[#This Row],[DIAS DE ATRASO]]=0,0,t.base[[#This Row],[TOTAL]])","v":0}]
["2018-02-08","DR GAS S.A.C.","Centro","0002-002781","2018-03-10",3,{"v":19359,"d":"19,359"},{"$f":"IF(t.base[[#This Row],[DIAS DE ATRASO]]=0,0,t.base[[#This Row],[TOTAL]])","v":19359}]
["2017-08-03","JURO CHAPARRO ISAAC","Centro","0001-004091","2017-11-01",132,{"v":29440,"d":"29,440"},{"$f":"IF(t.base[[#This Row],[DIAS DE ATRASO]]=0,0,t.base[[#This Row],[TOTAL]])","v":29440}]
["2018-03-13","FALLA CHALEN SAMUEL","Centro","0001-009998","2018-03-13",0,{"v":12834,"d":"12,834"},{"$f":"IF(t.base[[#This Row],[DIAS DE ATRASO]]=0,0,t.base[[#This Row],[TOTAL]])","v":0}]
["2017-09-03","DERMASALUD S.R.L.","Centro","0001-004128","2017-09-03",191,{"v":20438,"d":"20,438"},{"$f":"IF(t.base[[#This Row],[DIAS DE ATRASO]]=0,0,t.base[[#This Row],[TOTAL]])","v":20438}]
["2018-01-02","COLCA TREK EIRL.","Sur","0002-002335","2018-01-02",70,{"v":18636,"d":"18,636"},{"$f":"IF(t.base[[#This Row],[DIAS DE ATRASO]]=0,0,t.base[[#This Row],[TOTAL]])","v":18636}]
["2018-02-15","SERTEL PC S.R.L.","Norte","0001-006517","2018-02-15",26,{"v":24236,"d":"24,236"},{"$f":"IF(t.base[[#This Row],[DIAS DE ATRASO]]=0,0,t.base[[#This Row],[TOTAL]])","v":24236}]
["2018-02-26","CASINOS AMERICA SAC","Norte","0002-007509","2018-03-13",0,{"v":63516,"d":"63,516"},{"$f":"IF(t.base[[#This Row],[DIAS DE ATRASO]]=0,0,t.base[[#This Row],[TOTAL]])","v":0}]
["2017-11-26","AMG KYODAI S.A.C.","Centro","0001-008151","2018-01-25",47,{"v":26344,"d":"26,344"},{"$f":"IF(t.base[[#This Row],[DIAS DE ATRASO]]=0,0,t.base[[#This Row],[TOTAL]])","v":26344}]
["2017-12-13","NEGYSER PERU S.A.C.","Centro","0002-001667","2018-03-13",0,{"v":12395,"d":"12,395"},{"$f":"IF(t.base[[#This Row],[DIAS DE ATRASO]]=0,0,t.base[[#This Row],[TOTAL]])","v":0}]
["2018-02-11","APAZA MAMANI NATTY","Centro","0002-003745","2018-03-13",0,{"v":26563,"d":"26,563"},{"$f":"IF(t.base[[#This Row],[DIAS DE ATRASO]]=0,0,t.base[[#This Row],[TOTAL]])","v":0}]
["2018-02-26","MIAMI -SHOP S.A.C.","Centro","0002-008758","2018-03-13",0,{"v":21065,"d":"21,065"},{"$f":"IF(t.base[[#This Row],[DIAS DE ATRASO]]=0,0,t.base[[#This Row],[TOTAL]])","v":0}]
["2018-01-17","ÐAHUIS LEYVA PABLO","Centro","0002-009219","2018-02-16",25,{"v":15674,"d":"15,674"},{"$f":"IF(t.base[[#This Row],[DIAS DE ATRASO]]=0,0,t.base[[#This Row],[TOTAL]])","v":15674}]
["2018-01-27","PERALTA ROMAN YOISY","Centro","0001-004101","2018-03-13",0,{"v":24354,"d":"24,354"},{"$f":"IF(t.base[[#This Row],[DIAS DE ATRASO]]=0,0,t.base[[#This Row],[TOTAL]])","v":0}]
["2018-01-22","FERRICENTRO SAC","Norte","0001-006696","2018-01-22",50,{"v":27299,"d":"27,299"},{"$f":"IF(t.base[[#This Row],[DIAS DE ATRASO]]=0,0,t.base[[#This Row],[TOTAL]])","v":27299}]
["2017-11-21","GUIA SEMANAL S.A.C","Norte","0001-006613","2018-02-19",22,{"v":54191,"d":"54,191"},{"$f":"IF(t.base[[#This Row],[DIAS DE ATRASO]]=0,0,t.base[[#This Row],[TOTAL]])","v":54191}]
["2018-02-26","INSUVECA PERU SA","Centro","0002-003408","2018-03-13",0,{"v":15844,"d":"15,844"},{"$f":"IF(t.base[[#This Row],[DIAS DE ATRASO]]=0,0,t.base[[#This Row],[TOTAL]])","v":0}]
["2017-08-22","FERNANDEZ SRL","Norte","0001-004475","2017-11-20",113,{"v":30052,"d":"30,052"},{"$f":"IF(t.base[[#This Row],[DIAS DE ATRASO]]=0,0,t.base[[#This Row],[TOTAL]])","v":30052}]
["2018-03-13","EFC EXPRESS SAC","Centro","0001-009964","2018-03-13",0,{"v":18197,"d":"18,197"},{"$f":"IF(t.base[[#This Row],[DIAS DE ATRASO]]=0,0,t.base[[#This Row],[TOTAL]])","v":0}]
["2017-11-06","CAO JINHONG","Centro","0001-001923","2018-01-05",67,{"v":18844,"d":"18,844"},{"$f":"IF(t.base[[#This Row],[DIAS DE ATRASO]]=0,0,t.base[[#This Row],[TOTAL]])","v":18844}]
["2018-02-11","SAMMYTEC S.A.","Centro","0002-007986","2018-03-13",0,{"v":25068,"d":"25,068"},{"$f":"IF(t.base[[#This Row],[DIAS DE ATRASO]]=0,0,t.base[[#This Row],[TOTAL]])","v":0}]
["2018-01-27","PNEUMOHELP E.I.R.L.","Centro","0001-002220","2018-03-13",0,{"v":23783,"d":"23,783"},{"$f":"IF(t.base[[#This Row],[DIAS DE ATRASO]]=0,0,t.base[[#This Row],[TOTAL]])","v":0}]
["2018-03-13","EQUIPROBEZ E.I.R.L.","Centro","0001-001131","2018-03-13",0,{"v":29088,"d":"29,088"},{"$f":"IF(t.base[[#This Row],[DIAS DE ATRASO]]=0,0,t.base[[#This Row],[TOTAL]])","v":0}]
["2018-02-25","COPY SERVICE MV SAC","Centro","0002-004749","2018-03-12",1,{"v":27905,"d":"27,905"},{"$f":"IF(t.base[[#This Row],[DIAS DE ATRASO]]=0,0,t.base[[#This Row],[TOTAL]])","v":27905}]
["2018-01-13","CAMPOS QUISPE MARIO","Centro","0001-009740","2018-02-27",14,{"v":25241,"d":"25,241"},{"$f":"IF(t.base[[#This Row],[DIAS DE ATRASO]]=0,0,t.base[[#This Row],[TOTAL]])","v":25241}]
["2017-11-01","NOVA GAS S A","Centro","0001-004573","2017-12-16",87,{"v":23005,"d":"23,005"},{"$f":"IF(t.base[[#This Row],[DIAS DE ATRASO]]=0,0,t.base[[#This Row],[TOTAL]])","v":23005}]
["2018-01-16","TRAUMATOLOGIA S.A.","Centro","0001-005142","2018-01-31",41,{"v":15719,"d":"15,719"},{"$f":"IF(t.base[[#This Row],[DIAS DE ATRASO]]=0,0,t.base[[#This Row],[TOTAL]])","v":15719}]
["2018-01-08","TECENG S.A.C.","Centro","0002-002311","2018-02-22",19,{"v":24670,"d":"24,670"},{"$f":"IF(t.base[[#This Row],[DIAS DE ATRASO]]=0,0,t.base[[#This Row],[TOTAL]])","v":24670}]
["2017-11-18","AURODISA EIRL","Centro","0001-002645","2018-02-16",25,{"v":26801,"d":"26,801"},{"$f":"IF(t.base[[#This Row],[DIAS DE ATRASO]]=0,0,t.base[[#This Row],[TOTAL]])","v":26801}]
["2018-01-27","EXACT S.A.C.","Centro","0001-003835","2018-03-13",0,{"v":17545,"d":"17,545"},{"$f":"IF(t.base[[#This Row],[DIAS DE ATRASO]]=0,0,t.base[[#This Row],[TOTAL]])","v":0}]
["2017-11-17","ALVARADO VEGA LESLY","Centro","0001-007100","2018-02-15",26,{"v":24276,"d":"24,276"},{"$f":"IF(t.base[[#This Row],[DIAS DE ATRASO]]=0,0,t.base[[#This Row],[TOTAL]])","v":24276}]
["2018-02-23","AYC FLORES S.A.C.","Centro","0001-004658","2018-02-23",18,{"v":20219,"d":"20,219"},{"$f":"IF(t.base[[#This Row],[DIAS DE ATRASO]]=0,0,t.base[[#This Row],[TOTAL]])","v":20219}]
["2018-01-27","ANVI'S S.R.L.","Norte","0002-002685","2018-03-13",0,{"v":59689,"d":"59,689"},{"$f":"IF(t.base[[#This Row],[DIAS DE ATRASO]]=0,0,t.base[[#This Row],[TOTAL]])","v":0}]
["2017-11-30","GAGLIARDO E.I.R.L.","Centro","0001-009030","2018-02-28",13,{"v":16327,"d":"16,327"},{"$f":"IF(t.base[[#This Row],[DIAS DE ATRASO]]=0,0,t.base[[#This Row],[TOTAL]])","v":16327}]
["2017-12-13","EMAPAVIGSSA","Sur","0002-003781","2018-03-13",0,{"v":37849,"d":"37,849"},{"$f":"IF(t.base[[#This Row],[DIAS DE ATRASO]]=0,0,t.base[[#This Row],[TOTAL]])","v":0}]
["2018-03-13","COPLASTGROUP S.A.","Centro","0002-001940","2018-03-13",0,{"v":22816,"d":"22,816"},{"$f":"IF(t.base[[#This Row],[DIAS DE ATRASO]]=0,0,t.base[[#This Row],[TOTAL]])","v":0}]
["2017-11-20","TRASDIP E.I.R.L.","Sur","0002-002312","2017-12-20",83,{"v":31375,"d":"31,375"},{"$f":"IF(t.base[[#This Row],[DIAS DE ATRASO]]=0,0,t.base[[#This Row],[TOTAL]])","v":31375}]
["2018-02-10","S'DROP'S E.I.R.L.","Centro","0001-001107","2018-02-25",16,{"v":10416,"d":"10,416"},{"$f":"IF(t.base[[#This Row],[DIAS DE ATRASO]]=0,0,t.base[[#This Row],[TOTAL]])","v":10416}]
["2018-01-27","SYSTCOM IMPORT SAC","Centro","0001-002762","2018-03-13",0,{"v":27786,"d":"27,786"},{"$f":"IF(t.base[[#This Row],[DIAS DE ATRASO]]=0,0,t.base[[#This Row],[TOTAL]])","v":0}]
["2017-08-22","DREAM POWER S.A.C.","Centro","0002-003860","2017-11-20",113,{"v":12032,"d":"12,032"},{"$f":"IF(t.base[[#This Row],[DIAS DE ATRASO]]=0,0,t.base[[#This Row],[TOTAL]])","v":12032}]
["2018-02-10","C.V INVESTMENTS S.A","Centro","0002-005182","2018-03-12",1,{"v":14216,"d":"14,216"},{"$f":"IF(t.base[[#This Row],[DIAS DE ATRASO]]=0,0,t.base[[#This Row],[TOTAL]])","v":14216}]
["2017-10-15","D'BEGASA S.A.C.","Centro","0002-004669","2017-12-14",89,{"v":14436,"d":"14,436"},{"$f":"IF(t.base[[#This Row],[DIAS DE ATRASO]]=0,0,t.base[[#This Row],[TOTAL]])","v":14436}]
["2018-02-11","SURTIDORES S.A.C.","Centro","0001-006107","2018-03-13",0,{"v":27069,"d":"27,069"},{"$f":"IF(t.base[[#This Row],[DIAS DE ATRASO]]=0,0,t.base[[#This Row],[TOTAL]])","v":0}]
["2017-11-01","LAVA EXPRESS SAC","Centro","0001-002205","2018-01-30",42,{"v":14299,"d":"14,299"},{"$f":"IF(t.base[[#This Row],[DIAS DE ATRASO]]=0,0,t.base[[#This Row],[TOTAL]])","v":14299}]
["2018-02-26","PROYECONSA S.A.C.","Centro","0001-003539","2018-03-13",0,{"v":16836,"d":"16,836"},{"$f":"IF(t.base[[#This Row],[DIAS DE ATRASO]]=0,0,t.base[[#This Row],[TOTAL]])","v":0}]
["2018-03-12","WAGER SLOTS S.A.C.","Centro","0001-006762","2018-03-12",1,{"v":21040,"d":"21,040"},{"$f":"IF(t.base[[#This Row],[DIAS DE ATRASO]]=0,0,t.base[[#This Row],[TOTAL]])","v":21040}]
["2017-12-13","FAVET E.I.R.L.","Norte","0002-007606","2018-03-13",0,{"v":36239,"d":"36,239"},{"$f":"IF(t.base[[#This Row],[DIAS DE ATRASO]]=0,0,t.base[[#This Row],[TOTAL]])","v":0}]
["2017-12-12","WALLPA SUA  S.A.C","Sur","0002-001795","2018-03-12",1,{"v":15343,"d":"15,343"},{"$f":"IF(t.base[[#This Row],[DIAS DE ATRASO]]=0,0,t.base[[#This Row],[TOTAL]])","v":15343}]
["2018-02-11","DIMACAR S.A.C.","Sur","0001-006923","2018-03-13",0,{"v":40975,"d":"40,975"},{"$f":"IF(t.base[[#This Row],[DIAS DE ATRASO]]=0,0,t.base[[#This Row],[TOTAL]])","v":0}]
["2018-02-26","ARTIFICIUM S.A.C.","Centro","0002-004147","2018-03-13",0,{"v":12466,"d":"12,466"},{"$f":"IF(t.base[[#This Row],[DIAS DE ATRASO]]=0,0,t.base[[#This Row],[TOTAL]])","v":0}]
["2018-03-13","ROJAS VILLANO NILO","Centro","0001-007580","2018-03-13",0,{"v":23961,"d":"23,961"},{"$f":"IF(t.base[[#This Row],[DIAS DE ATRASO]]=0,0,t.base[[#This Row],[TOTAL]])","v":0}]
["2017-12-13","QUAN-FHU S.C.R.L.","Centro","0002-003573","2018-03-13",0,{"v":25087,"d":"25,087"},{"$f":"IF(t.base[[#This Row],[DIAS DE ATRASO]]=0,0,t.base[[#This Row],[TOTAL]])","v":0}]
["2017-12-12","TRAUMA S.A.C.","Centro","0001-008371","2018-03-12",1,{"v":12307,"d":"12,307"},{"$f":"IF(t.base[[#This Row],[DIAS DE ATRASO]]=0,0,t.base[[#This Row],[TOTAL]])","v":12307}]
["2017-11-27","SAAD SAID T I","Centro","0001-002488","2018-01-11",61,{"v":16416,"d":"16,416"},{"$f":"IF(t.base[[#This Row],[DIAS DE ATRASO]]=0,0,t.base[[#This Row],[TOTAL]])","v":16416}]
["2017-08-24","ERTI SRL","Sur","0002-005042","2017-09-08",186,{"v":15312,"d":"15,312"},{"$f":"IF(t.base[[#This Row],[DIAS DE ATRASO]]=0,0,t.base[[#This Row],[TOTAL]])","v":15312}]
["2017-12-13","SOBITEC PERU S.A.C.","Centro","0001-002434","2018-03-13",0,{"v":24793,"d":"24,793"},{"$f":"IF(t.base[[#This Row],[DIAS DE ATRASO]]=0,0,t.base[[#This Row],[TOTAL]])","v":0}]
["2017-08-28","COLOR Y BELLEZA SAC","Norte","0002-003954","2017-10-27",137,{"v":49332,"d":"49,332"},{"$f":"IF(t.base[[#This Row],[DIAS DE ATRASO]]=0,0,t.base[[#This Row],[TOTAL]])","v":49332}]
["2017-12-05","CIGREN PERU S.A.C.","Centro","0002-003655","2017-12-20",83,{"v":22376,"d":"22,376"},{"$f":"IF(t.base[[#This Row],[DIAS DE ATRASO]]=0,0,t.base[[#This Row],[TOTAL]])","v":22376}]
["2018-02-26","MI ROSEDAL S.A.C.","Centro","0002-003290","2018-03-13",0,{"v":12798,"d":"12,798"},{"$f":"IF(t.base[[#This Row],[DIAS DE ATRASO]]=0,0,t.base[[#This Row],[TOTAL]])","v":0}]
["2018-02-26","HONGYING ZHOU","Centro","0001-004777","2018-03-13",0,{"v":28366,"d":"28,366"},{"$f":"IF(t.base[[#This Row],[DIAS DE ATRASO]]=0,0,t.base[[#This Row],[TOTAL]])","v":0}]
["2018-01-27","TRANSJOHNNY S.A.C.","Centro","0002-007441","2018-03-13",0,{"v":28690,"d":"28,690"},{"$f":"IF(t.base[[#This Row],[DIAS DE ATRASO]]=0,0,t.base[[#This Row],[TOTAL]])","v":0}]
["2017-09-26","LA ROCCA SAC","Centro","0002-004476","2017-11-10",123,{"v":11049,"d":"11,049"},{"$f":"IF(t.base[[#This Row],[DIAS DE ATRASO]]=0,0,t.base[[#This Row],[TOTAL]])","v":11049}]
["2018-02-03","CAR SALES E.I.R.L.","Centro","0002-002791","2018-02-03",38,{"v":13745,"d":"13,745"},{"$f":"IF(t.base[[#This Row],[DIAS DE ATRASO]]=0,0,t.base[[#This Row],[TOTAL]])","v":13745}]
["2017-11-19","REYAL SRLTDA","Centro","0001-004978","2018-02-17",24,{"v":20787,"d":"20,787"},{"$f":"IF(t.base[[#This Row],[DIAS DE ATRASO]]=0,0,t.base[[#This Row],[TOTAL]])","v":20787}]
["2018-02-26","GREEN STAR S.A.C","Centro","0002-003882","2018-03-13",0,{"v":18066,"d":"18,066"},{"$f":"IF(t.base[[#This Row],[DIAS DE ATRASO]]=0,0,t.base[[#This Row],[TOTAL]])","v":0}]
["2018-02-11","INICIO PC S.R.L.","Norte","0001-003484","2018-03-13",0,{"v":14280,"d":"14,280"},{"$f":"IF(t.base[[#This Row],[DIAS DE ATRASO]]=0,0,t.base[[#This Row],[TOTAL]])","v":0}]
["2018-02-11","SERTEL PC S.R.L.","Norte","0001-009268","2018-03-13",0,{"v":19577,"d":"19,577"},{"$f":"IF(t.base[[#This Row],[DIAS DE ATRASO]]=0,0,t.base[[#This Row],[TOTAL]])","v":0}]
["2017-09-14","NEYRA MEDINA RAFAEL","Centro","0001-004687","2017-10-29",135,{"v":28007,"d":"28,007"},{"$f":"IF(t.base[[#This Row],[DIAS DE ATRASO]]=0,0,t.base[[#This Row],[TOTAL]])","v":28007}]
["2017-12-01","NORCOSTA S.A.C","Centro","0002-004497","2018-03-01",12,{"v":13987,"d":"13,987"},{"$f":"IF(t.base[[#This Row],[DIAS DE ATRASO]]=0,0,t.base[[#This Row],[TOTAL]])","v":13987}]
["2017-08-05","SOTO ZAMORA TITO","Centro","0002-002980","2017-11-03",130,{"v":23068,"d":"23,068"},{"$f":"IF(t.base[[#This Row],[DIAS DE ATRASO]]=0,0,t.base[[#This Row],[TOTAL]])","v":23068}]
["2017-12-13","TEXTILES PAULA SAC","Centro","0002-008617","2018-03-13",0,{"v":10297,"d":"10,297"},{"$f":"IF(t.base[[#This Row],[DIAS DE ATRASO]]=0,0,t.base[[#This Row],[TOTAL]])","v":0}]
["2018-01-12","ALFA & ALFA E.I.R.L","Centro","0002-003341","2018-03-13",0,{"v":16485,"d":"16,485"},{"$f":"IF(t.base[[#This Row],[DIAS DE ATRASO]]=0,0,t.base[[#This Row],[TOTAL]])","v":0}]
["2018-02-26","C&C FARM S.R.L.","Sur","0002-007019","2018-03-13",0,{"v":49193,"d":"49,193"},{"$f":"IF(t.base[[#This Row],[DIAS DE ATRASO]]=0,0,t.base[[#This Row],[TOTAL]])","v":0}]
["2017-06-22","CONDORCO S.R.L.","Centro","0001-001797","2017-08-21",204,{"v":26233,"d":"26,233"},{"$f":"IF(t.base[[#This Row],[DIAS DE ATRASO]]=0,0,t.base[[#This Row],[TOTAL]])","v":26233}]
["2018-02-27","J.O.B GAMES S.A.C.","Centro","0002-009851","2018-02-27",14,{"v":12760,"d":"12,760"},{"$f":"IF(t.base[[#This Row],[DIAS DE ATRASO]]=0,0,t.base[[#This Row],[TOTAL]])","v":12760}]
["2017-12-09","RONESK S.A.C.","Centro","0002-004958","2018-01-08",64,{"v":13550,"d":"13,550"},{"$f":"IF(t.base[[#This Row],[DIAS DE ATRASO]]=0,0,t.base[[#This Row],[TOTAL]])","v":13550}]
["2018-02-11","FERRICENTRO SAC","Norte","0001-003366","2018-03-13",0,{"v":37930,"d":"37,930"},{"$f":"IF(t.base[[#This Row],[DIAS DE ATRASO]]=0,0,t.base[[#This Row],[TOTAL]])","v":0}]
["2017-12-01","VIRGO PERU SAC","Centro","0002-003745","2018-03-01",12,{"v":20708,"d":"20,708"},{"$f":"IF(t.base[[#This Row],[DIAS DE ATRASO]]=0,0,t.base[[#This Row],[TOTAL]])","v":20708}]
["2017-07-30","SERVIMEDICOS S.A.C.","Norte","0002-001867","2017-08-29",196,{"v":61727,"d":"61,727"},{"$f":"IF(t.base[[#This Row],[DIAS DE ATRASO]]=0,0,t.base[[#This Row],[TOTAL]])","v":61727}]
["2017-11-13","IRYOVI E.I.R.L.","Centro","0001-004239","2018-02-11",30,{"v":29818,"d":"29,818"},{"$f":"IF(t.base[[#This Row],[DIAS DE ATRASO]]=0,0,t.base[[#This Row],[TOTAL]])","v":29818}]
["2018-01-09","GREEN STAR S.A.C","Centro","0001-009378","2018-01-09",63,{"v":11727,"d":"11,727"},{"$f":"IF(t.base[[#This Row],[DIAS DE ATRASO]]=0,0,t.base[[#This Row],[TOTAL]])","v":11727}]
["2018-02-26","HOJA GRANDE S.A.C.","Norte","0001-001291","2018-03-13",0,{"v":26879,"d":"26,879"},{"$f":"IF(t.base[[#This Row],[DIAS DE ATRASO]]=0,0,t.base[[#This Row],[TOTAL]])","v":0}]
["2017-09-11","DELFINO MAR S.R.L.","Sur","0001-003012","2017-09-26",168,{"v":32225,"d":"32,225"},{"$f":"IF(t.base[[#This Row],[DIAS DE ATRASO]]=0,0,t.base[[#This Row],[TOTAL]])","v":32225}]
["2018-02-26","INDUCOPRA S R LTDA","Sur","0001-008329","2018-03-13",0,{"v":20502,"d":"20,502"},{"$f":"IF(t.base[[#This Row],[DIAS DE ATRASO]]=0,0,t.base[[#This Row],[TOTAL]])","v":0}]
["2017-09-19","MODULEC S.A.C.","Centro","0002-005497","2017-10-04",160,{"v":12358,"d":"12,358"},{"$f":"IF(t.base[[#This Row],[DIAS DE ATRASO]]=0,0,t.base[[#This Row],[TOTAL]])","v":12358}]
["2018-03-13","JON MARSIL E.I.R.L","Centro","0001-007812","2018-03-13",0,{"v":25463,"d":"25,463"},{"$f":"IF(t.base[[#This Row],[DIAS DE ATRASO]]=0,0,t.base[[#This Row],[TOTAL]])","v":0}]
["2018-02-10","REGALOS BENJI SAC","Centro","0001-006667","2018-03-12",1,{"v":24373,"d":"24,373"},{"$f":"IF(t.base[[#This Row],[DIAS DE ATRASO]]=0,0,t.base[[#This Row],[TOTAL]])","v":24373}]
["2017-11-02","S.J2 S.A.C.","Norte","0001-001591","2017-12-17",86,{"v":17666,"d":"17,666"},{"$f":"IF(t.base[[#This Row],[DIAS DE ATRASO]]=0,0,t.base[[#This Row],[TOTAL]])","v":17666}]
["2018-02-11","BIONOVA S.A.C.","Centro","0001-001260","2018-03-13",0,{"v":11523,"d":"11,523"},{"$f":"IF(t.base[[#This Row],[DIAS DE ATRASO]]=0,0,t.base[[#This Row],[TOTAL]])","v":0}]
["2018-03-13","KEMALU S.A.C.","Centro","0001-003503","2018-03-13",0,{"v":14377,"d":"14,377"},{"$f":"IF(t.base[[#This Row],[DIAS DE ATRASO]]=0,0,t.base[[#This Row],[TOTAL]])","v":0}]
["2018-01-12","MIKOMI SAC","Centro","0001-004100","2018-03-13",0,{"v":23217,"d":"23,217"},{"$f":"IF(t.base[[#This Row],[DIAS DE ATRASO]]=0,0,t.base[[#This Row],[TOTAL]])","v":0}]
["2018-02-10","VALDEZ OCHOA NHELY","Centro","0001-002668","2018-03-12",1,{"v":21655,"d":"21,655"},{"$f":"IF(t.base[[#This Row],[DIAS DE ATRASO]]=0,0,t.base[[#This Row],[TOTAL]])","v":21655}]
["2017-11-02","JOYAS ANTHONY EIRL","Centro","0001-004056","2018-01-01",71,{"v":17962,"d":"17,962"},{"$f":"IF(t.base[[#This Row],[DIAS DE ATRASO]]=0,0,t.base[[#This Row],[TOTAL]])","v":17962}]
["2018-01-27","PENTAGRAF S.A.C.","Centro","0001-007788","2018-03-13",0,{"v":11468,"d":"11,468"},{"$f":"IF(t.base[[#This Row],[DIAS DE ATRASO]]=0,0,t.base[[#This Row],[TOTAL]])","v":0}]
["2017-12-13","CUBO MAGICO S.A.C.","Centro","0002-001344","2018-03-13",0,{"v":19282,"d":"19,282"},{"$f":"IF(t.base[[#This Row],[DIAS DE ATRASO]]=0,0,t.base[[#This Row],[TOTAL]])","v":0}]
["2018-03-13","D'BEGASA S.A.C.","Centro","0001-002585","2018-03-13",0,{"v":27146,"d":"27,146"},{"$f":"IF(t.base[[#This Row],[DIAS DE ATRASO]]=0,0,t.base[[#This Row],[TOTAL]])","v":0}]
["2018-01-12","LLANGRAF E.I.R.L","Centro","0001-001773","2018-03-13",0,{"v":24753,"d":"24,753"},{"$f":"IF(t.base[[#This Row],[DIAS DE ATRASO]]=0,0,t.base[[#This Row],[TOTAL]])","v":0}]
["2018-02-26","C.V INVESTMENTS S.A","Centro","0001-004109","2018-03-13",0,{"v":26167,"d":"26,167"},{"$f":"IF(t.base[[#This Row],[DIAS DE ATRASO]]=0,0,t.base[[#This Row],[TOTAL]])","v":0}]
["2018-01-12","PROGERSE S R L","Centro","0002-005244","2018-01-27",45,{"v":10401,"d":"10,401"},{"$f":"IF(t.base[[#This Row],[DIAS DE ATRASO]]=0,0,t.base[[#This Row],[TOTAL]])","v":10401}]
["2017-11-17","SEBAL S.A.C.","Centro","0002-009620","2018-02-15",26,{"v":28694,"d":"28,694"},{"$f":"IF(t.base[[#This Row],[DIAS DE ATRASO]]=0,0,t.base[[#This Row],[TOTAL]])","v":28694}]
["2017-07-24","OFITECC S.A.C.","Norte","0001-004190","2017-09-07",187,{"v":25773,"d":"25,773"},{"$f":"IF(t.base[[#This Row],[DIAS DE ATRASO]]=0,0,t.base[[#This Row],[TOTAL]])","v":25773}]
["2018-01-26","DR GAS S.A.C.","Centro","0002-001368","2018-03-12",1,{"v":10195,"d":"10,195"},{"$f":"IF(t.base[[#This Row],[DIAS DE ATRASO]]=0,0,t.base[[#This Row],[TOTAL]])","v":10195}]
["2017-11-05","MODULEC S.A.C.","Centro","0001-006216","2017-11-05",128,{"v":23544,"d":"23,544"},{"$f":"IF(t.base[[#This Row],[DIAS DE ATRASO]]=0,0,t.base[[#This Row],[TOTAL]])","v":23544}]
["2018-01-12","JORTRANSPORT S.R.L.","Centro","0001-005458","2018-03-13",0,{"v":21804,"d":"21,804"},{"$f":"IF(t.base[[#This Row],[DIAS DE ATRASO]]=0,0,t.base[[#This Row],[TOTAL]])","v":0}]
["2018-01-03","COPY SERVICE MV SAC","Centro","0001-008225","2018-03-04",9,{"v":17067,"d":"17,067"},{"$f":"IF(t.base[[#This Row],[DIAS DE ATRASO]]=0,0,t.base[[#This Row],[TOTAL]])","v":17067}]
["2018-01-27","HIROSHI S.A.C.","Norte","0001-006988","2018-03-13",0,{"v":57130,"d":"57,130"},{"$f":"IF(t.base[[#This Row],[DIAS DE ATRASO]]=0,0,t.base[[#This Row],[TOTAL]])","v":0}]
["2017-12-13","RAUDO PERU S.A.C.","Norte","0002-002666","2018-03-13",0,{"v":44663,"d":"44,663"},{"$f":"IF(t.base[[#This Row],[DIAS DE ATRASO]]=0,0,t.base[[#This Row],[TOTAL]])","v":0}]
["2018-03-13","CLARIGO S.A.C.","Centro","0001-008141","2018-03-13",0,{"v":15337,"d":"15,337"},{"$f":"IF(t.base[[#This Row],[DIAS DE ATRASO]]=0,0,t.base[[#This Row],[TOTAL]])","v":0}]
["2018-02-11","GRIFOS AQP S.R.L.","Sur","0001-004652","2018-03-13",0,{"v":46949,"d":"46,949"},{"$f":"IF(t.base[[#This Row],[DIAS DE ATRASO]]=0,0,t.base[[#This Row],[TOTAL]])","v":0}]
["2018-02-25","EAC SAC","Centro","0001-002076","2018-03-12",1,{"v":13685,"d":"13,685"},{"$f":"IF(t.base[[#This Row],[DIAS DE ATRASO]]=0,0,t.base[[#This Row],[TOTAL]])","v":13685}]
["2018-02-11","ZOEY EIRL","Norte","0002-002143","2018-03-13",0,{"v":16776,"d":"16,776"},{"$f":"IF(t.base[[#This Row],[DIAS DE ATRASO]]=0,0,t.base[[#This Row],[TOTAL]])","v":0}]
["2017-11-26","POLIMAT S.A.C.","Centro","0002-009957","2018-02-24",17,{"v":26588,"d":"26,588"},{"$f":"IF(t.base[[#This Row],[DIAS DE ATRASO]]=0,0,t.base[[#This Row],[TOTAL]])","v":26588}]
["2017-12-04","WHC DEL PERU S.A.","Centro","0002-008649","2017-12-19",84,{"v":23416,"d":"23,416"},{"$f":"IF(t.base[[#This Row],[DIAS DE ATRASO]]=0,0,t.base[[#This Row],[TOTAL]])","v":23416}]
["2018-01-27","RICAVA S.A.C.","Centro","0001-004489","2018-03-13",0,{"v":14073,"d":"14,073"},{"$f":"IF(t.base[[#This Row],[DIAS DE ATRASO]]=0,0,t.base[[#This Row],[TOTAL]])","v":0}]
["2018-01-27","MOTOREMA S.A.C.","Centro","0002-008660","2018-03-13",0,{"v":26758,"d":"26,758"},{"$f":"IF(t.base[[#This Row],[DIAS DE ATRASO]]=0,0,t.base[[#This Row],[TOTAL]])","v":0}]
["2018-02-26","NIETO MEJIA VILMA","Centro","0001-006275","2018-03-13",0,{"v":17046,"d":"17,046"},{"$f":"IF(t.base[[#This Row],[DIAS DE ATRASO]]=0,0,t.base[[#This Row],[TOTAL]])","v":0}]
["2017-11-03","SALLO LEVA ISABEL","Centro","0002-008313","2017-11-03",130,{"v":13990,"d":"13,990"},{"$f":"IF(t.base[[#This Row],[DIAS DE ATRASO]]=0,0,t.base[[#This Row],[TOTAL]])","v":13990}]
["2018-02-11","VLALDO E.I.R.L.","Norte","0001-008822","2018-03-13",0,{"v":41970,"d":"41,970"},{"$f":"IF(t.base[[#This Row],[DIAS DE ATRASO]]=0,0,t.base[[#This Row],[TOTAL]])","v":0}]
["2018-01-12","A & SAN JOSE S.A.C","Centro","0001-006316","2018-03-13",0,{"v":26809,"d":"26,809"},{"$f":"IF(t.base[[#This Row],[DIAS DE ATRASO]]=0,0,t.base[[#This Row],[TOTAL]])","v":0}]
["2017-12-13","RICAVA S.A.C.","Centro","0001-009901","2018-03-13",0,{"v":24375,"d":"24,375"},{"$f":"IF(t.base[[#This Row],[DIAS DE ATRASO]]=0,0,t.base[[#This Row],[TOTAL]])","v":0}]
["2018-02-26","MARINAS GUZMAN JOSE","Centro","0001-006764","2018-03-13",0,{"v":26741,"d":"26,741"},{"$f":"IF(t.base[[#This Row],[DIAS DE ATRASO]]=0,0,t.base[[#This Row],[TOTAL]])","v":0}]
["2018-02-11","RAMOS ROCHA CARLOS","Centro","0002-006425","2018-03-13",0,{"v":12531,"d":"12,531"},{"$f":"IF(t.base[[#This Row],[DIAS DE ATRASO]]=0,0,t.base[[#This Row],[TOTAL]])","v":0}]
["2017-11-19","LIDER GRAFICO SRL","Norte","0001-002814","2018-01-18",54,{"v":55930,"d":"55,930"},{"$f":"IF(t.base[[#This Row],[DIAS DE ATRASO]]=0,0,t.base[[#This Row],[TOTAL]])","v":55930}]
["2018-02-11","ENVER E.I.R.L.","Sur","0001-003907","2018-03-13",0,{"v":34055,"d":"34,055"},{"$f":"IF(t.base[[#This Row],[DIAS DE ATRASO]]=0,0,t.base[[#This Row],[TOTAL]])","v":0}]
["2017-11-28","SALAS TUANAMA HIDA","Centro","0002-006829","2018-01-27",45,{"v":22708,"d":"22,708"},{"$f":"IF(t.base[[#This Row],[DIAS DE ATRASO]]=0,0,t.base[[#This Row],[TOTAL]])","v":22708}]
["2018-01-12","TRASDIP E.I.R.L.","Sur","0002-002211","2018-03-13",0,{"v":30296,"d":"30,296"},{"$f":"IF(t.base[[#This Row],[DIAS DE ATRASO]]=0,0,t.base[[#This Row],[TOTAL]])","v":0}]
["2018-01-23","CIGREN PERU S.A.C.","Centro","0001-006275","2018-02-22",19,{"v":14087,"d":"14,087"},{"$f":"IF(t.base[[#This Row],[DIAS DE ATRASO]]=0,0,t.base[[#This Row],[TOTAL]])","v":14087}]
["2018-01-26","COMERCIAL LIVCI SAC","Centro","0001-005480","2018-03-12",1,{"v":24185,"d":"24,185"},{"$f":"IF(t.base[[#This Row],[DIAS DE ATRASO]]=0,0,t.base[[#This Row],[TOTAL]])","v":24185}]
["2017-12-12","MARVE E.I.R.L.","Sur","0002-001660","2018-03-12",1,{"v":47498,"d":"47,498"},{"$f":"IF(t.base[[#This Row],[DIAS DE ATRASO]]=0,0,t.base[[#This Row],[TOTAL]])","v":47498}]
["2017-12-24","GIGABRANDS S.A.C.","Centro","0001-002998","2018-02-22",19,{"v":25758,"d":"25,758"},{"$f":"IF(t.base[[#This Row],[DIAS DE ATRASO]]=0,0,t.base[[#This Row],[TOTAL]])","v":25758}]
["2018-01-12","INTELECTRIC  S.A.C.","Centro","0001-007450","2018-03-13",0,{"v":23758,"d":"23,758"},{"$f":"IF(t.base[[#This Row],[DIAS DE ATRASO]]=0,0,t.base[[#This Row],[TOTAL]])","v":0}]
["2018-01-17","COPY  GRAPH S.A.C.","Centro","0002-007696","2018-01-17",55,{"v":25733,"d":"25,733"},{"$f":"IF(t.base[[#This Row],[DIAS DE ATRASO]]=0,0,t.base[[#This Row],[TOTAL]])","v":25733}]
["2017-11-13","CUTITON S.A.C","Centro","0002-007965","2017-12-28",75,{"v":26426,"d":"26,426"},{"$f":"IF(t.base[[#This Row],[DIAS DE ATRASO]]=0,0,t.base[[#This Row],[TOTAL]])","v":26426}]
["2017-09-07","MILYON  PERU S.A.C.","Centro","0001-001135","2017-11-06",127,{"v":21312,"d":"21,312"},{"$f":"IF(t.base[[#This Row],[DIAS DE ATRASO]]=0,0,t.base[[#This Row],[TOTAL]])","v":21312}]
["2018-02-11","CIA VALQUI E.I.R.L.","Sur","0001-006710","2018-03-13",0,{"v":48974,"d":"48,974"},{"$f":"IF(t.base[[#This Row],[DIAS DE ATRASO]]=0,0,t.base[[#This Row],[TOTAL]])","v":0}]
["2018-02-12","LAM LEUNG ALEJANDRO","Centro","0001-004421","2018-02-12",29,{"v":23252,"d":"23,252"},{"$f":"IF(t.base[[#This Row],[DIAS DE ATRASO]]=0,0,t.base[[#This Row],[TOTAL]])","v":23252}]
["2017-12-13","XIAN CHUYAO","Centro","0001-007678","2018-03-13",0,{"v":17827,"d":"17,827"},{"$f":"IF(t.base[[#This Row],[DIAS DE ATRASO]]=0,0,t.base[[#This Row],[TOTAL]])","v":0}]
["2018-02-11","ROYAL TRANS S.A.C.","Centro","0001-008845","2018-03-13",0,{"v":13711,"d":"13,711"},{"$f":"IF(t.base[[#This Row],[DIAS DE ATRASO]]=0,0,t.base[[#This Row],[TOTAL]])","v":0}]
["2018-03-13","HUAMAN NAPA ABRAHAM","Centro","0002-003595","2018-03-13",0,{"v":21316,"d":"21,316"},{"$f":"IF(t.base[[#This Row],[DIAS DE ATRASO]]=0,0,t.base[[#This Row],[TOTAL]])","v":0}]
["2018-03-13","TECENG S.A.C.","Centro","0001-005676","2018-03-13",0,{"v":12325,"d":"12,325"},{"$f":"IF(t.base[[#This Row],[DIAS DE ATRASO]]=0,0,t.base[[#This Row],[TOTAL]])","v":0}]
["2018-01-27","PABEL S.A.C.","Norte","0001-009821","2018-03-13",0,{"v":34085,"d":"34,085"},{"$f":"IF(t.base[[#This Row],[DIAS DE ATRASO]]=0,0,t.base[[#This Row],[TOTAL]])","v":0}]
["2018-02-17","MIWA SPORT S.A.","Centro","0001-005032","2018-02-17",24,{"v":20524,"d":"20,524"},{"$f":"IF(t.base[[#This Row],[DIAS DE ATRASO]]=0,0,t.base[[#This Row],[TOTAL]])","v":20524}]
["2018-03-13","OROMONTE S.A","Centro","0002-002065","2018-03-13",0,{"v":12917,"d":"12,917"},{"$f":"IF(t.base[[#This Row],[DIAS DE ATRASO]]=0,0,t.base[[#This Row],[TOTAL]])","v":0}]
["2018-01-11","ZHOU YA S.A.C","Centro","0002-007152","2018-03-12",1,{"v":24462,"d":"24,462"},{"$f":"IF(t.base[[#This Row],[DIAS DE ATRASO]]=0,0,t.base[[#This Row],[TOTAL]])","v":24462}]
["2017-07-25","ARTROTRAUMAS SAC","Centro","0001-001514","2017-08-24",201,{"v":19850,"d":"19,850"},{"$f":"IF(t.base[[#This Row],[DIAS DE ATRASO]]=0,0,t.base[[#This Row],[TOTAL]])","v":19850}]
["2018-01-12","EYE BUSINESS S.A.C","Centro","0002-008883","2018-02-11",30,{"v":20449,"d":"20,449"},{"$f":"IF(t.base[[#This Row],[DIAS DE ATRASO]]=0,0,t.base[[#This Row],[TOTAL]])","v":20449}]
["2017-10-13","OMAN E.I.R.L.","Centro","0001-007053","2017-10-28",136,{"v":16138,"d":"16,138"},{"$f":"IF(t.base[[#This Row],[DIAS DE ATRASO]]=0,0,t.base[[#This Row],[TOTAL]])","v":16138}]
["2017-10-06","CAO JINHONG","Centro","0002-006845","2017-10-21",143,{"v":11809,"d":"11,809"},{"$f":"IF(t.base[[#This Row],[DIAS DE ATRASO]]=0,0,t.base[[#This Row],[TOTAL]])","v":11809}]
["2018-01-27","CLAS CIUDAD DE DIOS","Sur","0002-004758","2018-03-13",0,{"v":29691,"d":"29,691"},{"$f":"IF(t.base[[#This Row],[DIAS DE ATRASO]]=0,0,t.base[[#This Row],[TOTAL]])","v":0}]
["2017-07-22","COPY SERVICE MV SAC","Centro","0001-004312","2017-09-05",189,{"v":29722,"d":"29,722"},{"$f":"IF(t.base[[#This Row],[DIAS DE ATRASO]]=0,0,t.base[[#This Row],[TOTAL]])","v":29722}]
["2018-03-13","GOSHE E.I.R.L.","Centro","0001-003994","2018-03-13",0,{"v":11188,"d":"11,188"},{"$f":"IF(t.base[[#This Row],[DIAS DE ATRASO]]=0,0,t.base[[#This Row],[TOTAL]])","v":0}]
["2017-11-27","CHAMS S.R.L.","Centro","0002-002306","2018-01-26",46,{"v":22880,"d":"22,880"},{"$f":"IF(t.base[[#This Row],[DIAS DE ATRASO]]=0,0,t.base[[#This Row],[TOTAL]])","v":22880}]
["2018-01-27","SERVITEC S.R.L.","Sur","0002-001983","2018-03-13",0,{"v":9363,"d":"9,363"},{"$f":"IF(t.base[[#This Row],[DIAS DE ATRASO]]=0,0,t.base[[#This Row],[TOTAL]])","v":0}]
["2018-01-12","CLICK FARMA S.A.C.","Centro","0002-009668","2018-03-13",0,{"v":29562,"d":"29,562"},{"$f":"IF(t.base[[#This Row],[DIAS DE ATRASO]]=0,0,t.base[[#This Row],[TOTAL]])","v":0}]
["2018-02-26","J.D. PLASTIC S.A.C.","Centro","0001-009493","2018-03-13",0,{"v":21033,"d":"21,033"},{"$f":"IF(t.base[[#This Row],[DIAS DE ATRASO]]=0,0,t.base[[#This Row],[TOTAL]])","v":0}]
["2018-03-12","RMRC E.I.R.L.","Norte","0002-007630","2018-03-12",1,{"v":35585,"d":"35,585"},{"$f":"IF(t.base[[#This Row],[DIAS DE ATRASO]]=0,0,t.base[[#This Row],[TOTAL]])","v":35585}]
["2018-02-26","MAMANI TONE MARLENI","Centro","0002-006429","2018-03-13",0,{"v":17578,"d":"17,578"},{"$f":"IF(t.base[[#This Row],[DIAS DE ATRASO]]=0,0,t.base[[#This Row],[TOTAL]])","v":0}]
["2017-11-24","TUPER S.A.C.","Centro","0001-008348","2018-01-08",64,{"v":14146,"d":"14,146"},{"$f":"IF(t.base[[#This Row],[DIAS DE ATRASO]]=0,0,t.base[[#This Row],[TOTAL]])","v":14146}]
["2018-01-22","CPTECH S.A.C","Centro","0002-007105","2018-01-22",50,{"v":13894,"d":"13,894"},{"$f":"IF(t.base[[#This Row],[DIAS DE ATRASO]]=0,0,t.base[[#This Row],[TOTAL]])","v":13894}]
["2018-03-13","CALIGAS S.R.L.","Centro","0001-002932","2018-03-13",0,{"v":26645,"d":"26,645"},{"$f":"IF(t.base[[#This Row],[DIAS DE ATRASO]]=0,0,t.base[[#This Row],[TOTAL]])","v":0}]
["2018-02-26","PORCELL  S.A.C.","Centro","0001-007221","2018-03-13",0,{"v":28387,"d":"28,387"},{"$f":"IF(t.base[[#This Row],[DIAS DE ATRASO]]=0,0,t.base[[#This Row],[TOTAL]])","v":0}]
["2018-02-26","CACERES RAMOS JORGE","Centro","0001-007246","2018-03-13",0,{"v":25530,"d":"25,530"},{"$f":"IF(t.base[[#This Row],[DIAS DE ATRASO]]=0,0,t.base[[#This Row],[TOTAL]])","v":0}]
["2017-11-12","INVERMEDIC SAC","Norte","0001-008098","2018-01-11",61,{"v":16750,"d":"16,750"},{"$f":"IF(t.base[[#This Row],[DIAS DE ATRASO]]=0,0,t.base[[#This Row],[TOTAL]])","v":16750}]
["2017-08-02","JJJ KADAR S.A.C.","Centro","0001-004714","2017-09-16",178,{"v":26460,"d":"26,460"},{"$f":"IF(t.base[[#This Row],[DIAS DE ATRASO]]=0,0,t.base[[#This Row],[TOTAL]])","v":26460}]
["2018-01-13","MISOKA S.A.C.","Centro","0002-003085","2018-01-13",59,{"v":29154,"d":"29,154"},{"$f":"IF(t.base[[#This Row],[DIAS DE ATRASO]]=0,0,t.base[[#This Row],[TOTAL]])","v":29154}]
["2017-10-26","MRP E.I.R.L.","Centro","0001-009768","2017-12-25",78,{"v":20185,"d":"20,185"},{"$f":"IF(t.base[[#This Row],[DIAS DE ATRASO]]=0,0,t.base[[#This Row],[TOTAL]])","v":20185}]
["2018-01-12","TRAUMA S.A.C.","Centro","0001-007568","2018-03-13",0,{"v":22650,"d":"22,650"},{"$f":"IF(t.base[[#This Row],[DIAS DE ATRASO]]=0,0,t.base[[#This Row],[TOTAL]])","v":0}]
["2018-02-11","E - MARKET E.I.R.L.","Centro","0002-002629","2018-03-13",0,{"v":24417,"d":"24,417"},{"$f":"IF(t.base[[#This Row],[DIAS DE ATRASO]]=0,0,t.base[[#This Row],[TOTAL]])","v":0}]
["2018-01-12","SOLISA S.A.C.","Centro","0001-001655","2018-03-13",0,{"v":13711,"d":"13,711"},{"$f":"IF(t.base[[#This Row],[DIAS DE ATRASO]]=0,0,t.base[[#This Row],[TOTAL]])","v":0}]
["2017-12-13","ZHOU YA S.A.C","Centro","0002-006893","2018-03-13",0,{"v":22300,"d":"22,300"},{"$f":"IF(t.base[[#This Row],[DIAS DE ATRASO]]=0,0,t.base[[#This Row],[TOTAL]])","v":0}]
["2018-03-13","LIZFEL E.I.R.L.","Centro","0001-009995","2018-03-13",0,{"v":23913,"d":"23,913"},{"$f":"IF(t.base[[#This Row],[DIAS DE ATRASO]]=0,0,t.base[[#This Row],[TOTAL]])","v":0}]
["2017-09-10","MATOS CAMAC FELIX","Centro","0001-009970","2017-10-25",139,{"v":27972,"d":"27,972"},{"$f":"IF(t.base[[#This Row],[DIAS DE ATRASO]]=0,0,t.base[[#This Row],[TOTAL]])","v":27972}]
["2018-03-13","COLOR Y BELLEZA SAC","Norte","0001-005915","2018-03-13",0,{"v":12639,"d":"12,639"},{"$f":"IF(t.base[[#This Row],[DIAS DE ATRASO]]=0,0,t.base[[#This Row],[TOTAL]])","v":0}]
["2018-01-12","COPY  GRAPH S.A.C.","Centro","0002-004491","2018-03-13",0,{"v":23969,"d":"23,969"},{"$f":"IF(t.base[[#This Row],[DIAS DE ATRASO]]=0,0,t.base[[#This Row],[TOTAL]])","v":0}]
["2018-02-26","COMERCIAL M&P SRL","Sur","0001-005889","2018-03-13",0,{"v":12755,"d":"12,755"},{"$f":"IF(t.base[[#This Row],[DIAS DE ATRASO]]=0,0,t.base[[#This Row],[TOTAL]])","v":0}]
["2017-11-14","DATA PC S.R.L.","Sur","0002-008462","2018-02-12",29,{"v":17735,"d":"17,735"},{"$f":"IF(t.base[[#This Row],[DIAS DE ATRASO]]=0,0,t.base[[#This Row],[TOTAL]])","v":17735}]
["2018-01-26","INSANOR S.A.C.","Centro","0001-009592","2018-03-12",1,{"v":24762,"d":"24,762"},{"$f":"IF(t.base[[#This Row],[DIAS DE ATRASO]]=0,0,t.base[[#This Row],[TOTAL]])","v":24762}]
["2017-12-17","PAXI PAUCAR TEODORO","Centro","0002-005162","2018-01-31",41,{"v":29929,"d":"29,929"},{"$f":"IF(t.base[[#This Row],[DIAS DE ATRASO]]=0,0,t.base[[#This Row],[TOTAL]])","v":29929}]
["2017-12-20","ERTI SRL","Sur","0002-005246","2018-02-18",23,{"v":42542,"d":"42,542"},{"$f":"IF(t.base[[#This Row],[DIAS DE ATRASO]]=0,0,t.base[[#This Row],[TOTAL]])","v":42542}]
["2017-10-19","RIFUSE EIRL","Sur","0002-004707","2017-12-03",100,{"v":39980,"d":"39,980"},{"$f":"IF(t.base[[#This Row],[DIAS DE ATRASO]]=0,0,t.base[[#This Row],[TOTAL]])","v":39980}]
["2018-01-27","BESTSOLTI SAC","Centro","0002-003121","2018-03-13",0,{"v":23418,"d":"23,418"},{"$f":"IF(t.base[[#This Row],[DIAS DE ATRASO]]=0,0,t.base[[#This Row],[TOTAL]])","v":0}]
["2017-06-10","BRIDAG E.I.R.LTDA.","Centro","0001-007603","2017-08-09",216,{"v":23158,"d":"23,158"},{"$f":"IF(t.base[[#This Row],[DIAS DE ATRASO]]=0,0,t.base[[#This Row],[TOTAL]])","v":23158}]
["2018-01-12","QUAN-FHU S.C.R.L.","Centro","0002-008756","2018-03-13",0,{"v":18699,"d":"18,699"},{"$f":"IF(t.base[[#This Row],[DIAS DE ATRASO]]=0,0,t.base[[#This Row],[TOTAL]])","v":0}]
["2017-12-26","GALKEM E.I.R.L.","Centro","0002-009174","2017-12-26",77,{"v":24013,"d":"24,013"},{"$f":"IF(t.base[[#This Row],[DIAS DE ATRASO]]=0,0,t.base[[#This Row],[TOTAL]])","v":24013}]
["2017-12-10","MONICA CHANG S.A.C.","Centro","0001-006573","2018-03-10",3,{"v":15642,"d":"15,642"},{"$f":"IF(t.base[[#This Row],[DIAS DE ATRASO]]=0,0,t.base[[#This Row],[TOTAL]])","v":15642}]
["2017-12-05","RODIMPORT S.R.L.","Norte","0002-005869","2018-03-05",8,{"v":50396,"d":"50,396"},{"$f":"IF(t.base[[#This Row],[DIAS DE ATRASO]]=0,0,t.base[[#This Row],[TOTAL]])","v":50396}]
["2017-12-03","GOMEZ ROMANI LEONOR","Centro","0002-009190","2018-02-01",40,{"v":24838,"d":"24,838"},{"$f":"IF(t.base[[#This Row],[DIAS DE ATRASO]]=0,0,t.base[[#This Row],[TOTAL]])","v":24838}]
["2017-07-31","ZHU MING S.A.C.","Centro","0001-002261","2017-09-14",180,{"v":18399,"d":"18,399"},{"$f":"IF(t.base[[#This Row],[DIAS DE ATRASO]]=0,0,t.base[[#This Row],[TOTAL]])","v":18399}]
["2018-02-11","RAUDO PERU S.A.C.","Norte","0001-004998","2018-03-13",0,{"v":65035,"d":"65,035"},{"$f":"IF(t.base[[#This Row],[DIAS DE ATRASO]]=0,0,t.base[[#This Row],[TOTAL]])","v":0}]
["2018-03-13","J & F TRADERS S.A.","Centro","0002-004178","2018-03-13",0,{"v":17061,"d":"17,061"},{"$f":"IF(t.base[[#This Row],[DIAS DE ATRASO]]=0,0,t.base[[#This Row],[TOTAL]])","v":0}]
["2018-01-12","MELASUR S.A.C.","Centro","0002-002719","2018-03-13",0,{"v":15232,"d":"15,232"},{"$f":"IF(t.base[[#This Row],[DIAS DE ATRASO]]=0,0,t.base[[#This Row],[TOTAL]])","v":0}]
["2018-01-08","AIR JMC EIRL","Centro","0001-001449","2018-01-08",64,{"v":11734,"d":"11,734"},{"$f":"IF(t.base[[#This Row],[DIAS DE ATRASO]]=0,0,t.base[[#This Row],[TOTAL]])","v":11734}]
["2018-01-11","MRP E.I.R.L.","Centro","0001-009745","2018-03-12",1,{"v":29642,"d":"29,642"},{"$f":"IF(t.base[[#This Row],[DIAS DE ATRASO]]=0,0,t.base[[#This Row],[TOTAL]])","v":29642}]
["2018-02-11","MAMANI SOSA ANA","Centro","0002-005000","2018-03-13",0,{"v":23236,"d":"23,236"},{"$f":"IF(t.base[[#This Row],[DIAS DE ATRASO]]=0,0,t.base[[#This Row],[TOTAL]])","v":0}]
["2017-09-25","FERRICENTRO SAC","Norte","0002-006259","2017-12-24",79,{"v":40655,"d":"40,655"},{"$f":"IF(t.base[[#This Row],[DIAS DE ATRASO]]=0,0,t.base[[#This Row],[TOTAL]])","v":40655}]
["2018-02-11","KORPAK E.I.R.L.","Centro","0001-004584","2018-03-13",0,{"v":17139,"d":"17,139"},{"$f":"IF(t.base[[#This Row],[DIAS DE ATRASO]]=0,0,t.base[[#This Row],[TOTAL]])","v":0}]
["2018-01-12","QB&A S.A.C.","Sur","0002-002148","2018-03-13",0,{"v":13311,"d":"13,311"},{"$f":"IF(t.base[[#This Row],[DIAS DE ATRASO]]=0,0,t.base[[#This Row],[TOTAL]])","v":0}]
["2017-12-18","SALVADOR LAZO FIDEL","Centro","0001-005663","2018-01-02",70,{"v":29966,"d":"29,966"},{"$f":"IF(t.base[[#This Row],[DIAS DE ATRASO]]=0,0,t.base[[#This Row],[TOTAL]])","v":29966}]
["2018-02-26","VALTER SPORT SAC","Centro","0002-008264","2018-03-13",0,{"v":22110,"d":"22,110"},{"$f":"IF(t.base[[#This Row],[DIAS DE ATRASO]]=0,0,t.base[[#This Row],[TOTAL]])","v":0}]
["2018-02-26","CASAPAN PERU S.A.C.","Centro","0001-001015","2018-03-13",0,{"v":29026,"d":"29,026"},{"$f":"IF(t.base[[#This Row],[DIAS DE ATRASO]]=0,0,t.base[[#This Row],[TOTAL]])","v":0}]
["2018-01-27","ERAZO ERAZO TULIO","Centro","0001-008220","2018-03-13",0,{"v":19559,"d":"19,559"},{"$f":"IF(t.base[[#This Row],[DIAS DE ATRASO]]=0,0,t.base[[#This Row],[TOTAL]])","v":0}]
["2018-02-26","TANZACO S.A.C","Centro","0002-006430","2018-03-13",0,{"v":15631,"d":"15,631"},{"$f":"IF(t.base[[#This Row],[DIAS DE ATRASO]]=0,0,t.base[[#This Row],[TOTAL]])","v":0}]
["2017-12-13","LA JOSEFA S.A.C.","Centro","0002-005725","2018-03-13",0,{"v":11223,"d":"11,223"},{"$f":"IF(t.base[[#This Row],[DIAS DE ATRASO]]=0,0,t.base[[#This Row],[TOTAL]])","v":0}]
["2017-12-05","DISTRIMED S.A.C.","Centro","0002-006565","2018-01-04",68,{"v":27638,"d":"27,638"},{"$f":"IF(t.base[[#This Row],[DIAS DE ATRASO]]=0,0,t.base[[#This Row],[TOTAL]])","v":27638}]
["2017-12-12","COMERCIAL LIVCI SAC","Centro","0002-009533","2018-03-12",1,{"v":14434,"d":"14,434"},{"$f":"IF(t.base[[#This Row],[DIAS DE ATRASO]]=0,0,t.base[[#This Row],[TOTAL]])","v":14434}]
["2017-12-25","AGRORETAIL  S.A.C.","Centro","0002-008069","2018-01-09",63,{"v":22328,"d":"22,328"},{"$f":"IF(t.base[[#This Row],[DIAS DE ATRASO]]=0,0,t.base[[#This Row],[TOTAL]])","v":22328}]
["2017-10-06","REFLECENTRO SRL","Centro","0001-008052","2017-10-21",143,{"v":16501,"d":"16,501"},{"$f":"IF(t.base[[#This Row],[DIAS DE ATRASO]]=0,0,t.base[[#This Row],[TOTAL]])","v":16501}]
["2018-01-26","LIMPI QUISPE CELIA","Centro","0001-006881","2018-03-12",1,{"v":18639,"d":"18,639"},{"$f":"IF(t.base[[#This Row],[DIAS DE ATRASO]]=0,0,t.base[[#This Row],[TOTAL]])","v":18639}]
["2017-11-19","MODUPLAC S.A.C.","Sur","0001-006059","2018-02-17",24,{"v":10824,"d":"10,824"},{"$f":"IF(t.base[[#This Row],[DIAS DE ATRASO]]=0,0,t.base[[#This Row],[TOTAL]])","v":10824}]
["2017-12-13","ROYAL TRANS S.A.C.","Centro","0001-008692","2018-03-13",0,{"v":22909,"d":"22,909"},{"$f":"IF(t.base[[#This Row],[DIAS DE ATRASO]]=0,0,t.base[[#This Row],[TOTAL]])","v":0}]
["2018-01-20","CHAVEZ FLORES BETZY","Centro","0002-004811","2018-02-19",22,{"v":11422,"d":"11,422"},{"$f":"IF(t.base[[#This Row],[DIAS DE ATRASO]]=0,0,t.base[[#This Row],[TOTAL]])","v":11422}]
["2018-02-25","SEGUNDO POSHA SOFIA","Centro","0001-008935","2018-03-12",1,{"v":13382,"d":"13,382"},{"$f":"IF(t.base[[#This Row],[DIAS DE ATRASO]]=0,0,t.base[[#This Row],[TOTAL]])","v":13382}]
["2018-02-10","A Z CHEMICAL EIRL","Centro","0001-001288","2018-03-12",1,{"v":14277,"d":"14,277"},{"$f":"IF(t.base[[#This Row],[DIAS DE ATRASO]]=0,0,t.base[[#This Row],[TOTAL]])","v":14277}]
["2018-01-22","KINSA WARMI SRL","Centro","0001-003110","2018-03-08",5,{"v":12234,"d":"12,234"},{"$f":"IF(t.base[[#This Row],[DIAS DE ATRASO]]=0,0,t.base[[#This Row],[TOTAL]])","v":12234}]
["2017-08-30","TRANSUNION PERU SAC","Centro","0001-003584","2017-11-28",105,{"v":23836,"d":"23,836"},{"$f":"IF(t.base[[#This Row],[DIAS DE ATRASO]]=0,0,t.base[[#This Row],[TOTAL]])","v":23836}]
["2018-02-11","JINSEI SAC","Centro","0001-006167","2018-03-13",0,{"v":10485,"d":"10,485"},{"$f":"IF(t.base[[#This Row],[DIAS DE ATRASO]]=0,0,t.base[[#This Row],[TOTAL]])","v":0}]
["2018-02-26","ALYJOV FARMA SRL","Centro","0002-007981","2018-03-13",0,{"v":16165,"d":"16,165"},{"$f":"IF(t.base[[#This Row],[DIAS DE ATRASO]]=0,0,t.base[[#This Row],[TOTAL]])","v":0}]
["2018-01-27","ZOE DESIGN S.A.C.","Centro","0002-001827","2018-03-13",0,{"v":26445,"d":"26,445"},{"$f":"IF(t.base[[#This Row],[DIAS DE ATRASO]]=0,0,t.base[[#This Row],[TOTAL]])","v":0}]
["2017-06-03","HUAMALI ANCO TITO","Centro","0001-001815","2017-07-18",238,{"v":24324,"d":"24,324"},{"$f":"IF(t.base[[#This Row],[DIAS DE ATRASO]]=0,0,t.base[[#This Row],[TOTAL]])","v":24324}]
["2018-01-27","M & ST SALUD S.A.C","Centro","0001-008411","2018-03-13",0,{"v":10689,"d":"10,689"},{"$f":"IF(t.base[[#This Row],[DIAS DE ATRASO]]=0,0,t.base[[#This Row],[TOTAL]])","v":0}]
["2017-05-22","EL HERMANO E.I.R.L.","Sur","0001-003604","2017-07-21",235,{"v":34574,"d":"34,574"},{"$f":"IF(t.base[[#This Row],[DIAS DE ATRASO]]=0,0,t.base[[#This Row],[TOTAL]])","v":34574}]
["2018-03-13","CAR SALES E.I.R.L.","Centro","0001-007087","2018-03-13",0,{"v":17305,"d":"17,305"},{"$f":"IF(t.base[[#This Row],[DIAS DE ATRASO]]=0,0,t.base[[#This Row],[TOTAL]])","v":0}]
["2017-08-10","FIVE PERU E.I.R.L.","Centro","0001-002194","2017-10-09",155,{"v":23708,"d":"23,708"},{"$f":"IF(t.base[[#This Row],[DIAS DE ATRASO]]=0,0,t.base[[#This Row],[TOTAL]])","v":23708}]
["2017-12-13","IKEA E.I.R.L.","Sur","0001-005187","2018-03-13",0,{"v":34876,"d":"34,876"},{"$f":"IF(t.base[[#This Row],[DIAS DE ATRASO]]=0,0,t.base[[#This Row],[TOTAL]])","v":0}]
["2017-10-31","BEKTON S.A.C.","Centro","0001-003246","2017-12-30",73,{"v":24340,"d":"24,340"},{"$f":"IF(t.base[[#This Row],[DIAS DE ATRASO]]=0,0,t.base[[#This Row],[TOTAL]])","v":24340}]
["2017-12-13","OROMONTE S.A","Centro","0002-008084","2018-03-13",0,{"v":26963,"d":"26,963"},{"$f":"IF(t.base[[#This Row],[DIAS DE ATRASO]]=0,0,t.base[[#This Row],[TOTAL]])","v":0}]
["2018-02-11","SIMCA S.A.C.","Sur","0002-007105","2018-03-13",0,{"v":49838,"d":"49,838"},{"$f":"IF(t.base[[#This Row],[DIAS DE ATRASO]]=0,0,t.base[[#This Row],[TOTAL]])","v":0}]
["2018-02-25","AMEDEP E.I.R.L.","Centro","0001-006969","2018-03-12",1,{"v":14404,"d":"14,404"},{"$f":"IF(t.base[[#This Row],[DIAS DE ATRASO]]=0,0,t.base[[#This Row],[TOTAL]])","v":14404}]
["2018-01-12","CARFIDERM E.I.R.L.","Centro","0001-003390","2018-03-13",0,{"v":15091,"d":"15,091"},{"$f":"IF(t.base[[#This Row],[DIAS DE ATRASO]]=0,0,t.base[[#This Row],[TOTAL]])","v":0}]
["2017-10-31","SERVISAIR S.A.C.","Centro","0002-006360","2017-12-15",88,{"v":11102,"d":"11,102"},{"$f":"IF(t.base[[#This Row],[DIAS DE ATRASO]]=0,0,t.base[[#This Row],[TOTAL]])","v":11102}]
["2017-11-30","LOPEZ ARIAS MANUEL","Centro","0001-005256","2018-02-28",13,{"v":28334,"d":"28,334"},{"$f":"IF(t.base[[#This Row],[DIAS DE ATRASO]]=0,0,t.base[[#This Row],[TOTAL]])","v":28334}]
["2018-03-02","PRINT METAL S.A","Centro","0001-001738","2018-03-02",11,{"v":20811,"d":"20,811"},{"$f":"IF(t.base[[#This Row],[DIAS DE ATRASO]]=0,0,t.base[[#This Row],[TOTAL]])","v":20811}]
["2018-02-26","CAPIRENA S.A.C.","Centro","0002-005711","2018-03-13",0,{"v":24211,"d":"24,211"},{"$f":"IF(t.base[[#This Row],[DIAS DE ATRASO]]=0,0,t.base[[#This Row],[TOTAL]])","v":0}]
["2017-12-26","DICASA Y CIA S.A.C","Centro","0002-006516","2018-02-24",17,{"v":10051,"d":"10,051"},{"$f":"IF(t.base[[#This Row],[DIAS DE ATRASO]]=0,0,t.base[[#This Row],[TOTAL]])","v":10051}]
["2017-11-15","MEDICAL MED SAC","Centro","0002-009919","2017-11-15",118,{"v":11144,"d":"11,144"},{"$f":"IF(t.base[[#This Row],[DIAS DE ATRASO]]=0,0,t.base[[#This Row],[TOTAL]])","v":11144}]
["2018-01-05","SATORI S.A.C.","Centro","0001-008516","2018-01-05",67,{"v":21827,"d":"21,827"},{"$f":"IF(t.base[[#This Row],[DIAS DE ATRASO]]=0,0,t.base[[#This Row],[TOTAL]])","v":21827}]
["2017-09-30","PERU PIMA SA.","Centro","0001-004380","2017-12-29",74,{"v":20544,"d":"20,544"},{"$f":"IF(t.base[[#This Row],[DIAS DE ATRASO]]=0,0,t.base[[#This Row],[TOTAL]])","v":20544}]
["2017-12-19","ZOEY EIRL","Norte","0001-009677","2018-02-17",24,{"v":41912,"d":"41,912"},{"$f":"IF(t.base[[#This Row],[DIAS DE ATRASO]]=0,0,t.base[[#This Row],[TOTAL]])","v":41912}]
["2018-03-13","SAN CARLOS S.A.C.","Centro","0001-009302","2018-03-13",0,{"v":26360,"d":"26,360"},{"$f":"IF(t.base[[#This Row],[DIAS DE ATRASO]]=0,0,t.base[[#This Row],[TOTAL]])","v":0}]
["2018-02-11","PNEUMOHELP E.I.R.L.","Centro","0002-005149","2018-03-13",0,{"v":19648,"d":"19,648"},{"$f":"IF(t.base[[#This Row],[DIAS DE ATRASO]]=0,0,t.base[[#This Row],[TOTAL]])","v":0}]
["2017-12-13","NORIKIRU S.A.C.","Centro","0002-004344","2018-03-13",0,{"v":16804,"d":"16,804"},{"$f":"IF(t.base[[#This Row],[DIAS DE ATRASO]]=0,0,t.base[[#This Row],[TOTAL]])","v":0}]
["2018-02-26","TAPIPLASTIC  S.A.C.","Norte","0001-002593","2018-03-13",0,{"v":21190,"d":"21,190"},{"$f":"IF(t.base[[#This Row],[DIAS DE ATRASO]]=0,0,t.base[[#This Row],[TOTAL]])","v":0}]
["2017-12-18","REPDA PARTS S.R.L.","Sur","0001-003720","2018-01-17",55,{"v":37588,"d":"37,588"},{"$f":"IF(t.base[[#This Row],[DIAS DE ATRASO]]=0,0,t.base[[#This Row],[TOTAL]])","v":37588}]
["2017-12-17","CEP KERPEN HORREN","Centro","0002-007390","2018-01-01",71,{"v":17056,"d":"17,056"},{"$f":"IF(t.base[[#This Row],[DIAS DE ATRASO]]=0,0,t.base[[#This Row],[TOTAL]])","v":17056}]
["2017-12-28","KORN S.A.C.","Centro","0001-004543","2018-02-11",30,{"v":22847,"d":"22,847"},{"$f":"IF(t.base[[#This Row],[DIAS DE ATRASO]]=0,0,t.base[[#This Row],[TOTAL]])","v":22847}]
["2017-07-07","ROBERCAR EIRL","Centro","0001-008642","2017-07-22",234,{"v":18517,"d":"18,517"},{"$f":"IF(t.base[[#This Row],[DIAS DE ATRASO]]=0,0,t.base[[#This Row],[TOTAL]])","v":18517}]
["2018-02-11","MEDFARMA EIRL","Norte","0001-008718","2018-02-26",15,{"v":10493,"d":"10,493"},{"$f":"IF(t.base[[#This Row],[DIAS DE ATRASO]]=0,0,t.base[[#This Row],[TOTAL]])","v":10493}]
["2018-01-31","SHAKAVAEL S.R.L.","Norte","0001-005512","2018-02-15",26,{"v":33525,"d":"33,525"},{"$f":"IF(t.base[[#This Row],[DIAS DE ATRASO]]=0,0,t.base[[#This Row],[TOTAL]])","v":33525}]
["2018-03-13","ARTIFICIUM S.A.C.","Centro","0001-009315","2018-03-13",0,{"v":10162,"d":"10,162"},{"$f":"IF(t.base[[#This Row],[DIAS DE ATRASO]]=0,0,t.base[[#This Row],[TOTAL]])","v":0}]
["2018-01-26","J & W CIA S.A.","Centro","0001-005580","2018-02-25",16,{"v":11463,"d":"11,463"},{"$f":"IF(t.base[[#This Row],[DIAS DE ATRASO]]=0,0,t.base[[#This Row],[TOTAL]])","v":11463}]
["2018-02-11","TECSE MUYOC","Sur","0002-006010","2018-03-13",0,{"v":15241,"d":"15,241"},{"$f":"IF(t.base[[#This Row],[DIAS DE ATRASO]]=0,0,t.base[[#This Row],[TOTAL]])","v":0}]
["2018-01-31","CAIRSA E.I.R.L","Centro","0002-009303","2018-01-31",41,{"v":26076,"d":"26,076"},{"$f":"IF(t.base[[#This Row],[DIAS DE ATRASO]]=0,0,t.base[[#This Row],[TOTAL]])","v":26076}]
["2018-01-19","AURODISA EIRL","Centro","0001-006897","2018-02-03",38,{"v":20333,"d":"20,333"},{"$f":"IF(t.base[[#This Row],[DIAS DE ATRASO]]=0,0,t.base[[#This Row],[TOTAL]])","v":20333}]
["2017-09-08","LINDO HOGAR S.A.C","Centro","0001-001758","2017-11-07",126,{"v":29888,"d":"29,888"},{"$f":"IF(t.base[[#This Row],[DIAS DE ATRASO]]=0,0,t.base[[#This Row],[TOTAL]])","v":29888}]
["2017-12-13","S A RINCON GAUCHO","Centro","0002-006747","2018-03-13",0,{"v":24914,"d":"24,914"},{"$f":"IF(t.base[[#This Row],[DIAS DE ATRASO]]=0,0,t.base[[#This Row],[TOTAL]])","v":0}]
["2018-02-23","CEPE APOSTOL PABLO","Sur","0001-009365","2018-03-10",3,{"v":10322,"d":"10,322"},{"$f":"IF(t.base[[#This Row],[DIAS DE ATRASO]]=0,0,t.base[[#This Row],[TOTAL]])","v":10322}]
["2018-03-13","OLVA WORLD E.I.R.L.","Centro","0001-001187","2018-03-13",0,{"v":16540,"d":"16,540"},{"$f":"IF(t.base[[#This Row],[DIAS DE ATRASO]]=0,0,t.base[[#This Row],[TOTAL]])","v":0}]
["2018-02-26","JICKA S.R.L.","Centro","0002-002354","2018-03-13",0,{"v":21148,"d":"21,148"},{"$f":"IF(t.base[[#This Row],[DIAS DE ATRASO]]=0,0,t.base[[#This Row],[TOTAL]])","v":0}]
["2018-02-25","ANVACHRIS E.I.R.L.","Centro","0002-004625","2018-03-12",1,{"v":12262,"d":"12,262"},{"$f":"IF(t.base[[#This Row],[DIAS DE ATRASO]]=0,0,t.base[[#This Row],[TOTAL]])","v":12262}]
["2017-10-31","C.V INVESTMENTS S.A","Centro","0002-005386","2017-12-15",88,{"v":21489,"d":"21,489"},{"$f":"IF(t.base[[#This Row],[DIAS DE ATRASO]]=0,0,t.base[[#This Row],[TOTAL]])","v":21489}]
["2017-08-20","EFC EXPRESS SAC","Centro","0001-008586","2017-09-19",175,{"v":28114,"d":"28,114"},{"$f":"IF(t.base[[#This Row],[DIAS DE ATRASO]]=0,0,t.base[[#This Row],[TOTAL]])","v":28114}]
["2018-02-26","ARDESIA SAC","Centro","0002-003022","2018-03-13",0,{"v":19780,"d":"19,780"},{"$f":"IF(t.base[[#This Row],[DIAS DE ATRASO]]=0,0,t.base[[#This Row],[TOTAL]])","v":0}]
["2017-07-18","KARPATRI S.A.C.","Centro","0001-009484","2017-09-16",178,{"v":24480,"d":"24,480"},{"$f":"IF(t.base[[#This Row],[DIAS DE ATRASO]]=0,0,t.base[[#This Row],[TOTAL]])","v":24480}]
["2018-03-13","GREY GROUP S.A.C","Centro","0001-002010","2018-03-13",0,{"v":26997,"d":"26,997"},{"$f":"IF(t.base[[#This Row],[DIAS DE ATRASO]]=0,0,t.base[[#This Row],[TOTAL]])","v":0}]
["2018-01-15","QUEQUE MAMANI LIDIA","Centro","0001-005144","2018-01-15",57,{"v":18239,"d":"18,239"},{"$f":"IF(t.base[[#This Row],[DIAS DE ATRASO]]=0,0,t.base[[#This Row],[TOTAL]])","v":18239}]
["2018-02-11","J & F TRADERS S.A.","Centro","0001-003918","2018-03-13",0,{"v":12956,"d":"12,956"},{"$f":"IF(t.base[[#This Row],[DIAS DE ATRASO]]=0,0,t.base[[#This Row],[TOTAL]])","v":0}]
["2018-01-17","LUMOGA   E.I.R.L.","Centro","0001-004292","2018-02-16",25,{"v":13857,"d":"13,857"},{"$f":"IF(t.base[[#This Row],[DIAS DE ATRASO]]=0,0,t.base[[#This Row],[TOTAL]])","v":13857}]
["2017-11-09","ORBE EMPRESARIAL SA","Centro","0001-006936","2017-11-24",109,{"v":22909,"d":"22,909"},{"$f":"IF(t.base[[#This Row],[DIAS DE ATRASO]]=0,0,t.base[[#This Row],[TOTAL]])","v":22909}]
["2017-08-28","ARDESIA SAC","Centro","0002-006643","2017-10-27",137,{"v":27299,"d":"27,299"},{"$f":"IF(t.base[[#This Row],[DIAS DE ATRASO]]=0,0,t.base[[#This Row],[TOTAL]])","v":27299}]
["2018-01-21","KENUAL S.A.C.","Centro","0002-002714","2018-03-07",6,{"v":12124,"d":"12,124"},{"$f":"IF(t.base[[#This Row],[DIAS DE ATRASO]]=0,0,t.base[[#This Row],[TOTAL]])","v":12124}]
["2017-08-14","TOTY S.A.C.","Norte","0001-003021","2017-10-13",151,{"v":34665,"d":"34,665"},{"$f":"IF(t.base[[#This Row],[DIAS DE ATRASO]]=0,0,t.base[[#This Row],[TOTAL]])","v":34665}]
["2018-03-13","SERVISAIR S.A.C.","Centro","0002-002716","2018-03-13",0,{"v":20233,"d":"20,233"},{"$f":"IF(t.base[[#This Row],[DIAS DE ATRASO]]=0,0,t.base[[#This Row],[TOTAL]])","v":0}]
["2018-03-13","TANG KONG FU","Centro","0001-005663","2018-03-13",0,{"v":18820,"d":"18,820"},{"$f":"IF(t.base[[#This Row],[DIAS DE ATRASO]]=0,0,t.base[[#This Row],[TOTAL]])","v":0}]
["2017-10-28","SERTEGTEC S.A.C.","Sur","0001-008186","2017-12-27",76,{"v":33286,"d":"33,286"},{"$f":"IF(t.base[[#This Row],[DIAS DE ATRASO]]=0,0,t.base[[#This Row],[TOTAL]])","v":33286}]
["2017-10-07","TRANSILMAR S.A.C.","Sur","0002-007202","2018-01-05",67,{"v":38171,"d":"38,171"},{"$f":"IF(t.base[[#This Row],[DIAS DE ATRASO]]=0,0,t.base[[#This Row],[TOTAL]])","v":38171}]
["2018-01-25","FUKU E.I.R.L.","Centro","0001-008454","2018-02-24",17,{"v":17830,"d":"17,830"},{"$f":"IF(t.base[[#This Row],[DIAS DE ATRASO]]=0,0,t.base[[#This Row],[TOTAL]])","v":17830}]
["2018-02-26","HURTADO CAMPO JUANA","Centro","0001-001563","2018-03-13",0,{"v":15938,"d":"15,938"},{"$f":"IF(t.base[[#This Row],[DIAS DE ATRASO]]=0,0,t.base[[#This Row],[TOTAL]])","v":0}]
["2018-01-27","REDISCAR E.I.R.L.","Sur","0001-008174","2018-03-13",0,{"v":18018,"d":"18,018"},{"$f":"IF(t.base[[#This Row],[DIAS DE ATRASO]]=0,0,t.base[[#This Row],[TOTAL]])","v":0}]
["2017-04-20","SPORTRADE S.A.C.","Centro","0001-004943","2017-07-19",237,{"v":25523,"d":"25,523"},{"$f":"IF(t.base[[#This Row],[DIAS DE ATRASO]]=0,0,t.base[[#This Row],[TOTAL]])","v":25523}]
["2018-02-11","DELI.COM S.A.C.","Centro","0002-009576","2018-03-13",0,{"v":12524,"d":"12,524"},{"$f":"IF(t.base[[#This Row],[DIAS DE ATRASO]]=0,0,t.base[[#This Row],[TOTAL]])","v":0}]
["2018-03-13","GALAXY S R L","Centro","0001-004637","2018-03-13",0,{"v":17588,"d":"17,588"},{"$f":"IF(t.base[[#This Row],[DIAS DE ATRASO]]=0,0,t.base[[#This Row],[TOTAL]])","v":0}]
["2018-03-13","M Y W SALAS S A","Centro","0002-002730","2018-03-13",0,{"v":13013,"d":"13,013"},{"$f":"IF(t.base[[#This Row],[DIAS DE ATRASO]]=0,0,t.base[[#This Row],[TOTAL]])","v":0}]
["2017-10-06","CARGRAPHICS S.A.C.","Centro","0001-003655","2018-01-04",68,{"v":19716,"d":"19,716"},{"$f":"IF(t.base[[#This Row],[DIAS DE ATRASO]]=0,0,t.base[[#This Row],[TOTAL]])","v":19716}]
["2018-02-26","REYAL SRLTDA","Centro","0002-009955","2018-03-13",0,{"v":28922,"d":"28,922"},{"$f":"IF(t.base[[#This Row],[DIAS DE ATRASO]]=0,0,t.base[[#This Row],[TOTAL]])","v":0}]
["2017-10-15","LOPEZ ARIAS MANUEL","Centro","0001-003673","2018-01-13",59,{"v":11212,"d":"11,212"},{"$f":"IF(t.base[[#This Row],[DIAS DE ATRASO]]=0,0,t.base[[#This Row],[TOTAL]])","v":11212}]
["2017-12-13","BOTICA MUNICIPAL","Norte","0001-003328","2018-03-13",0,{"v":27852,"d":"27,852"},{"$f":"IF(t.base[[#This Row],[DIAS DE ATRASO]]=0,0,t.base[[#This Row],[TOTAL]])","v":0}]
["2018-03-13","BABY KNIT S.A.C","Centro","0001-002296","2018-03-13",0,{"v":11508,"d":"11,508"},{"$f":"IF(t.base[[#This Row],[DIAS DE ATRASO]]=0,0,t.base[[#This Row],[TOTAL]])","v":0}]
["2018-01-20","RB & RD S.R.L.","Sur","0001-003777","2018-03-06",7,{"v":11132,"d":"11,132"},{"$f":"IF(t.base[[#This Row],[DIAS DE ATRASO]]=0,0,t.base[[#This Row],[TOTAL]])","v":11132}]
["2017-12-13","MAQUERA RAMOS IRMA","Centro","0002-009513","2018-03-13",0,{"v":27795,"d":"27,795"},{"$f":"IF(t.base[[#This Row],[DIAS DE ATRASO]]=0,0,t.base[[#This Row],[TOTAL]])","v":0}]
["2018-01-09","AGRORETAIL  S.A.C.","Centro","0001-007148","2018-01-09",63,{"v":15729,"d":"15,729"},{"$f":"IF(t.base[[#This Row],[DIAS DE ATRASO]]=0,0,t.base[[#This Row],[TOTAL]])","v":15729}]
["2018-01-27","RODIMPORT S.R.L.","Norte","0002-004243","2018-03-13",0,{"v":51248,"d":"51,248"},{"$f":"IF(t.base[[#This Row],[DIAS DE ATRASO]]=0,0,t.base[[#This Row],[TOTAL]])","v":0}]
["2018-03-13","FARMABCO S.A.C","Centro","0002-005065","2018-03-13",0,{"v":22562,"d":"22,562"},{"$f":"IF(t.base[[#This Row],[DIAS DE ATRASO]]=0,0,t.base[[#This Row],[TOTAL]])","v":0}]
["2018-01-12","TRICOTTON S.A.C","Centro","0002-004114","2018-03-13",0,{"v":28814,"d":"28,814"},{"$f":"IF(t.base[[#This Row],[DIAS DE ATRASO]]=0,0,t.base[[#This Row],[TOTAL]])","v":0}]
["2017-12-04","ALPAMEL S.A.C.","Sur","0001-007761","2017-12-19",84,{"v":16143,"d":"16,143"},{"$f":"IF(t.base[[#This Row],[DIAS DE ATRASO]]=0,0,t.base[[#This Row],[TOTAL]])","v":16143}]
["2018-03-13","ROSATEX E.I.R.L.","Centro","0001-002106","2018-03-13",0,{"v":24810,"d":"24,810"},{"$f":"IF(t.base[[#This Row],[DIAS DE ATRASO]]=0,0,t.base[[#This Row],[TOTAL]])","v":0}]
["2018-03-13","LUCMOIS E.I.R.L.","Centro","0002-003515","2018-03-13",0,{"v":16171,"d":"16,171"},{"$f":"IF(t.base[[#This Row],[DIAS DE ATRASO]]=0,0,t.base[[#This Row],[TOTAL]])","v":0}]
["2018-02-26","COANDINA S R LTDA","Centro","0002-002133","2018-03-13",0,{"v":19519,"d":"19,519"},{"$f":"IF(t.base[[#This Row],[DIAS DE ATRASO]]=0,0,t.base[[#This Row],[TOTAL]])","v":0}]
["2017-12-25","CARFIDERM E.I.R.L.","Centro","0002-007196","2018-01-24",48,{"v":29434,"d":"29,434"},{"$f":"IF(t.base[[#This Row],[DIAS DE ATRASO]]=0,0,t.base[[#This Row],[TOTAL]])","v":29434}]
["2017-09-02","TRANSLYA S.A.C.","Centro","0002-004138","2017-09-02",192,{"v":13140,"d":"13,140"},{"$f":"IF(t.base[[#This Row],[DIAS DE ATRASO]]=0,0,t.base[[#This Row],[TOTAL]])","v":13140}]
["2018-03-12","DS GLOBAL S.A.C","Centro","0001-009421","2018-03-12",1,{"v":25617,"d":"25,617"},{"$f":"IF(t.base[[#This Row],[DIAS DE ATRASO]]=0,0,t.base[[#This Row],[TOTAL]])","v":25617}]
["2017-12-13","SIMCA S.A.C.","Sur","0002-006928","2018-03-13",0,{"v":14938,"d":"14,938"},{"$f":"IF(t.base[[#This Row],[DIAS DE ATRASO]]=0,0,t.base[[#This Row],[TOTAL]])","v":0}]
["2017-12-04","MIYAGUI S.A.C.","Centro","0002-002377","2017-12-19",84,{"v":11069,"d":"11,069"},{"$f":"IF(t.base[[#This Row],[DIAS DE ATRASO]]=0,0,t.base[[#This Row],[TOTAL]])","v":11069}]
["2017-12-12","AMG KYODAI S.A.C.","Centro","0002-009155","2018-03-12",1,{"v":18456,"d":"18,456"},{"$f":"IF(t.base[[#This Row],[DIAS DE ATRASO]]=0,0,t.base[[#This Row],[TOTAL]])","v":18456}]
["2017-12-13","CONTRACTORS SAC","Centro","0001-004828","2018-03-13",0,{"v":28994,"d":"28,994"},{"$f":"IF(t.base[[#This Row],[DIAS DE ATRASO]]=0,0,t.base[[#This Row],[TOTAL]])","v":0}]
["2017-09-14","COMERCIAL LIVCI SAC","Centro","0002-002131","2017-12-13",90,{"v":15522,"d":"15,522"},{"$f":"IF(t.base[[#This Row],[DIAS DE ATRASO]]=0,0,t.base[[#This Row],[TOTAL]])","v":15522}]
["2017-12-29","GLOBAL PAPER SAC","Centro","0001-006467","2018-01-13",59,{"v":25010,"d":"25,010"},{"$f":"IF(t.base[[#This Row],[DIAS DE ATRASO]]=0,0,t.base[[#This Row],[TOTAL]])","v":25010}]
["2018-01-12","GRUPO GXM E.I.R.L.","Sur","0002-005299","2018-03-13",0,{"v":10249,"d":"10,249"},{"$f":"IF(t.base[[#This Row],[DIAS DE ATRASO]]=0,0,t.base[[#This Row],[TOTAL]])","v":0}]
["2018-03-12","WHC DEL PERU S.A.","Centro","0001-003594","2018-03-12",1,{"v":25281,"d":"25,281"},{"$f":"IF(t.base[[#This Row],[DIAS DE ATRASO]]=0,0,t.base[[#This Row],[TOTAL]])","v":25281}]
["2018-01-12","TOP CENTER E.I.R.L.","Sur","0001-005535","2018-03-13",0,{"v":5939,"d":"5,939"},{"$f":"IF(t.base[[#This Row],[DIAS DE ATRASO]]=0,0,t.base[[#This Row],[TOTAL]])","v":0}]
["2018-03-13","TOP MODEL S.A.C","Norte","0001-002907","2018-03-13",0,{"v":59668,"d":"59,668"},{"$f":"IF(t.base[[#This Row],[DIAS DE ATRASO]]=0,0,t.base[[#This Row],[TOTAL]])","v":0}]
["2018-02-11","MIFARMA S.A.C.","Centro","0001-006638","2018-03-13",0,{"v":24971,"d":"24,971"},{"$f":"IF(t.base[[#This Row],[DIAS DE ATRASO]]=0,0,t.base[[#This Row],[TOTAL]])","v":0}]
["2018-01-21","INKACLOTH S.A.C.","Centro","0001-006381","2018-02-05",36,{"v":23590,"d":"23,590"},{"$f":"IF(t.base[[#This Row],[DIAS DE ATRASO]]=0,0,t.base[[#This Row],[TOTAL]])","v":23590}]
["2017-10-17","TECNO COLOR S R L","Centro","0001-005764","2018-01-15",57,{"v":21243,"d":"21,243"},{"$f":"IF(t.base[[#This Row],[DIAS DE ATRASO]]=0,0,t.base[[#This Row],[TOTAL]])","v":21243}]
["2018-01-27","LEON GROUP E.I.R.L.","Sur","0001-004857","2018-03-13",0,{"v":23877,"d":"23,877"},{"$f":"IF(t.base[[#This Row],[DIAS DE ATRASO]]=0,0,t.base[[#This Row],[TOTAL]])","v":0}]
["2018-01-12","XIN HUI SAC","Centro","0002-009568","2018-03-13",0,{"v":11574,"d":"11,574"},{"$f":"IF(t.base[[#This Row],[DIAS DE ATRASO]]=0,0,t.base[[#This Row],[TOTAL]])","v":0}]
["2018-01-12","SERVIMAX E.I.R.L","Norte","0002-003712","2018-03-13",0,{"v":18920,"d":"18,920"},{"$f":"IF(t.base[[#This Row],[DIAS DE ATRASO]]=0,0,t.base[[#This Row],[TOTAL]])","v":0}]
["2018-01-27","DACIA TRADING SAC","Centro","0002-004244","2018-03-13",0,{"v":20154,"d":"20,154"},{"$f":"IF(t.base[[#This Row],[DIAS DE ATRASO]]=0,0,t.base[[#This Row],[TOTAL]])","v":0}]
["2017-12-13","TSABAZIS VASSILIOS","Centro","0001-004847","2018-03-13",0,{"v":26592,"d":"26,592"},{"$f":"IF(t.base[[#This Row],[DIAS DE ATRASO]]=0,0,t.base[[#This Row],[TOTAL]])","v":0}]
["2018-03-13","KINSA WARMI SRL","Centro","0002-002825","2018-03-13",0,{"v":27418,"d":"27,418"},{"$f":"IF(t.base[[#This Row],[DIAS DE ATRASO]]=0,0,t.base[[#This Row],[TOTAL]])","v":0}]
["2018-01-12","B. CHANG E.I.R.L.","Sur","0001-003775","2018-03-13",0,{"v":31046,"d":"31,046"},{"$f":"IF(t.base[[#This Row],[DIAS DE ATRASO]]=0,0,t.base[[#This Row],[TOTAL]])","v":0}]
["2018-02-17","DISTRIMED S.A.C.","Centro","0001-004419","2018-02-17",24,{"v":22160,"d":"22,160"},{"$f":"IF(t.base[[#This Row],[DIAS DE ATRASO]]=0,0,t.base[[#This Row],[TOTAL]])","v":22160}]
["2018-02-26","GZM EIRL","Norte","0001-007110","2018-03-13",0,{"v":36511,"d":"36,511"},{"$f":"IF(t.base[[#This Row],[DIAS DE ATRASO]]=0,0,t.base[[#This Row],[TOTAL]])","v":0}]
["2018-02-11","ORE TAIPE YOLANDA","Centro","0002-001820","2018-03-13",0,{"v":22434,"d":"22,434"},{"$f":"IF(t.base[[#This Row],[DIAS DE ATRASO]]=0,0,t.base[[#This Row],[TOTAL]])","v":0}]
["2018-01-12","CASAPAN PERU S.A.C.","Centro","0001-002716","2018-03-13",0,{"v":14172,"d":"14,172"},{"$f":"IF(t.base[[#This Row],[DIAS DE ATRASO]]=0,0,t.base[[#This Row],[TOTAL]])","v":0}]
["2018-01-12","CPTECH S.A.C","Centro","0001-006445","2018-03-13",0,{"v":26982,"d":"26,982"},{"$f":"IF(t.base[[#This Row],[DIAS DE ATRASO]]=0,0,t.base[[#This Row],[TOTAL]])","v":0}]
["2018-01-15","COLCA TREK EIRL.","Sur","0001-005037","2018-01-15",57,{"v":42272,"d":"42,272"},{"$f":"IF(t.base[[#This Row],[DIAS DE ATRASO]]=0,0,t.base[[#This Row],[TOTAL]])","v":42272}]
["2017-12-13","ARTIFICIUM S.A.C.","Centro","0002-008808","2018-03-13",0,{"v":29521,"d":"29,521"},{"$f":"IF(t.base[[#This Row],[DIAS DE ATRASO]]=0,0,t.base[[#This Row],[TOTAL]])","v":0}]
["2017-12-13","DEPOSITOS S A DEPSA","Centro","0001-005771","2018-03-13",0,{"v":19287,"d":"19,287"},{"$f":"IF(t.base[[#This Row],[DIAS DE ATRASO]]=0,0,t.base[[#This Row],[TOTAL]])","v":0}]
["2017-11-28","OLRAS SRL.","Norte","0001-008385","2017-12-13",90,{"v":33453,"d":"33,453"},{"$f":"IF(t.base[[#This Row],[DIAS DE ATRASO]]=0,0,t.base[[#This Row],[TOTAL]])","v":33453}]
["2018-02-26","TACTICO MKT S.A.C.","Centro","0002-007396","2018-03-13",0,{"v":10812,"d":"10,812"},{"$f":"IF(t.base[[#This Row],[DIAS DE ATRASO]]=0,0,t.base[[#This Row],[TOTAL]])","v":0}]
["2017-07-23","WASHOKU S.A.C.","Centro","0001-001348","2017-08-07",218,{"v":19692,"d":"19,692"},{"$f":"IF(t.base[[#This Row],[DIAS DE ATRASO]]=0,0,t.base[[#This Row],[TOTAL]])","v":19692}]
["2018-01-27","REYAL SRLTDA","Centro","0002-005086","2018-03-13",0,{"v":17336,"d":"17,336"},{"$f":"IF(t.base[[#This Row],[DIAS DE ATRASO]]=0,0,t.base[[#This Row],[TOTAL]])","v":0}]
["2018-01-26","M Y W SALAS S A","Centro","0001-007954","2018-03-12",1,{"v":16032,"d":"16,032"},{"$f":"IF(t.base[[#This Row],[DIAS DE ATRASO]]=0,0,t.base[[#This Row],[TOTAL]])","v":16032}]
["2018-01-12","GZM EIRL","Norte","0002-007245","2018-03-13",0,{"v":27621,"d":"27,621"},{"$f":"IF(t.base[[#This Row],[DIAS DE ATRASO]]=0,0,t.base[[#This Row],[TOTAL]])","v":0}]
["2018-01-27","POZO TORRES CLAUDIA","Centro","0001-006527","2018-03-13",0,{"v":10524,"d":"10,524"},{"$f":"IF(t.base[[#This Row],[DIAS DE ATRASO]]=0,0,t.base[[#This Row],[TOTAL]])","v":0}]
["2018-03-13","ITAPIER S.R.L.","Centro","0002-002747","2018-03-13",0,{"v":12834,"d":"12,834"},{"$f":"IF(t.base[[#This Row],[DIAS DE ATRASO]]=0,0,t.base[[#This Row],[TOTAL]])","v":0}]
["2018-02-26","JOMAR KOAN S.A.C.","Centro","0001-006451","2018-03-13",0,{"v":29846,"d":"29,846"},{"$f":"IF(t.base[[#This Row],[DIAS DE ATRASO]]=0,0,t.base[[#This Row],[TOTAL]])","v":0}]
["2017-11-18","MAMANI TONE MARLENI","Centro","0001-002220","2017-12-18",85,{"v":21949,"d":"21,949"},{"$f":"IF(t.base[[#This Row],[DIAS DE ATRASO]]=0,0,t.base[[#This Row],[TOTAL]])","v":21949}]
["2017-12-15","NIETO MEJIA VILMA","Centro","0002-003198","2018-01-29",43,{"v":10479,"d":"10,479"},{"$f":"IF(t.base[[#This Row],[DIAS DE ATRASO]]=0,0,t.base[[#This Row],[TOTAL]])","v":10479}]
["2018-02-26","JOYAS ANTHONY EIRL","Centro","0002-003301","2018-03-13",0,{"v":24362,"d":"24,362"},{"$f":"IF(t.base[[#This Row],[DIAS DE ATRASO]]=0,0,t.base[[#This Row],[TOTAL]])","v":0}]
["2018-02-26","MEDICAL MED SAC","Centro","0002-005054","2018-03-13",0,{"v":28073,"d":"28,073"},{"$f":"IF(t.base[[#This Row],[DIAS DE ATRASO]]=0,0,t.base[[#This Row],[TOTAL]])","v":0}]
["2017-11-01","RB & RD S.R.L.","Sur","0001-002735","2017-12-16",87,{"v":30788,"d":"30,788"},{"$f":"IF(t.base[[#This Row],[DIAS DE ATRASO]]=0,0,t.base[[#This Row],[TOTAL]])","v":30788}]
["2018-01-27","AGRO SELECTO S.A.C.","Centro","0001-004315","2018-03-13",0,{"v":14870,"d":"14,870"},{"$f":"IF(t.base[[#This Row],[DIAS DE ATRASO]]=0,0,t.base[[#This Row],[TOTAL]])","v":0}]
["2017-11-25","D & M MEDICAL EIRL","Centro","0002-004030","2018-01-24",48,{"v":12809,"d":"12,809"},{"$f":"IF(t.base[[#This Row],[DIAS DE ATRASO]]=0,0,t.base[[#This Row],[TOTAL]])","v":12809}]
["2018-01-12","ILOHOGAR E.I.R.L.","Sur","0002-008339","2018-03-13",0,{"v":39115,"d":"39,115"},{"$f":"IF(t.base[[#This Row],[DIAS DE ATRASO]]=0,0,t.base[[#This Row],[TOTAL]])","v":0}]
["2017-12-24","LAGO IMPORT EIRL","Centro","0001-005507","2018-01-23",49,{"v":16334,"d":"16,334"},{"$f":"IF(t.base[[#This Row],[DIAS DE ATRASO]]=0,0,t.base[[#This Row],[TOTAL]])","v":16334}]
["2018-02-11","SOLOT PERU S.A.C.","Centro","0002-009289","2018-03-13",0,{"v":10408,"d":"10,408"},{"$f":"IF(t.base[[#This Row],[DIAS DE ATRASO]]=0,0,t.base[[#This Row],[TOTAL]])","v":0}]
["2018-03-12","NUTRE PERU E.I.R.L.","Centro","0002-002231","2018-03-12",1,{"v":14292,"d":"14,292"},{"$f":"IF(t.base[[#This Row],[DIAS DE ATRASO]]=0,0,t.base[[#This Row],[TOTAL]])","v":14292}]
["2018-01-11","JASPE E.I.R.L.","Sur","0001-003077","2018-03-12",1,{"v":31647,"d":"31,647"},{"$f":"IF(t.base[[#This Row],[DIAS DE ATRASO]]=0,0,t.base[[#This Row],[TOTAL]])","v":31647}]
["2018-01-12","ILOHOGAR E.I.R.L.","Sur","0001-009384","2018-03-13",0,{"v":9427,"d":"9,427"},{"$f":"IF(t.base[[#This Row],[DIAS DE ATRASO]]=0,0,t.base[[#This Row],[TOTAL]])","v":0}]
["2017-12-13","VHL FOOD SAC","Centro","0002-002972","2018-03-13",0,{"v":29028,"d":"29,028"},{"$f":"IF(t.base[[#This Row],[DIAS DE ATRASO]]=0,0,t.base[[#This Row],[TOTAL]])","v":0}]
["2017-09-08","KEV S.A.C.","Centro","0001-008637","2017-10-23",141,{"v":17326,"d":"17,326"},{"$f":"IF(t.base[[#This Row],[DIAS DE ATRASO]]=0,0,t.base[[#This Row],[TOTAL]])","v":17326}]
["2017-11-02","SERVISAIR S.A.C.","Centro","0001-007542","2018-01-01",71,{"v":18317,"d":"18,317"},{"$f":"IF(t.base[[#This Row],[DIAS DE ATRASO]]=0,0,t.base[[#This Row],[TOTAL]])","v":18317}]
["2017-12-13","MACOFEVI E.I.R.L.","Norte","0002-003588","2018-03-13",0,{"v":43307,"d":"43,307"},{"$f":"IF(t.base[[#This Row],[DIAS DE ATRASO]]=0,0,t.base[[#This Row],[TOTAL]])","v":0}]
["2017-09-25","BOZA GOMEZ JUAN","Centro","0002-001243","2017-12-24",79,{"v":21556,"d":"21,556"},{"$f":"IF(t.base[[#This Row],[DIAS DE ATRASO]]=0,0,t.base[[#This Row],[TOTAL]])","v":21556}]
["2018-03-13","CHAHUERRE S.C.R.L","Norte","0001-008646","2018-03-13",0,{"v":37618,"d":"37,618"},{"$f":"IF(t.base[[#This Row],[DIAS DE ATRASO]]=0,0,t.base[[#This Row],[TOTAL]])","v":0}]
["2018-01-27","PROIMPULSA SAC","Centro","0001-001236","2018-03-13",0,{"v":22796,"d":"22,796"},{"$f":"IF(t.base[[#This Row],[DIAS DE ATRASO]]=0,0,t.base[[#This Row],[TOTAL]])","v":0}]
["2017-11-02","D'IONS SRLTDA","Norte","0001-007113","2018-01-31",41,{"v":58487,"d":"58,487"},{"$f":"IF(t.base[[#This Row],[DIAS DE ATRASO]]=0,0,t.base[[#This Row],[TOTAL]])","v":58487}]
["2017-12-13","LUMOGA   E.I.R.L.","Centro","0002-006523","2018-03-13",0,{"v":12006,"d":"12,006"},{"$f":"IF(t.base[[#This Row],[DIAS DE ATRASO]]=0,0,t.base[[#This Row],[TOTAL]])","v":0}]
["2017-08-21","BOZA GOMEZ JUAN","Centro","0002-008163","2017-11-19",114,{"v":26994,"d":"26,994"},{"$f":"IF(t.base[[#This Row],[DIAS DE ATRASO]]=0,0,t.base[[#This Row],[TOTAL]])","v":26994}]
["2018-02-11","BIONOVA S.A.C.","Centro","0001-006734","2018-03-13",0,{"v":27196,"d":"27,196"},{"$f":"IF(t.base[[#This Row],[DIAS DE ATRASO]]=0,0,t.base[[#This Row],[TOTAL]])","v":0}]
["2017-12-13","TECH HOME E.I.R.L.","Sur","0001-004843","2018-03-13",0,{"v":42804,"d":"42,804"},{"$f":"IF(t.base[[#This Row],[DIAS DE ATRASO]]=0,0,t.base[[#This Row],[TOTAL]])","v":0}]
["2017-07-16","HELENTEX S.A.C.","Centro","0001-005849","2017-08-30",195,{"v":24877,"d":"24,877"},{"$f":"IF(t.base[[#This Row],[DIAS DE ATRASO]]=0,0,t.base[[#This Row],[TOTAL]])","v":24877}]
["2018-01-16","FULL MARKET S.A.C.","Sur","0002-008126","2018-03-02",11,{"v":36306,"d":"36,306"},{"$f":"IF(t.base[[#This Row],[DIAS DE ATRASO]]=0,0,t.base[[#This Row],[TOTAL]])","v":36306}]
["2018-03-08","GOMEZ ROMANI LEONOR","Centro","0001-007409","2018-03-08",5,{"v":13176,"d":"13,176"},{"$f":"IF(t.base[[#This Row],[DIAS DE ATRASO]]=0,0,t.base[[#This Row],[TOTAL]])","v":13176}]
["2018-03-13","COMERCIAL ISIS SAC","Centro","0002-008008","2018-03-13",0,{"v":10064,"d":"10,064"},{"$f":"IF(t.base[[#This Row],[DIAS DE ATRASO]]=0,0,t.base[[#This Row],[TOTAL]])","v":0}]
["2018-02-26","EURO PERUANA S.A.C.","Centro","0002-008475","2018-03-13",0,{"v":22818,"d":"22,818"},{"$f":"IF(t.base[[#This Row],[DIAS DE ATRASO]]=0,0,t.base[[#This Row],[TOTAL]])","v":0}]
["2018-01-27","CARFIDERM E.I.R.L.","Centro","0001-001034","2018-03-13",0,{"v":28848,"d":"28,848"},{"$f":"IF(t.base[[#This Row],[DIAS DE ATRASO]]=0,0,t.base[[#This Row],[TOTAL]])","v":0}]
["2018-02-10","GRANJA TOSHI S.A.","Centro","0001-004449","2018-03-12",1,{"v":11021,"d":"11,021"},{"$f":"IF(t.base[[#This Row],[DIAS DE ATRASO]]=0,0,t.base[[#This Row],[TOTAL]])","v":11021}]
["2018-01-12","BEKTON S.A.C.","Centro","0001-004535","2018-03-13",0,{"v":26617,"d":"26,617"},{"$f":"IF(t.base[[#This Row],[DIAS DE ATRASO]]=0,0,t.base[[#This Row],[TOTAL]])","v":0}]
["2018-02-11","AITER'S SRL","Centro","0001-008432","2018-03-13",0,{"v":19904,"d":"19,904"},{"$f":"IF(t.base[[#This Row],[DIAS DE ATRASO]]=0,0,t.base[[#This Row],[TOTAL]])","v":0}]
["2018-02-26","RUIZ LAVADO HEBER","Centro","0001-001169","2018-03-13",0,{"v":22442,"d":"22,442"},{"$f":"IF(t.base[[#This Row],[DIAS DE ATRASO]]=0,0,t.base[[#This Row],[TOTAL]])","v":0}]
["2018-02-25","CLINICA ELERA S.R.L","Centro","0002-005772","2018-03-12",1,{"v":13261,"d":"13,261"},{"$f":"IF(t.base[[#This Row],[DIAS DE ATRASO]]=0,0,t.base[[#This Row],[TOTAL]])","v":13261}]
["2017-12-12","GZM EIRL","Norte","0002-005888","2018-03-12",1,{"v":40709,"d":"40,709"},{"$f":"IF(t.base[[#This Row],[DIAS DE ATRASO]]=0,0,t.base[[#This Row],[TOTAL]])","v":40709}]
["2018-02-26","TMF PERU S.R.L.","Centro","0002-006962","2018-03-13",0,{"v":14927,"d":"14,927"},{"$f":"IF(t.base[[#This Row],[DIAS DE ATRASO]]=0,0,t.base[[#This Row],[TOTAL]])","v":0}]
["2018-01-12","GRIFOS AQP S.R.L.","Sur","0001-005232","2018-03-13",0,{"v":10424,"d":"10,424"},{"$f":"IF(t.base[[#This Row],[DIAS DE ATRASO]]=0,0,t.base[[#This Row],[TOTAL]])","v":0}]
["2018-03-13","TUPER S.A.C.","Centro","0002-002905","2018-03-13",0,{"v":20904,"d":"20,904"},{"$f":"IF(t.base[[#This Row],[DIAS DE ATRASO]]=0,0,t.base[[#This Row],[TOTAL]])","v":0}]
["2018-01-12","PABEL S.A.C.","Norte","0002-008864","2018-03-13",0,{"v":50585,"d":"50,585"},{"$f":"IF(t.base[[#This Row],[DIAS DE ATRASO]]=0,0,t.base[[#This Row],[TOTAL]])","v":0}]
["2017-12-13","RUIZ LAVADO HEBER","Centro","0002-005353","2018-03-13",0,{"v":19349,"d":"19,349"},{"$f":"IF(t.base[[#This Row],[DIAS DE ATRASO]]=0,0,t.base[[#This Row],[TOTAL]])","v":0}]
["2018-01-26","VHL FOOD SAC","Centro","0001-001237","2018-03-12",1,{"v":22106,"d":"22,106"},{"$f":"IF(t.base[[#This Row],[DIAS DE ATRASO]]=0,0,t.base[[#This Row],[TOTAL]])","v":22106}]
["2018-03-13","TANZACO S.A.C","Centro","0001-003759","2018-03-13",0,{"v":15559,"d":"15,559"},{"$f":"IF(t.base[[#This Row],[DIAS DE ATRASO]]=0,0,t.base[[#This Row],[TOTAL]])","v":0}]
["2018-02-26","CAMPO LIMPIO","Centro","0002-009665","2018-03-13",0,{"v":20052,"d":"20,052"},{"$f":"IF(t.base[[#This Row],[DIAS DE ATRASO]]=0,0,t.base[[#This Row],[TOTAL]])","v":0}]
["2017-12-26","RV COMPUTER S.A.C.","Centro","0002-007024","2017-12-26",77,{"v":14421,"d":"14,421"},{"$f":"IF(t.base[[#This Row],[DIAS DE ATRASO]]=0,0,t.base[[#This Row],[TOTAL]])","v":14421}]
["2017-09-24","GORVEZ E.I.R.L.","Norte","0001-004153","2017-12-23",80,{"v":16030,"d":"16,030"},{"$f":"IF(t.base[[#This Row],[DIAS DE ATRASO]]=0,0,t.base[[#This Row],[TOTAL]])","v":16030}]
["2018-02-26","MAQUERA RAMOS IRMA","Centro","0002-006325","2018-03-13",0,{"v":11382,"d":"11,382"},{"$f":"IF(t.base[[#This Row],[DIAS DE ATRASO]]=0,0,t.base[[#This Row],[TOTAL]])","v":0}]
["2017-12-18","TRANS ITAL S.A.C.","Centro","0001-007953","2018-01-02",70,{"v":24763,"d":"24,763"},{"$f":"IF(t.base[[#This Row],[DIAS DE ATRASO]]=0,0,t.base[[#This Row],[TOTAL]])","v":24763}]
["2017-12-13","COMERCIAL M&P SRL","Sur","0001-001990","2018-03-13",0,{"v":44158,"d":"44,158"},{"$f":"IF(t.base[[#This Row],[DIAS DE ATRASO]]=0,0,t.base[[#This Row],[TOTAL]])","v":0}]
["2018-02-26","AUTOS MH EIRL","Centro","0001-001180","2018-03-13",0,{"v":15197,"d":"15,197"},{"$f":"IF(t.base[[#This Row],[DIAS DE ATRASO]]=0,0,t.base[[#This Row],[TOTAL]])","v":0}]
["2018-01-27","MOSOQ INN E.I.R.L.","Sur","0001-002288","2018-03-13",0,{"v":8833,"d":"8,833"},{"$f":"IF(t.base[[#This Row],[DIAS DE ATRASO]]=0,0,t.base[[#This Row],[TOTAL]])","v":0}]
["2018-02-26","BOTICA MUNICIPAL","Norte","0001-008877","2018-03-13",0,{"v":30979,"d":"30,979"},{"$f":"IF(t.base[[#This Row],[DIAS DE ATRASO]]=0,0,t.base[[#This Row],[TOTAL]])","v":0}]
["2018-01-12","TOUS PERU S.A.C.","Centro","0001-003011","2018-03-13",0,{"v":19493,"d":"19,493"},{"$f":"IF(t.base[[#This Row],[DIAS DE ATRASO]]=0,0,t.base[[#This Row],[TOTAL]])","v":0}]
["2018-01-12","REDICAL SAC","Norte","0002-002961","2018-03-13",0,{"v":53272,"d":"53,272"},{"$f":"IF(t.base[[#This Row],[DIAS DE ATRASO]]=0,0,t.base[[#This Row],[TOTAL]])","v":0}]
["2018-03-13","CODYGOZ S.A.C.","Centro","0002-006418","2018-03-13",0,{"v":20140,"d":"20,140"},{"$f":"IF(t.base[[#This Row],[DIAS DE ATRASO]]=0,0,t.base[[#This Row],[TOTAL]])","v":0}]
["2018-02-26","MERMA CHOQUE HECTOR","Centro","0002-008467","2018-03-13",0,{"v":21236,"d":"21,236"},{"$f":"IF(t.base[[#This Row],[DIAS DE ATRASO]]=0,0,t.base[[#This Row],[TOTAL]])","v":0}]
["2018-01-27","MEI-NOI SAC.","Centro","0001-008783","2018-03-13",0,{"v":29831,"d":"29,831"},{"$f":"IF(t.base[[#This Row],[DIAS DE ATRASO]]=0,0,t.base[[#This Row],[TOTAL]])","v":0}]
["2017-09-03","LARCO PETS EIRL","Norte","0001-008885","2017-09-18",176,{"v":69159,"d":"69,159"},{"$f":"IF(t.base[[#This Row],[DIAS DE ATRASO]]=0,0,t.base[[#This Row],[TOTAL]])","v":69159}]
["2018-02-26","LAGO IMPORT EIRL","Centro","0001-004218","2018-03-13",0,{"v":29222,"d":"29,222"},{"$f":"IF(t.base[[#This Row],[DIAS DE ATRASO]]=0,0,t.base[[#This Row],[TOTAL]])","v":0}]
["2018-02-11","PERALTA ROMAN YOISY","Centro","0001-008647","2018-03-13",0,{"v":16461,"d":"16,461"},{"$f":"IF(t.base[[#This Row],[DIAS DE ATRASO]]=0,0,t.base[[#This Row],[TOTAL]])","v":0}]
["2018-03-13","AQP BROKERS S.A.C.","Sur","0002-002958","2018-03-13",0,{"v":38757,"d":"38,757"},{"$f":"IF(t.base[[#This Row],[DIAS DE ATRASO]]=0,0,t.base[[#This Row],[TOTAL]])","v":0}]
["2018-01-27","CAO JINHONG","Centro","0002-002328","2018-03-13",0,{"v":11494,"d":"11,494"},{"$f":"IF(t.base[[#This Row],[DIAS DE ATRASO]]=0,0,t.base[[#This Row],[TOTAL]])","v":0}]
["2017-11-12","SERVISAIR S.A.C.","Centro","0001-002455","2018-01-11",61,{"v":24781,"d":"24,781"},{"$f":"IF(t.base[[#This Row],[DIAS DE ATRASO]]=0,0,t.base[[#This Row],[TOTAL]])","v":24781}]
["2018-03-13","NEXT CARGO S.A.C.","Centro","0001-003047","2018-03-13",0,{"v":23304,"d":"23,304"},{"$f":"IF(t.base[[#This Row],[DIAS DE ATRASO]]=0,0,t.base[[#This Row],[TOTAL]])","v":0}]
["2018-02-06","LAM LEUNG ALEJANDRO","Centro","0002-007367","2018-02-21",20,{"v":15614,"d":"15,614"},{"$f":"IF(t.base[[#This Row],[DIAS DE ATRASO]]=0,0,t.base[[#This Row],[TOTAL]])","v":15614}]
["2018-01-12","KYODAI PERU S.A.C.","Centro","0001-003319","2018-03-13",0,{"v":17303,"d":"17,303"},{"$f":"IF(t.base[[#This Row],[DIAS DE ATRASO]]=0,0,t.base[[#This Row],[TOTAL]])","v":0}]
["2018-03-12","APAZA MAMANI NATTY","Centro","0001-007230","2018-03-12",1,{"v":18921,"d":"18,921"},{"$f":"IF(t.base[[#This Row],[DIAS DE ATRASO]]=0,0,t.base[[#This Row],[TOTAL]])","v":18921}]
["2018-02-11","QUAN-FHU S.C.R.L.","Centro","0001-004506","2018-03-13",0,{"v":24431,"d":"24,431"},{"$f":"IF(t.base[[#This Row],[DIAS DE ATRASO]]=0,0,t.base[[#This Row],[TOTAL]])","v":0}]
["2018-02-17","MACOFEVI E.I.R.L.","Norte","0001-002336","2018-03-04",9,{"v":13363,"d":"13,363"},{"$f":"IF(t.base[[#This Row],[DIAS DE ATRASO]]=0,0,t.base[[#This Row],[TOTAL]])","v":13363}]
["2017-12-12","AITER'S SRL","Centro","0002-009803","2018-03-12",1,{"v":26229,"d":"26,229"},{"$f":"IF(t.base[[#This Row],[DIAS DE ATRASO]]=0,0,t.base[[#This Row],[TOTAL]])","v":26229}]
["2018-01-12","B2B CENTER S.A.C","Centro","0001-005762","2018-03-13",0,{"v":25404,"d":"25,404"},{"$f":"IF(t.base[[#This Row],[DIAS DE ATRASO]]=0,0,t.base[[#This Row],[TOTAL]])","v":0}]
["2018-01-12","INVERSMEN E.I.R.L.","Centro","0001-007955","2018-03-13",0,{"v":14062,"d":"14,062"},{"$f":"IF(t.base[[#This Row],[DIAS DE ATRASO]]=0,0,t.base[[#This Row],[TOTAL]])","v":0}]
["2017-12-13","ALFAR S.A.C.","Sur","0001-004062","2018-03-13",0,{"v":24337,"d":"24,337"},{"$f":"IF(t.base[[#This Row],[DIAS DE ATRASO]]=0,0,t.base[[#This Row],[TOTAL]])","v":0}]
["2017-08-25","QUISPE NINA AMERICO","Centro","0002-002603","2017-10-09",155,{"v":15158,"d":"15,158"},{"$f":"IF(t.base[[#This Row],[DIAS DE ATRASO]]=0,0,t.base[[#This Row],[TOTAL]])","v":15158}]
["2017-12-13","ATELCINE PERU SAC","Centro","0001-002242","2018-03-13",0,{"v":21786,"d":"21,786"},{"$f":"IF(t.base[[#This Row],[DIAS DE ATRASO]]=0,0,t.base[[#This Row],[TOTAL]])","v":0}]
["2017-11-02","PERVISAC SRL","Centro","0001-008073","2017-12-02",101,{"v":21677,"d":"21,677"},{"$f":"IF(t.base[[#This Row],[DIAS DE ATRASO]]=0,0,t.base[[#This Row],[TOTAL]])","v":21677}]
["2017-12-13","CRITIKOS S.A.C.","Centro","0001-006648","2018-03-13",0,{"v":11752,"d":"11,752"},{"$f":"IF(t.base[[#This Row],[DIAS DE ATRASO]]=0,0,t.base[[#This Row],[TOTAL]])","v":0}]
["2018-02-26","MOTO ANDES S.A.C.","Centro","0002-005338","2018-03-13",0,{"v":22101,"d":"22,101"},{"$f":"IF(t.base[[#This Row],[DIAS DE ATRASO]]=0,0,t.base[[#This Row],[TOTAL]])","v":0}]
["2017-11-05","PABEL S.A.C.","Norte","0001-007900","2017-11-20",113,{"v":31320,"d":"31,320"},{"$f":"IF(t.base[[#This Row],[DIAS DE ATRASO]]=0,0,t.base[[#This Row],[TOTAL]])","v":31320}]
["2017-11-14","ICM CONSULTING SAC","Centro","0002-005728","2017-12-29",74,{"v":10223,"d":"10,223"},{"$f":"IF(t.base[[#This Row],[DIAS DE ATRASO]]=0,0,t.base[[#This Row],[TOTAL]])","v":10223}]
["2018-03-13","VYLDTECO S R L","Centro","0001-006645","2018-03-13",0,{"v":14647,"d":"14,647"},{"$f":"IF(t.base[[#This Row],[DIAS DE ATRASO]]=0,0,t.base[[#This Row],[TOTAL]])","v":0}]
["2017-12-17","MICROTEC S.A.C.","Norte","0001-004859","2017-12-17",86,{"v":36197,"d":"36,197"},{"$f":"IF(t.base[[#This Row],[DIAS DE ATRASO]]=0,0,t.base[[#This Row],[TOTAL]])","v":36197}]
["2018-03-12","FEMAT S.A.C.","Centro","0002-001013","2018-03-12",1,{"v":25105,"d":"25,105"},{"$f":"IF(t.base[[#This Row],[DIAS DE ATRASO]]=0,0,t.base[[#This Row],[TOTAL]])","v":25105}]
["2018-01-27","SERVIS JAEN E.I.R.L","Norte","0001-008125","2018-03-13",0,{"v":68445,"d":"68,445"},{"$f":"IF(t.base[[#This Row],[DIAS DE ATRASO]]=0,0,t.base[[#This Row],[TOTAL]])","v":0}]
["2017-11-25","TRIGOZO DIAZ CLELIA","Centro","0001-009965","2017-12-25",78,{"v":17165,"d":"17,165"},{"$f":"IF(t.base[[#This Row],[DIAS DE ATRASO]]=0,0,t.base[[#This Row],[TOTAL]])","v":17165}]
["2018-01-27","SOJITZ PERU S.A.","Centro","0001-001354","2018-03-13",0,{"v":14436,"d":"14,436"},{"$f":"IF(t.base[[#This Row],[DIAS DE ATRASO]]=0,0,t.base[[#This Row],[TOTAL]])","v":0}]
["2017-12-26","PERUVIANDENT S.A.C.","Centro","0002-004264","2018-02-24",17,{"v":26882,"d":"26,882"},{"$f":"IF(t.base[[#This Row],[DIAS DE ATRASO]]=0,0,t.base[[#This Row],[TOTAL]])","v":26882}]
["2017-12-01","XIAN CHUYAO","Centro","0001-002979","2018-01-15",57,{"v":28118,"d":"28,118"},{"$f":"IF(t.base[[#This Row],[DIAS DE ATRASO]]=0,0,t.base[[#This Row],[TOTAL]])","v":28118}]
["2017-09-21","TRANSILMAR S.A.C.","Sur","0002-009940","2017-12-20",83,{"v":34599,"d":"34,599"},{"$f":"IF(t.base[[#This Row],[DIAS DE ATRASO]]=0,0,t.base[[#This Row],[TOTAL]])","v":34599}]
["2017-10-13","ARMYCOX S.A.","Centro","0002-004065","2017-12-12",91,{"v":24579,"d":"24,579"},{"$f":"IF(t.base[[#This Row],[DIAS DE ATRASO]]=0,0,t.base[[#This Row],[TOTAL]])","v":24579}]
["2018-01-27","OMAN E.I.R.L.","Centro","0002-001494","2018-03-13",0,{"v":15941,"d":"15,941"},{"$f":"IF(t.base[[#This Row],[DIAS DE ATRASO]]=0,0,t.base[[#This Row],[TOTAL]])","v":0}]
["2018-01-27","NOVAX E.I.R.L.","Centro","0001-002705","2018-03-13",0,{"v":28718,"d":"28,718"},{"$f":"IF(t.base[[#This Row],[DIAS DE ATRASO]]=0,0,t.base[[#This Row],[TOTAL]])","v":0}]
["2017-10-27","JHOSBET E.I.R.L.","Centro","0001-003908","2017-12-26",77,{"v":28346,"d":"28,346"},{"$f":"IF(t.base[[#This Row],[DIAS DE ATRASO]]=0,0,t.base[[#This Row],[TOTAL]])","v":28346}]
["2018-01-22","COMPUMAGIC S.A.C.","Centro","0001-004680","2018-01-22",50,{"v":17241,"d":"17,241"},{"$f":"IF(t.base[[#This Row],[DIAS DE ATRASO]]=0,0,t.base[[#This Row],[TOTAL]])","v":17241}]
["2018-02-26","GEEKS  E.I.R.L.","Centro","0001-006424","2018-03-13",0,{"v":21569,"d":"21,569"},{"$f":"IF(t.base[[#This Row],[DIAS DE ATRASO]]=0,0,t.base[[#This Row],[TOTAL]])","v":0}]
["2017-11-21","ANVACHRIS E.I.R.L.","Centro","0001-003460","2018-01-20",52,{"v":22662,"d":"22,662"},{"$f":"IF(t.base[[#This Row],[DIAS DE ATRASO]]=0,0,t.base[[#This Row],[TOTAL]])","v":22662}]
["2018-03-12","INTERBIKE EIRL","Centro","0002-007450","2018-03-12",1,{"v":17362,"d":"17,362"},{"$f":"IF(t.base[[#This Row],[DIAS DE ATRASO]]=0,0,t.base[[#This Row],[TOTAL]])","v":17362}]
["2018-02-10","ROL EMPRESARIAL S A","Centro","0002-006522","2018-03-12",1,{"v":12536,"d":"12,536"},{"$f":"IF(t.base[[#This Row],[DIAS DE ATRASO]]=0,0,t.base[[#This Row],[TOTAL]])","v":12536}]
["2018-03-12","S A RINCON GAUCHO","Centro","0002-005672","2018-03-12",1,{"v":16012,"d":"16,012"},{"$f":"IF(t.base[[#This Row],[DIAS DE ATRASO]]=0,0,t.base[[#This Row],[TOTAL]])","v":16012}]
["2017-12-12","NEGOCIOS VEGA SAC","Norte","0001-003137","2018-03-12",1,{"v":41551,"d":"41,551"},{"$f":"IF(t.base[[#This Row],[DIAS DE ATRASO]]=0,0,t.base[[#This Row],[TOTAL]])","v":41551}]
["2018-02-11","ITAPIER S.R.L.","Centro","0002-005334","2018-03-13",0,{"v":11512,"d":"11,512"},{"$f":"IF(t.base[[#This Row],[DIAS DE ATRASO]]=0,0,t.base[[#This Row],[TOTAL]])","v":0}]
["2017-12-13","MOVILLANTAS S.A.C.","Centro","0002-004713","2018-03-13",0,{"v":28857,"d":"28,857"},{"$f":"IF(t.base[[#This Row],[DIAS DE ATRASO]]=0,0,t.base[[#This Row],[TOTAL]])","v":0}]
["2017-12-17","CODYGOZ S.A.C.","Centro","0001-002964","2018-02-15",26,{"v":11844,"d":"11,844"},{"$f":"IF(t.base[[#This Row],[DIAS DE ATRASO]]=0,0,t.base[[#This Row],[TOTAL]])","v":11844}]
["2018-02-11","QUISPE NINA AMERICO","Centro","0001-003541","2018-03-13",0,{"v":23630,"d":"23,630"},{"$f":"IF(t.base[[#This Row],[DIAS DE ATRASO]]=0,0,t.base[[#This Row],[TOTAL]])","v":0}]
["2017-08-23","MATOS CAMAC FELIX","Centro","0002-007293","2017-10-07",157,{"v":23765,"d":"23,765"},{"$f":"IF(t.base[[#This Row],[DIAS DE ATRASO]]=0,0,t.base[[#This Row],[TOTAL]])","v":23765}]
["2018-01-12","EINS PERU   S.A.C.","Centro","0002-003935","2018-03-13",0,{"v":15072,"d":"15,072"},{"$f":"IF(t.base[[#This Row],[DIAS DE ATRASO]]=0,0,t.base[[#This Row],[TOTAL]])","v":0}]
["2018-02-02","QUISPE TORRES OLGA","Centro","0001-008985","2018-03-04",9,{"v":28190,"d":"28,190"},{"$f":"IF(t.base[[#This Row],[DIAS DE ATRASO]]=0,0,t.base[[#This Row],[TOTAL]])","v":28190}]
["2017-10-18","EYE BUSINESS S.A.C","Centro","0001-008520","2017-11-02",131,{"v":27795,"d":"27,795"},{"$f":"IF(t.base[[#This Row],[DIAS DE ATRASO]]=0,0,t.base[[#This Row],[TOTAL]])","v":27795}]
["2018-02-26","ALCANZANDO","Centro","0001-008625","2018-03-13",0,{"v":10905,"d":"10,905"},{"$f":"IF(t.base[[#This Row],[DIAS DE ATRASO]]=0,0,t.base[[#This Row],[TOTAL]])","v":0}]
["2017-12-01","RAVALT S.R.L.","Sur","0001-009265","2017-12-16",87,{"v":39084,"d":"39,084"},{"$f":"IF(t.base[[#This Row],[DIAS DE ATRASO]]=0,0,t.base[[#This Row],[TOTAL]])","v":39084}]
["2017-12-12","SOTO ZAMORA TITO","Centro","0002-002628","2018-03-12",1,{"v":29124,"d":"29,124"},{"$f":"IF(t.base[[#This Row],[DIAS DE ATRASO]]=0,0,t.base[[#This Row],[TOTAL]])","v":29124}]
["2018-02-25","KORN S.A.C.","Centro","0002-007726","2018-03-12",1,{"v":21396,"d":"21,396"},{"$f":"IF(t.base[[#This Row],[DIAS DE ATRASO]]=0,0,t.base[[#This Row],[TOTAL]])","v":21396}]
["2017-08-26","RUIZ PIÐA REMIGIO","Centro","0001-001731","2017-09-10",184,{"v":23943,"d":"23,943"},{"$f":"IF(t.base[[#This Row],[DIAS DE ATRASO]]=0,0,t.base[[#This Row],[TOTAL]])","v":23943}]
["2018-02-26","ARMESSO S.A.C","Centro","0002-007123","2018-03-13",0,{"v":28160,"d":"28,160"},{"$f":"IF(t.base[[#This Row],[DIAS DE ATRASO]]=0,0,t.base[[#This Row],[TOTAL]])","v":0}]
["2017-11-19","DEPOSITOS S A DEPSA","Centro","0002-004507","2018-01-18",54,{"v":19851,"d":"19,851"},{"$f":"IF(t.base[[#This Row],[DIAS DE ATRASO]]=0,0,t.base[[#This Row],[TOTAL]])","v":19851}]
["2018-02-11","MC SERVICE EIRL","Norte","0002-007742","2018-02-26",15,{"v":49907,"d":"49,907"},{"$f":"IF(t.base[[#This Row],[DIAS DE ATRASO]]=0,0,t.base[[#This Row],[TOTAL]])","v":49907}]
["2018-01-12","AGRO FALCON S.R.L.","Norte","0002-005702","2018-03-13",0,{"v":30576,"d":"30,576"},{"$f":"IF(t.base[[#This Row],[DIAS DE ATRASO]]=0,0,t.base[[#This Row],[TOTAL]])","v":0}]
["2018-02-11","MC SERVICE EIRL","Norte","0002-005409","2018-03-13",0,{"v":11705,"d":"11,705"},{"$f":"IF(t.base[[#This Row],[DIAS DE ATRASO]]=0,0,t.base[[#This Row],[TOTAL]])","v":0}]
["2017-12-13","NEGOCIOS VEGA SAC","Norte","0001-004008","2018-03-13",0,{"v":48575,"d":"48,575"},{"$f":"IF(t.base[[#This Row],[DIAS DE ATRASO]]=0,0,t.base[[#This Row],[TOTAL]])","v":0}]
["2018-01-07","TECENG S.A.C.","Centro","0001-002298","2018-02-21",20,{"v":19089,"d":"19,089"},{"$f":"IF(t.base[[#This Row],[DIAS DE ATRASO]]=0,0,t.base[[#This Row],[TOTAL]])","v":19089}]
["2018-02-16","ITAPIER S.R.L.","Centro","0001-007541","2018-03-03",10,{"v":19063,"d":"19,063"},{"$f":"IF(t.base[[#This Row],[DIAS DE ATRASO]]=0,0,t.base[[#This Row],[TOTAL]])","v":19063}]
["2017-12-07","GHL INVERSIONES SA","Centro","0002-007996","2018-01-06",66,{"v":14938,"d":"14,938"},{"$f":"IF(t.base[[#This Row],[DIAS DE ATRASO]]=0,0,t.base[[#This Row],[TOTAL]])","v":14938}]
["2017-10-08","LAURA PARI ALIPIO","Centro","0002-009917","2017-12-07",96,{"v":16583,"d":"16,583"},{"$f":"IF(t.base[[#This Row],[DIAS DE ATRASO]]=0,0,t.base[[#This Row],[TOTAL]])","v":16583}]
["2018-01-27","LEI HUANLAN","Centro","0001-008199","2018-03-13",0,{"v":26567,"d":"26,567"},{"$f":"IF(t.base[[#This Row],[DIAS DE ATRASO]]=0,0,t.base[[#This Row],[TOTAL]])","v":0}]
["2017-12-20","S.J2 S.A.C.","Norte","0002-007435","2018-02-03",38,{"v":63470,"d":"63,470"},{"$f":"IF(t.base[[#This Row],[DIAS DE ATRASO]]=0,0,t.base[[#This Row],[TOTAL]])","v":63470}]
["2018-01-12","GREEN STAR S.A.C","Centro","0001-001219","2018-03-13",0,{"v":25546,"d":"25,546"},{"$f":"IF(t.base[[#This Row],[DIAS DE ATRASO]]=0,0,t.base[[#This Row],[TOTAL]])","v":0}]
["2017-12-22","APAZA PUMA LEONARDA","Centro","0001-009363","2018-01-06",66,{"v":21363,"d":"21,363"},{"$f":"IF(t.base[[#This Row],[DIAS DE ATRASO]]=0,0,t.base[[#This Row],[TOTAL]])","v":21363}]
["2018-01-27","TRIMAGEN STUDIO SAC","Centro","0001-005776","2018-03-13",0,{"v":27316,"d":"27,316"},{"$f":"IF(t.base[[#This Row],[DIAS DE ATRASO]]=0,0,t.base[[#This Row],[TOTAL]])","v":0}]
["2017-12-02","SANKUAY S.R.LTDA.","Centro","0002-001800","2018-01-01",71,{"v":17418,"d":"17,418"},{"$f":"IF(t.base[[#This Row],[DIAS DE ATRASO]]=0,0,t.base[[#This Row],[TOTAL]])","v":17418}]
["2017-11-06","L M MOTORS SA","Centro","0002-005915","2018-02-04",37,{"v":10135,"d":"10,135"},{"$f":"IF(t.base[[#This Row],[DIAS DE ATRASO]]=0,0,t.base[[#This Row],[TOTAL]])","v":10135}]
["2017-12-13","EINS PERU   S.A.C.","Centro","0001-002285","2018-03-13",0,{"v":12278,"d":"12,278"},{"$f":"IF(t.base[[#This Row],[DIAS DE ATRASO]]=0,0,t.base[[#This Row],[TOTAL]])","v":0}]
["2018-01-27","RUWA S.A.C.","Centro","0001-009842","2018-03-13",0,{"v":23951,"d":"23,951"},{"$f":"IF(t.base[[#This Row],[DIAS DE ATRASO]]=0,0,t.base[[#This Row],[TOTAL]])","v":0}]
["2017-10-02","SAAD SAID T I","Centro","0002-001111","2017-12-31",72,{"v":11609,"d":"11,609"},{"$f":"IF(t.base[[#This Row],[DIAS DE ATRASO]]=0,0,t.base[[#This Row],[TOTAL]])","v":11609}]
["2017-12-12","CAPIRENA S.A.C.","Centro","0002-002765","2018-03-12",1,{"v":15283,"d":"15,283"},{"$f":"IF(t.base[[#This Row],[DIAS DE ATRASO]]=0,0,t.base[[#This Row],[TOTAL]])","v":15283}]
["2017-10-11","RUWA S.A.C.","Centro","0001-008679","2017-11-10",123,{"v":16748,"d":"16,748"},{"$f":"IF(t.base[[#This Row],[DIAS DE ATRASO]]=0,0,t.base[[#This Row],[TOTAL]])","v":16748}]
["2017-12-13","OFITECC S.A.C.","Norte","0001-003270","2018-03-13",0,{"v":69303,"d":"69,303"},{"$f":"IF(t.base[[#This Row],[DIAS DE ATRASO]]=0,0,t.base[[#This Row],[TOTAL]])","v":0}]
["2017-12-02","FM INDUSTRIAL S.A.","Centro","0001-005887","2018-03-02",11,{"v":29931,"d":"29,931"},{"$f":"IF(t.base[[#This Row],[DIAS DE ATRASO]]=0,0,t.base[[#This Row],[TOTAL]])","v":29931}]
["2017-12-13","TOPOGIS S.A.C.","Centro","0001-009181","2018-03-13",0,{"v":12326,"d":"12,326"},{"$f":"IF(t.base[[#This Row],[DIAS DE ATRASO]]=0,0,t.base[[#This Row],[TOTAL]])","v":0}]
["2017-12-10","OMNITEC S.R.L.","Sur","0001-007384","2018-03-10",3,{"v":7743,"d":"7,743"},{"$f":"IF(t.base[[#This Row],[DIAS DE ATRASO]]=0,0,t.base[[#This Row],[TOTAL]])","v":7743}]
["2018-01-12","HUAMAN NAPA ABRAHAM","Centro","0001-009328","2018-03-13",0,{"v":11105,"d":"11,105"},{"$f":"IF(t.base[[#This Row],[DIAS DE ATRASO]]=0,0,t.base[[#This Row],[TOTAL]])","v":0}]
["2018-02-11","VERA PLAV S.A.C.","Centro","0002-002273","2018-03-13",0,{"v":26028,"d":"26,028"},{"$f":"IF(t.base[[#This Row],[DIAS DE ATRASO]]=0,0,t.base[[#This Row],[TOTAL]])","v":0}]
["2017-10-21","REYAL SRLTDA","Centro","0002-002876","2018-01-19",53,{"v":18897,"d":"18,897"},{"$f":"IF(t.base[[#This Row],[DIAS DE ATRASO]]=0,0,t.base[[#This Row],[TOTAL]])","v":18897}]
["2018-01-19","TWO STAR S.A.C.","Centro","0002-003525","2018-03-05",8,{"v":16837,"d":"16,837"},{"$f":"IF(t.base[[#This Row],[DIAS DE ATRASO]]=0,0,t.base[[#This Row],[TOTAL]])","v":16837}]
["2018-02-26","KARPATRI S.A.C.","Centro","0001-001025","2018-03-13",0,{"v":28798,"d":"28,798"},{"$f":"IF(t.base[[#This Row],[DIAS DE ATRASO]]=0,0,t.base[[#This Row],[TOTAL]])","v":0}]
["2018-02-26","AGROCAUCHO EIRL","Sur","0002-002017","2018-03-13",0,{"v":29905,"d":"29,905"},{"$f":"IF(t.base[[#This Row],[DIAS DE ATRASO]]=0,0,t.base[[#This Row],[TOTAL]])","v":0}]
["2017-12-08","TRANSOIL S.A.C.","Centro","0001-006172","2018-01-22",50,{"v":29758,"d":"29,758"},{"$f":"IF(t.base[[#This Row],[DIAS DE ATRASO]]=0,0,t.base[[#This Row],[TOTAL]])","v":29758}]
["2018-02-10","TANG KONG FU","Centro","0001-001463","2018-03-12",1,{"v":12333,"d":"12,333"},{"$f":"IF(t.base[[#This Row],[DIAS DE ATRASO]]=0,0,t.base[[#This Row],[TOTAL]])","v":12333}]
["2018-01-26","KEMALU S.A.C.","Centro","0001-002969","2018-03-12",1,{"v":28336,"d":"28,336"},{"$f":"IF(t.base[[#This Row],[DIAS DE ATRASO]]=0,0,t.base[[#This Row],[TOTAL]])","v":28336}]
["2018-02-26","CLAS CIUDAD DE DIOS","Sur","0001-004474","2018-03-13",0,{"v":29800,"d":"29,800"},{"$f":"IF(t.base[[#This Row],[DIAS DE ATRASO]]=0,0,t.base[[#This Row],[TOTAL]])","v":0}]
["2018-03-11","EL REPOSTERO SAC","Centro","0001-005825","2018-03-11",2,{"v":16614,"d":"16,614"},{"$f":"IF(t.base[[#This Row],[DIAS DE ATRASO]]=0,0,t.base[[#This Row],[TOTAL]])","v":16614}]
["2018-01-12","OXIMARC S.R.L.","Norte","0001-001895","2018-03-13",0,{"v":51038,"d":"51,038"},{"$f":"IF(t.base[[#This Row],[DIAS DE ATRASO]]=0,0,t.base[[#This Row],[TOTAL]])","v":0}]
["2018-01-12","PILCO VILCA PASTORA","Centro","0002-001809","2018-03-13",0,{"v":15160,"d":"15,160"},{"$f":"IF(t.base[[#This Row],[DIAS DE ATRASO]]=0,0,t.base[[#This Row],[TOTAL]])","v":0}]
["2018-01-12","TV. CARD E.I.R.L.","Centro","0002-003063","2018-03-13",0,{"v":13218,"d":"13,218"},{"$f":"IF(t.base[[#This Row],[DIAS DE ATRASO]]=0,0,t.base[[#This Row],[TOTAL]])","v":0}]
["2017-10-05","ALEFRAN E.I.R.L.","Centro","0001-005487","2017-10-05",159,{"v":21231,"d":"21,231"},{"$f":"IF(t.base[[#This Row],[DIAS DE ATRASO]]=0,0,t.base[[#This Row],[TOTAL]])","v":21231}]
["2018-01-12","CAMPOS QUISPE MARIO","Centro","0001-007697","2018-03-13",0,{"v":23552,"d":"23,552"},{"$f":"IF(t.base[[#This Row],[DIAS DE ATRASO]]=0,0,t.base[[#This Row],[TOTAL]])","v":0}]
["2017-10-16","ALTAMIRANO SRL","Norte","0002-002126","2017-10-16",148,{"v":36128,"d":"36,128"},{"$f":"IF(t.base[[#This Row],[DIAS DE ATRASO]]=0,0,t.base[[#This Row],[TOTAL]])","v":36128}]
["2017-12-13","VGO S.A.C.","Norte","0002-006428","2018-03-13",0,{"v":36901,"d":"36,901"},{"$f":"IF(t.base[[#This Row],[DIAS DE ATRASO]]=0,0,t.base[[#This Row],[TOTAL]])","v":0}]
["2018-01-27","BAGSERVIS S.A.C.","Norte","0001-008057","2018-03-13",0,{"v":65323,"d":"65,323"},{"$f":"IF(t.base[[#This Row],[DIAS DE ATRASO]]=0,0,t.base[[#This Row],[TOTAL]])","v":0}]
["2017-12-13","RAMOS ROCHA CARLOS","Centro","0002-009677","2018-03-13",0,{"v":19746,"d":"19,746"},{"$f":"IF(t.base[[#This Row],[DIAS DE ATRASO]]=0,0,t.base[[#This Row],[TOTAL]])","v":0}]
["2017-12-13","GALAXY S R L","Centro","0001-004180","2018-03-13",0,{"v":15203,"d":"15,203"},{"$f":"IF(t.base[[#This Row],[DIAS DE ATRASO]]=0,0,t.base[[#This Row],[TOTAL]])","v":0}]
["2018-01-27","APAZA DE CRUZ IRENE","Centro","0002-007828","2018-03-13",0,{"v":19503,"d":"19,503"},{"$f":"IF(t.base[[#This Row],[DIAS DE ATRASO]]=0,0,t.base[[#This Row],[TOTAL]])","v":0}]
["2017-08-17","GRANJA TOSHI S.A.","Centro","0002-008399","2017-10-01",163,{"v":21617,"d":"21,617"},{"$f":"IF(t.base[[#This Row],[DIAS DE ATRASO]]=0,0,t.base[[#This Row],[TOTAL]])","v":21617}]
["2017-12-13","SAINT LOUIS S.A.C.","Centro","0001-006540","2018-03-13",0,{"v":21731,"d":"21,731"},{"$f":"IF(t.base[[#This Row],[DIAS DE ATRASO]]=0,0,t.base[[#This Row],[TOTAL]])","v":0}]
["2018-03-13","FUKU E.I.R.L.","Centro","0001-004941","2018-03-13",0,{"v":13262,"d":"13,262"},{"$f":"IF(t.base[[#This Row],[DIAS DE ATRASO]]=0,0,t.base[[#This Row],[TOTAL]])","v":0}]
["2018-01-12","DELNOREP S.R.L.","Centro","0001-006591","2018-03-13",0,{"v":11845,"d":"11,845"},{"$f":"IF(t.base[[#This Row],[DIAS DE ATRASO]]=0,0,t.base[[#This Row],[TOTAL]])","v":0}]
["2018-02-26","HURTADO CAMPO JUANA","Centro","0001-009310","2018-03-13",0,{"v":29016,"d":"29,016"},{"$f":"IF(t.base[[#This Row],[DIAS DE ATRASO]]=0,0,t.base[[#This Row],[TOTAL]])","v":0}]
["2017-10-30","CURASMA POMA YODI","Centro","0002-003844","2018-01-28",44,{"v":12888,"d":"12,888"},{"$f":"IF(t.base[[#This Row],[DIAS DE ATRASO]]=0,0,t.base[[#This Row],[TOTAL]])","v":12888}]
["2017-08-24","SALLO LEVA ISABEL","Centro","0002-009018","2017-11-22",111,{"v":20557,"d":"20,557"},{"$f":"IF(t.base[[#This Row],[DIAS DE ATRASO]]=0,0,t.base[[#This Row],[TOTAL]])","v":20557}]
["2018-03-13","MOTO ANDES S.A.C.","Centro","0002-002297","2018-03-13",0,{"v":17057,"d":"17,057"},{"$f":"IF(t.base[[#This Row],[DIAS DE ATRASO]]=0,0,t.base[[#This Row],[TOTAL]])","v":0}]
["2017-10-30","LONGE VITA SAC","Centro","0001-008224","2018-01-28",44,{"v":10656,"d":"10,656"},{"$f":"IF(t.base[[#This Row],[DIAS DE ATRASO]]=0,0,t.base[[#This Row],[TOTAL]])","v":10656}]
["2018-02-26","RUIZ PIÐA REMIGIO","Centro","0002-008580","2018-03-13",0,{"v":27798,"d":"27,798"},{"$f":"IF(t.base[[#This Row],[DIAS DE ATRASO]]=0,0,t.base[[#This Row],[TOTAL]])","v":0}]
["2018-02-26","QUISPE NINA AMERICO","Centro","0002-003498","2018-03-13",0,{"v":18968,"d":"18,968"},{"$f":"IF(t.base[[#This Row],[DIAS DE ATRASO]]=0,0,t.base[[#This Row],[TOTAL]])","v":0}]
["2018-01-27","BRANAT E.I.R.L.","Centro","0002-007260","2018-03-13",0,{"v":20733,"d":"20,733"},{"$f":"IF(t.base[[#This Row],[DIAS DE ATRASO]]=0,0,t.base[[#This Row],[TOTAL]])","v":0}]
["2018-03-12","LMS MENAGE S.A.C.","Centro","0002-001183","2018-03-12",1,{"v":21343,"d":"21,343"},{"$f":"IF(t.base[[#This Row],[DIAS DE ATRASO]]=0,0,t.base[[#This Row],[TOTAL]])","v":21343}]
["2018-02-11","IRYOVI E.I.R.L.","Centro","0001-006931","2018-03-13",0,{"v":20676,"d":"20,676"},{"$f":"IF(t.base[[#This Row],[DIAS DE ATRASO]]=0,0,t.base[[#This Row],[TOTAL]])","v":0}]
["2017-12-13","WAGER SLOTS S.A.C.","Centro","0002-008247","2018-03-13",0,{"v":23206,"d":"23,206"},{"$f":"IF(t.base[[#This Row],[DIAS DE ATRASO]]=0,0,t.base[[#This Row],[TOTAL]])","v":0}]
["2018-02-11","SAMANTHA S.A.C.","Norte","0002-001172","2018-03-13",0,{"v":48428,"d":"48,428"},{"$f":"IF(t.base[[#This Row],[DIAS DE ATRASO]]=0,0,t.base[[#This Row],[TOTAL]])","v":0}]
["2018-02-26","ECONOFARMA S.A.C.","Centro","0002-004018","2018-03-13",0,{"v":19386,"d":"19,386"},{"$f":"IF(t.base[[#This Row],[DIAS DE ATRASO]]=0,0,t.base[[#This Row],[TOTAL]])","v":0}]
["2017-12-04","JOMAHI E.I.R.L.","Norte","0002-007616","2018-01-03",69,{"v":45110,"d":"45,110"},{"$f":"IF(t.base[[#This Row],[DIAS DE ATRASO]]=0,0,t.base[[#This Row],[TOTAL]])","v":45110}]
["2018-02-26","TSABAZIS VASSILIOS","Centro","0002-009781","2018-03-13",0,{"v":25227,"d":"25,227"},{"$f":"IF(t.base[[#This Row],[DIAS DE ATRASO]]=0,0,t.base[[#This Row],[TOTAL]])","v":0}]
["2018-01-12","PEQUE E.I.R.L.","Centro","0002-005257","2018-03-13",0,{"v":29337,"d":"29,337"},{"$f":"IF(t.base[[#This Row],[DIAS DE ATRASO]]=0,0,t.base[[#This Row],[TOTAL]])","v":0}]
["2018-01-27","DIVESA SERVICE S A","Centro","0001-004335","2018-03-13",0,{"v":23846,"d":"23,846"},{"$f":"IF(t.base[[#This Row],[DIAS DE ATRASO]]=0,0,t.base[[#This Row],[TOTAL]])","v":0}]
["2018-02-11","CHIFA FULLRUM EIRL","Centro","0001-007640","2018-03-13",0,{"v":11183,"d":"11,183"},{"$f":"IF(t.base[[#This Row],[DIAS DE ATRASO]]=0,0,t.base[[#This Row],[TOTAL]])","v":0}]
["2017-11-13","TOP CENTER E.I.R.L.","Sur","0001-001640","2017-11-28",105,{"v":29224,"d":"29,224"},{"$f":"IF(t.base[[#This Row],[DIAS DE ATRASO]]=0,0,t.base[[#This Row],[TOTAL]])","v":29224}]
["2017-12-12","IMPORT JHV E.I.R.L.","Centro","0001-004775","2018-03-12",1,{"v":20250,"d":"20,250"},{"$f":"IF(t.base[[#This Row],[DIAS DE ATRASO]]=0,0,t.base[[#This Row],[TOTAL]])","v":20250}]
["2017-06-02","PUBLICITY S.R.L","Centro","0001-002491","2017-08-31",194,{"v":19504,"d":"19,504"},{"$f":"IF(t.base[[#This Row],[DIAS DE ATRASO]]=0,0,t.base[[#This Row],[TOTAL]])","v":19504}]
["2018-01-30","RUIZ PIÐA REMIGIO","Centro","0002-008264","2018-03-01",12,{"v":17804,"d":"17,804"},{"$f":"IF(t.base[[#This Row],[DIAS DE ATRASO]]=0,0,t.base[[#This Row],[TOTAL]])","v":17804}]
["2018-01-27","COLOR Y BELLEZA SAC","Norte","0001-002544","2018-03-13",0,{"v":58305,"d":"58,305"},{"$f":"IF(t.base[[#This Row],[DIAS DE ATRASO]]=0,0,t.base[[#This Row],[TOTAL]])","v":0}]
["2018-03-13","LAGO IMPORT EIRL","Centro","0002-003563","2018-03-13",0,{"v":20136,"d":"20,136"},{"$f":"IF(t.base[[#This Row],[DIAS DE ATRASO]]=0,0,t.base[[#This Row],[TOTAL]])","v":0}]
["2017-12-13","GOMEZ ROMANI LEONOR","Centro","0002-002578","2018-03-13",0,{"v":24802,"d":"24,802"},{"$f":"IF(t.base[[#This Row],[DIAS DE ATRASO]]=0,0,t.base[[#This Row],[TOTAL]])","v":0}]
["2018-01-27","AMIJE S.R.L.","Norte","0001-004604","2018-03-13",0,{"v":11046,"d":"11,046"},{"$f":"IF(t.base[[#This Row],[DIAS DE ATRASO]]=0,0,t.base[[#This Row],[TOTAL]])","v":0}]
["2017-11-28","MSM INSUMOS S.A.C","Centro","0002-009994","2017-12-13",90,{"v":14016,"d":"14,016"},{"$f":"IF(t.base[[#This Row],[DIAS DE ATRASO]]=0,0,t.base[[#This Row],[TOTAL]])","v":14016}]
["2018-02-26","ALIFAD E.I.R.L.","Centro","0002-004291","2018-03-13",0,{"v":26219,"d":"26,219"},{"$f":"IF(t.base[[#This Row],[DIAS DE ATRASO]]=0,0,t.base[[#This Row],[TOTAL]])","v":0}]
["2018-03-12","HURTADO CAMPO JUANA","Centro","0001-006516","2018-03-12",1,{"v":18448,"d":"18,448"},{"$f":"IF(t.base[[#This Row],[DIAS DE ATRASO]]=0,0,t.base[[#This Row],[TOTAL]])","v":18448}]
["2017-12-13","TACTICO MKT S.A.C.","Centro","0001-009440","2018-03-13",0,{"v":16506,"d":"16,506"},{"$f":"IF(t.base[[#This Row],[DIAS DE ATRASO]]=0,0,t.base[[#This Row],[TOTAL]])","v":0}]
["2017-06-09","PC MAGIMPORT S.A.C.","Centro","0001-001870","2017-09-07",187,{"v":21288,"d":"21,288"},{"$f":"IF(t.base[[#This Row],[DIAS DE ATRASO]]=0,0,t.base[[#This Row],[TOTAL]])","v":21288}]
["2017-08-02","KOMAX PERU S.A.C.","Centro","0002-003307","2017-08-17",208,{"v":16284,"d":"16,284"},{"$f":"IF(t.base[[#This Row],[DIAS DE ATRASO]]=0,0,t.base[[#This Row],[TOTAL]])","v":16284}]
["2017-12-22","SEGURITEMP E.I.R.L.","Norte","0002-003014","2018-02-20",21,{"v":25010,"d":"25,010"},{"$f":"IF(t.base[[#This Row],[DIAS DE ATRASO]]=0,0,t.base[[#This Row],[TOTAL]])","v":25010}]
["2017-12-19","DAMIAN SRLTDA.","Centro","0002-007337","2018-02-17",24,{"v":14734,"d":"14,734"},{"$f":"IF(t.base[[#This Row],[DIAS DE ATRASO]]=0,0,t.base[[#This Row],[TOTAL]])","v":14734}]
["2017-12-12","MARVE E.I.R.L.","Sur","0001-002604","2018-03-12",1,{"v":14958,"d":"14,958"},{"$f":"IF(t.base[[#This Row],[DIAS DE ATRASO]]=0,0,t.base[[#This Row],[TOTAL]])","v":14958}]
["2017-12-30","VEGA GRAF E.I.R.L.","Centro","0001-005881","2018-02-13",28,{"v":28160,"d":"28,160"},{"$f":"IF(t.base[[#This Row],[DIAS DE ATRASO]]=0,0,t.base[[#This Row],[TOTAL]])","v":28160}]
["2018-02-11","FOSAM S.A.C.","Centro","0001-001642","2018-03-13",0,{"v":23010,"d":"23,010"},{"$f":"IF(t.base[[#This Row],[DIAS DE ATRASO]]=0,0,t.base[[#This Row],[TOTAL]])","v":0}]
["2018-01-12","TONG WONG MU CHIN","Centro","0001-006179","2018-03-13",0,{"v":14587,"d":"14,587"},{"$f":"IF(t.base[[#This Row],[DIAS DE ATRASO]]=0,0,t.base[[#This Row],[TOTAL]])","v":0}]
["2018-02-11","D'IONS SRLTDA","Norte","0001-005427","2018-03-13",0,{"v":41415,"d":"41,415"},{"$f":"IF(t.base[[#This Row],[DIAS DE ATRASO]]=0,0,t.base[[#This Row],[TOTAL]])","v":0}]
["2018-01-08","DAVILA RIVERA MARIA","Centro","0001-008910","2018-01-08",64,{"v":13225,"d":"13,225"},{"$f":"IF(t.base[[#This Row],[DIAS DE ATRASO]]=0,0,t.base[[#This Row],[TOTAL]])","v":13225}]
["2018-01-27","J & F TRADERS S.A.","Centro","0001-006349","2018-03-13",0,{"v":22076,"d":"22,076"},{"$f":"IF(t.base[[#This Row],[DIAS DE ATRASO]]=0,0,t.base[[#This Row],[TOTAL]])","v":0}]
["2018-02-26","MODULEC S.A.C.","Centro","0001-006672","2018-03-13",0,{"v":17497,"d":"17,497"},{"$f":"IF(t.base[[#This Row],[DIAS DE ATRASO]]=0,0,t.base[[#This Row],[TOTAL]])","v":0}]
["2018-01-09","JICKA S.R.L.","Centro","0001-004590","2018-01-24",48,{"v":10203,"d":"10,203"},{"$f":"IF(t.base[[#This Row],[DIAS DE ATRASO]]=0,0,t.base[[#This Row],[TOTAL]])","v":10203}]
["2017-12-13","PINO VASQUEZ ALCIRA","Centro","0002-004355","2018-02-11",30,{"v":26615,"d":"26,615"},{"$f":"IF(t.base[[#This Row],[DIAS DE ATRASO]]=0,0,t.base[[#This Row],[TOTAL]])","v":26615}]
["2018-01-27","BOMPER E.I.R.L.","Centro","0002-006702","2018-03-13",0,{"v":24103,"d":"24,103"},{"$f":"IF(t.base[[#This Row],[DIAS DE ATRASO]]=0,0,t.base[[#This Row],[TOTAL]])","v":0}]
["2018-01-27","AGREGA S.A.C.","Centro","0002-001424","2018-03-13",0,{"v":13698,"d":"13,698"},{"$f":"IF(t.base[[#This Row],[DIAS DE ATRASO]]=0,0,t.base[[#This Row],[TOTAL]])","v":0}]
["2017-12-13","RUWA S.A.C.","Centro","0002-004919","2018-03-13",0,{"v":17199,"d":"17,199"},{"$f":"IF(t.base[[#This Row],[DIAS DE ATRASO]]=0,0,t.base[[#This Row],[TOTAL]])","v":0}]
["2018-01-06","VICKO Y CO S.A.","Centro","0001-009184","2018-01-06",66,{"v":13842,"d":"13,842"},{"$f":"IF(t.base[[#This Row],[DIAS DE ATRASO]]=0,0,t.base[[#This Row],[TOTAL]])","v":13842}]
["2017-09-05","NEXO GRAFICO S.A.C.","Centro","0002-002361","2017-10-20",144,{"v":20881,"d":"20,881"},{"$f":"IF(t.base[[#This Row],[DIAS DE ATRASO]]=0,0,t.base[[#This Row],[TOTAL]])","v":20881}]
["2017-10-22","IKEA E.I.R.L.","Sur","0001-008257","2018-01-20",52,{"v":28276,"d":"28,276"},{"$f":"IF(t.base[[#This Row],[DIAS DE ATRASO]]=0,0,t.base[[#This Row],[TOTAL]])","v":28276}]
["2017-12-05","GRANJA TOSHI S.A.","Centro","0001-008692","2017-12-20",83,{"v":13178,"d":"13,178"},{"$f":"IF(t.base[[#This Row],[DIAS DE ATRASO]]=0,0,t.base[[#This Row],[TOTAL]])","v":13178}]
["2018-01-27","ARENAS RAMOS FREDY","Centro","0002-005847","2018-03-13",0,{"v":14625,"d":"14,625"},{"$f":"IF(t.base[[#This Row],[DIAS DE ATRASO]]=0,0,t.base[[#This Row],[TOTAL]])","v":0}]
["2018-02-11","INGEMEC PERU SAC","Norte","0002-008058","2018-03-13",0,{"v":25356,"d":"25,356"},{"$f":"IF(t.base[[#This Row],[DIAS DE ATRASO]]=0,0,t.base[[#This Row],[TOTAL]])","v":0}]
["2017-12-13","LOLA & MIGUEL SAC","Centro","0001-003693","2018-03-13",0,{"v":17495,"d":"17,495"},{"$f":"IF(t.base[[#This Row],[DIAS DE ATRASO]]=0,0,t.base[[#This Row],[TOTAL]])","v":0}]
["2018-01-27","FENIX DEL PERU SRL","Centro","0002-008834","2018-03-13",0,{"v":15986,"d":"15,986"},{"$f":"IF(t.base[[#This Row],[DIAS DE ATRASO]]=0,0,t.base[[#This Row],[TOTAL]])","v":0}]
["2017-08-21","CONTRACTORS SAC","Centro","0002-008898","2017-09-20",174,{"v":12511,"d":"12,511"},{"$f":"IF(t.base[[#This Row],[DIAS DE ATRASO]]=0,0,t.base[[#This Row],[TOTAL]])","v":12511}]
["2018-03-12","ISA BARHAM S.A.C.","Centro","0002-001840","2018-03-12",1,{"v":21920,"d":"21,920"},{"$f":"IF(t.base[[#This Row],[DIAS DE ATRASO]]=0,0,t.base[[#This Row],[TOTAL]])","v":21920}]
["2017-07-28","CODIGO 55 S.A.C.","Centro","0002-009591","2017-07-28",228,{"v":13881,"d":"13,881"},{"$f":"IF(t.base[[#This Row],[DIAS DE ATRASO]]=0,0,t.base[[#This Row],[TOTAL]])","v":13881}]
["2017-11-09","TRAUMA S.A.C.","Centro","0002-001223","2017-11-09",124,{"v":13707,"d":"13,707"},{"$f":"IF(t.base[[#This Row],[DIAS DE ATRASO]]=0,0,t.base[[#This Row],[TOTAL]])","v":13707}]
["2018-01-27","J.D. PLASTIC S.A.C.","Centro","0001-006889","2018-03-13",0,{"v":15681,"d":"15,681"},{"$f":"IF(t.base[[#This Row],[DIAS DE ATRASO]]=0,0,t.base[[#This Row],[TOTAL]])","v":0}]
["2017-12-13","VEGA RIOS GLORIA","Centro","0001-003215","2018-03-13",0,{"v":15573,"d":"15,573"},{"$f":"IF(t.base[[#This Row],[DIAS DE ATRASO]]=0,0,t.base[[#This Row],[TOTAL]])","v":0}]
["2018-01-12","COMERCIAL LIVCI SAC","Centro","0002-008525","2018-03-13",0,{"v":24533,"d":"24,533"},{"$f":"IF(t.base[[#This Row],[DIAS DE ATRASO]]=0,0,t.base[[#This Row],[TOTAL]])","v":0}]
["2017-12-17","ALVARADO VEGA LESLY","Centro","0001-009882","2018-01-16",56,{"v":10751,"d":"10,751"},{"$f":"IF(t.base[[#This Row],[DIAS DE ATRASO]]=0,0,t.base[[#This Row],[TOTAL]])","v":10751}]
["2018-02-19","CLAS CONDESUYOS","Sur","0001-006819","2018-02-19",22,{"v":32511,"d":"32,511"},{"$f":"IF(t.base[[#This Row],[DIAS DE ATRASO]]=0,0,t.base[[#This Row],[TOTAL]])","v":32511}]
["2018-03-13","FUKU E.I.R.L.","Centro","0001-001963","2018-03-13",0,{"v":13580,"d":"13,580"},{"$f":"IF(t.base[[#This Row],[DIAS DE ATRASO]]=0,0,t.base[[#This Row],[TOTAL]])","v":0}]
["2017-12-13","SOLOT PERU S.A.C.","Centro","0002-002799","2018-03-13",0,{"v":15431,"d":"15,431"},{"$f":"IF(t.base[[#This Row],[DIAS DE ATRASO]]=0,0,t.base[[#This Row],[TOTAL]])","v":0}]
["2018-03-13","LAURA PARI ALIPIO","Centro","0002-003668","2018-03-13",0,{"v":28968,"d":"28,968"},{"$f":"IF(t.base[[#This Row],[DIAS DE ATRASO]]=0,0,t.base[[#This Row],[TOTAL]])","v":0}]
["2017-11-19","CJ TELECOM SAC","Centro","0001-003631","2017-12-19",84,{"v":16590,"d":"16,590"},{"$f":"IF(t.base[[#This Row],[DIAS DE ATRASO]]=0,0,t.base[[#This Row],[TOTAL]])","v":16590}]
["2018-01-27","VALTER SPORT SAC","Centro","0002-007993","2018-02-26",15,{"v":22337,"d":"22,337"},{"$f":"IF(t.base[[#This Row],[DIAS DE ATRASO]]=0,0,t.base[[#This Row],[TOTAL]])","v":22337}]
["2018-02-26","ECO TAXI S.A.C.","Centro","0002-001059","2018-03-13",0,{"v":28804,"d":"28,804"},{"$f":"IF(t.base[[#This Row],[DIAS DE ATRASO]]=0,0,t.base[[#This Row],[TOTAL]])","v":0}]
["2018-03-13","VILELA ABAD JUAN","Centro","0001-004585","2018-03-13",0,{"v":22473,"d":"22,473"},{"$f":"IF(t.base[[#This Row],[DIAS DE ATRASO]]=0,0,t.base[[#This Row],[TOTAL]])","v":0}]
["2017-11-05","SUNI NUNONCCA SIMON","Centro","0002-003950","2018-02-03",38,{"v":28719,"d":"28,719"},{"$f":"IF(t.base[[#This Row],[DIAS DE ATRASO]]=0,0,t.base[[#This Row],[TOTAL]])","v":28719}]
["2018-03-13","GOLD TEXTIL S.A.C.","Centro","0001-003186","2018-03-13",0,{"v":23172,"d":"23,172"},{"$f":"IF(t.base[[#This Row],[DIAS DE ATRASO]]=0,0,t.base[[#This Row],[TOTAL]])","v":0}]
["2018-01-01","SERTEGTEC S.A.C.","Sur","0001-006407","2018-01-01",71,{"v":28349,"d":"28,349"},{"$f":"IF(t.base[[#This Row],[DIAS DE ATRASO]]=0,0,t.base[[#This Row],[TOTAL]])","v":28349}]
["2017-11-23","MARCESA S.R.L.","Centro","0002-006325","2017-12-23",80,{"v":24663,"d":"24,663"},{"$f":"IF(t.base[[#This Row],[DIAS DE ATRASO]]=0,0,t.base[[#This Row],[TOTAL]])","v":24663}]
["2018-01-27","J. G Y R S.A.C.","Sur","0002-003160","2018-03-13",0,{"v":12349,"d":"12,349"},{"$f":"IF(t.base[[#This Row],[DIAS DE ATRASO]]=0,0,t.base[[#This Row],[TOTAL]])","v":0}]
["2018-01-01","SERVITEC S A","Centro","0001-004257","2018-02-15",26,{"v":26861,"d":"26,861"},{"$f":"IF(t.base[[#This Row],[DIAS DE ATRASO]]=0,0,t.base[[#This Row],[TOTAL]])","v":26861}]
["2017-12-11","GRAVICOM S.A.C.","Sur","0002-006479","2018-01-25",47,{"v":40862,"d":"40,862"},{"$f":"IF(t.base[[#This Row],[DIAS DE ATRASO]]=0,0,t.base[[#This Row],[TOTAL]])","v":40862}]
["2018-01-12","MEDROA SOTO ORBAL","Norte","0001-007136","2018-03-13",0,{"v":18851,"d":"18,851"},{"$f":"IF(t.base[[#This Row],[DIAS DE ATRASO]]=0,0,t.base[[#This Row],[TOTAL]])","v":0}]
["2018-02-10","REPDA PARTS S.R.L.","Sur","0002-007145","2018-02-10",31,{"v":36513,"d":"36,513"},{"$f":"IF(t.base[[#This Row],[DIAS DE ATRASO]]=0,0,t.base[[#This Row],[TOTAL]])","v":36513}]
["2018-02-11","JARRO ROJAS AMADOR","Centro","0001-009825","2018-03-13",0,{"v":29200,"d":"29,200"},{"$f":"IF(t.base[[#This Row],[DIAS DE ATRASO]]=0,0,t.base[[#This Row],[TOTAL]])","v":0}]
["2018-01-27","SANATEL VIDA S.A.C.","Centro","0001-008234","2018-03-13",0,{"v":29694,"d":"29,694"},{"$f":"IF(t.base[[#This Row],[DIAS DE ATRASO]]=0,0,t.base[[#This Row],[TOTAL]])","v":0}]
["2017-11-14","LA TIENDA E.I.R.L.","Sur","0002-006134","2018-01-13",59,{"v":28711,"d":"28,711"},{"$f":"IF(t.base[[#This Row],[DIAS DE ATRASO]]=0,0,t.base[[#This Row],[TOTAL]])","v":28711}]
["2018-01-12","VHL FOOD SAC","Centro","0002-002895","2018-03-13",0,{"v":21117,"d":"21,117"},{"$f":"IF(t.base[[#This Row],[DIAS DE ATRASO]]=0,0,t.base[[#This Row],[TOTAL]])","v":0}]
["2018-03-13","KEV S.A.C.","Centro","0001-009323","2018-03-13",0,{"v":26420,"d":"26,420"},{"$f":"IF(t.base[[#This Row],[DIAS DE ATRASO]]=0,0,t.base[[#This Row],[TOTAL]])","v":0}]
["2018-01-26","RELINO OTR S.A.C.","Centro","0002-005781","2018-03-12",1,{"v":17634,"d":"17,634"},{"$f":"IF(t.base[[#This Row],[DIAS DE ATRASO]]=0,0,t.base[[#This Row],[TOTAL]])","v":17634}]
["2018-03-13","BECAR E.I.R.L.","Sur","0002-007412","2018-03-13",0,{"v":8015,"d":"8,015"},{"$f":"IF(t.base[[#This Row],[DIAS DE ATRASO]]=0,0,t.base[[#This Row],[TOTAL]])","v":0}]
["2018-02-26","E - MARKET E.I.R.L.","Centro","0001-001726","2018-03-13",0,{"v":12992,"d":"12,992"},{"$f":"IF(t.base[[#This Row],[DIAS DE ATRASO]]=0,0,t.base[[#This Row],[TOTAL]])","v":0}]
["2018-01-12","JON MARSIL E.I.R.L","Centro","0001-005360","2018-03-13",0,{"v":24632,"d":"24,632"},{"$f":"IF(t.base[[#This Row],[DIAS DE ATRASO]]=0,0,t.base[[#This Row],[TOTAL]])","v":0}]
["2017-12-12","GAGLIARDO E.I.R.L.","Centro","0002-005950","2018-03-12",1,{"v":18001,"d":"18,001"},{"$f":"IF(t.base[[#This Row],[DIAS DE ATRASO]]=0,0,t.base[[#This Row],[TOTAL]])","v":18001}]
["2018-02-11","SALVADOR LAZO FIDEL","Centro","0002-006992","2018-03-13",0,{"v":24267,"d":"24,267"},{"$f":"IF(t.base[[#This Row],[DIAS DE ATRASO]]=0,0,t.base[[#This Row],[TOTAL]])","v":0}]
["2017-12-13","SAN CARLOS S.A.C.","Centro","0002-001691","2018-03-13",0,{"v":16715,"d":"16,715"},{"$f":"IF(t.base[[#This Row],[DIAS DE ATRASO]]=0,0,t.base[[#This Row],[TOTAL]])","v":0}]
["2017-12-22","LUCMOIS E.I.R.L.","Centro","0001-003643","2018-01-21",51,{"v":24723,"d":"24,723"},{"$f":"IF(t.base[[#This Row],[DIAS DE ATRASO]]=0,0,t.base[[#This Row],[TOTAL]])","v":24723}]
["2018-03-13","VALDEZ OCHOA NHELY","Centro","0002-006931","2018-03-13",0,{"v":13923,"d":"13,923"},{"$f":"IF(t.base[[#This Row],[DIAS DE ATRASO]]=0,0,t.base[[#This Row],[TOTAL]])","v":0}]
["2018-01-28","EXPROM EIRL","Centro","0001-009094","2018-02-27",14,{"v":18259,"d":"18,259"},{"$f":"IF(t.base[[#This Row],[DIAS DE ATRASO]]=0,0,t.base[[#This Row],[TOTAL]])","v":18259}]
["2017-11-28","SEGECAL S.R.L.","Centro","0001-006437","2018-01-12",60,{"v":13685,"d":"13,685"},{"$f":"IF(t.base[[#This Row],[DIAS DE ATRASO]]=0,0,t.base[[#This Row],[TOTAL]])","v":13685}]
["2018-01-12","PAR OFFICE SAC","Centro","0001-008044","2018-03-13",0,{"v":27456,"d":"27,456"},{"$f":"IF(t.base[[#This Row],[DIAS DE ATRASO]]=0,0,t.base[[#This Row],[TOTAL]])","v":0}]
["2018-01-12","DAVILA RIVERA MARIA","Centro","0002-007362","2018-02-11",30,{"v":18196,"d":"18,196"},{"$f":"IF(t.base[[#This Row],[DIAS DE ATRASO]]=0,0,t.base[[#This Row],[TOTAL]])","v":18196}]
["2018-01-04","CUEROTEX S.A.C","Centro","0002-008235","2018-01-04",68,{"v":26695,"d":"26,695"},{"$f":"IF(t.base[[#This Row],[DIAS DE ATRASO]]=0,0,t.base[[#This Row],[TOTAL]])","v":26695}]
["2017-12-04","DERMASALUD S.R.L.","Centro","0001-001635","2018-02-02",39,{"v":17606,"d":"17,606"},{"$f":"IF(t.base[[#This Row],[DIAS DE ATRASO]]=0,0,t.base[[#This Row],[TOTAL]])","v":17606}]
["2018-03-13","MORE CLASS S.A.C","Centro","0001-006730","2018-03-13",0,{"v":22211,"d":"22,211"},{"$f":"IF(t.base[[#This Row],[DIAS DE ATRASO]]=0,0,t.base[[#This Row],[TOTAL]])","v":0}]
["2018-02-24","KENUAL S.A.C.","Centro","0001-007955","2018-02-24",17,{"v":24688,"d":"24,688"},{"$f":"IF(t.base[[#This Row],[DIAS DE ATRASO]]=0,0,t.base[[#This Row],[TOTAL]])","v":24688}]
["2017-12-13","CINSA E.I.R.L","Sur","0001-004843","2018-03-13",0,{"v":22978,"d":"22,978"},{"$f":"IF(t.base[[#This Row],[DIAS DE ATRASO]]=0,0,t.base[[#This Row],[TOTAL]])","v":0}]
["2018-01-12","CIGREN PERU S.A.C.","Centro","0002-009577","2018-03-13",0,{"v":24445,"d":"24,445"},{"$f":"IF(t.base[[#This Row],[DIAS DE ATRASO]]=0,0,t.base[[#This Row],[TOTAL]])","v":0}]
["2017-06-14","CEP KERPEN HORREN","Centro","0001-008271","2017-08-13",212,{"v":19761,"d":"19,761"},{"$f":"IF(t.base[[#This Row],[DIAS DE ATRASO]]=0,0,t.base[[#This Row],[TOTAL]])","v":19761}]
["2018-02-08","O. UCHIDA S.A.C.","Centro","0002-008936","2018-02-08",33,{"v":18102,"d":"18,102"},{"$f":"IF(t.base[[#This Row],[DIAS DE ATRASO]]=0,0,t.base[[#This Row],[TOTAL]])","v":18102}]
["2017-12-18","COPY SERVICE MV SAC","Centro","0002-002574","2018-02-01",40,{"v":24980,"d":"24,980"},{"$f":"IF(t.base[[#This Row],[DIAS DE ATRASO]]=0,0,t.base[[#This Row],[TOTAL]])","v":24980}]
["2018-01-12","TRANSLYA S.A.C.","Centro","0001-007770","2018-03-13",0,{"v":25529,"d":"25,529"},{"$f":"IF(t.base[[#This Row],[DIAS DE ATRASO]]=0,0,t.base[[#This Row],[TOTAL]])","v":0}]
["2018-03-13","ZHU MING S.A.C.","Centro","0001-007329","2018-03-13",0,{"v":16440,"d":"16,440"},{"$f":"IF(t.base[[#This Row],[DIAS DE ATRASO]]=0,0,t.base[[#This Row],[TOTAL]])","v":0}]
["2017-08-23","CURASMA POMA YODI","Centro","0002-001785","2017-09-22",172,{"v":15993,"d":"15,993"},{"$f":"IF(t.base[[#This Row],[DIAS DE ATRASO]]=0,0,t.base[[#This Row],[TOTAL]])","v":15993}]
["2017-11-23","SERVITEC S.R.L.","Sur","0001-001486","2018-01-07",65,{"v":44171,"d":"44,171"},{"$f":"IF(t.base[[#This Row],[DIAS DE ATRASO]]=0,0,t.base[[#This Row],[TOTAL]])","v":44171}]
["2018-01-12","CONASEM E.I.R.L.","Centro","0001-007790","2018-03-13",0,{"v":23074,"d":"23,074"},{"$f":"IF(t.base[[#This Row],[DIAS DE ATRASO]]=0,0,t.base[[#This Row],[TOTAL]])","v":0}]
["2018-01-25","ALDI S.A.C.","Sur","0001-002492","2018-02-24",17,{"v":36983,"d":"36,983"},{"$f":"IF(t.base[[#This Row],[DIAS DE ATRASO]]=0,0,t.base[[#This Row],[TOTAL]])","v":36983}]
["2017-07-26","SEMAPELI S.R.L.","Sur","0001-002733","2017-10-24",140,{"v":26025,"d":"26,025"},{"$f":"IF(t.base[[#This Row],[DIAS DE ATRASO]]=0,0,t.base[[#This Row],[TOTAL]])","v":26025}]
["2018-03-13","LAVA EXPRESS SAC","Centro","0001-002218","2018-03-13",0,{"v":17146,"d":"17,146"},{"$f":"IF(t.base[[#This Row],[DIAS DE ATRASO]]=0,0,t.base[[#This Row],[TOTAL]])","v":0}]
["2017-12-25","XIE SHIYA","Centro","0002-005070","2018-02-23",18,{"v":21266,"d":"21,266"},{"$f":"IF(t.base[[#This Row],[DIAS DE ATRASO]]=0,0,t.base[[#This Row],[TOTAL]])","v":21266}]
["2018-01-12","PERU PIMA SA.","Centro","0001-003315","2018-03-13",0,{"v":11072,"d":"11,072"},{"$f":"IF(t.base[[#This Row],[DIAS DE ATRASO]]=0,0,t.base[[#This Row],[TOTAL]])","v":0}]
["2018-02-16","ZHENG HE","Centro","0001-001086","2018-03-03",10,{"v":24111,"d":"24,111"},{"$f":"IF(t.base[[#This Row],[DIAS DE ATRASO]]=0,0,t.base[[#This Row],[TOTAL]])","v":24111}]
["2017-12-19","VIGATEC E.I.R.L.","Norte","0002-009138","2018-01-18",54,{"v":42198,"d":"42,198"},{"$f":"IF(t.base[[#This Row],[DIAS DE ATRASO]]=0,0,t.base[[#This Row],[TOTAL]])","v":42198}]
["2018-01-12","ALI & CIA S.A.C","Norte","0002-002153","2018-03-13",0,{"v":37567,"d":"37,567"},{"$f":"IF(t.base[[#This Row],[DIAS DE ATRASO]]=0,0,t.base[[#This Row],[TOTAL]])","v":0}]
["2017-12-10","SERVITEC S A","Centro","0002-004301","2018-03-10",3,{"v":14830,"d":"14,830"},{"$f":"IF(t.base[[#This Row],[DIAS DE ATRASO]]=0,0,t.base[[#This Row],[TOTAL]])","v":14830}]
["2018-01-12","COPY  GRAPH S.A.C.","Centro","0001-008928","2018-03-13",0,{"v":24482,"d":"24,482"},{"$f":"IF(t.base[[#This Row],[DIAS DE ATRASO]]=0,0,t.base[[#This Row],[TOTAL]])","v":0}]
["2018-03-12","MOVILLANTAS S.A.C.","Centro","0002-005161","2018-03-12",1,{"v":22091,"d":"22,091"},{"$f":"IF(t.base[[#This Row],[DIAS DE ATRASO]]=0,0,t.base[[#This Row],[TOTAL]])","v":22091}]
["2018-01-12","LOZANO E I R LTDA","Centro","0002-008063","2018-03-13",0,{"v":22904,"d":"22,904"},{"$f":"IF(t.base[[#This Row],[DIAS DE ATRASO]]=0,0,t.base[[#This Row],[TOTAL]])","v":0}]
["2017-09-20","DOCTOR SALUD S.A.C.","Centro","0002-009968","2017-12-19",84,{"v":22549,"d":"22,549"},{"$f":"IF(t.base[[#This Row],[DIAS DE ATRASO]]=0,0,t.base[[#This Row],[TOTAL]])","v":22549}]
["2018-01-11","ODFJELL PERU S.A.C.","Centro","0001-003933","2018-03-12",1,{"v":14692,"d":"14,692"},{"$f":"IF(t.base[[#This Row],[DIAS DE ATRASO]]=0,0,t.base[[#This Row],[TOTAL]])","v":14692}]
["2018-01-07","HELENTEX S.A.C.","Centro","0001-009205","2018-03-08",5,{"v":25766,"d":"25,766"},{"$f":"IF(t.base[[#This Row],[DIAS DE ATRASO]]=0,0,t.base[[#This Row],[TOTAL]])","v":25766}]
["2018-03-13","CHR HANSEN S.A.","Centro","0002-006016","2018-03-13",0,{"v":22169,"d":"22,169"},{"$f":"IF(t.base[[#This Row],[DIAS DE ATRASO]]=0,0,t.base[[#This Row],[TOTAL]])","v":0}]
["2018-02-26","DDP ADUANAS S.A.C.","Sur","0002-006051","2018-03-13",0,{"v":34163,"d":"34,163"},{"$f":"IF(t.base[[#This Row],[DIAS DE ATRASO]]=0,0,t.base[[#This Row],[TOTAL]])","v":0}]
["2018-02-25","UNIDAX E.I.R.L.","Sur","0001-005500","2018-03-12",1,{"v":34147,"d":"34,147"},{"$f":"IF(t.base[[#This Row],[DIAS DE ATRASO]]=0,0,t.base[[#This Row],[TOTAL]])","v":34147}]
["2017-06-03","PRU SAC","Centro","0002-006174","2017-08-02",223,{"v":29849,"d":"29,849"},{"$f":"IF(t.base[[#This Row],[DIAS DE ATRASO]]=0,0,t.base[[#This Row],[TOTAL]])","v":29849}]
["2017-08-04","INKACLOTH S.A.C.","Centro","0002-004658","2017-09-18",176,{"v":18165,"d":"18,165"},{"$f":"IF(t.base[[#This Row],[DIAS DE ATRASO]]=0,0,t.base[[#This Row],[TOTAL]])","v":18165}]
["2017-09-15","DOCTOR SALUD S.A.C.","Centro","0002-004256","2017-12-14",89,{"v":22768,"d":"22,768"},{"$f":"IF(t.base[[#This Row],[DIAS DE ATRASO]]=0,0,t.base[[#This Row],[TOTAL]])","v":22768}]
["2018-02-11","INFOGESTION S.A.C.","Centro","0001-008551","2018-03-13",0,{"v":26565,"d":"26,565"},{"$f":"IF(t.base[[#This Row],[DIAS DE ATRASO]]=0,0,t.base[[#This Row],[TOTAL]])","v":0}]
["2018-03-12","CELEKSA S R L","Centro","0001-004968","2018-03-12",1,{"v":29786,"d":"29,786"},{"$f":"IF(t.base[[#This Row],[DIAS DE ATRASO]]=0,0,t.base[[#This Row],[TOTAL]])","v":29786}]
["2017-08-11","RICAVA S.A.C.","Centro","0002-003779","2017-10-10",154,{"v":26838,"d":"26,838"},{"$f":"IF(t.base[[#This Row],[DIAS DE ATRASO]]=0,0,t.base[[#This Row],[TOTAL]])","v":26838}]
["2017-12-13","CLORINA S.A.C.","Centro","0002-008608","2018-03-13",0,{"v":28120,"d":"28,120"},{"$f":"IF(t.base[[#This Row],[DIAS DE ATRASO]]=0,0,t.base[[#This Row],[TOTAL]])","v":0}]
["2017-12-13","TITANIUM S.A.C.","Centro","0002-006104","2018-03-13",0,{"v":11895,"d":"11,895"},{"$f":"IF(t.base[[#This Row],[DIAS DE ATRASO]]=0,0,t.base[[#This Row],[TOTAL]])","v":0}]
["2018-02-11","LOAYZA KARI ENRIQUE","Centro","0001-007967","2018-03-13",0,{"v":18554,"d":"18,554"},{"$f":"IF(t.base[[#This Row],[DIAS DE ATRASO]]=0,0,t.base[[#This Row],[TOTAL]])","v":0}]
["2017-10-13","COK LINO ROBERTO","Centro","0002-004236","2018-01-11",61,{"v":14652,"d":"14,652"},{"$f":"IF(t.base[[#This Row],[DIAS DE ATRASO]]=0,0,t.base[[#This Row],[TOTAL]])","v":14652}]
["2018-01-27","ROSAS PANDO ANIBAL","Centro","0002-004564","2018-03-13",0,{"v":13106,"d":"13,106"},{"$f":"IF(t.base[[#This Row],[DIAS DE ATRASO]]=0,0,t.base[[#This Row],[TOTAL]])","v":0}]
["2018-01-27","RUIZ LAVADO HEBER","Centro","0002-009207","2018-03-13",0,{"v":13640,"d":"13,640"},{"$f":"IF(t.base[[#This Row],[DIAS DE ATRASO]]=0,0,t.base[[#This Row],[TOTAL]])","v":0}]
["2018-01-12","FIDUCIARIA GBC S.A.","Centro","0002-007647","2018-03-13",0,{"v":24409,"d":"24,409"},{"$f":"IF(t.base[[#This Row],[DIAS DE ATRASO]]=0,0,t.base[[#This Row],[TOTAL]])","v":0}]
["2017-12-13","J & L ALIMENTOS SAC","Centro","0001-002228","2018-03-13",0,{"v":27230,"d":"27,230"},{"$f":"IF(t.base[[#This Row],[DIAS DE ATRASO]]=0,0,t.base[[#This Row],[TOTAL]])","v":0}]
["2018-01-26","QUIMICHEM S.A.C.","Centro","0001-005561","2018-03-12",1,{"v":11737,"d":"11,737"},{"$f":"IF(t.base[[#This Row],[DIAS DE ATRASO]]=0,0,t.base[[#This Row],[TOTAL]])","v":11737}]
["2018-01-05","CEP KERPEN HORREN","Centro","0001-002151","2018-02-04",37,{"v":29228,"d":"29,228"},{"$f":"IF(t.base[[#This Row],[DIAS DE ATRASO]]=0,0,t.base[[#This Row],[TOTAL]])","v":29228}]
["2018-02-17","CHAHUERRE S.C.R.L","Norte","0002-007313","2018-03-04",9,{"v":56387,"d":"56,387"},{"$f":"IF(t.base[[#This Row],[DIAS DE ATRASO]]=0,0,t.base[[#This Row],[TOTAL]])","v":56387}]
["2018-01-27","KAVIEL E.I.R.L","Norte","0001-003630","2018-03-13",0,{"v":54972,"d":"54,972"},{"$f":"IF(t.base[[#This Row],[DIAS DE ATRASO]]=0,0,t.base[[#This Row],[TOTAL]])","v":0}]
["2018-02-26","TRANSJOHNNY S.A.C.","Centro","0002-008673","2018-03-13",0,{"v":20225,"d":"20,225"},{"$f":"IF(t.base[[#This Row],[DIAS DE ATRASO]]=0,0,t.base[[#This Row],[TOTAL]])","v":0}]
["2017-07-29","MERZARIO PERU SAC","Centro","0002-002798","2017-10-27",137,{"v":11194,"d":"11,194"},{"$f":"IF(t.base[[#This Row],[DIAS DE ATRASO]]=0,0,t.base[[#This Row],[TOTAL]])","v":11194}]
["2018-01-12","RV COMPUTER S.A.C.","Centro","0002-001446","2018-03-13",0,{"v":12858,"d":"12,858"},{"$f":"IF(t.base[[#This Row],[DIAS DE ATRASO]]=0,0,t.base[[#This Row],[TOTAL]])","v":0}]
["2017-12-07","PLUS MEDIC E.I.R.L.","Centro","0002-005183","2018-01-06",66,{"v":24387,"d":"24,387"},{"$f":"IF(t.base[[#This Row],[DIAS DE ATRASO]]=0,0,t.base[[#This Row],[TOTAL]])","v":24387}]
["2018-02-26","REDIJUA S.R.L.","Sur","0002-006163","2018-03-13",0,{"v":14286,"d":"14,286"},{"$f":"IF(t.base[[#This Row],[DIAS DE ATRASO]]=0,0,t.base[[#This Row],[TOTAL]])","v":0}]
["2018-02-11","BLAIROC E.I.R.L.","Centro","0002-009858","2018-03-13",0,{"v":22228,"d":"22,228"},{"$f":"IF(t.base[[#This Row],[DIAS DE ATRASO]]=0,0,t.base[[#This Row],[TOTAL]])","v":0}]
["2018-01-27","TAGA S.R.LTDA","Sur","0001-002184","2018-03-13",0,{"v":28067,"d":"28,067"},{"$f":"IF(t.base[[#This Row],[DIAS DE ATRASO]]=0,0,t.base[[#This Row],[TOTAL]])","v":0}]
["2017-12-13","IRYOVI E.I.R.L.","Centro","0002-008912","2018-03-13",0,{"v":19347,"d":"19,347"},{"$f":"IF(t.base[[#This Row],[DIAS DE ATRASO]]=0,0,t.base[[#This Row],[TOTAL]])","v":0}]
["2018-03-13","LOAYZA KARI ENRIQUE","Centro","0001-004886","2018-03-13",0,{"v":12493,"d":"12,493"},{"$f":"IF(t.base[[#This Row],[DIAS DE ATRASO]]=0,0,t.base[[#This Row],[TOTAL]])","v":0}]
["2017-04-24","EMAPAVIGSSA","Sur","0002-005013","2017-07-23",233,{"v":28267,"d":"28,267"},{"$f":"IF(t.base[[#This Row],[DIAS DE ATRASO]]=0,0,t.base[[#This Row],[TOTAL]])","v":28267}]
["2018-03-13","BODEGA OJEDA","Norte","0001-006418","2018-03-13",0,{"v":16889,"d":"16,889"},{"$f":"IF(t.base[[#This Row],[DIAS DE ATRASO]]=0,0,t.base[[#This Row],[TOTAL]])","v":0}]
["2018-01-28","SURTIDORES S.A.C.","Centro","0001-008203","2018-02-12",29,{"v":13258,"d":"13,258"},{"$f":"IF(t.base[[#This Row],[DIAS DE ATRASO]]=0,0,t.base[[#This Row],[TOTAL]])","v":13258}]
["2017-10-04","CHIFA FULLRUM EIRL","Centro","0002-001537","2018-01-02",70,{"v":16928,"d":"16,928"},{"$f":"IF(t.base[[#This Row],[DIAS DE ATRASO]]=0,0,t.base[[#This Row],[TOTAL]])","v":16928}]
["2018-02-11","MSM INSUMOS S.A.C","Centro","0001-006313","2018-03-13",0,{"v":11306,"d":"11,306"},{"$f":"IF(t.base[[#This Row],[DIAS DE ATRASO]]=0,0,t.base[[#This Row],[TOTAL]])","v":0}]
["2017-10-17","ZHENG HE","Centro","0001-005793","2017-11-16",117,{"v":13937,"d":"13,937"},{"$f":"IF(t.base[[#This Row],[DIAS DE ATRASO]]=0,0,t.base[[#This Row],[TOTAL]])","v":13937}]
["2018-02-26","STYLO EDWIL SRL","Centro","0001-002134","2018-03-13",0,{"v":21949,"d":"21,949"},{"$f":"IF(t.base[[#This Row],[DIAS DE ATRASO]]=0,0,t.base[[#This Row],[TOTAL]])","v":0}]
["2018-02-11","ALFA & ALFA E.I.R.L","Centro","0001-001826","2018-03-13",0,{"v":23065,"d":"23,065"},{"$f":"IF(t.base[[#This Row],[DIAS DE ATRASO]]=0,0,t.base[[#This Row],[TOTAL]])","v":0}]
["2018-02-28","SIZU S.A.C.","Centro","0002-001732","2018-02-28",13,{"v":21083,"d":"21,083"},{"$f":"IF(t.base[[#This Row],[DIAS DE ATRASO]]=0,0,t.base[[#This Row],[TOTAL]])","v":21083}]
["2017-12-13","GEOINFORMACION S.A.","Centro","0002-004412","2018-03-13",0,{"v":24624,"d":"24,624"},{"$f":"IF(t.base[[#This Row],[DIAS DE ATRASO]]=0,0,t.base[[#This Row],[TOTAL]])","v":0}]
["2017-11-02","INVERGALAZ S.R.L.","Norte","0001-005137","2017-12-17",86,{"v":19831,"d":"19,831"},{"$f":"IF(t.base[[#This Row],[DIAS DE ATRASO]]=0,0,t.base[[#This Row],[TOTAL]])","v":19831}]
["2017-12-13","AGRORETAIL  S.A.C.","Centro","0001-009815","2018-03-13",0,{"v":12348,"d":"12,348"},{"$f":"IF(t.base[[#This Row],[DIAS DE ATRASO]]=0,0,t.base[[#This Row],[TOTAL]])","v":0}]
["2017-11-04","COPLASTGROUP S.A.","Centro","0001-004847","2017-12-19",84,{"v":27925,"d":"27,925"},{"$f":"IF(t.base[[#This Row],[DIAS DE ATRASO]]=0,0,t.base[[#This Row],[TOTAL]])","v":27925}]
["2017-12-12","FEMAT S.A.C.","Centro","0001-006290","2018-03-12",1,{"v":24971,"d":"24,971"},{"$f":"IF(t.base[[#This Row],[DIAS DE ATRASO]]=0,0,t.base[[#This Row],[TOTAL]])","v":24971}]
["2018-01-12","SACOSA SAC.","Norte","0001-003715","2018-03-13",0,{"v":41296,"d":"41,296"},{"$f":"IF(t.base[[#This Row],[DIAS DE ATRASO]]=0,0,t.base[[#This Row],[TOTAL]])","v":0}]
["2018-01-27","OLRAS SRL.","Norte","0001-005697","2018-03-13",0,{"v":53159,"d":"53,159"},{"$f":"IF(t.base[[#This Row],[DIAS DE ATRASO]]=0,0,t.base[[#This Row],[TOTAL]])","v":0}]
["2018-02-26","QU GU LIQI","Centro","0002-005922","2018-03-13",0,{"v":11110,"d":"11,110"},{"$f":"IF(t.base[[#This Row],[DIAS DE ATRASO]]=0,0,t.base[[#This Row],[TOTAL]])","v":0}]
["2017-12-23","ALFA & ALFA E.I.R.L","Centro","0002-001687","2018-01-22",50,{"v":29271,"d":"29,271"},{"$f":"IF(t.base[[#This Row],[DIAS DE ATRASO]]=0,0,t.base[[#This Row],[TOTAL]])","v":29271}]
["2017-12-13","LA ROCCA SAC","Centro","0002-008981","2018-03-13",0,{"v":17725,"d":"17,725"},{"$f":"IF(t.base[[#This Row],[DIAS DE ATRASO]]=0,0,t.base[[#This Row],[TOTAL]])","v":0}]
["2018-01-27","MENESES SAC","Centro","0001-001338","2018-03-13",0,{"v":27792,"d":"27,792"},{"$f":"IF(t.base[[#This Row],[DIAS DE ATRASO]]=0,0,t.base[[#This Row],[TOTAL]])","v":0}]
["2018-01-12","PLASTILEON EIRL","Centro","0002-001592","2018-03-13",0,{"v":26449,"d":"26,449"},{"$f":"IF(t.base[[#This Row],[DIAS DE ATRASO]]=0,0,t.base[[#This Row],[TOTAL]])","v":0}]
["2018-02-11","CIA NEMER SAC","Sur","0001-008545","2018-03-13",0,{"v":18849,"d":"18,849"},{"$f":"IF(t.base[[#This Row],[DIAS DE ATRASO]]=0,0,t.base[[#This Row],[TOTAL]])","v":0}]
["2017-12-13","SURTIDORES S.A.C.","Centro","0001-003074","2018-03-13",0,{"v":16508,"d":"16,508"},{"$f":"IF(t.base[[#This Row],[DIAS DE ATRASO]]=0,0,t.base[[#This Row],[TOTAL]])","v":0}]
["2017-12-13","ECO GRANJA S.R.L.","Centro","0002-003702","2018-03-13",0,{"v":24343,"d":"24,343"},{"$f":"IF(t.base[[#This Row],[DIAS DE ATRASO]]=0,0,t.base[[#This Row],[TOTAL]])","v":0}]
["2017-12-12","SOTO ZAMORA TITO","Centro","0001-007558","2018-03-12",1,{"v":12611,"d":"12,611"},{"$f":"IF(t.base[[#This Row],[DIAS DE ATRASO]]=0,0,t.base[[#This Row],[TOTAL]])","v":12611}]
["2017-12-12","POZO TORRES CLAUDIA","Centro","0001-001700","2018-03-12",1,{"v":28540,"d":"28,540"},{"$f":"IF(t.base[[#This Row],[DIAS DE ATRASO]]=0,0,t.base[[#This Row],[TOTAL]])","v":28540}]
["2017-12-12","S.J2 S.A.C.","Norte","0002-003161","2018-03-12",1,{"v":13949,"d":"13,949"},{"$f":"IF(t.base[[#This Row],[DIAS DE ATRASO]]=0,0,t.base[[#This Row],[TOTAL]])","v":13949}]
["2017-12-26","LA LUCILA S.R.L.","Sur","0002-001436","2018-01-25",47,{"v":34091,"d":"34,091"},{"$f":"IF(t.base[[#This Row],[DIAS DE ATRASO]]=0,0,t.base[[#This Row],[TOTAL]])","v":34091}]
["2018-01-27","CARRASCO RUIZ ELINO","Centro","0001-009128","2018-03-13",0,{"v":21727,"d":"21,727"},{"$f":"IF(t.base[[#This Row],[DIAS DE ATRASO]]=0,0,t.base[[#This Row],[TOTAL]])","v":0}]
["2018-02-11","TRASDIP E.I.R.L.","Sur","0002-007149","2018-03-13",0,{"v":31415,"d":"31,415"},{"$f":"IF(t.base[[#This Row],[DIAS DE ATRASO]]=0,0,t.base[[#This Row],[TOTAL]])","v":0}]
["2018-01-11","TECH HOME E.I.R.L.","Sur","0002-003955","2018-03-12",1,{"v":14594,"d":"14,594"},{"$f":"IF(t.base[[#This Row],[DIAS DE ATRASO]]=0,0,t.base[[#This Row],[TOTAL]])","v":14594}]
["2018-03-13","LA JOSEFA S.A.C.","Centro","0001-006871","2018-03-13",0,{"v":23227,"d":"23,227"},{"$f":"IF(t.base[[#This Row],[DIAS DE ATRASO]]=0,0,t.base[[#This Row],[TOTAL]])","v":0}]
["2018-03-13","2M SERVICIOS S.A.C.","Sur","0001-006796","2018-03-13",0,{"v":40099,"d":"40,099"},{"$f":"IF(t.base[[#This Row],[DIAS DE ATRASO]]=0,0,t.base[[#This Row],[TOTAL]])","v":0}]
["2017-09-10","CAIMI PERU S.A.C.","Centro","0001-002285","2017-12-09",94,{"v":12752,"d":"12,752"},{"$f":"IF(t.base[[#This Row],[DIAS DE ATRASO]]=0,0,t.base[[#This Row],[TOTAL]])","v":12752}]
["2018-01-27","VALTER SPORT SAC","Centro","0002-002628","2018-03-13",0,{"v":26266,"d":"26,266"},{"$f":"IF(t.base[[#This Row],[DIAS DE ATRASO]]=0,0,t.base[[#This Row],[TOTAL]])","v":0}]
["2018-02-26","ROSA ELENA S.R.L.","Norte","0001-004143","2018-03-13",0,{"v":42049,"d":"42,049"},{"$f":"IF(t.base[[#This Row],[DIAS DE ATRASO]]=0,0,t.base[[#This Row],[TOTAL]])","v":0}]
["2017-12-18","EURO PERUANA S.A.C.","Centro","0001-006212","2018-02-16",25,{"v":16714,"d":"16,714"},{"$f":"IF(t.base[[#This Row],[DIAS DE ATRASO]]=0,0,t.base[[#This Row],[TOTAL]])","v":16714}]
["2017-10-31","DETAILHOUSE S.A.C.","Centro","0002-001715","2017-12-15",88,{"v":25024,"d":"25,024"},{"$f":"IF(t.base[[#This Row],[DIAS DE ATRASO]]=0,0,t.base[[#This Row],[TOTAL]])","v":25024}]
["2018-02-26","MAC HARE S.A.C.","Centro","0002-001629","2018-03-13",0,{"v":12234,"d":"12,234"},{"$f":"IF(t.base[[#This Row],[DIAS DE ATRASO]]=0,0,t.base[[#This Row],[TOTAL]])","v":0}]
["2017-12-29","LI XINNAN","Centro","0002-007894","2018-02-12",29,{"v":20047,"d":"20,047"},{"$f":"IF(t.base[[#This Row],[DIAS DE ATRASO]]=0,0,t.base[[#This Row],[TOTAL]])","v":20047}]
["2018-03-13","AITER'S SRL","Centro","0001-008104","2018-03-13",0,{"v":23729,"d":"23,729"},{"$f":"IF(t.base[[#This Row],[DIAS DE ATRASO]]=0,0,t.base[[#This Row],[TOTAL]])","v":0}]
["2018-02-11","ZHOU YA S.A.C","Centro","0001-006135","2018-03-13",0,{"v":26585,"d":"26,585"},{"$f":"IF(t.base[[#This Row],[DIAS DE ATRASO]]=0,0,t.base[[#This Row],[TOTAL]])","v":0}]
["2018-02-10","SALISARA SAC","Centro","0002-005190","2018-03-12",1,{"v":22195,"d":"22,195"},{"$f":"IF(t.base[[#This Row],[DIAS DE ATRASO]]=0,0,t.base[[#This Row],[TOTAL]])","v":22195}]
["2018-01-12","DISGAR S.A.C.","Sur","0001-007905","2018-03-13",0,{"v":13294,"d":"13,294"},{"$f":"IF(t.base[[#This Row],[DIAS DE ATRASO]]=0,0,t.base[[#This Row],[TOTAL]])","v":0}]
["2018-02-11","SOBITEC PERU S.A.C.","Centro","0001-009196","2018-03-13",0,{"v":25479,"d":"25,479"},{"$f":"IF(t.base[[#This Row],[DIAS DE ATRASO]]=0,0,t.base[[#This Row],[TOTAL]])","v":0}]
["2017-12-13","GRANJA AZUL S A","Centro","0002-004044","2018-03-13",0,{"v":25689,"d":"25,689"},{"$f":"IF(t.base[[#This Row],[DIAS DE ATRASO]]=0,0,t.base[[#This Row],[TOTAL]])","v":0}]
["2017-12-31","GLASSCORP S.A.C.","Centro","0002-007538","2018-01-15",57,{"v":29058,"d":"29,058"},{"$f":"IF(t.base[[#This Row],[DIAS DE ATRASO]]=0,0,t.base[[#This Row],[TOTAL]])","v":29058}]
["2018-02-11","GLOBAL PAPER SAC","Centro","0002-009381","2018-03-13",0,{"v":27785,"d":"27,785"},{"$f":"IF(t.base[[#This Row],[DIAS DE ATRASO]]=0,0,t.base[[#This Row],[TOTAL]])","v":0}]
["2017-10-10","VHL FOOD SAC","Centro","0002-008418","2018-01-08",64,{"v":24868,"d":"24,868"},{"$f":"IF(t.base[[#This Row],[DIAS DE ATRASO]]=0,0,t.base[[#This Row],[TOTAL]])","v":24868}]
["2017-12-25","G.M. TRAMAS S.A.","Centro","0002-009496","2018-02-23",18,{"v":13517,"d":"13,517"},{"$f":"IF(t.base[[#This Row],[DIAS DE ATRASO]]=0,0,t.base[[#This Row],[TOTAL]])","v":13517}]
["2018-01-12","NEGYSER PERU S.A.C.","Centro","0001-007722","2018-03-13",0,{"v":13415,"d":"13,415"},{"$f":"IF(t.base[[#This Row],[DIAS DE ATRASO]]=0,0,t.base[[#This Row],[TOTAL]])","v":0}]
["2018-01-15","REYES HUANCA GIL","Centro","0002-003712","2018-02-14",27,{"v":27687,"d":"27,687"},{"$f":"IF(t.base[[#This Row],[DIAS DE ATRASO]]=0,0,t.base[[#This Row],[TOTAL]])","v":27687}]
["2017-11-16","WILCAS S.R.L.","Norte","0002-002304","2017-12-16",87,{"v":21283,"d":"21,283"},{"$f":"IF(t.base[[#This Row],[DIAS DE ATRASO]]=0,0,t.base[[#This Row],[TOTAL]])","v":21283}]
["2018-02-11","COAGROECO S.R.L.","Sur","0002-006442","2018-03-13",0,{"v":11220,"d":"11,220"},{"$f":"IF(t.base[[#This Row],[DIAS DE ATRASO]]=0,0,t.base[[#This Row],[TOTAL]])","v":0}]
["2018-02-25","PC MAGIMPORT S.A.C.","Centro","0001-003582","2018-03-12",1,{"v":13625,"d":"13,625"},{"$f":"IF(t.base[[#This Row],[DIAS DE ATRASO]]=0,0,t.base[[#This Row],[TOTAL]])","v":13625}]
["2017-09-15","LARCO PETS EIRL","Norte","0002-005490","2017-12-14",89,{"v":18683,"d":"18,683"},{"$f":"IF(t.base[[#This Row],[DIAS DE ATRASO]]=0,0,t.base[[#This Row],[TOTAL]])","v":18683}]
["2017-10-01","MIWA SPORT S.A.","Centro","0001-009029","2017-12-30",73,{"v":11693,"d":"11,693"},{"$f":"IF(t.base[[#This Row],[DIAS DE ATRASO]]=0,0,t.base[[#This Row],[TOTAL]])","v":11693}]
["2018-02-26","MSM INSUMOS S.A.C","Centro","0002-008559","2018-03-13",0,{"v":13232,"d":"13,232"},{"$f":"IF(t.base[[#This Row],[DIAS DE ATRASO]]=0,0,t.base[[#This Row],[TOTAL]])","v":0}]
["2018-01-24","REGALOS BENJI SAC","Centro","0002-007056","2018-02-08",33,{"v":25674,"d":"25,674"},{"$f":"IF(t.base[[#This Row],[DIAS DE ATRASO]]=0,0,t.base[[#This Row],[TOTAL]])","v":25674}]
["2018-02-26","OTERO NUÐEZ NESTOR","Centro","0002-007995","2018-03-13",0,{"v":17575,"d":"17,575"},{"$f":"IF(t.base[[#This Row],[DIAS DE ATRASO]]=0,0,t.base[[#This Row],[TOTAL]])","v":0}]
["2018-03-13","CUEROS R SAC","Norte","0002-005209","2018-03-13",0,{"v":29109,"d":"29,109"},{"$f":"IF(t.base[[#This Row],[DIAS DE ATRASO]]=0,0,t.base[[#This Row],[TOTAL]])","v":0}]
["2018-01-12","TOPOGIS S.A.C.","Centro","0002-002521","2018-03-13",0,{"v":15869,"d":"15,869"},{"$f":"IF(t.base[[#This Row],[DIAS DE ATRASO]]=0,0,t.base[[#This Row],[TOTAL]])","v":0}]
["2018-01-12","MIAMI -SHOP S.A.C.","Centro","0001-004154","2018-03-13",0,{"v":18081,"d":"18,081"},{"$f":"IF(t.base[[#This Row],[DIAS DE ATRASO]]=0,0,t.base[[#This Row],[TOTAL]])","v":0}]
["2017-09-04","GREEN STAR S.A.C","Centro","0001-006779","2017-09-04",190,{"v":15458,"d":"15,458"},{"$f":"IF(t.base[[#This Row],[DIAS DE ATRASO]]=0,0,t.base[[#This Row],[TOTAL]])","v":15458}]
["2017-12-13","DDP ADUANAS S.A.C.","Sur","0002-008846","2018-03-13",0,{"v":34194,"d":"34,194"},{"$f":"IF(t.base[[#This Row],[DIAS DE ATRASO]]=0,0,t.base[[#This Row],[TOTAL]])","v":0}]
["2018-02-01","SPRIND S.A.C.","Centro","0001-006145","2018-03-03",10,{"v":10424,"d":"10,424"},{"$f":"IF(t.base[[#This Row],[DIAS DE ATRASO]]=0,0,t.base[[#This Row],[TOTAL]])","v":10424}]
["2018-03-13","LOLA & MIGUEL SAC","Centro","0002-002757","2018-03-13",0,{"v":22183,"d":"22,183"},{"$f":"IF(t.base[[#This Row],[DIAS DE ATRASO]]=0,0,t.base[[#This Row],[TOTAL]])","v":0}]
["2018-03-12","OTUSS S.A.C.","Centro","0001-003110","2018-03-12",1,{"v":25266,"d":"25,266"},{"$f":"IF(t.base[[#This Row],[DIAS DE ATRASO]]=0,0,t.base[[#This Row],[TOTAL]])","v":25266}]
["2018-02-26","GARCIA CAVERO MAURA","Centro","0002-009863","2018-03-13",0,{"v":11748,"d":"11,748"},{"$f":"IF(t.base[[#This Row],[DIAS DE ATRASO]]=0,0,t.base[[#This Row],[TOTAL]])","v":0}]
["2017-11-21","CARRASCO RUIZ ELINO","Centro","0002-007619","2018-01-05",67,{"v":11117,"d":"11,117"},{"$f":"IF(t.base[[#This Row],[DIAS DE ATRASO]]=0,0,t.base[[#This Row],[TOTAL]])","v":11117}]
["2018-02-10","EPIC LABS S.A.C.","Centro","0002-004532","2018-02-10",31,{"v":15089,"d":"15,089"},{"$f":"IF(t.base[[#This Row],[DIAS DE ATRASO]]=0,0,t.base[[#This Row],[TOTAL]])","v":15089}]
["2018-01-19","GRIFOS AQP S.R.L.","Sur","0002-007771","2018-02-18",23,{"v":28451,"d":"28,451"},{"$f":"IF(t.base[[#This Row],[DIAS DE ATRASO]]=0,0,t.base[[#This Row],[TOTAL]])","v":28451}]
["2018-02-11","JIANG JINGYI","Centro","0002-009207","2018-03-13",0,{"v":13694,"d":"13,694"},{"$f":"IF(t.base[[#This Row],[DIAS DE ATRASO]]=0,0,t.base[[#This Row],[TOTAL]])","v":0}]
["2018-03-13","CHOQUE COPA CARLOS","Centro","0002-008554","2018-03-13",0,{"v":13356,"d":"13,356"},{"$f":"IF(t.base[[#This Row],[DIAS DE ATRASO]]=0,0,t.base[[#This Row],[TOTAL]])","v":0}]
["2018-02-26","CLAS ZAMACOLA","Sur","0001-006503","2018-03-13",0,{"v":38798,"d":"38,798"},{"$f":"IF(t.base[[#This Row],[DIAS DE ATRASO]]=0,0,t.base[[#This Row],[TOTAL]])","v":0}]
["2018-03-12","TBS LOGISTICS S.A.","Centro","0002-008897","2018-03-12",1,{"v":22885,"d":"22,885"},{"$f":"IF(t.base[[#This Row],[DIAS DE ATRASO]]=0,0,t.base[[#This Row],[TOTAL]])","v":22885}]
["2018-02-22","SCHIENZA S.A.","Centro","0001-003908","2018-03-09",4,{"v":27971,"d":"27,971"},{"$f":"IF(t.base[[#This Row],[DIAS DE ATRASO]]=0,0,t.base[[#This Row],[TOTAL]])","v":27971}]
["2017-12-21","POLIMAT S.A.C.","Centro","0001-003092","2018-01-20",52,{"v":13921,"d":"13,921"},{"$f":"IF(t.base[[#This Row],[DIAS DE ATRASO]]=0,0,t.base[[#This Row],[TOTAL]])","v":13921}]
["2018-02-26","VILLA GALVEZ NEYCER","Centro","0001-002564","2018-03-13",0,{"v":13904,"d":"13,904"},{"$f":"IF(t.base[[#This Row],[DIAS DE ATRASO]]=0,0,t.base[[#This Row],[TOTAL]])","v":0}]
["2017-09-25","QUIMICHEM S.A.C.","Centro","0002-002212","2017-09-25",169,{"v":12421,"d":"12,421"},{"$f":"IF(t.base[[#This Row],[DIAS DE ATRASO]]=0,0,t.base[[#This Row],[TOTAL]])","v":12421}]
["2018-02-11","NEXO GRAFICO S.A.C.","Centro","0002-009590","2018-03-13",0,{"v":11297,"d":"11,297"},{"$f":"IF(t.base[[#This Row],[DIAS DE ATRASO]]=0,0,t.base[[#This Row],[TOTAL]])","v":0}]
["2018-02-26","ANVACHRIS E.I.R.L.","Centro","0002-003991","2018-03-13",0,{"v":27717,"d":"27,717"},{"$f":"IF(t.base[[#This Row],[DIAS DE ATRASO]]=0,0,t.base[[#This Row],[TOTAL]])","v":0}]
["2017-11-29","DAVILA RIVERA MARIA","Centro","0002-009737","2018-01-28",44,{"v":22391,"d":"22,391"},{"$f":"IF(t.base[[#This Row],[DIAS DE ATRASO]]=0,0,t.base[[#This Row],[TOTAL]])","v":22391}]
["2018-02-26","TRUCK PERU S.A.C.","Centro","0001-005139","2018-03-13",0,{"v":20689,"d":"20,689"},{"$f":"IF(t.base[[#This Row],[DIAS DE ATRASO]]=0,0,t.base[[#This Row],[TOTAL]])","v":0}]
["2018-02-26","D'OLPHINS E.I.R.L.","Norte","0002-004438","2018-03-13",0,{"v":53506,"d":"53,506"},{"$f":"IF(t.base[[#This Row],[DIAS DE ATRASO]]=0,0,t.base[[#This Row],[TOTAL]])","v":0}]
["2017-11-05","EL HERMANO E.I.R.L.","Sur","0002-008405","2018-02-03",38,{"v":29311,"d":"29,311"},{"$f":"IF(t.base[[#This Row],[DIAS DE ATRASO]]=0,0,t.base[[#This Row],[TOTAL]])","v":29311}]
["2018-02-26","SATORI S.A.C.","Centro","0002-001760","2018-03-13",0,{"v":15652,"d":"15,652"},{"$f":"IF(t.base[[#This Row],[DIAS DE ATRASO]]=0,0,t.base[[#This Row],[TOTAL]])","v":0}]
["2017-10-29","M & R TANQUE SAC","Centro","0001-002318","2018-01-27",45,{"v":22967,"d":"22,967"},{"$f":"IF(t.base[[#This Row],[DIAS DE ATRASO]]=0,0,t.base[[#This Row],[TOTAL]])","v":22967}]
["2017-12-13","ESTETICA VENUS SRL","Centro","0001-007759","2018-03-13",0,{"v":11611,"d":"11,611"},{"$f":"IF(t.base[[#This Row],[DIAS DE ATRASO]]=0,0,t.base[[#This Row],[TOTAL]])","v":0}]
["2018-01-12","YUT WU S.A.C.","Centro","0001-003795","2018-03-13",0,{"v":28289,"d":"28,289"},{"$f":"IF(t.base[[#This Row],[DIAS DE ATRASO]]=0,0,t.base[[#This Row],[TOTAL]])","v":0}]
["2017-11-01","PABEL S.A.C.","Norte","0001-008849","2017-12-31",72,{"v":44037,"d":"44,037"},{"$f":"IF(t.base[[#This Row],[DIAS DE ATRASO]]=0,0,t.base[[#This Row],[TOTAL]])","v":44037}]
["2017-11-05","MAQ DEPOT S.A.C.","Centro","0001-004837","2017-12-20",83,{"v":12562,"d":"12,562"},{"$f":"IF(t.base[[#This Row],[DIAS DE ATRASO]]=0,0,t.base[[#This Row],[TOTAL]])","v":12562}]
["2017-12-25","CROWN GAMING S.A.C.","Centro","0002-004293","2018-01-09",63,{"v":10707,"d":"10,707"},{"$f":"IF(t.base[[#This Row],[DIAS DE ATRASO]]=0,0,t.base[[#This Row],[TOTAL]])","v":10707}]
["2017-06-27","MHO IMPORT S.A.C.","Centro","0001-002215","2017-09-25",169,{"v":28242,"d":"28,242"},{"$f":"IF(t.base[[#This Row],[DIAS DE ATRASO]]=0,0,t.base[[#This Row],[TOTAL]])","v":28242}]
["2017-12-13","SEGECAL S.R.L.","Centro","0002-004505","2018-03-13",0,{"v":11924,"d":"11,924"},{"$f":"IF(t.base[[#This Row],[DIAS DE ATRASO]]=0,0,t.base[[#This Row],[TOTAL]])","v":0}]
["2018-03-12","PUROCORAZON S.A.C.","Centro","0001-001496","2018-03-12",1,{"v":24500,"d":"24,500"},{"$f":"IF(t.base[[#This Row],[DIAS DE ATRASO]]=0,0,t.base[[#This Row],[TOTAL]])","v":24500}]
["2017-06-17","ALI - MART S.A.C.","Centro","0002-005459","2017-08-16",209,{"v":20094,"d":"20,094"},{"$f":"IF(t.base[[#This Row],[DIAS DE ATRASO]]=0,0,t.base[[#This Row],[TOTAL]])","v":20094}]
["2017-07-04","KARCIL S.A.C","Centro","0001-003547","2017-08-03",222,{"v":29633,"d":"29,633"},{"$f":"IF(t.base[[#This Row],[DIAS DE ATRASO]]=0,0,t.base[[#This Row],[TOTAL]])","v":29633}]
["2017-08-29","LEOPAN E.I.R.L.","Centro","0001-005547","2017-09-28",166,{"v":15793,"d":"15,793"},{"$f":"IF(t.base[[#This Row],[DIAS DE ATRASO]]=0,0,t.base[[#This Row],[TOTAL]])","v":15793}]
["2018-03-05","PERU BOX AIR S.A.C.","Centro","0002-001923","2018-03-05",8,{"v":17802,"d":"17,802"},{"$f":"IF(t.base[[#This Row],[DIAS DE ATRASO]]=0,0,t.base[[#This Row],[TOTAL]])","v":17802}]
["2017-12-13","INTELECTRIC  S.A.C.","Centro","0001-009753","2018-03-13",0,{"v":11314,"d":"11,314"},{"$f":"IF(t.base[[#This Row],[DIAS DE ATRASO]]=0,0,t.base[[#This Row],[TOTAL]])","v":0}]
["2018-02-25","GB ELECTRIC SAC","Centro","0001-004279","2018-03-12",1,{"v":14545,"d":"14,545"},{"$f":"IF(t.base[[#This Row],[DIAS DE ATRASO]]=0,0,t.base[[#This Row],[TOTAL]])","v":14545}]
["2017-12-08","CAIMI PERU S.A.C.","Centro","0002-002424","2017-12-23",80,{"v":13489,"d":"13,489"},{"$f":"IF(t.base[[#This Row],[DIAS DE ATRASO]]=0,0,t.base[[#This Row],[TOTAL]])","v":13489}]
["2017-10-28","REDISCAR E.I.R.L.","Sur","0002-006781","2018-01-26",46,{"v":14564,"d":"14,564"},{"$f":"IF(t.base[[#This Row],[DIAS DE ATRASO]]=0,0,t.base[[#This Row],[TOTAL]])","v":14564}]
["2017-12-13","RUTHY S S.R.LTDA","Centro","0001-004928","2018-03-13",0,{"v":10162,"d":"10,162"},{"$f":"IF(t.base[[#This Row],[DIAS DE ATRASO]]=0,0,t.base[[#This Row],[TOTAL]])","v":0}]
["2017-06-05","CAM DE KAM KEN WAN","Centro","0001-004817","2017-08-04",221,{"v":23778,"d":"23,778"},{"$f":"IF(t.base[[#This Row],[DIAS DE ATRASO]]=0,0,t.base[[#This Row],[TOTAL]])","v":23778}]
["2018-02-11","MEDICAL MED SAC","Centro","0001-007570","2018-03-13",0,{"v":11340,"d":"11,340"},{"$f":"IF(t.base[[#This Row],[DIAS DE ATRASO]]=0,0,t.base[[#This Row],[TOTAL]])","v":0}]
["2017-08-01","TRANSUNION PERU SAC","Centro","0001-005586","2017-09-15",179,{"v":12579,"d":"12,579"},{"$f":"IF(t.base[[#This Row],[DIAS DE ATRASO]]=0,0,t.base[[#This Row],[TOTAL]])","v":12579}]
["2018-02-11","AGROCAUCHO EIRL","Sur","0002-004241","2018-03-13",0,{"v":10669,"d":"10,669"},{"$f":"IF(t.base[[#This Row],[DIAS DE ATRASO]]=0,0,t.base[[#This Row],[TOTAL]])","v":0}]
["2018-02-06","SPRIND S.A.C.","Centro","0001-001020","2018-02-06",35,{"v":17604,"d":"17,604"},{"$f":"IF(t.base[[#This Row],[DIAS DE ATRASO]]=0,0,t.base[[#This Row],[TOTAL]])","v":17604}]
["2017-10-29","GRIFOS AQP S.R.L.","Sur","0002-008464","2017-10-29",135,{"v":8116,"d":"8,116"},{"$f":"IF(t.base[[#This Row],[DIAS DE ATRASO]]=0,0,t.base[[#This Row],[TOTAL]])","v":8116}]
["2018-01-11","SUPER MECANO S.A.C.","Centro","0002-001351","2018-03-12",1,{"v":23811,"d":"23,811"},{"$f":"IF(t.base[[#This Row],[DIAS DE ATRASO]]=0,0,t.base[[#This Row],[TOTAL]])","v":23811}]
["2018-02-26","TROQPA SAC","Centro","0002-009626","2018-03-13",0,{"v":24659,"d":"24,659"},{"$f":"IF(t.base[[#This Row],[DIAS DE ATRASO]]=0,0,t.base[[#This Row],[TOTAL]])","v":0}]
["2017-12-25","COPLASTGROUP S.A.","Centro","0002-003720","2018-01-24",48,{"v":27345,"d":"27,345"},{"$f":"IF(t.base[[#This Row],[DIAS DE ATRASO]]=0,0,t.base[[#This Row],[TOTAL]])","v":27345}]
["2017-09-12","MORE CLASS S.A.C","Centro","0002-007840","2017-11-11",122,{"v":27036,"d":"27,036"},{"$f":"IF(t.base[[#This Row],[DIAS DE ATRASO]]=0,0,t.base[[#This Row],[TOTAL]])","v":27036}]
["2018-02-10","GZM EIRL","Norte","0001-007757","2018-03-12",1,{"v":19072,"d":"19,072"},{"$f":"IF(t.base[[#This Row],[DIAS DE ATRASO]]=0,0,t.base[[#This Row],[TOTAL]])","v":19072}]
["2017-08-30","RIFUSE EIRL","Sur","0001-002476","2017-10-14",150,{"v":16282,"d":"16,282"},{"$f":"IF(t.base[[#This Row],[DIAS DE ATRASO]]=0,0,t.base[[#This Row],[TOTAL]])","v":16282}]
["2018-01-12","DELFINO MAR S.R.L.","Sur","0002-001021","2018-03-13",0,{"v":8786,"d":"8,786"},{"$f":"IF(t.base[[#This Row],[DIAS DE ATRASO]]=0,0,t.base[[#This Row],[TOTAL]])","v":0}]
["2018-03-12","AQP BROKERS S.A.C.","Sur","0001-008194","2018-03-12",1,{"v":37468,"d":"37,468"},{"$f":"IF(t.base[[#This Row],[DIAS DE ATRASO]]=0,0,t.base[[#This Row],[TOTAL]])","v":37468}]
["2017-11-22","TECNO LASER S.A.C.","Centro","0002-009325","2018-01-21",51,{"v":23533,"d":"23,533"},{"$f":"IF(t.base[[#This Row],[DIAS DE ATRASO]]=0,0,t.base[[#This Row],[TOTAL]])","v":23533}]
["2018-02-11","COPY  GRAPH S.A.C.","Centro","0001-004910","2018-03-13",0,{"v":10863,"d":"10,863"},{"$f":"IF(t.base[[#This Row],[DIAS DE ATRASO]]=0,0,t.base[[#This Row],[TOTAL]])","v":0}]
["2017-11-26","ELENA MARKET S.R.L.","Sur","0001-007601","2018-01-25",47,{"v":44883,"d":"44,883"},{"$f":"IF(t.base[[#This Row],[DIAS DE ATRASO]]=0,0,t.base[[#This Row],[TOTAL]])","v":44883}]
["2018-02-26","ZELADA SILVA ANIBAL","Centro","0001-009896","2018-03-13",0,{"v":26401,"d":"26,401"},{"$f":"IF(t.base[[#This Row],[DIAS DE ATRASO]]=0,0,t.base[[#This Row],[TOTAL]])","v":0}]
["2018-02-11","TEXTILAN S.R.LTDA","Sur","0001-005215","2018-03-13",0,{"v":26038,"d":"26,038"},{"$f":"IF(t.base[[#This Row],[DIAS DE ATRASO]]=0,0,t.base[[#This Row],[TOTAL]])","v":0}]
["2018-02-11","MAQ DEPOT S.A.C.","Centro","0001-003755","2018-03-13",0,{"v":13487,"d":"13,487"},{"$f":"IF(t.base[[#This Row],[DIAS DE ATRASO]]=0,0,t.base[[#This Row],[TOTAL]])","v":0}]
["2017-06-29","ASCLEPIO S.A.C.","Centro","0001-008152","2017-08-13",212,{"v":25562,"d":"25,562"},{"$f":"IF(t.base[[#This Row],[DIAS DE ATRASO]]=0,0,t.base[[#This Row],[TOTAL]])","v":25562}]
["2018-02-25","EURO PERUANA S.A.C.","Centro","0002-009376","2018-03-12",1,{"v":23483,"d":"23,483"},{"$f":"IF(t.base[[#This Row],[DIAS DE ATRASO]]=0,0,t.base[[#This Row],[TOTAL]])","v":23483}]
["2018-02-26","ITAPIER S.R.L.","Centro","0002-002311","2018-03-13",0,{"v":23265,"d":"23,265"},{"$f":"IF(t.base[[#This Row],[DIAS DE ATRASO]]=0,0,t.base[[#This Row],[TOTAL]])","v":0}]
["2018-03-13","FUJIN EIRL","Centro","0002-007036","2018-03-13",0,{"v":19418,"d":"19,418"},{"$f":"IF(t.base[[#This Row],[DIAS DE ATRASO]]=0,0,t.base[[#This Row],[TOTAL]])","v":0}]
["2017-11-19","RIE SAKATA E.I.R.L.","Centro","0002-008592","2018-02-17",24,{"v":23097,"d":"23,097"},{"$f":"IF(t.base[[#This Row],[DIAS DE ATRASO]]=0,0,t.base[[#This Row],[TOTAL]])","v":23097}]
["2018-02-11","FRANK MEDICA S.A.C","Centro","0002-008649","2018-03-13",0,{"v":12282,"d":"12,282"},{"$f":"IF(t.base[[#This Row],[DIAS DE ATRASO]]=0,0,t.base[[#This Row],[TOTAL]])","v":0}]
["2017-11-17","WANG - XIAMENG","Centro","0002-002763","2017-12-17",86,{"v":28697,"d":"28,697"},{"$f":"IF(t.base[[#This Row],[DIAS DE ATRASO]]=0,0,t.base[[#This Row],[TOTAL]])","v":28697}]
["2018-01-27","OLRAS SRL.","Norte","0001-004971","2018-03-13",0,{"v":54942,"d":"54,942"},{"$f":"IF(t.base[[#This Row],[DIAS DE ATRASO]]=0,0,t.base[[#This Row],[TOTAL]])","v":0}]
["2017-10-07","LUZ Y COLOR S.A.C.","Centro","0002-001960","2018-01-05",67,{"v":11182,"d":"11,182"},{"$f":"IF(t.base[[#This Row],[DIAS DE ATRASO]]=0,0,t.base[[#This Row],[TOTAL]])","v":11182}]
["2018-02-11","SPORTRADE S.A.C.","Centro","0002-005843","2018-03-13",0,{"v":24120,"d":"24,120"},{"$f":"IF(t.base[[#This Row],[DIAS DE ATRASO]]=0,0,t.base[[#This Row],[TOTAL]])","v":0}]
["2018-03-07","DAVILA RIVERA MARIA","Centro","0001-009210","2018-03-07",6,{"v":21909,"d":"21,909"},{"$f":"IF(t.base[[#This Row],[DIAS DE ATRASO]]=0,0,t.base[[#This Row],[TOTAL]])","v":21909}]
["2017-09-22","YANG HUIXIAN","Centro","0001-007757","2017-11-21",112,{"v":27937,"d":"27,937"},{"$f":"IF(t.base[[#This Row],[DIAS DE ATRASO]]=0,0,t.base[[#This Row],[TOTAL]])","v":27937}]
["2018-02-26","CARGRAPHICS S.A.C.","Centro","0002-005074","2018-03-13",0,{"v":25509,"d":"25,509"},{"$f":"IF(t.base[[#This Row],[DIAS DE ATRASO]]=0,0,t.base[[#This Row],[TOTAL]])","v":0}]
["2018-02-11","OTERO NUÐEZ NESTOR","Centro","0002-004685","2018-03-13",0,{"v":20135,"d":"20,135"},{"$f":"IF(t.base[[#This Row],[DIAS DE ATRASO]]=0,0,t.base[[#This Row],[TOTAL]])","v":0}]
["2018-02-26","SATORI S.A.C.","Centro","0002-003801","2018-03-13",0,{"v":19731,"d":"19,731"},{"$f":"IF(t.base[[#This Row],[DIAS DE ATRASO]]=0,0,t.base[[#This Row],[TOTAL]])","v":0}]
["2018-02-11","GALAXY S R L","Centro","0002-005963","2018-03-13",0,{"v":20400,"d":"20,400"},{"$f":"IF(t.base[[#This Row],[DIAS DE ATRASO]]=0,0,t.base[[#This Row],[TOTAL]])","v":0}]
["2018-03-13","SHAKAVAEL S.R.L.","Norte","0001-009485","2018-03-13",0,{"v":22381,"d":"22,381"},{"$f":"IF(t.base[[#This Row],[DIAS DE ATRASO]]=0,0,t.base[[#This Row],[TOTAL]])","v":0}]
["2017-07-03","MULTIMUELLES S.A.","Centro","0001-001551","2017-07-18",238,{"v":11537,"d":"11,537"},{"$f":"IF(t.base[[#This Row],[DIAS DE ATRASO]]=0,0,t.base[[#This Row],[TOTAL]])","v":11537}]
["2018-01-26","MENESES SAC","Centro","0002-009313","2018-02-10",31,{"v":24807,"d":"24,807"},{"$f":"IF(t.base[[#This Row],[DIAS DE ATRASO]]=0,0,t.base[[#This Row],[TOTAL]])","v":24807}]
["2018-02-14","KEMALU S.A.C.","Centro","0002-004342","2018-03-01",12,{"v":20686,"d":"20,686"},{"$f":"IF(t.base[[#This Row],[DIAS DE ATRASO]]=0,0,t.base[[#This Row],[TOTAL]])","v":20686}]
["2017-11-26","MIKOMI SAC","Centro","0002-005459","2018-01-25",47,{"v":20321,"d":"20,321"},{"$f":"IF(t.base[[#This Row],[DIAS DE ATRASO]]=0,0,t.base[[#This Row],[TOTAL]])","v":20321}]
["2018-01-12","ACEROS JK S.A.C.","Centro","0001-006058","2018-03-13",0,{"v":25119,"d":"25,119"},{"$f":"IF(t.base[[#This Row],[DIAS DE ATRASO]]=0,0,t.base[[#This Row],[TOTAL]])","v":0}]
["2017-11-13","CASTRO NUÐEZ NELSON","Centro","0002-006504","2017-12-28",75,{"v":11538,"d":"11,538"},{"$f":"IF(t.base[[#This Row],[DIAS DE ATRASO]]=0,0,t.base[[#This Row],[TOTAL]])","v":11538}]
["2018-01-27","EFC EXPRESS SAC","Centro","0002-003851","2018-03-13",0,{"v":15467,"d":"15,467"},{"$f":"IF(t.base[[#This Row],[DIAS DE ATRASO]]=0,0,t.base[[#This Row],[TOTAL]])","v":0}]
["2018-02-10","MAYO TAQUIA JOVANA","Centro","0002-003106","2018-03-12",1,{"v":15739,"d":"15,739"},{"$f":"IF(t.base[[#This Row],[DIAS DE ATRASO]]=0,0,t.base[[#This Row],[TOTAL]])","v":15739}]
["2018-01-27","LOPEZ ARIAS MANUEL","Centro","0002-006837","2018-03-13",0,{"v":15980,"d":"15,980"},{"$f":"IF(t.base[[#This Row],[DIAS DE ATRASO]]=0,0,t.base[[#This Row],[TOTAL]])","v":0}]
["2017-07-26","MIYAGUI S.A.C.","Centro","0002-007749","2017-09-09",185,{"v":12444,"d":"12,444"},{"$f":"IF(t.base[[#This Row],[DIAS DE ATRASO]]=0,0,t.base[[#This Row],[TOTAL]])","v":12444}]
["2017-11-14","RADIO ASTORIA S A","Norte","0001-003685","2017-12-14",89,{"v":43856,"d":"43,856"},{"$f":"IF(t.base[[#This Row],[DIAS DE ATRASO]]=0,0,t.base[[#This Row],[TOTAL]])","v":43856}]
["2018-01-26","AGF VULCANO S.R.L.","Centro","0002-006106","2018-03-12",1,{"v":24540,"d":"24,540"},{"$f":"IF(t.base[[#This Row],[DIAS DE ATRASO]]=0,0,t.base[[#This Row],[TOTAL]])","v":24540}]
["2018-01-27","SILFER E.I.R.L.","Norte","0001-008520","2018-02-11",30,{"v":10763,"d":"10,763"},{"$f":"IF(t.base[[#This Row],[DIAS DE ATRASO]]=0,0,t.base[[#This Row],[TOTAL]])","v":10763}]
["2017-12-13","JINSEI SAC","Centro","0002-001628","2018-02-11",30,{"v":26384,"d":"26,384"},{"$f":"IF(t.base[[#This Row],[DIAS DE ATRASO]]=0,0,t.base[[#This Row],[TOTAL]])","v":26384}]
["2018-01-08","WILCAS S.R.L.","Norte","0002-006975","2018-03-09",4,{"v":30032,"d":"30,032"},{"$f":"IF(t.base[[#This Row],[DIAS DE ATRASO]]=0,0,t.base[[#This Row],[TOTAL]])","v":30032}]
["2018-03-13","SAMANTHA S.A.C.","Norte","0002-003712","2018-03-13",0,{"v":42845,"d":"42,845"},{"$f":"IF(t.base[[#This Row],[DIAS DE ATRASO]]=0,0,t.base[[#This Row],[TOTAL]])","v":0}]
["2017-04-24","ILOHOGAR E.I.R.L.","Sur","0002-001196","2017-07-23",233,{"v":40392,"d":"40,392"},{"$f":"IF(t.base[[#This Row],[DIAS DE ATRASO]]=0,0,t.base[[#This Row],[TOTAL]])","v":40392}]
["2018-03-13","RIOS SOLIS ALCIDES","Centro","0001-005362","2018-03-13",0,{"v":19081,"d":"19,081"},{"$f":"IF(t.base[[#This Row],[DIAS DE ATRASO]]=0,0,t.base[[#This Row],[TOTAL]])","v":0}]
["2017-11-12","LUMOGA   E.I.R.L.","Centro","0001-004891","2017-11-27",106,{"v":22605,"d":"22,605"},{"$f":"IF(t.base[[#This Row],[DIAS DE ATRASO]]=0,0,t.base[[#This Row],[TOTAL]])","v":22605}]
["2017-10-31","NEYOR E.I.R.L.","Sur","0002-003567","2017-12-15",88,{"v":12348,"d":"12,348"},{"$f":"IF(t.base[[#This Row],[DIAS DE ATRASO]]=0,0,t.base[[#This Row],[TOTAL]])","v":12348}]
["2018-01-12","YUT WU S.A.C.","Centro","0001-002975","2018-03-13",0,{"v":10305,"d":"10,305"},{"$f":"IF(t.base[[#This Row],[DIAS DE ATRASO]]=0,0,t.base[[#This Row],[TOTAL]])","v":0}]
["2018-03-13","PATIMOVIL SRLTDA","Centro","0002-007235","2018-03-13",0,{"v":16322,"d":"16,322"},{"$f":"IF(t.base[[#This Row],[DIAS DE ATRASO]]=0,0,t.base[[#This Row],[TOTAL]])","v":0}]
["2017-12-13","DISCOFERT SRL","Centro","0002-001709","2018-03-13",0,{"v":13581,"d":"13,581"},{"$f":"IF(t.base[[#This Row],[DIAS DE ATRASO]]=0,0,t.base[[#This Row],[TOTAL]])","v":0}]
["2018-01-27","MULTIVISION S.R.L.","Sur","0001-004415","2018-03-13",0,{"v":47659,"d":"47,659"},{"$f":"IF(t.base[[#This Row],[DIAS DE ATRASO]]=0,0,t.base[[#This Row],[TOTAL]])","v":0}]
["2017-11-29","CUEROS R SAC","Norte","0001-007242","2018-01-13",59,{"v":59316,"d":"59,316"},{"$f":"IF(t.base[[#This Row],[DIAS DE ATRASO]]=0,0,t.base[[#This Row],[TOTAL]])","v":59316}]
["2018-01-27","COPA S A","Centro","0002-003934","2018-03-13",0,{"v":28252,"d":"28,252"},{"$f":"IF(t.base[[#This Row],[DIAS DE ATRASO]]=0,0,t.base[[#This Row],[TOTAL]])","v":0}]
["2018-02-11","MAYO TAQUIA JOVANA","Centro","0002-007112","2018-03-13",0,{"v":27686,"d":"27,686"},{"$f":"IF(t.base[[#This Row],[DIAS DE ATRASO]]=0,0,t.base[[#This Row],[TOTAL]])","v":0}]
["2018-03-13","TECSE MUYOC","Sur","0001-008999","2018-03-13",0,{"v":38799,"d":"38,799"},{"$f":"IF(t.base[[#This Row],[DIAS DE ATRASO]]=0,0,t.base[[#This Row],[TOTAL]])","v":0}]
["2017-12-12","POLYTEX S.A.","Centro","0002-004960","2018-03-12",1,{"v":26300,"d":"26,300"},{"$f":"IF(t.base[[#This Row],[DIAS DE ATRASO]]=0,0,t.base[[#This Row],[TOTAL]])","v":26300}]
["2017-12-13","SAMMYTEC S.A.","Centro","0001-005654","2018-03-13",0,{"v":23181,"d":"23,181"},{"$f":"IF(t.base[[#This Row],[DIAS DE ATRASO]]=0,0,t.base[[#This Row],[TOTAL]])","v":0}]
["2018-01-12","YANG HUIXIAN","Centro","0001-001984","2018-03-13",0,{"v":14287,"d":"14,287"},{"$f":"IF(t.base[[#This Row],[DIAS DE ATRASO]]=0,0,t.base[[#This Row],[TOTAL]])","v":0}]
["2017-09-24","SILVA RIVERA HAYDEE","Centro","0001-006114","2017-12-23",80,{"v":13577,"d":"13,577"},{"$f":"IF(t.base[[#This Row],[DIAS DE ATRASO]]=0,0,t.base[[#This Row],[TOTAL]])","v":13577}]
["2017-08-06","JAR DECO EIRL","Centro","0002-007061","2017-08-06",219,{"v":21021,"d":"21,021"},{"$f":"IF(t.base[[#This Row],[DIAS DE ATRASO]]=0,0,t.base[[#This Row],[TOTAL]])","v":21021}]
["2018-03-13","LAURA PARI ALIPIO","Centro","0001-003243","2018-03-13",0,{"v":21187,"d":"21,187"},{"$f":"IF(t.base[[#This Row],[DIAS DE ATRASO]]=0,0,t.base[[#This Row],[TOTAL]])","v":0}]
["2018-02-26","B. CHANG E.I.R.L.","Sur","0001-002496","2018-03-13",0,{"v":12920,"d":"12,920"},{"$f":"IF(t.base[[#This Row],[DIAS DE ATRASO]]=0,0,t.base[[#This Row],[TOTAL]])","v":0}]
["2017-12-13","LIAO GUO WEI","Centro","0001-002649","2018-03-13",0,{"v":20051,"d":"20,051"},{"$f":"IF(t.base[[#This Row],[DIAS DE ATRASO]]=0,0,t.base[[#This Row],[TOTAL]])","v":0}]
["2018-02-26","SERVITEC S A","Centro","0001-004034","2018-03-13",0,{"v":17458,"d":"17,458"},{"$f":"IF(t.base[[#This Row],[DIAS DE ATRASO]]=0,0,t.base[[#This Row],[TOTAL]])","v":0}]
["2018-01-26","KOIMED S.A.C.","Centro","0002-004661","2018-03-12",1,{"v":13324,"d":"13,324"},{"$f":"IF(t.base[[#This Row],[DIAS DE ATRASO]]=0,0,t.base[[#This Row],[TOTAL]])","v":13324}]
["2017-10-10","KYODAI PERU S.A.C.","Centro","0002-005980","2017-11-24",109,{"v":18737,"d":"18,737"},{"$f":"IF(t.base[[#This Row],[DIAS DE ATRASO]]=0,0,t.base[[#This Row],[TOTAL]])","v":18737}]
["2018-02-11","TOUS PERU S.A.C.","Centro","0001-008843","2018-03-13",0,{"v":29199,"d":"29,199"},{"$f":"IF(t.base[[#This Row],[DIAS DE ATRASO]]=0,0,t.base[[#This Row],[TOTAL]])","v":0}]
["2018-01-27","ASTRIB S.A.C.","Centro","0002-007960","2018-03-13",0,{"v":24451,"d":"24,451"},{"$f":"IF(t.base[[#This Row],[DIAS DE ATRASO]]=0,0,t.base[[#This Row],[TOTAL]])","v":0}]
["2018-02-11","LMS MENAGE S.A.C.","Centro","0001-003045","2018-03-13",0,{"v":13164,"d":"13,164"},{"$f":"IF(t.base[[#This Row],[DIAS DE ATRASO]]=0,0,t.base[[#This Row],[TOTAL]])","v":0}]
["2018-02-11","RIVERA COSME CAYO","Centro","0001-003421","2018-03-13",0,{"v":29280,"d":"29,280"},{"$f":"IF(t.base[[#This Row],[DIAS DE ATRASO]]=0,0,t.base[[#This Row],[TOTAL]])","v":0}]
["2017-11-30","PEREZ RUBIO IRENE","Centro","0002-003665","2017-12-30",73,{"v":22936,"d":"22,936"},{"$f":"IF(t.base[[#This Row],[DIAS DE ATRASO]]=0,0,t.base[[#This Row],[TOTAL]])","v":22936}]
["2018-01-26","DOLLAR GROUP SA","Centro","0001-009998","2018-01-26",46,{"v":27586,"d":"27,586"},{"$f":"IF(t.base[[#This Row],[DIAS DE ATRASO]]=0,0,t.base[[#This Row],[TOTAL]])","v":27586}]
["2017-12-10","EURO PERUANA S.A.C.","Centro","0001-006321","2018-02-08",33,{"v":20402,"d":"20,402"},{"$f":"IF(t.base[[#This Row],[DIAS DE ATRASO]]=0,0,t.base[[#This Row],[TOTAL]])","v":20402}]
["2018-01-27","AGROCAUCHO EIRL","Sur","0001-007030","2018-03-13",0,{"v":23330,"d":"23,330"},{"$f":"IF(t.base[[#This Row],[DIAS DE ATRASO]]=0,0,t.base[[#This Row],[TOTAL]])","v":0}]
["2017-12-12","COPA S A","Centro","0002-005121","2018-03-12",1,{"v":28885,"d":"28,885"},{"$f":"IF(t.base[[#This Row],[DIAS DE ATRASO]]=0,0,t.base[[#This Row],[TOTAL]])","v":28885}]
["2018-03-13","MIKOMI SAC","Centro","0002-001591","2018-03-13",0,{"v":20719,"d":"20,719"},{"$f":"IF(t.base[[#This Row],[DIAS DE ATRASO]]=0,0,t.base[[#This Row],[TOTAL]])","v":0}]
["2018-01-27","SOBITEC PERU S.A.C.","Centro","0002-009223","2018-03-13",0,{"v":16716,"d":"16,716"},{"$f":"IF(t.base[[#This Row],[DIAS DE ATRASO]]=0,0,t.base[[#This Row],[TOTAL]])","v":0}]
["2018-01-14","FOSAM S.A.C.","Centro","0001-002810","2018-01-14",58,{"v":18065,"d":"18,065"},{"$f":"IF(t.base[[#This Row],[DIAS DE ATRASO]]=0,0,t.base[[#This Row],[TOTAL]])","v":18065}]
["2018-02-11","MANBREN S.A.","Centro","0001-002492","2018-03-13",0,{"v":17057,"d":"17,057"},{"$f":"IF(t.base[[#This Row],[DIAS DE ATRASO]]=0,0,t.base[[#This Row],[TOTAL]])","v":0}]
["2017-12-13","ARPE EIRL","Norte","0002-004363","2018-03-13",0,{"v":17974,"d":"17,974"},{"$f":"IF(t.base[[#This Row],[DIAS DE ATRASO]]=0,0,t.base[[#This Row],[TOTAL]])","v":0}]
["2018-03-13","CORTES ROMAN NAHUM","Centro","0001-004090","2018-03-13",0,{"v":19188,"d":"19,188"},{"$f":"IF(t.base[[#This Row],[DIAS DE ATRASO]]=0,0,t.base[[#This Row],[TOTAL]])","v":0}]
["2018-01-09","SURTIDORES S.A.C.","Centro","0001-001417","2018-02-08",33,{"v":25912,"d":"25,912"},{"$f":"IF(t.base[[#This Row],[DIAS DE ATRASO]]=0,0,t.base[[#This Row],[TOTAL]])","v":25912}]
["2017-10-22","ALI & CIA S.A.C","Norte","0002-001745","2018-01-20",52,{"v":44663,"d":"44,663"},{"$f":"IF(t.base[[#This Row],[DIAS DE ATRASO]]=0,0,t.base[[#This Row],[TOTAL]])","v":44663}]
["2017-12-24","DREAM POWER S.A.C.","Centro","0001-006016","2018-01-23",49,{"v":10384,"d":"10,384"},{"$f":"IF(t.base[[#This Row],[DIAS DE ATRASO]]=0,0,t.base[[#This Row],[TOTAL]])","v":10384}]
["2017-11-09","GHL INVERSIONES SA","Centro","0001-008342","2017-12-09",94,{"v":28336,"d":"28,336"},{"$f":"IF(t.base[[#This Row],[DIAS DE ATRASO]]=0,0,t.base[[#This Row],[TOTAL]])","v":28336}]
["2017-10-19","CALIGAS S.R.L.","Centro","0002-009134","2017-11-03",130,{"v":28032,"d":"28,032"},{"$f":"IF(t.base[[#This Row],[DIAS DE ATRASO]]=0,0,t.base[[#This Row],[TOTAL]])","v":28032}]
["2017-11-07","JARRO ROJAS AMADOR","Centro","0002-007462","2018-01-06",66,{"v":11397,"d":"11,397"},{"$f":"IF(t.base[[#This Row],[DIAS DE ATRASO]]=0,0,t.base[[#This Row],[TOTAL]])","v":11397}]
["2017-08-02","KEMALU S.A.C.","Centro","0002-009758","2017-09-16",178,{"v":11193,"d":"11,193"},{"$f":"IF(t.base[[#This Row],[DIAS DE ATRASO]]=0,0,t.base[[#This Row],[TOTAL]])","v":11193}]
["2018-02-26","ALDI S.A.C.","Sur","0001-005926","2018-03-13",0,{"v":10907,"d":"10,907"},{"$f":"IF(t.base[[#This Row],[DIAS DE ATRASO]]=0,0,t.base[[#This Row],[TOTAL]])","v":0}]
["2018-03-13","SAMANTHA S.A.C.","Norte","0001-005656","2018-03-13",0,{"v":30187,"d":"30,187"},{"$f":"IF(t.base[[#This Row],[DIAS DE ATRASO]]=0,0,t.base[[#This Row],[TOTAL]])","v":0}]
["2017-11-29","SLENDER SAC","Centro","0001-008784","2017-12-14",89,{"v":18519,"d":"18,519"},{"$f":"IF(t.base[[#This Row],[DIAS DE ATRASO]]=0,0,t.base[[#This Row],[TOTAL]])","v":18519}]
["2018-01-12","SALCOM S.A.C.","Centro","0001-008720","2018-03-13",0,{"v":18606,"d":"18,606"},{"$f":"IF(t.base[[#This Row],[DIAS DE ATRASO]]=0,0,t.base[[#This Row],[TOTAL]])","v":0}]
["2018-03-13","LIU LING XIANG EIRL","Centro","0001-002646","2018-03-13",0,{"v":11496,"d":"11,496"},{"$f":"IF(t.base[[#This Row],[DIAS DE ATRASO]]=0,0,t.base[[#This Row],[TOTAL]])","v":0}]
["2018-01-27","CONTRACTORS SAC","Centro","0002-001463","2018-03-13",0,{"v":23319,"d":"23,319"},{"$f":"IF(t.base[[#This Row],[DIAS DE ATRASO]]=0,0,t.base[[#This Row],[TOTAL]])","v":0}]
["2018-03-13","AQUINO PEREZ RONEL","Centro","0002-009173","2018-03-13",0,{"v":14723,"d":"14,723"},{"$f":"IF(t.base[[#This Row],[DIAS DE ATRASO]]=0,0,t.base[[#This Row],[TOTAL]])","v":0}]
["2017-12-23","PMS PERU S.A.C.","Centro","0001-001669","2018-01-22",50,{"v":13494,"d":"13,494"},{"$f":"IF(t.base[[#This Row],[DIAS DE ATRASO]]=0,0,t.base[[#This Row],[TOTAL]])","v":13494}]
["2018-01-27","CUEROS R SAC","Norte","0001-002568","2018-03-13",0,{"v":42056,"d":"42,056"},{"$f":"IF(t.base[[#This Row],[DIAS DE ATRASO]]=0,0,t.base[[#This Row],[TOTAL]])","v":0}]
["2017-12-25","ICM CONSULTING SAC","Centro","0002-007602","2017-12-25",78,{"v":15996,"d":"15,996"},{"$f":"IF(t.base[[#This Row],[DIAS DE ATRASO]]=0,0,t.base[[#This Row],[TOTAL]])","v":15996}]
["2018-02-10","REDISCAR E.I.R.L.","Sur","0002-003863","2018-03-12",1,{"v":31140,"d":"31,140"},{"$f":"IF(t.base[[#This Row],[DIAS DE ATRASO]]=0,0,t.base[[#This Row],[TOTAL]])","v":31140}]
["2018-02-26","HOJA GRANDE S.A.C.","Norte","0002-007562","2018-03-13",0,{"v":55005,"d":"55,005"},{"$f":"IF(t.base[[#This Row],[DIAS DE ATRASO]]=0,0,t.base[[#This Row],[TOTAL]])","v":0}]
["2018-03-13","TONG WONG MU CHIN","Centro","0001-001959","2018-03-13",0,{"v":15694,"d":"15,694"},{"$f":"IF(t.base[[#This Row],[DIAS DE ATRASO]]=0,0,t.base[[#This Row],[TOTAL]])","v":0}]
["2018-01-27","GOLD TEXTIL S.A.C.","Centro","0002-003480","2018-03-13",0,{"v":10836,"d":"10,836"},{"$f":"IF(t.base[[#This Row],[DIAS DE ATRASO]]=0,0,t.base[[#This Row],[TOTAL]])","v":0}]
["2017-12-13","J & W CIA S.A.","Centro","0002-007880","2018-03-13",0,{"v":25910,"d":"25,910"},{"$f":"IF(t.base[[#This Row],[DIAS DE ATRASO]]=0,0,t.base[[#This Row],[TOTAL]])","v":0}]
["2017-11-12","VYLDTECO S R L","Centro","0001-006260","2018-01-11",61,{"v":13495,"d":"13,495"},{"$f":"IF(t.base[[#This Row],[DIAS DE ATRASO]]=0,0,t.base[[#This Row],[TOTAL]])","v":13495}]
["2017-11-23","METALAB S.A.C.","Centro","0001-006072","2018-02-21",20,{"v":29042,"d":"29,042"},{"$f":"IF(t.base[[#This Row],[DIAS DE ATRASO]]=0,0,t.base[[#This Row],[TOTAL]])","v":29042}]
["2018-03-13","TRAUMATOLOGIA S.A.","Centro","0001-001309","2018-03-13",0,{"v":29398,"d":"29,398"},{"$f":"IF(t.base[[#This Row],[DIAS DE ATRASO]]=0,0,t.base[[#This Row],[TOTAL]])","v":0}]
["2018-02-11","LOPEZ DURAND ISAAC","Centro","0001-003769","2018-03-13",0,{"v":20142,"d":"20,142"},{"$f":"IF(t.base[[#This Row],[DIAS DE ATRASO]]=0,0,t.base[[#This Row],[TOTAL]])","v":0}]
["2017-11-21","CLAS ZAMACOLA","Sur","0001-001666","2018-02-19",22,{"v":32009,"d":"32,009"},{"$f":"IF(t.base[[#This Row],[DIAS DE ATRASO]]=0,0,t.base[[#This Row],[TOTAL]])","v":32009}]
["2017-12-01","CARGRAPHICS S.A.C.","Centro","0002-005777","2018-03-01",12,{"v":19225,"d":"19,225"},{"$f":"IF(t.base[[#This Row],[DIAS DE ATRASO]]=0,0,t.base[[#This Row],[TOTAL]])","v":19225}]
["2018-01-12","REYES HUANCA GIL","Centro","0002-004709","2018-03-13",0,{"v":11041,"d":"11,041"},{"$f":"IF(t.base[[#This Row],[DIAS DE ATRASO]]=0,0,t.base[[#This Row],[TOTAL]])","v":0}]
["2018-01-19","GRUPO VASQUEZ SAC","Centro","0002-004180","2018-03-05",8,{"v":27316,"d":"27,316"},{"$f":"IF(t.base[[#This Row],[DIAS DE ATRASO]]=0,0,t.base[[#This Row],[TOTAL]])","v":27316}]
["2018-02-11","TOP MODEL S.A.C","Norte","0001-008768","2018-03-13",0,{"v":45156,"d":"45,156"},{"$f":"IF(t.base[[#This Row],[DIAS DE ATRASO]]=0,0,t.base[[#This Row],[TOTAL]])","v":0}]
["2018-01-27","LIMBERT E.I.R.L.","Sur","0001-008153","2018-03-13",0,{"v":24409,"d":"24,409"},{"$f":"IF(t.base[[#This Row],[DIAS DE ATRASO]]=0,0,t.base[[#This Row],[TOTAL]])","v":0}]
["2018-01-11","CYPRESS PERU S.A.C.","Centro","0001-004959","2018-03-12",1,{"v":27100,"d":"27,100"},{"$f":"IF(t.base[[#This Row],[DIAS DE ATRASO]]=0,0,t.base[[#This Row],[TOTAL]])","v":27100}]
["2017-11-22","TAPIPLASTIC  S.A.C.","Norte","0001-006243","2018-01-06",66,{"v":65504,"d":"65,504"},{"$f":"IF(t.base[[#This Row],[DIAS DE ATRASO]]=0,0,t.base[[#This Row],[TOTAL]])","v":65504}]
["2017-11-05","BODEGA OJEDA","Norte","0002-003863","2018-01-04",68,{"v":17681,"d":"17,681"},{"$f":"IF(t.base[[#This Row],[DIAS DE ATRASO]]=0,0,t.base[[#This Row],[TOTAL]])","v":17681}]
["2017-12-10","CLAS CAYLLOMA ALTA","Sur","0002-001525","2018-02-08",33,{"v":31036,"d":"31,036"},{"$f":"IF(t.base[[#This Row],[DIAS DE ATRASO]]=0,0,t.base[[#This Row],[TOTAL]])","v":31036}]
["2017-12-14","OFITECC S.A.C.","Norte","0002-009270","2017-12-14",89,{"v":59812,"d":"59,812"},{"$f":"IF(t.base[[#This Row],[DIAS DE ATRASO]]=0,0,t.base[[#This Row],[TOTAL]])","v":59812}]
["2018-02-11","RV CONSULTORES SAC","Centro","0002-003672","2018-03-13",0,{"v":23455,"d":"23,455"},{"$f":"IF(t.base[[#This Row],[DIAS DE ATRASO]]=0,0,t.base[[#This Row],[TOTAL]])","v":0}]
["2017-12-13","GRUPO GXM E.I.R.L.","Sur","0001-002593","2018-03-13",0,{"v":49044,"d":"49,044"},{"$f":"IF(t.base[[#This Row],[DIAS DE ATRASO]]=0,0,t.base[[#This Row],[TOTAL]])","v":0}]
["2018-02-11","HACEB DEL PERU S.A.","Centro","0001-005087","2018-03-13",0,{"v":25408,"d":"25,408"},{"$f":"IF(t.base[[#This Row],[DIAS DE ATRASO]]=0,0,t.base[[#This Row],[TOTAL]])","v":0}]
["2017-12-13","2M SERVICIOS S.A.C.","Sur","0001-008182","2018-03-13",0,{"v":14496,"d":"14,496"},{"$f":"IF(t.base[[#This Row],[DIAS DE ATRASO]]=0,0,t.base[[#This Row],[TOTAL]])","v":0}]
["2018-02-11","REDIJUA S.R.L.","Sur","0002-002558","2018-03-13",0,{"v":12935,"d":"12,935"},{"$f":"IF(t.base[[#This Row],[DIAS DE ATRASO]]=0,0,t.base[[#This Row],[TOTAL]])","v":0}]
["2017-10-09","TANG KONG FU","Centro","0002-003303","2017-12-08",95,{"v":20609,"d":"20,609"},{"$f":"IF(t.base[[#This Row],[DIAS DE ATRASO]]=0,0,t.base[[#This Row],[TOTAL]])","v":20609}]
["2017-12-24","CODYGOZ S.A.C.","Centro","0001-008479","2018-01-23",49,{"v":13021,"d":"13,021"},{"$f":"IF(t.base[[#This Row],[DIAS DE ATRASO]]=0,0,t.base[[#This Row],[TOTAL]])","v":13021}]
["2018-03-12","FUMIGUERRA EIRL","Centro","0002-007545","2018-03-12",1,{"v":21572,"d":"21,572"},{"$f":"IF(t.base[[#This Row],[DIAS DE ATRASO]]=0,0,t.base[[#This Row],[TOTAL]])","v":21572}]
["2018-03-12","EFC EXPRESS SAC","Centro","0002-006555","2018-03-12",1,{"v":17325,"d":"17,325"},{"$f":"IF(t.base[[#This Row],[DIAS DE ATRASO]]=0,0,t.base[[#This Row],[TOTAL]])","v":17325}]
["2018-02-11","REYAL SRLTDA","Centro","0002-002464","2018-03-13",0,{"v":11523,"d":"11,523"},{"$f":"IF(t.base[[#This Row],[DIAS DE ATRASO]]=0,0,t.base[[#This Row],[TOTAL]])","v":0}]
["2018-03-13","METRICO E.I.R.L.","Centro","0001-005760","2018-03-13",0,{"v":19514,"d":"19,514"},{"$f":"IF(t.base[[#This Row],[DIAS DE ATRASO]]=0,0,t.base[[#This Row],[TOTAL]])","v":0}]
["2017-12-12","SERVICON S.A.C.","Norte","0002-005334","2018-03-12",1,{"v":43528,"d":"43,528"},{"$f":"IF(t.base[[#This Row],[DIAS DE ATRASO]]=0,0,t.base[[#This Row],[TOTAL]])","v":43528}]
["2017-12-13","JIANG JINGYI","Centro","0001-007933","2018-03-13",0,{"v":21329,"d":"21,329"},{"$f":"IF(t.base[[#This Row],[DIAS DE ATRASO]]=0,0,t.base[[#This Row],[TOTAL]])","v":0}]
["2017-12-02","PAR OFFICE SAC","Centro","0001-002862","2018-01-31",41,{"v":18017,"d":"18,017"},{"$f":"IF(t.base[[#This Row],[DIAS DE ATRASO]]=0,0,t.base[[#This Row],[TOTAL]])","v":18017}]
["2018-01-11","BRANAT E.I.R.L.","Centro","0001-003964","2018-03-12",1,{"v":13412,"d":"13,412"},{"$f":"IF(t.base[[#This Row],[DIAS DE ATRASO]]=0,0,t.base[[#This Row],[TOTAL]])","v":13412}]
["2017-09-26","RV COMPUTER S.A.C.","Centro","0002-006556","2017-12-25",78,{"v":16256,"d":"16,256"},{"$f":"IF(t.base[[#This Row],[DIAS DE ATRASO]]=0,0,t.base[[#This Row],[TOTAL]])","v":16256}]
["2018-01-12","PORCELL  S.A.C.","Centro","0002-002343","2018-03-13",0,{"v":11473,"d":"11,473"},{"$f":"IF(t.base[[#This Row],[DIAS DE ATRASO]]=0,0,t.base[[#This Row],[TOTAL]])","v":0}]
["2017-12-13","SEGUNDO POSHA SOFIA","Centro","0001-006866","2018-03-13",0,{"v":27967,"d":"27,967"},{"$f":"IF(t.base[[#This Row],[DIAS DE ATRASO]]=0,0,t.base[[#This Row],[TOTAL]])","v":0}]
["2017-12-13","PASTAGIORNO E.I.R.L","Centro","0001-003634","2018-03-13",0,{"v":16211,"d":"16,211"},{"$f":"IF(t.base[[#This Row],[DIAS DE ATRASO]]=0,0,t.base[[#This Row],[TOTAL]])","v":0}]
["2018-01-27","MAQUERA RAMOS IRMA","Centro","0001-001009","2018-03-13",0,{"v":25372,"d":"25,372"},{"$f":"IF(t.base[[#This Row],[DIAS DE ATRASO]]=0,0,t.base[[#This Row],[TOTAL]])","v":0}]
["2018-01-27","JOYAS ANTHONY EIRL","Centro","0002-003165","2018-03-13",0,{"v":22741,"d":"22,741"},{"$f":"IF(t.base[[#This Row],[DIAS DE ATRASO]]=0,0,t.base[[#This Row],[TOTAL]])","v":0}]
["2017-09-22","XSTRATA PERU S.A","Centro","0002-005042","2017-11-21",112,{"v":22896,"d":"22,896"},{"$f":"IF(t.base[[#This Row],[DIAS DE ATRASO]]=0,0,t.base[[#This Row],[TOTAL]])","v":22896}]
["2017-06-15","XIN HUI SAC","Centro","0002-005222","2017-09-13",181,{"v":11813,"d":"11,813"},{"$f":"IF(t.base[[#This Row],[DIAS DE ATRASO]]=0,0,t.base[[#This Row],[TOTAL]])","v":11813}]
["2017-11-22","C & F PRINTS S.A.C.","Centro","0002-004714","2018-01-21",51,{"v":18247,"d":"18,247"},{"$f":"IF(t.base[[#This Row],[DIAS DE ATRASO]]=0,0,t.base[[#This Row],[TOTAL]])","v":18247}]
["2018-01-12","LIDER GAS E.I.R.L.","Centro","0001-002033","2018-03-13",0,{"v":26254,"d":"26,254"},{"$f":"IF(t.base[[#This Row],[DIAS DE ATRASO]]=0,0,t.base[[#This Row],[TOTAL]])","v":0}]
["2018-03-13","COLOR Y BELLEZA SAC","Norte","0001-007822","2018-03-13",0,{"v":51782,"d":"51,782"},{"$f":"IF(t.base[[#This Row],[DIAS DE ATRASO]]=0,0,t.base[[#This Row],[TOTAL]])","v":0}]
["2017-11-25","BEPERU S.A.C.","Centro","0001-001047","2018-01-24",48,{"v":22871,"d":"22,871"},{"$f":"IF(t.base[[#This Row],[DIAS DE ATRASO]]=0,0,t.base[[#This Row],[TOTAL]])","v":22871}]
["2018-03-13","CIGREN PERU S.A.C.","Centro","0002-001391","2018-03-13",0,{"v":14960,"d":"14,960"},{"$f":"IF(t.base[[#This Row],[DIAS DE ATRASO]]=0,0,t.base[[#This Row],[TOTAL]])","v":0}]
["2017-12-13","TEXPLAS S.A.C.","Centro","0001-006429","2018-03-13",0,{"v":18439,"d":"18,439"},{"$f":"IF(t.base[[#This Row],[DIAS DE ATRASO]]=0,0,t.base[[#This Row],[TOTAL]])","v":0}]
["2018-02-11","MARINAS GUZMAN JOSE","Centro","0001-007252","2018-03-13",0,{"v":12043,"d":"12,043"},{"$f":"IF(t.base[[#This Row],[DIAS DE ATRASO]]=0,0,t.base[[#This Row],[TOTAL]])","v":0}]
["2018-01-27","OPTICAS JVQ  S.A.C.","Centro","0002-003058","2018-03-13",0,{"v":21302,"d":"21,302"},{"$f":"IF(t.base[[#This Row],[DIAS DE ATRASO]]=0,0,t.base[[#This Row],[TOTAL]])","v":0}]
["2018-02-11","REDITEC E.I.R.L.","Sur","0002-002251","2018-03-13",0,{"v":9005,"d":"9,005"},{"$f":"IF(t.base[[#This Row],[DIAS DE ATRASO]]=0,0,t.base[[#This Row],[TOTAL]])","v":0}]
["2018-02-10","HONGYING ZHOU","Centro","0001-007666","2018-03-12",1,{"v":13121,"d":"13,121"},{"$f":"IF(t.base[[#This Row],[DIAS DE ATRASO]]=0,0,t.base[[#This Row],[TOTAL]])","v":13121}]
["2018-02-11","CUBO MAGICO S.A.C.","Centro","0001-003470","2018-03-13",0,{"v":18052,"d":"18,052"},{"$f":"IF(t.base[[#This Row],[DIAS DE ATRASO]]=0,0,t.base[[#This Row],[TOTAL]])","v":0}]
["2017-11-04","COMERCIAL LIVCI SAC","Centro","0002-008326","2017-12-19",84,{"v":17243,"d":"17,243"},{"$f":"IF(t.base[[#This Row],[DIAS DE ATRASO]]=0,0,t.base[[#This Row],[TOTAL]])","v":17243}]
["2017-12-12","MAQPOL S.A.C.","Centro","0002-007981","2018-03-12",1,{"v":11580,"d":"11,580"},{"$f":"IF(t.base[[#This Row],[DIAS DE ATRASO]]=0,0,t.base[[#This Row],[TOTAL]])","v":11580}]
["2017-10-24","NAYMLAP INN S.A.C","Centro","0001-006352","2017-12-23",80,{"v":27093,"d":"27,093"},{"$f":"IF(t.base[[#This Row],[DIAS DE ATRASO]]=0,0,t.base[[#This Row],[TOTAL]])","v":27093}]
["2017-11-25","VIRGO PERU SAC","Centro","0001-005518","2017-12-25",78,{"v":26601,"d":"26,601"},{"$f":"IF(t.base[[#This Row],[DIAS DE ATRASO]]=0,0,t.base[[#This Row],[TOTAL]])","v":26601}]
["2018-02-10","RUIZ VEGA ROBINSON","Centro","0002-007332","2018-03-12",1,{"v":23794,"d":"23,794"},{"$f":"IF(t.base[[#This Row],[DIAS DE ATRASO]]=0,0,t.base[[#This Row],[TOTAL]])","v":23794}]
["2017-04-29","ENCANTADA E.I.R.L.","Centro","0002-008348","2017-07-28",228,{"v":16511,"d":"16,511"},{"$f":"IF(t.base[[#This Row],[DIAS DE ATRASO]]=0,0,t.base[[#This Row],[TOTAL]])","v":16511}]
["2018-02-26","PUROCORAZON S.A.C.","Centro","0001-007278","2018-03-13",0,{"v":24030,"d":"24,030"},{"$f":"IF(t.base[[#This Row],[DIAS DE ATRASO]]=0,0,t.base[[#This Row],[TOTAL]])","v":0}]
["2017-08-20","FARMA OBLEA SAC","Centro","0001-008160","2017-11-18",115,{"v":26386,"d":"26,386"},{"$f":"IF(t.base[[#This Row],[DIAS DE ATRASO]]=0,0,t.base[[#This Row],[TOTAL]])","v":26386}]
["2018-01-12","ALCANZANDO","Centro","0002-006087","2018-03-13",0,{"v":19518,"d":"19,518"},{"$f":"IF(t.base[[#This Row],[DIAS DE ATRASO]]=0,0,t.base[[#This Row],[TOTAL]])","v":0}]
["2017-12-03","COPY  GRAPH S.A.C.","Centro","0002-005345","2018-01-02",70,{"v":27047,"d":"27,047"},{"$f":"IF(t.base[[#This Row],[DIAS DE ATRASO]]=0,0,t.base[[#This Row],[TOTAL]])","v":27047}]
["2017-12-13","REGALOS BENJI SAC","Centro","0001-007539","2018-03-13",0,{"v":18481,"d":"18,481"},{"$f":"IF(t.base[[#This Row],[DIAS DE ATRASO]]=0,0,t.base[[#This Row],[TOTAL]])","v":0}]
["2017-12-12","LYON SPORT EIRL","Sur","0001-003359","2018-01-11",61,{"v":42036,"d":"42,036"},{"$f":"IF(t.base[[#This Row],[DIAS DE ATRASO]]=0,0,t.base[[#This Row],[TOTAL]])","v":42036}]
["2018-02-26","SUPERPRINT S.A.C.","Centro","0001-003144","2018-03-13",0,{"v":19229,"d":"19,229"},{"$f":"IF(t.base[[#This Row],[DIAS DE ATRASO]]=0,0,t.base[[#This Row],[TOTAL]])","v":0}]
["2018-01-27","MEDROA SOTO ORBAL","Norte","0002-004082","2018-03-13",0,{"v":14252,"d":"14,252"},{"$f":"IF(t.base[[#This Row],[DIAS DE ATRASO]]=0,0,t.base[[#This Row],[TOTAL]])","v":0}]
["2018-01-27","SEIKATSU  SAC","Centro","0002-006112","2018-02-11",30,{"v":17426,"d":"17,426"},{"$f":"IF(t.base[[#This Row],[DIAS DE ATRASO]]=0,0,t.base[[#This Row],[TOTAL]])","v":17426}]
["2018-01-12","REYAL SRLTDA","Centro","0001-003934","2018-03-13",0,{"v":25331,"d":"25,331"},{"$f":"IF(t.base[[#This Row],[DIAS DE ATRASO]]=0,0,t.base[[#This Row],[TOTAL]])","v":0}]
["2017-11-29","TOP CENTER E.I.R.L.","Sur","0001-001125","2018-01-13",59,{"v":47858,"d":"47,858"},{"$f":"IF(t.base[[#This Row],[DIAS DE ATRASO]]=0,0,t.base[[#This Row],[TOTAL]])","v":47858}]
["2017-12-17","NAYMLAP INN S.A.C","Centro","0002-006843","2018-02-15",26,{"v":24209,"d":"24,209"},{"$f":"IF(t.base[[#This Row],[DIAS DE ATRASO]]=0,0,t.base[[#This Row],[TOTAL]])","v":24209}]
["2017-11-22","MI CASA JNC S.A.C.","Centro","0001-005273","2017-12-22",81,{"v":29684,"d":"29,684"},{"$f":"IF(t.base[[#This Row],[DIAS DE ATRASO]]=0,0,t.base[[#This Row],[TOTAL]])","v":29684}]
["2018-02-25","REHOBOT PC E.I.R.L.","Centro","0001-001141","2018-03-12",1,{"v":19936,"d":"19,936"},{"$f":"IF(t.base[[#This Row],[DIAS DE ATRASO]]=0,0,t.base[[#This Row],[TOTAL]])","v":19936}]
["2018-02-16","LOZANO IMPORT SAC.","Norte","0002-005081","2018-03-03",10,{"v":43392,"d":"43,392"},{"$f":"IF(t.base[[#This Row],[DIAS DE ATRASO]]=0,0,t.base[[#This Row],[TOTAL]])","v":43392}]
["2017-12-13","AGRORETAIL  S.A.C.","Centro","0001-001020","2018-03-13",0,{"v":26015,"d":"26,015"},{"$f":"IF(t.base[[#This Row],[DIAS DE ATRASO]]=0,0,t.base[[#This Row],[TOTAL]])","v":0}]
["2018-02-26","TONG WONG MU CHIN","Centro","0001-008500","2018-03-13",0,{"v":29862,"d":"29,862"},{"$f":"IF(t.base[[#This Row],[DIAS DE ATRASO]]=0,0,t.base[[#This Row],[TOTAL]])","v":0}]
["2017-12-04","INTERBIKE EIRL","Centro","0002-004955","2017-12-19",84,{"v":25383,"d":"25,383"},{"$f":"IF(t.base[[#This Row],[DIAS DE ATRASO]]=0,0,t.base[[#This Row],[TOTAL]])","v":25383}]
["2017-12-01","MAC HARE S.A.C.","Centro","0002-006662","2018-01-30",42,{"v":14970,"d":"14,970"},{"$f":"IF(t.base[[#This Row],[DIAS DE ATRASO]]=0,0,t.base[[#This Row],[TOTAL]])","v":14970}]
["2018-01-13","GARCIA CAVERO MAURA","Centro","0001-001920","2018-02-12",29,{"v":20330,"d":"20,330"},{"$f":"IF(t.base[[#This Row],[DIAS DE ATRASO]]=0,0,t.base[[#This Row],[TOTAL]])","v":20330}]
["2017-12-10","PROIMPULSA SAC","Centro","0001-007926","2018-01-24",48,{"v":16957,"d":"16,957"},{"$f":"IF(t.base[[#This Row],[DIAS DE ATRASO]]=0,0,t.base[[#This Row],[TOTAL]])","v":16957}]
["2018-01-12","HOSTAL RUIZ SRL","Norte","0002-003461","2018-03-13",0,{"v":36891,"d":"36,891"},{"$f":"IF(t.base[[#This Row],[DIAS DE ATRASO]]=0,0,t.base[[#This Row],[TOTAL]])","v":0}]
["2017-12-12","PMS PERU S.A.C.","Centro","0002-006612","2018-03-12",1,{"v":15085,"d":"15,085"},{"$f":"IF(t.base[[#This Row],[DIAS DE ATRASO]]=0,0,t.base[[#This Row],[TOTAL]])","v":15085}]
["2017-09-28","MAGROF S.A.","Centro","0001-003417","2017-10-13",151,{"v":22886,"d":"22,886"},{"$f":"IF(t.base[[#This Row],[DIAS DE ATRASO]]=0,0,t.base[[#This Row],[TOTAL]])","v":22886}]
["2017-12-13","NEOSALUD S.A.C.","Centro","0002-001890","2018-03-13",0,{"v":16310,"d":"16,310"},{"$f":"IF(t.base[[#This Row],[DIAS DE ATRASO]]=0,0,t.base[[#This Row],[TOTAL]])","v":0}]
["2018-01-27","CHOQUE COPA CARLOS","Centro","0002-001618","2018-03-13",0,{"v":22742,"d":"22,742"},{"$f":"IF(t.base[[#This Row],[DIAS DE ATRASO]]=0,0,t.base[[#This Row],[TOTAL]])","v":0}]
["2018-01-27","RICAVA S.A.C.","Centro","0001-007262","2018-03-13",0,{"v":17420,"d":"17,420"},{"$f":"IF(t.base[[#This Row],[DIAS DE ATRASO]]=0,0,t.base[[#This Row],[TOTAL]])","v":0}]
["2018-01-27","J.O.B GAMES S.A.C.","Centro","0001-009135","2018-03-13",0,{"v":29142,"d":"29,142"},{"$f":"IF(t.base[[#This Row],[DIAS DE ATRASO]]=0,0,t.base[[#This Row],[TOTAL]])","v":0}]
["2017-12-16","SALLO LEVA ISABEL","Centro","0001-006866","2018-01-15",57,{"v":18726,"d":"18,726"},{"$f":"IF(t.base[[#This Row],[DIAS DE ATRASO]]=0,0,t.base[[#This Row],[TOTAL]])","v":18726}]
["2018-01-23","SERVIMEDICOS S.A.C.","Norte","0001-003451","2018-02-07",34,{"v":41288,"d":"41,288"},{"$f":"IF(t.base[[#This Row],[DIAS DE ATRASO]]=0,0,t.base[[#This Row],[TOTAL]])","v":41288}]
["2017-07-16","ARMERIA CALIBRE SAC","Centro","0001-002788","2017-08-30",195,{"v":14833,"d":"14,833"},{"$f":"IF(t.base[[#This Row],[DIAS DE ATRASO]]=0,0,t.base[[#This Row],[TOTAL]])","v":14833}]
["2018-01-12","KUNTUR WASSI S.A.C.","Sur","0002-005358","2018-03-13",0,{"v":5749,"d":"5,749"},{"$f":"IF(t.base[[#This Row],[DIAS DE ATRASO]]=0,0,t.base[[#This Row],[TOTAL]])","v":0}]
["2018-02-26","INVERMEDIC SAC","Norte","0002-001649","2018-03-13",0,{"v":48811,"d":"48,811"},{"$f":"IF(t.base[[#This Row],[DIAS DE ATRASO]]=0,0,t.base[[#This Row],[TOTAL]])","v":0}]
["2018-03-13","TECENG S.A.C.","Centro","0002-003438","2018-03-13",0,{"v":15923,"d":"15,923"},{"$f":"IF(t.base[[#This Row],[DIAS DE ATRASO]]=0,0,t.base[[#This Row],[TOTAL]])","v":0}]
["2018-01-12","PRINT METAL S.A","Centro","0001-002533","2018-03-13",0,{"v":25003,"d":"25,003"},{"$f":"IF(t.base[[#This Row],[DIAS DE ATRASO]]=0,0,t.base[[#This Row],[TOTAL]])","v":0}]
["2018-02-10","VYLDTECO S R L","Centro","0001-005051","2018-03-12",1,{"v":18679,"d":"18,679"},{"$f":"IF(t.base[[#This Row],[DIAS DE ATRASO]]=0,0,t.base[[#This Row],[TOTAL]])","v":18679}]
["2018-02-20","AD LIBITUM S.A.C.","Centro","0001-003256","2018-03-07",6,{"v":27349,"d":"27,349"},{"$f":"IF(t.base[[#This Row],[DIAS DE ATRASO]]=0,0,t.base[[#This Row],[TOTAL]])","v":27349}]
["2017-09-22","INVERGALAZ S.R.L.","Norte","0002-002394","2017-09-22",172,{"v":15128,"d":"15,128"},{"$f":"IF(t.base[[#This Row],[DIAS DE ATRASO]]=0,0,t.base[[#This Row],[TOTAL]])","v":15128}]
["2018-02-11","VALTER SPORT SAC","Centro","0001-006368","2018-03-13",0,{"v":24338,"d":"24,338"},{"$f":"IF(t.base[[#This Row],[DIAS DE ATRASO]]=0,0,t.base[[#This Row],[TOTAL]])","v":0}]
["2018-03-13","SILVA RIVERA HAYDEE","Centro","0001-008929","2018-03-13",0,{"v":24093,"d":"24,093"},{"$f":"IF(t.base[[#This Row],[DIAS DE ATRASO]]=0,0,t.base[[#This Row],[TOTAL]])","v":0}]
["2018-02-26","LEUNG PANG EILEEN","Centro","0002-002494","2018-03-13",0,{"v":28659,"d":"28,659"},{"$f":"IF(t.base[[#This Row],[DIAS DE ATRASO]]=0,0,t.base[[#This Row],[TOTAL]])","v":0}]
["2017-12-14","MAGIA GAMING S.A.C.","Centro","0002-006147","2017-12-29",74,{"v":25663,"d":"25,663"},{"$f":"IF(t.base[[#This Row],[DIAS DE ATRASO]]=0,0,t.base[[#This Row],[TOTAL]])","v":25663}]
["2017-10-18","POLYTEX S.A.","Centro","0002-007439","2018-01-16",56,{"v":14547,"d":"14,547"},{"$f":"IF(t.base[[#This Row],[DIAS DE ATRASO]]=0,0,t.base[[#This Row],[TOTAL]])","v":14547}]
["2017-12-26","KARPATRI S.A.C.","Centro","0002-006140","2018-01-25",47,{"v":21017,"d":"21,017"},{"$f":"IF(t.base[[#This Row],[DIAS DE ATRASO]]=0,0,t.base[[#This Row],[TOTAL]])","v":21017}]
["2017-12-13","CHINANGO S.A.C.","Centro","0001-001555","2018-03-13",0,{"v":11547,"d":"11,547"},{"$f":"IF(t.base[[#This Row],[DIAS DE ATRASO]]=0,0,t.base[[#This Row],[TOTAL]])","v":0}]
["2017-12-13","INDUCOPRA S R LTDA","Sur","0001-007210","2018-03-13",0,{"v":41856,"d":"41,856"},{"$f":"IF(t.base[[#This Row],[DIAS DE ATRASO]]=0,0,t.base[[#This Row],[TOTAL]])","v":0}]
["2017-05-22","LIAO GUO WEI","Centro","0001-006473","2017-07-21",235,{"v":18470,"d":"18,470"},{"$f":"IF(t.base[[#This Row],[DIAS DE ATRASO]]=0,0,t.base[[#This Row],[TOTAL]])","v":18470}]
["2018-02-18","SONMAR S.R.L.","Sur","0001-007170","2018-02-18",23,{"v":9982,"d":"9,982"},{"$f":"IF(t.base[[#This Row],[DIAS DE ATRASO]]=0,0,t.base[[#This Row],[TOTAL]])","v":9982}]
["2018-03-13","MICROTEC S.A.C.","Norte","0001-009034","2018-03-13",0,{"v":63095,"d":"63,095"},{"$f":"IF(t.base[[#This Row],[DIAS DE ATRASO]]=0,0,t.base[[#This Row],[TOTAL]])","v":0}]
["2018-03-12","35-17 CARGO S.A.C.","Centro","0002-008385","2018-03-12",1,{"v":29026,"d":"29,026"},{"$f":"IF(t.base[[#This Row],[DIAS DE ATRASO]]=0,0,t.base[[#This Row],[TOTAL]])","v":29026}]
["2018-01-27","SERVITEC S.R.L.","Sur","0002-006338","2018-03-13",0,{"v":27164,"d":"27,164"},{"$f":"IF(t.base[[#This Row],[DIAS DE ATRASO]]=0,0,t.base[[#This Row],[TOTAL]])","v":0}]
["2018-03-13","TUPER S.A.C.","Centro","0002-005154","2018-03-13",0,{"v":21175,"d":"21,175"},{"$f":"IF(t.base[[#This Row],[DIAS DE ATRASO]]=0,0,t.base[[#This Row],[TOTAL]])","v":0}]
["2018-03-13","PILCO VILCA PASTORA","Centro","0001-001215","2018-03-13",0,{"v":23613,"d":"23,613"},{"$f":"IF(t.base[[#This Row],[DIAS DE ATRASO]]=0,0,t.base[[#This Row],[TOTAL]])","v":0}]
["2017-11-16","LMS MENAGE S.A.C.","Centro","0001-006154","2017-12-31",72,{"v":25206,"d":"25,206"},{"$f":"IF(t.base[[#This Row],[DIAS DE ATRASO]]=0,0,t.base[[#This Row],[TOTAL]])","v":25206}]
["2017-11-09","HOJA GRANDE S.A.C.","Norte","0001-002206","2018-01-08",64,{"v":30671,"d":"30,671"},{"$f":"IF(t.base[[#This Row],[DIAS DE ATRASO]]=0,0,t.base[[#This Row],[TOTAL]])","v":30671}]
["2017-09-30","URETA SOTO SUSANA","Centro","0002-006737","2017-11-14",119,{"v":25506,"d":"25,506"},{"$f":"IF(t.base[[#This Row],[DIAS DE ATRASO]]=0,0,t.base[[#This Row],[TOTAL]])","v":25506}]
["2018-03-13","REYES HUANCA GIL","Centro","0001-005012","2018-03-13",0,{"v":12712,"d":"12,712"},{"$f":"IF(t.base[[#This Row],[DIAS DE ATRASO]]=0,0,t.base[[#This Row],[TOTAL]])","v":0}]
["2018-02-01","ILOP  S.A.C.","Centro","0001-001138","2018-03-03",10,{"v":17866,"d":"17,866"},{"$f":"IF(t.base[[#This Row],[DIAS DE ATRASO]]=0,0,t.base[[#This Row],[TOTAL]])","v":17866}]
["2017-12-20","SORUM S.R.L.","Sur","0002-006755","2018-01-19",53,{"v":31636,"d":"31,636"},{"$f":"IF(t.base[[#This Row],[DIAS DE ATRASO]]=0,0,t.base[[#This Row],[TOTAL]])","v":31636}]
["2018-03-12","SOLOT PERU S.A.C.","Centro","0002-007031","2018-03-12",1,{"v":25504,"d":"25,504"},{"$f":"IF(t.base[[#This Row],[DIAS DE ATRASO]]=0,0,t.base[[#This Row],[TOTAL]])","v":25504}]
["2017-09-29","DIOS ES AMOR S.A.C.","Norte","0002-004812","2017-10-29",135,{"v":14024,"d":"14,024"},{"$f":"IF(t.base[[#This Row],[DIAS DE ATRASO]]=0,0,t.base[[#This Row],[TOTAL]])","v":14024}]
["2017-11-10","CAMPO LIMPIO","Centro","0002-005457","2018-01-09",63,{"v":11994,"d":"11,994"},{"$f":"IF(t.base[[#This Row],[DIAS DE ATRASO]]=0,0,t.base[[#This Row],[TOTAL]])","v":11994}]
["2018-02-04","PEREZ ROMERO ROGER","Centro","0002-008281","2018-02-04",37,{"v":12069,"d":"12,069"},{"$f":"IF(t.base[[#This Row],[DIAS DE ATRASO]]=0,0,t.base[[#This Row],[TOTAL]])","v":12069}]
["2017-12-13","JOMAR KOAN S.A.C.","Centro","0001-001804","2018-03-13",0,{"v":11213,"d":"11,213"},{"$f":"IF(t.base[[#This Row],[DIAS DE ATRASO]]=0,0,t.base[[#This Row],[TOTAL]])","v":0}]
["2018-03-04","AGREGA S.A.C.","Centro","0001-009494","2018-03-04",9,{"v":28050,"d":"28,050"},{"$f":"IF(t.base[[#This Row],[DIAS DE ATRASO]]=0,0,t.base[[#This Row],[TOTAL]])","v":28050}]
["2018-02-26","SEGURITEMP E.I.R.L.","Norte","0002-001528","2018-03-13",0,{"v":62016,"d":"62,016"},{"$f":"IF(t.base[[#This Row],[DIAS DE ATRASO]]=0,0,t.base[[#This Row],[TOTAL]])","v":0}]
["2017-07-31","NUTRE PERU E.I.R.L.","Centro","0002-007408","2017-07-31",225,{"v":19941,"d":"19,941"},{"$f":"IF(t.base[[#This Row],[DIAS DE ATRASO]]=0,0,t.base[[#This Row],[TOTAL]])","v":19941}]
["2017-12-05","AGRO SELECTO S.A.C.","Centro","0002-007507","2018-03-05",8,{"v":28716,"d":"28,716"},{"$f":"IF(t.base[[#This Row],[DIAS DE ATRASO]]=0,0,t.base[[#This Row],[TOTAL]])","v":28716}]
["2018-02-22","SALVADOR LAZO FIDEL","Centro","0002-006835","2018-03-09",4,{"v":12127,"d":"12,127"},{"$f":"IF(t.base[[#This Row],[DIAS DE ATRASO]]=0,0,t.base[[#This Row],[TOTAL]])","v":12127}]
["2018-02-11","CLARIGO S.A.C.","Centro","0002-002916","2018-03-13",0,{"v":19370,"d":"19,370"},{"$f":"IF(t.base[[#This Row],[DIAS DE ATRASO]]=0,0,t.base[[#This Row],[TOTAL]])","v":0}]
["2018-02-26","TRANEDO S.R.L.","Norte","0002-004059","2018-03-13",0,{"v":58253,"d":"58,253"},{"$f":"IF(t.base[[#This Row],[DIAS DE ATRASO]]=0,0,t.base[[#This Row],[TOTAL]])","v":0}]
["2017-12-13","GOMEZ ROMANI LEONOR","Centro","0002-008132","2018-03-13",0,{"v":25807,"d":"25,807"},{"$f":"IF(t.base[[#This Row],[DIAS DE ATRASO]]=0,0,t.base[[#This Row],[TOTAL]])","v":0}]
["2017-12-13","HACEB DEL PERU S.A.","Centro","0001-007301","2018-03-13",0,{"v":19353,"d":"19,353"},{"$f":"IF(t.base[[#This Row],[DIAS DE ATRASO]]=0,0,t.base[[#This Row],[TOTAL]])","v":0}]
["2017-11-24","MOVILLANTAS S.A.C.","Centro","0002-006390","2017-12-24",79,{"v":10023,"d":"10,023"},{"$f":"IF(t.base[[#This Row],[DIAS DE ATRASO]]=0,0,t.base[[#This Row],[TOTAL]])","v":10023}]
["2018-02-26","KARPATRI S.A.C.","Centro","0001-008435","2018-03-13",0,{"v":28610,"d":"28,610"},{"$f":"IF(t.base[[#This Row],[DIAS DE ATRASO]]=0,0,t.base[[#This Row],[TOTAL]])","v":0}]
["2017-12-19","LA ROCCA SAC","Centro","0002-006930","2018-02-02",39,{"v":11091,"d":"11,091"},{"$f":"IF(t.base[[#This Row],[DIAS DE ATRASO]]=0,0,t.base[[#This Row],[TOTAL]])","v":11091}]
["2017-11-08","SALCOM S.A.C.","Centro","0001-002927","2018-01-07",65,{"v":15126,"d":"15,126"},{"$f":"IF(t.base[[#This Row],[DIAS DE ATRASO]]=0,0,t.base[[#This Row],[TOTAL]])","v":15126}]
["2017-10-16","MZF EIRL","Centro","0001-006727","2018-01-14",58,{"v":24749,"d":"24,749"},{"$f":"IF(t.base[[#This Row],[DIAS DE ATRASO]]=0,0,t.base[[#This Row],[TOTAL]])","v":24749}]
["2018-02-26","REY - SIL E.I.R.L.","Norte","0002-004272","2018-03-13",0,{"v":10876,"d":"10,876"},{"$f":"IF(t.base[[#This Row],[DIAS DE ATRASO]]=0,0,t.base[[#This Row],[TOTAL]])","v":0}]
["2018-02-11","DARMA S.A","Centro","0002-007796","2018-03-13",0,{"v":24073,"d":"24,073"},{"$f":"IF(t.base[[#This Row],[DIAS DE ATRASO]]=0,0,t.base[[#This Row],[TOTAL]])","v":0}]
["2018-01-26","LIU LING XIANG EIRL","Centro","0001-003700","2018-03-12",1,{"v":16261,"d":"16,261"},{"$f":"IF(t.base[[#This Row],[DIAS DE ATRASO]]=0,0,t.base[[#This Row],[TOTAL]])","v":16261}]
["2018-02-11","MISS TOPAZIO S.A.C.","Centro","0001-006595","2018-03-13",0,{"v":16440,"d":"16,440"},{"$f":"IF(t.base[[#This Row],[DIAS DE ATRASO]]=0,0,t.base[[#This Row],[TOTAL]])","v":0}]
["2018-01-09","PERALTA ROMAN YOISY","Centro","0002-007350","2018-01-24",48,{"v":10785,"d":"10,785"},{"$f":"IF(t.base[[#This Row],[DIAS DE ATRASO]]=0,0,t.base[[#This Row],[TOTAL]])","v":10785}]
["2017-12-13","TRIGOZO DIAZ CLELIA","Centro","0002-006097","2018-03-13",0,{"v":27438,"d":"27,438"},{"$f":"IF(t.base[[#This Row],[DIAS DE ATRASO]]=0,0,t.base[[#This Row],[TOTAL]])","v":0}]
["2018-01-20","NATURMEDIZIN S.A.C.","Centro","0001-009218","2018-02-19",22,{"v":27375,"d":"27,375"},{"$f":"IF(t.base[[#This Row],[DIAS DE ATRASO]]=0,0,t.base[[#This Row],[TOTAL]])","v":27375}]
["2017-12-20","JOSLYN PERU S.A.C.","Centro","0002-003562","2018-02-03",38,{"v":18010,"d":"18,010"},{"$f":"IF(t.base[[#This Row],[DIAS DE ATRASO]]=0,0,t.base[[#This Row],[TOTAL]])","v":18010}]
["2017-11-24","SERVICON S.A.C.","Norte","0001-008058","2018-01-23",49,{"v":17815,"d":"17,815"},{"$f":"IF(t.base[[#This Row],[DIAS DE ATRASO]]=0,0,t.base[[#This Row],[TOTAL]])","v":17815}]
["2018-01-27","TRATAR PERU SAC","Centro","0001-007747","2018-03-13",0,{"v":11307,"d":"11,307"},{"$f":"IF(t.base[[#This Row],[DIAS DE ATRASO]]=0,0,t.base[[#This Row],[TOTAL]])","v":0}]
["2017-12-13","INVERMEDIC SAC","Norte","0001-008811","2018-03-13",0,{"v":68292,"d":"68,292"},{"$f":"IF(t.base[[#This Row],[DIAS DE ATRASO]]=0,0,t.base[[#This Row],[TOTAL]])","v":0}]
["2017-09-02","RAUDO PERU S.A.C.","Norte","0001-001607","2017-12-01",102,{"v":26764,"d":"26,764"},{"$f":"IF(t.base[[#This Row],[DIAS DE ATRASO]]=0,0,t.base[[#This Row],[TOTAL]])","v":26764}]
["2018-02-26","EMAPAVIGSSA","Sur","0002-006990","2018-03-13",0,{"v":25283,"d":"25,283"},{"$f":"IF(t.base[[#This Row],[DIAS DE ATRASO]]=0,0,t.base[[#This Row],[TOTAL]])","v":0}]
["2018-01-02","TUPER S.A.C.","Centro","0002-006799","2018-02-01",40,{"v":29881,"d":"29,881"},{"$f":"IF(t.base[[#This Row],[DIAS DE ATRASO]]=0,0,t.base[[#This Row],[TOTAL]])","v":29881}]
["2018-03-13","DOMNAR S.A.C.","Centro","0002-001021","2018-03-13",0,{"v":28779,"d":"28,779"},{"$f":"IF(t.base[[#This Row],[DIAS DE ATRASO]]=0,0,t.base[[#This Row],[TOTAL]])","v":0}]
["2018-01-28","WALLPA SUA  S.A.C","Sur","0002-003209","2018-01-28",44,{"v":5316,"d":"5,316"},{"$f":"IF(t.base[[#This Row],[DIAS DE ATRASO]]=0,0,t.base[[#This Row],[TOTAL]])","v":5316}]
["2017-12-13","TANZACO S.A.C","Centro","0002-002049","2018-01-12",60,{"v":14953,"d":"14,953"},{"$f":"IF(t.base[[#This Row],[DIAS DE ATRASO]]=0,0,t.base[[#This Row],[TOTAL]])","v":14953}]
["2018-03-13","CLAS CIUDAD DE DIOS","Sur","0001-007660","2018-03-13",0,{"v":49706,"d":"49,706"},{"$f":"IF(t.base[[#This Row],[DIAS DE ATRASO]]=0,0,t.base[[#This Row],[TOTAL]])","v":0}]
["2018-01-21","URDICH SAC","Centro","0002-004327","2018-02-05",36,{"v":28353,"d":"28,353"},{"$f":"IF(t.base[[#This Row],[DIAS DE ATRASO]]=0,0,t.base[[#This Row],[TOTAL]])","v":28353}]
["2017-08-16","QUEA TAPIA EULALIA","Centro","0001-005848","2017-09-15",179,{"v":29312,"d":"29,312"},{"$f":"IF(t.base[[#This Row],[DIAS DE ATRASO]]=0,0,t.base[[#This Row],[TOTAL]])","v":29312}]
["2017-07-30","INTELECTRIC  S.A.C.","Centro","0002-006170","2017-09-13",181,{"v":26869,"d":"26,869"},{"$f":"IF(t.base[[#This Row],[DIAS DE ATRASO]]=0,0,t.base[[#This Row],[TOTAL]])","v":26869}]
["2017-08-26","DRY CORP SAC","Norte","0002-005235","2017-10-25",139,{"v":24577,"d":"24,577"},{"$f":"IF(t.base[[#This Row],[DIAS DE ATRASO]]=0,0,t.base[[#This Row],[TOTAL]])","v":24577}]
["2017-12-13","AGROCAUCHO EIRL","Sur","0001-006493","2018-03-13",0,{"v":49611,"d":"49,611"},{"$f":"IF(t.base[[#This Row],[DIAS DE ATRASO]]=0,0,t.base[[#This Row],[TOTAL]])","v":0}]
["2018-02-11","CIA NEMER SAC","Sur","0001-006656","2018-03-13",0,{"v":34221,"d":"34,221"},{"$f":"IF(t.base[[#This Row],[DIAS DE ATRASO]]=0,0,t.base[[#This Row],[TOTAL]])","v":0}]
["2018-01-03","RIVERA COSME CAYO","Centro","0002-005520","2018-02-02",39,{"v":21522,"d":"21,522"},{"$f":"IF(t.base[[#This Row],[DIAS DE ATRASO]]=0,0,t.base[[#This Row],[TOTAL]])","v":21522}]
["2017-11-25","CUTITON S.A.C","Centro","0001-003058","2018-01-24",48,{"v":23597,"d":"23,597"},{"$f":"IF(t.base[[#This Row],[DIAS DE ATRASO]]=0,0,t.base[[#This Row],[TOTAL]])","v":23597}]
["2018-02-11","FEMMEGIN E.I.R.L.","Centro","0001-002392","2018-03-13",0,{"v":10075,"d":"10,075"},{"$f":"IF(t.base[[#This Row],[DIAS DE ATRASO]]=0,0,t.base[[#This Row],[TOTAL]])","v":0}]
["2018-03-08","MEGA GESTION S.A.C","Centro","0001-003809","2018-03-08",5,{"v":14338,"d":"14,338"},{"$f":"IF(t.base[[#This Row],[DIAS DE ATRASO]]=0,0,t.base[[#This Row],[TOTAL]])","v":14338}]
["2018-01-27","MEI-NOI SAC.","Centro","0001-009945","2018-03-13",0,{"v":20040,"d":"20,040"},{"$f":"IF(t.base[[#This Row],[DIAS DE ATRASO]]=0,0,t.base[[#This Row],[TOTAL]])","v":0}]
["2017-11-16","RICAVA S.A.C.","Centro","0001-007979","2017-11-16",117,{"v":27510,"d":"27,510"},{"$f":"IF(t.base[[#This Row],[DIAS DE ATRASO]]=0,0,t.base[[#This Row],[TOTAL]])","v":27510}]
["2018-02-26","D'SAYOMA EIRL","Sur","0002-004340","2018-03-13",0,{"v":28287,"d":"28,287"},{"$f":"IF(t.base[[#This Row],[DIAS DE ATRASO]]=0,0,t.base[[#This Row],[TOTAL]])","v":0}]
["2018-01-17","SOTO VILA ROBERTO","Centro","0002-002870","2018-02-01",40,{"v":12808,"d":"12,808"},{"$f":"IF(t.base[[#This Row],[DIAS DE ATRASO]]=0,0,t.base[[#This Row],[TOTAL]])","v":12808}]
["2018-02-26","PLASTIJHIM SRL","Centro","0002-004202","2018-03-13",0,{"v":23634,"d":"23,634"},{"$f":"IF(t.base[[#This Row],[DIAS DE ATRASO]]=0,0,t.base[[#This Row],[TOTAL]])","v":0}]
["2017-08-03","MURPA S.A.","Centro","0001-001263","2017-08-18",207,{"v":22751,"d":"22,751"},{"$f":"IF(t.base[[#This Row],[DIAS DE ATRASO]]=0,0,t.base[[#This Row],[TOTAL]])","v":22751}]
["2018-02-26","FINAS COMPUTER SAC","Norte","0002-002449","2018-03-13",0,{"v":17672,"d":"17,672"},{"$f":"IF(t.base[[#This Row],[DIAS DE ATRASO]]=0,0,t.base[[#This Row],[TOTAL]])","v":0}]
["2018-03-13","SIMCA S.A.C.","Sur","0001-002818","2018-03-13",0,{"v":30118,"d":"30,118"},{"$f":"IF(t.base[[#This Row],[DIAS DE ATRASO]]=0,0,t.base[[#This Row],[TOTAL]])","v":0}]
["2018-01-26","ANDINA IMEX S.A.C","Centro","0002-008411","2018-03-12",1,{"v":26785,"d":"26,785"},{"$f":"IF(t.base[[#This Row],[DIAS DE ATRASO]]=0,0,t.base[[#This Row],[TOTAL]])","v":26785}]
["2017-12-13","COPYNET DATA S.A.C.","Centro","0002-001767","2018-03-13",0,{"v":24342,"d":"24,342"},{"$f":"IF(t.base[[#This Row],[DIAS DE ATRASO]]=0,0,t.base[[#This Row],[TOTAL]])","v":0}]
["2018-01-27","MEYTEX SAC","Centro","0002-008080","2018-03-13",0,{"v":13110,"d":"13,110"},{"$f":"IF(t.base[[#This Row],[DIAS DE ATRASO]]=0,0,t.base[[#This Row],[TOTAL]])","v":0}]
["2017-12-13","MAQUIHER E.I.R.L.","Sur","0001-002414","2018-03-13",0,{"v":12021,"d":"12,021"},{"$f":"IF(t.base[[#This Row],[DIAS DE ATRASO]]=0,0,t.base[[#This Row],[TOTAL]])","v":0}]
["2017-12-13","PERU BOX AIR S.A.C.","Centro","0001-004327","2018-03-13",0,{"v":10477,"d":"10,477"},{"$f":"IF(t.base[[#This Row],[DIAS DE ATRASO]]=0,0,t.base[[#This Row],[TOTAL]])","v":0}]
["2018-01-27","SPRIND S.A.C.","Centro","0001-001936","2018-03-13",0,{"v":24031,"d":"24,031"},{"$f":"IF(t.base[[#This Row],[DIAS DE ATRASO]]=0,0,t.base[[#This Row],[TOTAL]])","v":0}]
["2018-02-26","TROQPA SAC","Centro","0001-005421","2018-03-13",0,{"v":23760,"d":"23,760"},{"$f":"IF(t.base[[#This Row],[DIAS DE ATRASO]]=0,0,t.base[[#This Row],[TOTAL]])","v":0}]
["2018-03-12","MHO IMPORT S.A.C.","Centro","0002-007245","2018-03-12",1,{"v":24509,"d":"24,509"},{"$f":"IF(t.base[[#This Row],[DIAS DE ATRASO]]=0,0,t.base[[#This Row],[TOTAL]])","v":24509}]
["2017-07-26","TRANSPOVAR S.R.L.","Centro","0002-004429","2017-07-26",230,{"v":23336,"d":"23,336"},{"$f":"IF(t.base[[#This Row],[DIAS DE ATRASO]]=0,0,t.base[[#This Row],[TOTAL]])","v":23336}]
["2018-01-12","SCHENONE S A","Centro","0001-007923","2018-01-12",60,{"v":29614,"d":"29,614"},{"$f":"IF(t.base[[#This Row],[DIAS DE ATRASO]]=0,0,t.base[[#This Row],[TOTAL]])","v":29614}]
["2018-01-27","GREEN STAR S.A.C","Centro","0001-001970","2018-03-13",0,{"v":19092,"d":"19,092"},{"$f":"IF(t.base[[#This Row],[DIAS DE ATRASO]]=0,0,t.base[[#This Row],[TOTAL]])","v":0}]
["2017-12-13","PRU SAC","Centro","0002-007188","2018-03-13",0,{"v":11029,"d":"11,029"},{"$f":"IF(t.base[[#This Row],[DIAS DE ATRASO]]=0,0,t.base[[#This Row],[TOTAL]])","v":0}]
["2018-01-31","COPY SERVICE MV SAC","Centro","0002-001001","2018-02-15",26,{"v":20854,"d":"20,854"},{"$f":"IF(t.base[[#This Row],[DIAS DE ATRASO]]=0,0,t.base[[#This Row],[TOTAL]])","v":20854}]
["2017-12-25","PEREZ ROMERO ROGER","Centro","0002-005272","2018-02-08",33,{"v":26870,"d":"26,870"},{"$f":"IF(t.base[[#This Row],[DIAS DE ATRASO]]=0,0,t.base[[#This Row],[TOTAL]])","v":26870}]
["2018-02-26","PARKETON S.A.C.","Centro","0002-007725","2018-03-13",0,{"v":18349,"d":"18,349"},{"$f":"IF(t.base[[#This Row],[DIAS DE ATRASO]]=0,0,t.base[[#This Row],[TOTAL]])","v":0}]
["2018-02-26","J & L ALIMENTOS SAC","Centro","0001-005717","2018-03-13",0,{"v":20154,"d":"20,154"},{"$f":"IF(t.base[[#This Row],[DIAS DE ATRASO]]=0,0,t.base[[#This Row],[TOTAL]])","v":0}]
["2018-01-26","ROJAS VILLANO NILO","Centro","0001-005988","2018-03-12",1,{"v":16630,"d":"16,630"},{"$f":"IF(t.base[[#This Row],[DIAS DE ATRASO]]=0,0,t.base[[#This Row],[TOTAL]])","v":16630}]
["2018-02-13","TAGA S.R.LTDA","Sur","0001-007609","2018-02-13",28,{"v":16274,"d":"16,274"},{"$f":"IF(t.base[[#This Row],[DIAS DE ATRASO]]=0,0,t.base[[#This Row],[TOTAL]])","v":16274}]
["2018-01-12","PASTAGIORNO E.I.R.L","Centro","0001-002486","2018-03-13",0,{"v":27979,"d":"27,979"},{"$f":"IF(t.base[[#This Row],[DIAS DE ATRASO]]=0,0,t.base[[#This Row],[TOTAL]])","v":0}]
["2017-12-13","PERVISAC SRL","Centro","0002-002222","2018-03-13",0,{"v":19270,"d":"19,270"},{"$f":"IF(t.base[[#This Row],[DIAS DE ATRASO]]=0,0,t.base[[#This Row],[TOTAL]])","v":0}]
["2017-11-23","PEQUE E.I.R.L.","Centro","0002-009328","2018-01-22",50,{"v":13290,"d":"13,290"},{"$f":"IF(t.base[[#This Row],[DIAS DE ATRASO]]=0,0,t.base[[#This Row],[TOTAL]])","v":13290}]
["2017-11-02","SEMAPELI S.R.L.","Sur","0002-003343","2018-01-31",41,{"v":8092,"d":"8,092"},{"$f":"IF(t.base[[#This Row],[DIAS DE ATRASO]]=0,0,t.base[[#This Row],[TOTAL]])","v":8092}]
["2018-02-26","MG-1 E.I.R.L.","Centro","0001-006371","2018-03-13",0,{"v":10779,"d":"10,779"},{"$f":"IF(t.base[[#This Row],[DIAS DE ATRASO]]=0,0,t.base[[#This Row],[TOTAL]])","v":0}]
["2017-11-13","ESTETICA VENUS SRL","Centro","0002-008719","2018-02-11",30,{"v":29103,"d":"29,103"},{"$f":"IF(t.base[[#This Row],[DIAS DE ATRASO]]=0,0,t.base[[#This Row],[TOTAL]])","v":29103}]
["2017-11-18","LOPEZ ARIAS MANUEL","Centro","0002-007511","2017-11-18",115,{"v":26670,"d":"26,670"},{"$f":"IF(t.base[[#This Row],[DIAS DE ATRASO]]=0,0,t.base[[#This Row],[TOTAL]])","v":26670}]
["2017-12-13","SVITZER ANDINO S.A.","Centro","0001-009700","2018-03-13",0,{"v":23922,"d":"23,922"},{"$f":"IF(t.base[[#This Row],[DIAS DE ATRASO]]=0,0,t.base[[#This Row],[TOTAL]])","v":0}]
["2018-02-11","BIOCARE S.A.C.","Sur","0001-007467","2018-03-13",0,{"v":12053,"d":"12,053"},{"$f":"IF(t.base[[#This Row],[DIAS DE ATRASO]]=0,0,t.base[[#This Row],[TOTAL]])","v":0}]
["2017-10-30","CIA VALQUI E.I.R.L.","Sur","0002-007543","2018-01-28",44,{"v":27864,"d":"27,864"},{"$f":"IF(t.base[[#This Row],[DIAS DE ATRASO]]=0,0,t.base[[#This Row],[TOTAL]])","v":27864}]
["2017-10-30","MIYAGUI S.A.C.","Centro","0001-005331","2017-12-14",89,{"v":12131,"d":"12,131"},{"$f":"IF(t.base[[#This Row],[DIAS DE ATRASO]]=0,0,t.base[[#This Row],[TOTAL]])","v":12131}]
["2018-02-26","IMMETAZ E.I.R.L.","Sur","0001-002960","2018-03-13",0,{"v":48591,"d":"48,591"},{"$f":"IF(t.base[[#This Row],[DIAS DE ATRASO]]=0,0,t.base[[#This Row],[TOTAL]])","v":0}]
["2017-11-23","REPDA PARTS S.R.L.","Sur","0001-007265","2017-12-23",80,{"v":7521,"d":"7,521"},{"$f":"IF(t.base[[#This Row],[DIAS DE ATRASO]]=0,0,t.base[[#This Row],[TOTAL]])","v":7521}]
["2017-11-20","SVITZER ANDINO S.A.","Centro","0001-007389","2017-12-20",83,{"v":21248,"d":"21,248"},{"$f":"IF(t.base[[#This Row],[DIAS DE ATRASO]]=0,0,t.base[[#This Row],[TOTAL]])","v":21248}]
["2018-03-13","CHAVEZ FLORES BETZY","Centro","0001-004977","2018-03-13",0,{"v":21025,"d":"21,025"},{"$f":"IF(t.base[[#This Row],[DIAS DE ATRASO]]=0,0,t.base[[#This Row],[TOTAL]])","v":0}]
["2018-01-03","YON JAU JUAN","Centro","0001-009334","2018-01-18",54,{"v":16964,"d":"16,964"},{"$f":"IF(t.base[[#This Row],[DIAS DE ATRASO]]=0,0,t.base[[#This Row],[TOTAL]])","v":16964}]
["2018-01-07","STEKIAN S.A.C.","Centro","0001-004546","2018-02-06",35,{"v":10143,"d":"10,143"},{"$f":"IF(t.base[[#This Row],[DIAS DE ATRASO]]=0,0,t.base[[#This Row],[TOTAL]])","v":10143}]
["2018-02-11","IMPORT JHV E.I.R.L.","Centro","0001-002506","2018-03-13",0,{"v":22262,"d":"22,262"},{"$f":"IF(t.base[[#This Row],[DIAS DE ATRASO]]=0,0,t.base[[#This Row],[TOTAL]])","v":0}]
["2017-12-13","VALDEZ OCHOA NHELY","Centro","0001-009242","2018-03-13",0,{"v":10447,"d":"10,447"},{"$f":"IF(t.base[[#This Row],[DIAS DE ATRASO]]=0,0,t.base[[#This Row],[TOTAL]])","v":0}]
["2018-03-13","CONSORCIO LIMA","Centro","0002-004118","2018-03-13",0,{"v":22785,"d":"22,785"},{"$f":"IF(t.base[[#This Row],[DIAS DE ATRASO]]=0,0,t.base[[#This Row],[TOTAL]])","v":0}]
["2018-01-26","TRATAR PERU SAC","Centro","0002-009161","2018-03-12",1,{"v":12220,"d":"12,220"},{"$f":"IF(t.base[[#This Row],[DIAS DE ATRASO]]=0,0,t.base[[#This Row],[TOTAL]])","v":12220}]
["2018-01-12","TOTY S.A.C.","Norte","0001-002768","2018-03-13",0,{"v":39914,"d":"39,914"},{"$f":"IF(t.base[[#This Row],[DIAS DE ATRASO]]=0,0,t.base[[#This Row],[TOTAL]])","v":0}]
["2018-01-27","MODULEC S.A.C.","Centro","0002-003373","2018-03-13",0,{"v":14831,"d":"14,831"},{"$f":"IF(t.base[[#This Row],[DIAS DE ATRASO]]=0,0,t.base[[#This Row],[TOTAL]])","v":0}]
["2018-02-26","KAMIFE E.I.R.L.","Sur","0001-006234","2018-03-13",0,{"v":10225,"d":"10,225"},{"$f":"IF(t.base[[#This Row],[DIAS DE ATRASO]]=0,0,t.base[[#This Row],[TOTAL]])","v":0}]
["2018-02-11","QU GU LIQI","Centro","0001-001493","2018-03-13",0,{"v":26590,"d":"26,590"},{"$f":"IF(t.base[[#This Row],[DIAS DE ATRASO]]=0,0,t.base[[#This Row],[TOTAL]])","v":0}]
["2017-11-14","PRO VERDE SAC","Centro","0001-001875","2017-12-29",74,{"v":18453,"d":"18,453"},{"$f":"IF(t.base[[#This Row],[DIAS DE ATRASO]]=0,0,t.base[[#This Row],[TOTAL]])","v":18453}]
["2018-02-02","MEPAL S.A.C","Centro","0001-009293","2018-03-04",9,{"v":23249,"d":"23,249"},{"$f":"IF(t.base[[#This Row],[DIAS DE ATRASO]]=0,0,t.base[[#This Row],[TOTAL]])","v":23249}]
["2018-02-26","TRANEDO S.R.L.","Norte","0001-007295","2018-03-13",0,{"v":65989,"d":"65,989"},{"$f":"IF(t.base[[#This Row],[DIAS DE ATRASO]]=0,0,t.base[[#This Row],[TOTAL]])","v":0}]
["2018-03-13","FUJIN EIRL","Centro","0001-002923","2018-03-13",0,{"v":11720,"d":"11,720"},{"$f":"IF(t.base[[#This Row],[DIAS DE ATRASO]]=0,0,t.base[[#This Row],[TOTAL]])","v":0}]
["2018-03-13","AGRO SELECTO S.A.C.","Centro","0001-006604","2018-03-13",0,{"v":28904,"d":"28,904"},{"$f":"IF(t.base[[#This Row],[DIAS DE ATRASO]]=0,0,t.base[[#This Row],[TOTAL]])","v":0}]
["2017-11-03","CBMARKETERS S.A.C.","Centro","0002-005951","2018-01-02",70,{"v":20188,"d":"20,188"},{"$f":"IF(t.base[[#This Row],[DIAS DE ATRASO]]=0,0,t.base[[#This Row],[TOTAL]])","v":20188}]
["2017-09-16","GIGABRANDS S.A.C.","Centro","0002-001903","2017-12-15",88,{"v":15477,"d":"15,477"},{"$f":"IF(t.base[[#This Row],[DIAS DE ATRASO]]=0,0,t.base[[#This Row],[TOTAL]])","v":15477}]
["2018-02-25","PEQUE E.I.R.L.","Centro","0001-003792","2018-03-12",1,{"v":23978,"d":"23,978"},{"$f":"IF(t.base[[#This Row],[DIAS DE ATRASO]]=0,0,t.base[[#This Row],[TOTAL]])","v":23978}]
["2017-05-23","AMAR ORTIZ MARIBEL","Centro","0002-005210","2017-08-21",204,{"v":27046,"d":"27,046"},{"$f":"IF(t.base[[#This Row],[DIAS DE ATRASO]]=0,0,t.base[[#This Row],[TOTAL]])","v":27046}]
["2018-02-11","HOJA GRANDE S.A.C.","Norte","0001-001726","2018-02-26",15,{"v":44593,"d":"44,593"},{"$f":"IF(t.base[[#This Row],[DIAS DE ATRASO]]=0,0,t.base[[#This Row],[TOTAL]])","v":44593}]
["2017-12-09","NORCOSTA S.A.C","Centro","0001-001768","2018-01-08",64,{"v":20557,"d":"20,557"},{"$f":"IF(t.base[[#This Row],[DIAS DE ATRASO]]=0,0,t.base[[#This Row],[TOTAL]])","v":20557}]
["2018-01-26","VIDA CORAL PERU SAC","Centro","0001-007423","2018-03-12",1,{"v":29533,"d":"29,533"},{"$f":"IF(t.base[[#This Row],[DIAS DE ATRASO]]=0,0,t.base[[#This Row],[TOTAL]])","v":29533}]
["2018-01-03","RIVERA COSME CAYO","Centro","0002-002377","2018-01-03",69,{"v":22078,"d":"22,078"},{"$f":"IF(t.base[[#This Row],[DIAS DE ATRASO]]=0,0,t.base[[#This Row],[TOTAL]])","v":22078}]
["2017-11-24","NEYRA MEDINA RAFAEL","Centro","0001-008470","2018-02-22",19,{"v":11534,"d":"11,534"},{"$f":"IF(t.base[[#This Row],[DIAS DE ATRASO]]=0,0,t.base[[#This Row],[TOTAL]])","v":11534}]
["2018-01-27","CLAS CONDESUYOS","Sur","0001-005559","2018-03-13",0,{"v":14004,"d":"14,004"},{"$f":"IF(t.base[[#This Row],[DIAS DE ATRASO]]=0,0,t.base[[#This Row],[TOTAL]])","v":0}]
["2018-01-19","A & G S.A.C.","Sur","0002-004933","2018-01-19",53,{"v":8384,"d":"8,384"},{"$f":"IF(t.base[[#This Row],[DIAS DE ATRASO]]=0,0,t.base[[#This Row],[TOTAL]])","v":8384}]
["2018-01-27","TRATAR PERU SAC","Centro","0002-006525","2018-03-13",0,{"v":25803,"d":"25,803"},{"$f":"IF(t.base[[#This Row],[DIAS DE ATRASO]]=0,0,t.base[[#This Row],[TOTAL]])","v":0}]
["2017-10-14","CASAPAN PERU S.A.C.","Centro","0002-006764","2017-12-13",90,{"v":27965,"d":"27,965"},{"$f":"IF(t.base[[#This Row],[DIAS DE ATRASO]]=0,0,t.base[[#This Row],[TOTAL]])","v":27965}]
["2018-02-26","CEP KERPEN HORREN","Centro","0002-009510","2018-03-13",0,{"v":28156,"d":"28,156"},{"$f":"IF(t.base[[#This Row],[DIAS DE ATRASO]]=0,0,t.base[[#This Row],[TOTAL]])","v":0}]
["2018-02-26","MAGIA GAMING S.A.C.","Centro","0002-001795","2018-03-13",0,{"v":15757,"d":"15,757"},{"$f":"IF(t.base[[#This Row],[DIAS DE ATRASO]]=0,0,t.base[[#This Row],[TOTAL]])","v":0}]
["2017-12-18","ROSATEX E.I.R.L.","Centro","0002-003671","2017-12-18",85,{"v":22283,"d":"22,283"},{"$f":"IF(t.base[[#This Row],[DIAS DE ATRASO]]=0,0,t.base[[#This Row],[TOTAL]])","v":22283}]
["2017-10-24","VILLA FIORI S.A.C.","Centro","0002-002341","2018-01-22",50,{"v":15887,"d":"15,887"},{"$f":"IF(t.base[[#This Row],[DIAS DE ATRASO]]=0,0,t.base[[#This Row],[TOTAL]])","v":15887}]
["2018-02-11","MANBREN S.A.","Centro","0001-007622","2018-03-13",0,{"v":28645,"d":"28,645"},{"$f":"IF(t.base[[#This Row],[DIAS DE ATRASO]]=0,0,t.base[[#This Row],[TOTAL]])","v":0}]
["2017-10-06","SHAKAVAEL S.R.L.","Norte","0001-008852","2018-01-04",68,{"v":61547,"d":"61,547"},{"$f":"IF(t.base[[#This Row],[DIAS DE ATRASO]]=0,0,t.base[[#This Row],[TOTAL]])","v":61547}]
["2017-07-29","ARMYCOX S.A.","Centro","0001-009622","2017-09-12",182,{"v":24784,"d":"24,784"},{"$f":"IF(t.base[[#This Row],[DIAS DE ATRASO]]=0,0,t.base[[#This Row],[TOTAL]])","v":24784}]
["2018-03-13","ECONO TAXI S.R.L.","Centro","0001-007229","2018-03-13",0,{"v":20181,"d":"20,181"},{"$f":"IF(t.base[[#This Row],[DIAS DE ATRASO]]=0,0,t.base[[#This Row],[TOTAL]])","v":0}]
["2018-01-12","TRANSEQUIP E.I.R.L.","Centro","0001-008596","2018-03-13",0,{"v":28851,"d":"28,851"},{"$f":"IF(t.base[[#This Row],[DIAS DE ATRASO]]=0,0,t.base[[#This Row],[TOTAL]])","v":0}]
["2018-01-27","GOMEZ YUCRA SIMEON","Centro","0002-008915","2018-03-13",0,{"v":26784,"d":"26,784"},{"$f":"IF(t.base[[#This Row],[DIAS DE ATRASO]]=0,0,t.base[[#This Row],[TOTAL]])","v":0}]
["2018-02-12","ATELCINE PERU SAC","Centro","0001-009943","2018-02-12",29,{"v":14066,"d":"14,066"},{"$f":"IF(t.base[[#This Row],[DIAS DE ATRASO]]=0,0,t.base[[#This Row],[TOTAL]])","v":14066}]
["2018-02-11","COPYNET DATA S.A.C.","Centro","0001-007712","2018-03-13",0,{"v":19487,"d":"19,487"},{"$f":"IF(t.base[[#This Row],[DIAS DE ATRASO]]=0,0,t.base[[#This Row],[TOTAL]])","v":0}]
["2018-01-12","MACUSU S.A.C.","Centro","0001-005658","2018-03-13",0,{"v":17406,"d":"17,406"},{"$f":"IF(t.base[[#This Row],[DIAS DE ATRASO]]=0,0,t.base[[#This Row],[TOTAL]])","v":0}]
["2018-01-27","CACERESA S.A.C.","Centro","0001-003321","2018-03-13",0,{"v":27599,"d":"27,599"},{"$f":"IF(t.base[[#This Row],[DIAS DE ATRASO]]=0,0,t.base[[#This Row],[TOTAL]])","v":0}]
["2018-03-13","CJ TELECOM SAC","Centro","0001-001734","2018-03-13",0,{"v":11294,"d":"11,294"},{"$f":"IF(t.base[[#This Row],[DIAS DE ATRASO]]=0,0,t.base[[#This Row],[TOTAL]])","v":0}]
["2018-01-12","MECDRILL  E.I.R.L.","Centro","0002-005421","2018-03-13",0,{"v":25486,"d":"25,486"},{"$f":"IF(t.base[[#This Row],[DIAS DE ATRASO]]=0,0,t.base[[#This Row],[TOTAL]])","v":0}]
["2018-01-27","POZO TORRES CLAUDIA","Centro","0002-005211","2018-03-13",0,{"v":28397,"d":"28,397"},{"$f":"IF(t.base[[#This Row],[DIAS DE ATRASO]]=0,0,t.base[[#This Row],[TOTAL]])","v":0}]
["2017-10-21","TAPIPLASTIC  S.A.C.","Norte","0001-006675","2017-12-05",98,{"v":59618,"d":"59,618"},{"$f":"IF(t.base[[#This Row],[DIAS DE ATRASO]]=0,0,t.base[[#This Row],[TOTAL]])","v":59618}]
["2018-02-11","AYAME S.A.C.","Centro","0002-007154","2018-03-13",0,{"v":15807,"d":"15,807"},{"$f":"IF(t.base[[#This Row],[DIAS DE ATRASO]]=0,0,t.base[[#This Row],[TOTAL]])","v":0}]
["2018-01-05","QC DOSE S.A.C.","Centro","0002-004841","2018-03-06",7,{"v":24006,"d":"24,006"},{"$f":"IF(t.base[[#This Row],[DIAS DE ATRASO]]=0,0,t.base[[#This Row],[TOTAL]])","v":24006}]
["2018-02-25","ILOHOGAR E.I.R.L.","Sur","0001-001572","2018-03-12",1,{"v":39994,"d":"39,994"},{"$f":"IF(t.base[[#This Row],[DIAS DE ATRASO]]=0,0,t.base[[#This Row],[TOTAL]])","v":39994}]
["2017-11-10","PRO VERDE SAC","Centro","0002-001513","2017-12-25",78,{"v":10980,"d":"10,980"},{"$f":"IF(t.base[[#This Row],[DIAS DE ATRASO]]=0,0,t.base[[#This Row],[TOTAL]])","v":10980}]
["2018-03-13","PIGMOOL E.I.R.L.","Sur","0001-006040","2018-03-13",0,{"v":35819,"d":"35,819"},{"$f":"IF(t.base[[#This Row],[DIAS DE ATRASO]]=0,0,t.base[[#This Row],[TOTAL]])","v":0}]
["2018-03-13","MORAN VALENCIA ENMA","Centro","0002-008244","2018-03-13",0,{"v":17924,"d":"17,924"},{"$f":"IF(t.base[[#This Row],[DIAS DE ATRASO]]=0,0,t.base[[#This Row],[TOTAL]])","v":0}]
["2017-11-28","CASA LE MAN'S S.A.","Centro","0001-001089","2017-12-13",90,{"v":11118,"d":"11,118"},{"$f":"IF(t.base[[#This Row],[DIAS DE ATRASO]]=0,0,t.base[[#This Row],[TOTAL]])","v":11118}]
["2017-07-18","GHL INVERSIONES SA","Centro","0001-001088","2017-08-02",223,{"v":23044,"d":"23,044"},{"$f":"IF(t.base[[#This Row],[DIAS DE ATRASO]]=0,0,t.base[[#This Row],[TOTAL]])","v":23044}]
["2017-10-13","INDUCOPRA S R LTDA","Sur","0001-003294","2017-10-13",151,{"v":28555,"d":"28,555"},{"$f":"IF(t.base[[#This Row],[DIAS DE ATRASO]]=0,0,t.base[[#This Row],[TOTAL]])","v":28555}]
["2018-01-27","RAMA TEX S.A.C","Centro","0002-008857","2018-03-13",0,{"v":18027,"d":"18,027"},{"$f":"IF(t.base[[#This Row],[DIAS DE ATRASO]]=0,0,t.base[[#This Row],[TOTAL]])","v":0}]
["2018-02-26","SUCAROL E.I.R.L.","Centro","0002-009053","2018-03-13",0,{"v":21917,"d":"21,917"},{"$f":"IF(t.base[[#This Row],[DIAS DE ATRASO]]=0,0,t.base[[#This Row],[TOTAL]])","v":0}]
["2018-01-27","CRITIKOS S.A.C.","Centro","0001-004461","2018-03-13",0,{"v":12427,"d":"12,427"},{"$f":"IF(t.base[[#This Row],[DIAS DE ATRASO]]=0,0,t.base[[#This Row],[TOTAL]])","v":0}]
["2017-12-27","DESANA S.A.C.","Centro","0001-007312","2018-01-26",46,{"v":20473,"d":"20,473"},{"$f":"IF(t.base[[#This Row],[DIAS DE ATRASO]]=0,0,t.base[[#This Row],[TOTAL]])","v":20473}]
["2017-12-13","RAINBOW S.A.","Centro","0002-009614","2018-03-13",0,{"v":22869,"d":"22,869"},{"$f":"IF(t.base[[#This Row],[DIAS DE ATRASO]]=0,0,t.base[[#This Row],[TOTAL]])","v":0}]
["2018-02-19","CHINANGO S.A.C.","Centro","0002-009828","2018-03-06",7,{"v":15448,"d":"15,448"},{"$f":"IF(t.base[[#This Row],[DIAS DE ATRASO]]=0,0,t.base[[#This Row],[TOTAL]])","v":15448}]
["2018-01-27","GREY GROUP S.A.C","Centro","0002-002099","2018-03-13",0,{"v":13957,"d":"13,957"},{"$f":"IF(t.base[[#This Row],[DIAS DE ATRASO]]=0,0,t.base[[#This Row],[TOTAL]])","v":0}]
["2018-01-27","VYLDTECO S R L","Centro","0001-005635","2018-03-13",0,{"v":12336,"d":"12,336"},{"$f":"IF(t.base[[#This Row],[DIAS DE ATRASO]]=0,0,t.base[[#This Row],[TOTAL]])","v":0}]
["2017-11-09","KORPAK E.I.R.L.","Centro","0001-009774","2018-02-07",34,{"v":25614,"d":"25,614"},{"$f":"IF(t.base[[#This Row],[DIAS DE ATRASO]]=0,0,t.base[[#This Row],[TOTAL]])","v":25614}]
["2018-02-26","KARPATRI S.A.C.","Centro","0001-005998","2018-03-13",0,{"v":24879,"d":"24,879"},{"$f":"IF(t.base[[#This Row],[DIAS DE ATRASO]]=0,0,t.base[[#This Row],[TOTAL]])","v":0}]
["2017-10-04","PLAZA MOTORS S.A.C.","Centro","0002-001285","2018-01-02",70,{"v":17549,"d":"17,549"},{"$f":"IF(t.base[[#This Row],[DIAS DE ATRASO]]=0,0,t.base[[#This Row],[TOTAL]])","v":17549}]
["2018-03-13","LUZ Y COLOR S.A.C.","Centro","0002-005174","2018-03-13",0,{"v":16934,"d":"16,934"},{"$f":"IF(t.base[[#This Row],[DIAS DE ATRASO]]=0,0,t.base[[#This Row],[TOTAL]])","v":0}]
["2018-02-11","SERPENOR S.R.LTDA","Norte","0002-002393","2018-03-13",0,{"v":46386,"d":"46,386"},{"$f":"IF(t.base[[#This Row],[DIAS DE ATRASO]]=0,0,t.base[[#This Row],[TOTAL]])","v":0}]
["2018-02-26","CHAVEZ FLORES BETZY","Centro","0001-004181","2018-03-13",0,{"v":20703,"d":"20,703"},{"$f":"IF(t.base[[#This Row],[DIAS DE ATRASO]]=0,0,t.base[[#This Row],[TOTAL]])","v":0}]
["2017-12-02","J & W CIA S.A.","Centro","0002-007055","2018-01-01",71,{"v":15703,"d":"15,703"},{"$f":"IF(t.base[[#This Row],[DIAS DE ATRASO]]=0,0,t.base[[#This Row],[TOTAL]])","v":15703}]
["2017-10-21","TEXMACHINE S.A.C.","Centro","0001-003987","2017-12-05",98,{"v":26986,"d":"26,986"},{"$f":"IF(t.base[[#This Row],[DIAS DE ATRASO]]=0,0,t.base[[#This Row],[TOTAL]])","v":26986}]
["2018-02-11","C.S.I. S.A.C.","Sur","0001-001101","2018-03-13",0,{"v":23929,"d":"23,929"},{"$f":"IF(t.base[[#This Row],[DIAS DE ATRASO]]=0,0,t.base[[#This Row],[TOTAL]])","v":0}]
["2018-01-11","MEYTEX SAC","Centro","0002-001929","2018-03-12",1,{"v":22457,"d":"22,457"},{"$f":"IF(t.base[[#This Row],[DIAS DE ATRASO]]=0,0,t.base[[#This Row],[TOTAL]])","v":22457}]
["2018-01-27","ONCOINVEST E.I.R.L.","Centro","0002-009140","2018-03-13",0,{"v":24343,"d":"24,343"},{"$f":"IF(t.base[[#This Row],[DIAS DE ATRASO]]=0,0,t.base[[#This Row],[TOTAL]])","v":0}]
["2017-12-13","NOVAX E.I.R.L.","Centro","0002-003936","2018-03-13",0,{"v":11277,"d":"11,277"},{"$f":"IF(t.base[[#This Row],[DIAS DE ATRASO]]=0,0,t.base[[#This Row],[TOTAL]])","v":0}]
["2018-02-26","LARCO PETS EIRL","Norte","0001-001081","2018-03-13",0,{"v":10353,"d":"10,353"},{"$f":"IF(t.base[[#This Row],[DIAS DE ATRASO]]=0,0,t.base[[#This Row],[TOTAL]])","v":0}]
["2018-03-13","PILCO VILCA PASTORA","Centro","0002-008511","2018-03-13",0,{"v":29521,"d":"29,521"},{"$f":"IF(t.base[[#This Row],[DIAS DE ATRASO]]=0,0,t.base[[#This Row],[TOTAL]])","v":0}]
["2017-11-17","PROVINAK S.A.C.","Centro","0002-003245","2017-12-02",101,{"v":21989,"d":"21,989"},{"$f":"IF(t.base[[#This Row],[DIAS DE ATRASO]]=0,0,t.base[[#This Row],[TOTAL]])","v":21989}]
["2018-01-20","MAQ DEPOT S.A.C.","Centro","0001-004179","2018-02-19",22,{"v":23103,"d":"23,103"},{"$f":"IF(t.base[[#This Row],[DIAS DE ATRASO]]=0,0,t.base[[#This Row],[TOTAL]])","v":23103}]
["2017-12-25","REDISCAR E.I.R.L.","Sur","0002-001300","2018-01-09",63,{"v":20290,"d":"20,290"},{"$f":"IF(t.base[[#This Row],[DIAS DE ATRASO]]=0,0,t.base[[#This Row],[TOTAL]])","v":20290}]
["2017-12-12","STEKIAN S.A.C.","Centro","0002-008789","2018-03-12",1,{"v":19410,"d":"19,410"},{"$f":"IF(t.base[[#This Row],[DIAS DE ATRASO]]=0,0,t.base[[#This Row],[TOTAL]])","v":19410}]
["2018-02-26","BISMAR E.I.R.L","Norte","0001-003762","2018-03-13",0,{"v":69478,"d":"69,478"},{"$f":"IF(t.base[[#This Row],[DIAS DE ATRASO]]=0,0,t.base[[#This Row],[TOTAL]])","v":0}]
["2018-02-26","CIRIACA S.A.C.","Centro","0002-007048","2018-03-13",0,{"v":25683,"d":"25,683"},{"$f":"IF(t.base[[#This Row],[DIAS DE ATRASO]]=0,0,t.base[[#This Row],[TOTAL]])","v":0}]
["2018-02-02","LEON GROUP E.I.R.L.","Sur","0001-002780","2018-02-17",24,{"v":20090,"d":"20,090"},{"$f":"IF(t.base[[#This Row],[DIAS DE ATRASO]]=0,0,t.base[[#This Row],[TOTAL]])","v":20090}]
["2018-02-04","ACEROS JK S.A.C.","Centro","0002-009047","2018-03-06",7,{"v":13627,"d":"13,627"},{"$f":"IF(t.base[[#This Row],[DIAS DE ATRASO]]=0,0,t.base[[#This Row],[TOTAL]])","v":13627}]
["2018-03-13","VILLA FIORI S.A.C.","Centro","0002-003700","2018-03-13",0,{"v":29864,"d":"29,864"},{"$f":"IF(t.base[[#This Row],[DIAS DE ATRASO]]=0,0,t.base[[#This Row],[TOTAL]])","v":0}]
["2017-11-03","BRANAT E.I.R.L.","Centro","0002-003901","2018-02-01",40,{"v":13873,"d":"13,873"},{"$f":"IF(t.base[[#This Row],[DIAS DE ATRASO]]=0,0,t.base[[#This Row],[TOTAL]])","v":13873}]
["2017-11-24","MPK E.I.R.L.","Sur","0002-004167","2018-01-23",49,{"v":42512,"d":"42,512"},{"$f":"IF(t.base[[#This Row],[DIAS DE ATRASO]]=0,0,t.base[[#This Row],[TOTAL]])","v":42512}]
["2018-02-11","CUEROS TAURO S.A.C.","Centro","0001-009775","2018-03-13",0,{"v":23673,"d":"23,673"},{"$f":"IF(t.base[[#This Row],[DIAS DE ATRASO]]=0,0,t.base[[#This Row],[TOTAL]])","v":0}]
["2018-01-27","MEDELCO SRL","Sur","0001-002637","2018-03-13",0,{"v":16618,"d":"16,618"},{"$f":"IF(t.base[[#This Row],[DIAS DE ATRASO]]=0,0,t.base[[#This Row],[TOTAL]])","v":0}]
["2017-12-13","HUAMALI ANCO TITO","Centro","0002-005751","2018-03-13",0,{"v":11799,"d":"11,799"},{"$f":"IF(t.base[[#This Row],[DIAS DE ATRASO]]=0,0,t.base[[#This Row],[TOTAL]])","v":0}]
["2018-01-11","SUNI NUNONCCA SIMON","Centro","0001-003710","2018-03-12",1,{"v":28545,"d":"28,545"},{"$f":"IF(t.base[[#This Row],[DIAS DE ATRASO]]=0,0,t.base[[#This Row],[TOTAL]])","v":28545}]
["2018-03-13","INTELECTRIC  S.A.C.","Centro","0002-008304","2018-03-13",0,{"v":19720,"d":"19,720"},{"$f":"IF(t.base[[#This Row],[DIAS DE ATRASO]]=0,0,t.base[[#This Row],[TOTAL]])","v":0}]
["2018-01-20","ZAMOL S.A.C.","Centro","0001-008348","2018-03-06",7,{"v":15805,"d":"15,805"},{"$f":"IF(t.base[[#This Row],[DIAS DE ATRASO]]=0,0,t.base[[#This Row],[TOTAL]])","v":15805}]
["2017-12-26","HATHOR S.R.L.","Centro","0002-005502","2018-01-10",62,{"v":10123,"d":"10,123"},{"$f":"IF(t.base[[#This Row],[DIAS DE ATRASO]]=0,0,t.base[[#This Row],[TOTAL]])","v":10123}]
["2018-02-10","ALCANZANDO","Centro","0001-004500","2018-03-12",1,{"v":12969,"d":"12,969"},{"$f":"IF(t.base[[#This Row],[DIAS DE ATRASO]]=0,0,t.base[[#This Row],[TOTAL]])","v":12969}]
["2018-02-26","RADIO ASTORIA S A","Norte","0002-004931","2018-03-13",0,{"v":30193,"d":"30,193"},{"$f":"IF(t.base[[#This Row],[DIAS DE ATRASO]]=0,0,t.base[[#This Row],[TOTAL]])","v":0}]
["2017-12-09","INTELECTRIC  S.A.C.","Centro","0001-002265","2018-02-07",34,{"v":22299,"d":"22,299"},{"$f":"IF(t.base[[#This Row],[DIAS DE ATRASO]]=0,0,t.base[[#This Row],[TOTAL]])","v":22299}]
["2018-01-02","APRENDA S.A.","Centro","0002-001786","2018-02-01",40,{"v":23132,"d":"23,132"},{"$f":"IF(t.base[[#This Row],[DIAS DE ATRASO]]=0,0,t.base[[#This Row],[TOTAL]])","v":23132}]
["2018-01-24","WAGER SLOTS S.A.C.","Centro","0001-005717","2018-01-24",48,{"v":14993,"d":"14,993"},{"$f":"IF(t.base[[#This Row],[DIAS DE ATRASO]]=0,0,t.base[[#This Row],[TOTAL]])","v":14993}]
["2017-12-13","RAMOS JACINTO PEDRO","Centro","0001-006408","2018-03-13",0,{"v":13119,"d":"13,119"},{"$f":"IF(t.base[[#This Row],[DIAS DE ATRASO]]=0,0,t.base[[#This Row],[TOTAL]])","v":0}]
["2017-12-13","ARMYCOX S.A.","Centro","0001-003142","2018-03-13",0,{"v":20890,"d":"20,890"},{"$f":"IF(t.base[[#This Row],[DIAS DE ATRASO]]=0,0,t.base[[#This Row],[TOTAL]])","v":0}]
["2018-01-08","MODUPLAC S.A.C.","Sur","0001-008638","2018-01-23",49,{"v":48274,"d":"48,274"},{"$f":"IF(t.base[[#This Row],[DIAS DE ATRASO]]=0,0,t.base[[#This Row],[TOTAL]])","v":48274}]
["2018-01-27","MAQUERA RAMOS IRMA","Centro","0002-006445","2018-03-13",0,{"v":22156,"d":"22,156"},{"$f":"IF(t.base[[#This Row],[DIAS DE ATRASO]]=0,0,t.base[[#This Row],[TOTAL]])","v":0}]
["2018-01-24","CUBO MAGICO S.A.C.","Centro","0001-001113","2018-02-08",33,{"v":24624,"d":"24,624"},{"$f":"IF(t.base[[#This Row],[DIAS DE ATRASO]]=0,0,t.base[[#This Row],[TOTAL]])","v":24624}]
["2018-01-30","MRP E.I.R.L.","Centro","0001-009902","2018-02-14",27,{"v":28707,"d":"28,707"},{"$f":"IF(t.base[[#This Row],[DIAS DE ATRASO]]=0,0,t.base[[#This Row],[TOTAL]])","v":28707}]
["2018-01-27","POLIMAT S.A.C.","Centro","0001-004688","2018-03-13",0,{"v":12674,"d":"12,674"},{"$f":"IF(t.base[[#This Row],[DIAS DE ATRASO]]=0,0,t.base[[#This Row],[TOTAL]])","v":0}]
["2018-02-11","TRAUMA S.A.C.","Centro","0002-003855","2018-03-13",0,{"v":16904,"d":"16,904"},{"$f":"IF(t.base[[#This Row],[DIAS DE ATRASO]]=0,0,t.base[[#This Row],[TOTAL]])","v":0}]
["2017-11-30","ALBACONSULT S.A.C.","Centro","0001-002141","2018-02-28",13,{"v":14389,"d":"14,389"},{"$f":"IF(t.base[[#This Row],[DIAS DE ATRASO]]=0,0,t.base[[#This Row],[TOTAL]])","v":14389}]
["2017-12-13","KE JIANQING","Centro","0001-008192","2018-03-13",0,{"v":13182,"d":"13,182"},{"$f":"IF(t.base[[#This Row],[DIAS DE ATRASO]]=0,0,t.base[[#This Row],[TOTAL]])","v":0}]
["2018-02-26","ORBE EMPRESARIAL SA","Centro","0001-009303","2018-03-13",0,{"v":22679,"d":"22,679"},{"$f":"IF(t.base[[#This Row],[DIAS DE ATRASO]]=0,0,t.base[[#This Row],[TOTAL]])","v":0}]
["2018-02-26","PAR OFFICE SAC","Centro","0001-002631","2018-03-13",0,{"v":17873,"d":"17,873"},{"$f":"IF(t.base[[#This Row],[DIAS DE ATRASO]]=0,0,t.base[[#This Row],[TOTAL]])","v":0}]
["2018-02-11","ILOP  S.A.C.","Centro","0001-007436","2018-03-13",0,{"v":17242,"d":"17,242"},{"$f":"IF(t.base[[#This Row],[DIAS DE ATRASO]]=0,0,t.base[[#This Row],[TOTAL]])","v":0}]
["2018-02-11","NEGOCIOS A & D SRL","Norte","0001-006253","2018-03-13",0,{"v":59095,"d":"59,095"},{"$f":"IF(t.base[[#This Row],[DIAS DE ATRASO]]=0,0,t.base[[#This Row],[TOTAL]])","v":0}]
["2018-03-13","LIDER GRAFICO SRL","Norte","0002-002857","2018-03-13",0,{"v":20250,"d":"20,250"},{"$f":"IF(t.base[[#This Row],[DIAS DE ATRASO]]=0,0,t.base[[#This Row],[TOTAL]])","v":0}]
["2017-12-15","LEON GROUP E.I.R.L.","Sur","0001-003879","2017-12-15",88,{"v":29880,"d":"29,880"},{"$f":"IF(t.base[[#This Row],[DIAS DE ATRASO]]=0,0,t.base[[#This Row],[TOTAL]])","v":29880}]
["2017-12-07","FE GOLD S.A.C.","Centro","0002-002674","2017-12-22",81,{"v":14762,"d":"14,762"},{"$f":"IF(t.base[[#This Row],[DIAS DE ATRASO]]=0,0,t.base[[#This Row],[TOTAL]])","v":14762}]
["2018-03-06","BALTRONIX E.I.R.L.","Centro","0001-007461","2018-03-06",7,{"v":22024,"d":"22,024"},{"$f":"IF(t.base[[#This Row],[DIAS DE ATRASO]]=0,0,t.base[[#This Row],[TOTAL]])","v":22024}]
["2017-11-05","CREAKTIVO S.A.C.","Centro","0002-009539","2018-02-03",38,{"v":29022,"d":"29,022"},{"$f":"IF(t.base[[#This Row],[DIAS DE ATRASO]]=0,0,t.base[[#This Row],[TOTAL]])","v":29022}]
["2018-02-26","FARMABCO S.A.C","Centro","0001-005031","2018-03-13",0,{"v":19764,"d":"19,764"},{"$f":"IF(t.base[[#This Row],[DIAS DE ATRASO]]=0,0,t.base[[#This Row],[TOTAL]])","v":0}]
["2018-03-13","INCIVIAS S.A.C.","Centro","0002-001685","2018-03-13",0,{"v":29703,"d":"29,703"},{"$f":"IF(t.base[[#This Row],[DIAS DE ATRASO]]=0,0,t.base[[#This Row],[TOTAL]])","v":0}]
["2017-07-17","IKEA E.I.R.L.","Sur","0001-002411","2017-08-01",224,{"v":7334,"d":"7,334"},{"$f":"IF(t.base[[#This Row],[DIAS DE ATRASO]]=0,0,t.base[[#This Row],[TOTAL]])","v":7334}]
["2018-02-26","FIDUCIARIA GBC S.A.","Centro","0001-009761","2018-03-13",0,{"v":26103,"d":"26,103"},{"$f":"IF(t.base[[#This Row],[DIAS DE ATRASO]]=0,0,t.base[[#This Row],[TOTAL]])","v":0}]
["2018-03-12","VIRGO PERU SAC","Centro","0001-004066","2018-03-12",1,{"v":27265,"d":"27,265"},{"$f":"IF(t.base[[#This Row],[DIAS DE ATRASO]]=0,0,t.base[[#This Row],[TOTAL]])","v":27265}]
["2017-12-13","MAC HARE S.A.C.","Centro","0001-009185","2018-03-13",0,{"v":26237,"d":"26,237"},{"$f":"IF(t.base[[#This Row],[DIAS DE ATRASO]]=0,0,t.base[[#This Row],[TOTAL]])","v":0}]
["2018-02-11","ISHIZAWA OHBA JULIO","Centro","0002-007900","2018-03-13",0,{"v":21381,"d":"21,381"},{"$f":"IF(t.base[[#This Row],[DIAS DE ATRASO]]=0,0,t.base[[#This Row],[TOTAL]])","v":0}]
["2018-02-26","REY - SIL E.I.R.L.","Norte","0002-009649","2018-03-13",0,{"v":44629,"d":"44,629"},{"$f":"IF(t.base[[#This Row],[DIAS DE ATRASO]]=0,0,t.base[[#This Row],[TOTAL]])","v":0}]
["2017-12-13","CAO  JINGHUI","Centro","0002-003263","2018-03-13",0,{"v":11273,"d":"11,273"},{"$f":"IF(t.base[[#This Row],[DIAS DE ATRASO]]=0,0,t.base[[#This Row],[TOTAL]])","v":0}]
["2018-01-27","RIFUSE EIRL","Sur","0002-007867","2018-03-13",0,{"v":24414,"d":"24,414"},{"$f":"IF(t.base[[#This Row],[DIAS DE ATRASO]]=0,0,t.base[[#This Row],[TOTAL]])","v":0}]
["2017-12-02","SERMATFER E.I.R.L","Centro","0001-003598","2017-12-17",86,{"v":19490,"d":"19,490"},{"$f":"IF(t.base[[#This Row],[DIAS DE ATRASO]]=0,0,t.base[[#This Row],[TOTAL]])","v":19490}]
["2018-02-11","SUNI NUNONCCA SIMON","Centro","0002-004503","2018-03-13",0,{"v":19643,"d":"19,643"},{"$f":"IF(t.base[[#This Row],[DIAS DE ATRASO]]=0,0,t.base[[#This Row],[TOTAL]])","v":0}]
["2018-01-27","SCHIENZA S.A.","Centro","0001-007524","2018-03-13",0,{"v":27745,"d":"27,745"},{"$f":"IF(t.base[[#This Row],[DIAS DE ATRASO]]=0,0,t.base[[#This Row],[TOTAL]])","v":0}]
["2017-12-19","TRANSJOHNNY S.A.C.","Centro","0002-002236","2018-01-18",54,{"v":24008,"d":"24,008"},{"$f":"IF(t.base[[#This Row],[DIAS DE ATRASO]]=0,0,t.base[[#This Row],[TOTAL]])","v":24008}]
["2017-12-13","JOMI TOURS S.A.C","Centro","0001-008166","2018-03-13",0,{"v":20453,"d":"20,453"},{"$f":"IF(t.base[[#This Row],[DIAS DE ATRASO]]=0,0,t.base[[#This Row],[TOTAL]])","v":0}]
["2018-02-12","VICENT S.A.C.","Centro","0002-008083","2018-02-27",14,{"v":27156,"d":"27,156"},{"$f":"IF(t.base[[#This Row],[DIAS DE ATRASO]]=0,0,t.base[[#This Row],[TOTAL]])","v":27156}]
["2018-02-11","MECDRILL  E.I.R.L.","Centro","0002-006646","2018-03-13",0,{"v":29809,"d":"29,809"},{"$f":"IF(t.base[[#This Row],[DIAS DE ATRASO]]=0,0,t.base[[#This Row],[TOTAL]])","v":0}]
["2017-12-13","RONG YINGLIN","Centro","0001-004405","2018-03-13",0,{"v":27579,"d":"27,579"},{"$f":"IF(t.base[[#This Row],[DIAS DE ATRASO]]=0,0,t.base[[#This Row],[TOTAL]])","v":0}]
["2018-03-13","ERAZO ERAZO TULIO","Centro","0002-008464","2018-03-13",0,{"v":24689,"d":"24,689"},{"$f":"IF(t.base[[#This Row],[DIAS DE ATRASO]]=0,0,t.base[[#This Row],[TOTAL]])","v":0}]
["2018-01-27","KEMALU S.A.C.","Centro","0002-009174","2018-03-13",0,{"v":26603,"d":"26,603"},{"$f":"IF(t.base[[#This Row],[DIAS DE ATRASO]]=0,0,t.base[[#This Row],[TOTAL]])","v":0}]
["2018-02-11","CAO  JINGHUI","Centro","0001-004702","2018-03-13",0,{"v":27444,"d":"27,444"},{"$f":"IF(t.base[[#This Row],[DIAS DE ATRASO]]=0,0,t.base[[#This Row],[TOTAL]])","v":0}]
["2017-09-12","HONGYING ZHOU","Centro","0002-004213","2017-10-12",152,{"v":15945,"d":"15,945"},{"$f":"IF(t.base[[#This Row],[DIAS DE ATRASO]]=0,0,t.base[[#This Row],[TOTAL]])","v":15945}]
["2017-10-25","MSM INSUMOS S.A.C","Centro","0002-003469","2017-10-25",139,{"v":15292,"d":"15,292"},{"$f":"IF(t.base[[#This Row],[DIAS DE ATRASO]]=0,0,t.base[[#This Row],[TOTAL]])","v":15292}]
["2018-01-19","MATOS CAMAC FELIX","Centro","0001-003119","2018-01-19",53,{"v":16497,"d":"16,497"},{"$f":"IF(t.base[[#This Row],[DIAS DE ATRASO]]=0,0,t.base[[#This Row],[TOTAL]])","v":16497}]
["2017-10-01","CEGNE SAN LUIS EIRL","Norte","0001-008766","2017-12-30",73,{"v":39989,"d":"39,989"},{"$f":"IF(t.base[[#This Row],[DIAS DE ATRASO]]=0,0,t.base[[#This Row],[TOTAL]])","v":39989}]
["2017-07-12","CINSA E.I.R.L","Sur","0002-009543","2017-07-27",229,{"v":40234,"d":"40,234"},{"$f":"IF(t.base[[#This Row],[DIAS DE ATRASO]]=0,0,t.base[[#This Row],[TOTAL]])","v":40234}]
["2018-03-12","MARINAS GUZMAN JOSE","Centro","0001-002231","2018-03-12",1,{"v":17478,"d":"17,478"},{"$f":"IF(t.base[[#This Row],[DIAS DE ATRASO]]=0,0,t.base[[#This Row],[TOTAL]])","v":17478}]
["2017-12-13","CASAPAN PERU S.A.C.","Centro","0001-001769","2018-03-13",0,{"v":19307,"d":"19,307"},{"$f":"IF(t.base[[#This Row],[DIAS DE ATRASO]]=0,0,t.base[[#This Row],[TOTAL]])","v":0}]
["2017-12-13","LYON SPORT EIRL","Sur","0002-002991","2018-03-13",0,{"v":34574,"d":"34,574"},{"$f":"IF(t.base[[#This Row],[DIAS DE ATRASO]]=0,0,t.base[[#This Row],[TOTAL]])","v":0}]
["2018-01-12","NEGOCIOS A & D SRL","Norte","0001-004913","2018-03-13",0,{"v":18440,"d":"18,440"},{"$f":"IF(t.base[[#This Row],[DIAS DE ATRASO]]=0,0,t.base[[#This Row],[TOTAL]])","v":0}]
["2017-08-15","MIWA SPORT S.A.","Centro","0001-002141","2017-11-13",120,{"v":22721,"d":"22,721"},{"$f":"IF(t.base[[#This Row],[DIAS DE ATRASO]]=0,0,t.base[[#This Row],[TOTAL]])","v":22721}]
["2017-12-30","DDP ADUANAS S.A.C.","Sur","0001-002665","2018-02-28",13,{"v":45688,"d":"45,688"},{"$f":"IF(t.base[[#This Row],[DIAS DE ATRASO]]=0,0,t.base[[#This Row],[TOTAL]])","v":45688}]
["2018-01-27","TECNO LASER S.A.C.","Centro","0001-003499","2018-03-13",0,{"v":24947,"d":"24,947"},{"$f":"IF(t.base[[#This Row],[DIAS DE ATRASO]]=0,0,t.base[[#This Row],[TOTAL]])","v":0}]
["2017-12-12","CLINICA ELERA S.R.L","Centro","0001-007048","2018-01-11",61,{"v":15552,"d":"15,552"},{"$f":"IF(t.base[[#This Row],[DIAS DE ATRASO]]=0,0,t.base[[#This Row],[TOTAL]])","v":15552}]
["2018-02-26","J & F TRADERS S.A.","Centro","0001-008266","2018-03-13",0,{"v":17529,"d":"17,529"},{"$f":"IF(t.base[[#This Row],[DIAS DE ATRASO]]=0,0,t.base[[#This Row],[TOTAL]])","v":0}]
["2017-12-13","D'MARCAS E.I.R.L.","Sur","0001-006375","2018-03-13",0,{"v":19792,"d":"19,792"},{"$f":"IF(t.base[[#This Row],[DIAS DE ATRASO]]=0,0,t.base[[#This Row],[TOTAL]])","v":0}]
["2018-02-11","CHAHUERRE S.C.R.L","Norte","0002-009064","2018-03-13",0,{"v":47786,"d":"47,786"},{"$f":"IF(t.base[[#This Row],[DIAS DE ATRASO]]=0,0,t.base[[#This Row],[TOTAL]])","v":0}]
["2017-12-13","CIRIACA S.A.C.","Centro","0001-007720","2018-03-13",0,{"v":13872,"d":"13,872"},{"$f":"IF(t.base[[#This Row],[DIAS DE ATRASO]]=0,0,t.base[[#This Row],[TOTAL]])","v":0}]
["2018-02-26","INVERGALAZ S.R.L.","Norte","0002-007862","2018-03-13",0,{"v":22518,"d":"22,518"},{"$f":"IF(t.base[[#This Row],[DIAS DE ATRASO]]=0,0,t.base[[#This Row],[TOTAL]])","v":0}]
["2017-11-24","PMS PERU S.A.C.","Centro","0002-003557","2017-12-24",79,{"v":15127,"d":"15,127"},{"$f":"IF(t.base[[#This Row],[DIAS DE ATRASO]]=0,0,t.base[[#This Row],[TOTAL]])","v":15127}]
["2018-02-26","M & R TANQUE SAC","Centro","0002-006499","2018-03-13",0,{"v":22814,"d":"22,814"},{"$f":"IF(t.base[[#This Row],[DIAS DE ATRASO]]=0,0,t.base[[#This Row],[TOTAL]])","v":0}]
["2018-02-10","ECONOFARMA S.A.C.","Centro","0001-002698","2018-03-12",1,{"v":18469,"d":"18,469"},{"$f":"IF(t.base[[#This Row],[DIAS DE ATRASO]]=0,0,t.base[[#This Row],[TOTAL]])","v":18469}]
["2018-02-26","GOMEZ ROMANI LEONOR","Centro","0002-001138","2018-03-13",0,{"v":22066,"d":"22,066"},{"$f":"IF(t.base[[#This Row],[DIAS DE ATRASO]]=0,0,t.base[[#This Row],[TOTAL]])","v":0}]
["2018-02-26","AYAME S.A.C.","Centro","0002-006670","2018-03-13",0,{"v":19428,"d":"19,428"},{"$f":"IF(t.base[[#This Row],[DIAS DE ATRASO]]=0,0,t.base[[#This Row],[TOTAL]])","v":0}]
["2017-09-29","G.M. TRAMAS S.A.","Centro","0002-003293","2017-10-14",150,{"v":17657,"d":"17,657"},{"$f":"IF(t.base[[#This Row],[DIAS DE ATRASO]]=0,0,t.base[[#This Row],[TOTAL]])","v":17657}]
["2018-01-08","AURODISA EIRL","Centro","0001-001548","2018-01-23",49,{"v":10780,"d":"10,780"},{"$f":"IF(t.base[[#This Row],[DIAS DE ATRASO]]=0,0,t.base[[#This Row],[TOTAL]])","v":10780}]
["2017-09-06","VIRGO PERU SAC","Centro","0001-008407","2017-11-05",128,{"v":20722,"d":"20,722"},{"$f":"IF(t.base[[#This Row],[DIAS DE ATRASO]]=0,0,t.base[[#This Row],[TOTAL]])","v":20722}]
["2018-01-27","SLENDER SAC","Centro","0002-003070","2018-03-13",0,{"v":26253,"d":"26,253"},{"$f":"IF(t.base[[#This Row],[DIAS DE ATRASO]]=0,0,t.base[[#This Row],[TOTAL]])","v":0}]
["2018-01-27","COLOR Y BELLEZA SAC","Norte","0002-008136","2018-03-13",0,{"v":36364,"d":"36,364"},{"$f":"IF(t.base[[#This Row],[DIAS DE ATRASO]]=0,0,t.base[[#This Row],[TOTAL]])","v":0}]
["2018-01-27","ARMESSO S.A.C","Centro","0002-009923","2018-03-13",0,{"v":21145,"d":"21,145"},{"$f":"IF(t.base[[#This Row],[DIAS DE ATRASO]]=0,0,t.base[[#This Row],[TOTAL]])","v":0}]
["2018-01-27","JICKA S.R.L.","Centro","0001-006694","2018-03-13",0,{"v":15478,"d":"15,478"},{"$f":"IF(t.base[[#This Row],[DIAS DE ATRASO]]=0,0,t.base[[#This Row],[TOTAL]])","v":0}]
["2018-02-26","PRO MAKEUP E.I.R.L.","Centro","0001-008350","2018-03-13",0,{"v":20413,"d":"20,413"},{"$f":"IF(t.base[[#This Row],[DIAS DE ATRASO]]=0,0,t.base[[#This Row],[TOTAL]])","v":0}]
["2017-11-01","MG-1 E.I.R.L.","Centro","0001-001056","2017-12-01",102,{"v":22961,"d":"22,961"},{"$f":"IF(t.base[[#This Row],[DIAS DE ATRASO]]=0,0,t.base[[#This Row],[TOTAL]])","v":22961}]
["2018-03-13","CURASMA POMA YODI","Centro","0002-009966","2018-03-13",0,{"v":19410,"d":"19,410"},{"$f":"IF(t.base[[#This Row],[DIAS DE ATRASO]]=0,0,t.base[[#This Row],[TOTAL]])","v":0}]
["2018-03-13","SERVOX S.R.L.","Sur","0002-009646","2018-03-13",0,{"v":26614,"d":"26,614"},{"$f":"IF(t.base[[#This Row],[DIAS DE ATRASO]]=0,0,t.base[[#This Row],[TOTAL]])","v":0}]
["2018-01-12","CEPE APOSTOL PABLO","Sur","0001-001551","2018-03-13",0,{"v":38821,"d":"38,821"},{"$f":"IF(t.base[[#This Row],[DIAS DE ATRASO]]=0,0,t.base[[#This Row],[TOTAL]])","v":0}]
["2018-02-11","GLEW SAC","Centro","0001-006668","2018-03-13",0,{"v":23903,"d":"23,903"},{"$f":"IF(t.base[[#This Row],[DIAS DE ATRASO]]=0,0,t.base[[#This Row],[TOTAL]])","v":0}]
["2017-12-13","OBILABS  PERU  SAC","Centro","0002-008882","2018-03-13",0,{"v":13397,"d":"13,397"},{"$f":"IF(t.base[[#This Row],[DIAS DE ATRASO]]=0,0,t.base[[#This Row],[TOTAL]])","v":0}]
["2018-01-27","M & R TANQUE SAC","Centro","0001-007656","2018-03-13",0,{"v":26186,"d":"26,186"},{"$f":"IF(t.base[[#This Row],[DIAS DE ATRASO]]=0,0,t.base[[#This Row],[TOTAL]])","v":0}]
["2018-01-30","PRO MAKEUP E.I.R.L.","Centro","0002-006732","2018-01-30",42,{"v":26610,"d":"26,610"},{"$f":"IF(t.base[[#This Row],[DIAS DE ATRASO]]=0,0,t.base[[#This Row],[TOTAL]])","v":26610}]
["2017-12-28","CAMPO LIMPIO","Centro","0001-008918","2018-01-12",60,{"v":20770,"d":"20,770"},{"$f":"IF(t.base[[#This Row],[DIAS DE ATRASO]]=0,0,t.base[[#This Row],[TOTAL]])","v":20770}]
["2018-03-13","RB & RD S.R.L.","Sur","0002-007848","2018-03-13",0,{"v":18245,"d":"18,245"},{"$f":"IF(t.base[[#This Row],[DIAS DE ATRASO]]=0,0,t.base[[#This Row],[TOTAL]])","v":0}]
["2017-05-26","CJ TELECOM SAC","Centro","0002-006320","2017-08-24",201,{"v":11285,"d":"11,285"},{"$f":"IF(t.base[[#This Row],[DIAS DE ATRASO]]=0,0,t.base[[#This Row],[TOTAL]])","v":11285}]
["2018-02-25","PROVINAK S.A.C.","Centro","0001-003798","2018-03-12",1,{"v":25895,"d":"25,895"},{"$f":"IF(t.base[[#This Row],[DIAS DE ATRASO]]=0,0,t.base[[#This Row],[TOTAL]])","v":25895}]
["2017-12-07","ESTRATEGICA S.A.C.","Centro","0001-002961","2018-01-21",51,{"v":16224,"d":"16,224"},{"$f":"IF(t.base[[#This Row],[DIAS DE ATRASO]]=0,0,t.base[[#This Row],[TOTAL]])","v":16224}]
["2018-02-11","JIANG HUANYI","Centro","0002-009160","2018-03-13",0,{"v":20309,"d":"20,309"},{"$f":"IF(t.base[[#This Row],[DIAS DE ATRASO]]=0,0,t.base[[#This Row],[TOTAL]])","v":0}]
["2017-11-24","CAO  JINGHUI","Centro","0002-006670","2018-01-08",64,{"v":20561,"d":"20,561"},{"$f":"IF(t.base[[#This Row],[DIAS DE ATRASO]]=0,0,t.base[[#This Row],[TOTAL]])","v":20561}]
["2017-12-08","D'IONS SRLTDA","Norte","0002-003032","2018-01-07",65,{"v":38935,"d":"38,935"},{"$f":"IF(t.base[[#This Row],[DIAS DE ATRASO]]=0,0,t.base[[#This Row],[TOTAL]])","v":38935}]
["2018-03-12","CEIGNE MUNDO AMIGO","Centro","0002-008928","2018-03-12",1,{"v":21772,"d":"21,772"},{"$f":"IF(t.base[[#This Row],[DIAS DE ATRASO]]=0,0,t.base[[#This Row],[TOTAL]])","v":21772}]
["2018-02-26","MOCHILEROS S.A.C.","Centro","0001-001506","2018-03-13",0,{"v":18848,"d":"18,848"},{"$f":"IF(t.base[[#This Row],[DIAS DE ATRASO]]=0,0,t.base[[#This Row],[TOTAL]])","v":0}]
["2017-12-13","BABY KNIT S.A.C","Centro","0001-005112","2018-03-13",0,{"v":23959,"d":"23,959"},{"$f":"IF(t.base[[#This Row],[DIAS DE ATRASO]]=0,0,t.base[[#This Row],[TOTAL]])","v":0}]
["2017-12-13","DAMIAN SRLTDA.","Centro","0001-005040","2018-03-13",0,{"v":11654,"d":"11,654"},{"$f":"IF(t.base[[#This Row],[DIAS DE ATRASO]]=0,0,t.base[[#This Row],[TOTAL]])","v":0}]
["2018-01-27","RAMOS JACINTO PEDRO","Centro","0002-008758","2018-03-13",0,{"v":15398,"d":"15,398"},{"$f":"IF(t.base[[#This Row],[DIAS DE ATRASO]]=0,0,t.base[[#This Row],[TOTAL]])","v":0}]
["2018-03-13","PEREA VELA JANETH","Centro","0001-007611","2018-03-13",0,{"v":26254,"d":"26,254"},{"$f":"IF(t.base[[#This Row],[DIAS DE ATRASO]]=0,0,t.base[[#This Row],[TOTAL]])","v":0}]
["2017-10-22","L M MOTORS SA","Centro","0001-009236","2017-10-22",142,{"v":12814,"d":"12,814"},{"$f":"IF(t.base[[#This Row],[DIAS DE ATRASO]]=0,0,t.base[[#This Row],[TOTAL]])","v":12814}]
["2017-12-13","KETZI S.A.C.","Norte","0001-003343","2018-03-13",0,{"v":40422,"d":"40,422"},{"$f":"IF(t.base[[#This Row],[DIAS DE ATRASO]]=0,0,t.base[[#This Row],[TOTAL]])","v":0}]
["2017-12-13","ROJAS VILLANO NILO","Centro","0002-003096","2018-03-13",0,{"v":20012,"d":"20,012"},{"$f":"IF(t.base[[#This Row],[DIAS DE ATRASO]]=0,0,t.base[[#This Row],[TOTAL]])","v":0}]
["2018-01-14","CEIGNE MUNDO AMIGO","Centro","0001-008639","2018-02-28",13,{"v":17885,"d":"17,885"},{"$f":"IF(t.base[[#This Row],[DIAS DE ATRASO]]=0,0,t.base[[#This Row],[TOTAL]])","v":17885}]
["2017-12-12","CEM JEANS E.I.R.L.","Centro","0002-005175","2018-01-11",61,{"v":27538,"d":"27,538"},{"$f":"IF(t.base[[#This Row],[DIAS DE ATRASO]]=0,0,t.base[[#This Row],[TOTAL]])","v":27538}]
["2018-02-26","COMERCIAL LIVCI SAC","Centro","0001-004510","2018-03-13",0,{"v":21003,"d":"21,003"},{"$f":"IF(t.base[[#This Row],[DIAS DE ATRASO]]=0,0,t.base[[#This Row],[TOTAL]])","v":0}]
["2018-01-12","SONMAR S.R.L.","Sur","0001-008307","2018-03-13",0,{"v":28250,"d":"28,250"},{"$f":"IF(t.base[[#This Row],[DIAS DE ATRASO]]=0,0,t.base[[#This Row],[TOTAL]])","v":0}]
["2018-02-26","ASCLEPIO S.A.C.","Centro","0001-001680","2018-03-13",0,{"v":17219,"d":"17,219"},{"$f":"IF(t.base[[#This Row],[DIAS DE ATRASO]]=0,0,t.base[[#This Row],[TOTAL]])","v":0}]
["2018-03-12","AFC BUSSINES SRLTDA","Centro","0002-001334","2018-03-12",1,{"v":13671,"d":"13,671"},{"$f":"IF(t.base[[#This Row],[DIAS DE ATRASO]]=0,0,t.base[[#This Row],[TOTAL]])","v":13671}]
["2018-01-14","KIYOTAMA  S.A.C.","Centro","0002-006598","2018-01-14",58,{"v":15882,"d":"15,882"},{"$f":"IF(t.base[[#This Row],[DIAS DE ATRASO]]=0,0,t.base[[#This Row],[TOTAL]])","v":15882}]
["2018-01-14","MRP E.I.R.L.","Centro","0002-006868","2018-01-14",58,{"v":14772,"d":"14,772"},{"$f":"IF(t.base[[#This Row],[DIAS DE ATRASO]]=0,0,t.base[[#This Row],[TOTAL]])","v":14772}]
["2018-01-11","SEIKATSU  SAC","Centro","0001-001073","2018-03-12",1,{"v":13718,"d":"13,718"},{"$f":"IF(t.base[[#This Row],[DIAS DE ATRASO]]=0,0,t.base[[#This Row],[TOTAL]])","v":13718}]
["2018-03-12","TAPIPLASTIC  S.A.C.","Norte","0002-008210","2018-03-12",1,{"v":18772,"d":"18,772"},{"$f":"IF(t.base[[#This Row],[DIAS DE ATRASO]]=0,0,t.base[[#This Row],[TOTAL]])","v":18772}]
["2018-01-12","LA JOSEFA S.A.C.","Centro","0002-008454","2018-03-13",0,{"v":10934,"d":"10,934"},{"$f":"IF(t.base[[#This Row],[DIAS DE ATRASO]]=0,0,t.base[[#This Row],[TOTAL]])","v":0}]
["2018-03-13","ERTI SRL","Sur","0002-001746","2018-03-13",0,{"v":30088,"d":"30,088"},{"$f":"IF(t.base[[#This Row],[DIAS DE ATRASO]]=0,0,t.base[[#This Row],[TOTAL]])","v":0}]
["2017-12-13","ZHONG YUSHU","Centro","0001-006202","2018-02-11",30,{"v":15999,"d":"15,999"},{"$f":"IF(t.base[[#This Row],[DIAS DE ATRASO]]=0,0,t.base[[#This Row],[TOTAL]])","v":15999}]
["2018-01-11","CBMARKETERS S.A.C.","Centro","0002-003408","2018-03-12",1,{"v":28872,"d":"28,872"},{"$f":"IF(t.base[[#This Row],[DIAS DE ATRASO]]=0,0,t.base[[#This Row],[TOTAL]])","v":28872}]
["2018-02-11","INTERBIKE EIRL","Centro","0002-006567","2018-03-13",0,{"v":18471,"d":"18,471"},{"$f":"IF(t.base[[#This Row],[DIAS DE ATRASO]]=0,0,t.base[[#This Row],[TOTAL]])","v":0}]
["2018-01-12","CACERESA S.A.C.","Centro","0001-002183","2018-03-13",0,{"v":19596,"d":"19,596"},{"$f":"IF(t.base[[#This Row],[DIAS DE ATRASO]]=0,0,t.base[[#This Row],[TOTAL]])","v":0}]
["2017-10-24","CALIGAS S.R.L.","Centro","0002-006783","2018-01-22",50,{"v":29750,"d":"29,750"},{"$f":"IF(t.base[[#This Row],[DIAS DE ATRASO]]=0,0,t.base[[#This Row],[TOTAL]])","v":29750}]
["2017-12-13","ILOP  S.A.C.","Centro","0001-001569","2018-03-13",0,{"v":12092,"d":"12,092"},{"$f":"IF(t.base[[#This Row],[DIAS DE ATRASO]]=0,0,t.base[[#This Row],[TOTAL]])","v":0}]
["2017-12-12","DDP ADUANAS S.A.C.","Sur","0002-002197","2018-03-12",1,{"v":21189,"d":"21,189"},{"$f":"IF(t.base[[#This Row],[DIAS DE ATRASO]]=0,0,t.base[[#This Row],[TOTAL]])","v":21189}]
["2018-02-05","NIETO MEJIA VILMA","Centro","0002-008706","2018-02-05",36,{"v":19915,"d":"19,915"},{"$f":"IF(t.base[[#This Row],[DIAS DE ATRASO]]=0,0,t.base[[#This Row],[TOTAL]])","v":19915}]
["2018-02-26","TRASDIP E.I.R.L.","Sur","0001-001233","2018-02-26",15,{"v":48321,"d":"48,321"},{"$f":"IF(t.base[[#This Row],[DIAS DE ATRASO]]=0,0,t.base[[#This Row],[TOTAL]])","v":48321}]
["2018-02-25","FOSAM S.A.C.","Centro","0002-001241","2018-03-12",1,{"v":11655,"d":"11,655"},{"$f":"IF(t.base[[#This Row],[DIAS DE ATRASO]]=0,0,t.base[[#This Row],[TOTAL]])","v":11655}]
["2017-12-13","ENERWELD SAC","Centro","0002-007903","2018-03-13",0,{"v":20281,"d":"20,281"},{"$f":"IF(t.base[[#This Row],[DIAS DE ATRASO]]=0,0,t.base[[#This Row],[TOTAL]])","v":0}]
["2018-02-11","MAC HARE S.A.C.","Centro","0001-005308","2018-03-13",0,{"v":19560,"d":"19,560"},{"$f":"IF(t.base[[#This Row],[DIAS DE ATRASO]]=0,0,t.base[[#This Row],[TOTAL]])","v":0}]
["2018-01-05","ECOMODA S.A.C.","Centro","0002-003401","2018-02-04",37,{"v":27440,"d":"27,440"},{"$f":"IF(t.base[[#This Row],[DIAS DE ATRASO]]=0,0,t.base[[#This Row],[TOTAL]])","v":27440}]
["2017-12-08","SOJITZ PERU S.A.","Centro","0001-006510","2018-03-08",5,{"v":21639,"d":"21,639"},{"$f":"IF(t.base[[#This Row],[DIAS DE ATRASO]]=0,0,t.base[[#This Row],[TOTAL]])","v":21639}]
["2017-11-06","OXIMARC S.R.L.","Norte","0001-001207","2017-12-21",82,{"v":53532,"d":"53,532"},{"$f":"IF(t.base[[#This Row],[DIAS DE ATRASO]]=0,0,t.base[[#This Row],[TOTAL]])","v":53532}]
["2017-06-15","MENDOZA GARCIA RAUL","Centro","0002-001369","2017-08-14",211,{"v":21271,"d":"21,271"},{"$f":"IF(t.base[[#This Row],[DIAS DE ATRASO]]=0,0,t.base[[#This Row],[TOTAL]])","v":21271}]
["2018-02-11","COMPUMAGIC S.A.C.","Centro","0002-004612","2018-03-13",0,{"v":28254,"d":"28,254"},{"$f":"IF(t.base[[#This Row],[DIAS DE ATRASO]]=0,0,t.base[[#This Row],[TOTAL]])","v":0}]
["2018-01-10","TRICOTTON S.A.C","Centro","0001-008996","2018-01-10",62,{"v":28364,"d":"28,364"},{"$f":"IF(t.base[[#This Row],[DIAS DE ATRASO]]=0,0,t.base[[#This Row],[TOTAL]])","v":28364}]
["2017-11-19","J. G Y R S.A.C.","Sur","0001-003320","2017-12-19",84,{"v":28122,"d":"28,122"},{"$f":"IF(t.base[[#This Row],[DIAS DE ATRASO]]=0,0,t.base[[#This Row],[TOTAL]])","v":28122}]
["2017-11-24","NABILA S.A.C.","Centro","0001-006383","2018-02-22",19,{"v":16205,"d":"16,205"},{"$f":"IF(t.base[[#This Row],[DIAS DE ATRASO]]=0,0,t.base[[#This Row],[TOTAL]])","v":16205}]
["2018-01-27","GRUPO GXM E.I.R.L.","Sur","0001-009475","2018-03-13",0,{"v":24020,"d":"24,020"},{"$f":"IF(t.base[[#This Row],[DIAS DE ATRASO]]=0,0,t.base[[#This Row],[TOTAL]])","v":0}]
["2018-01-23","ASTRIB S.A.C.","Centro","0001-004491","2018-03-09",4,{"v":22734,"d":"22,734"},{"$f":"IF(t.base[[#This Row],[DIAS DE ATRASO]]=0,0,t.base[[#This Row],[TOTAL]])","v":22734}]
["2018-02-26","AYAME S.A.C.","Centro","0001-005499","2018-03-13",0,{"v":24696,"d":"24,696"},{"$f":"IF(t.base[[#This Row],[DIAS DE ATRASO]]=0,0,t.base[[#This Row],[TOTAL]])","v":0}]
["2018-02-11","RAMOS JACINTO PEDRO","Centro","0001-004035","2018-03-13",0,{"v":26100,"d":"26,100"},{"$f":"IF(t.base[[#This Row],[DIAS DE ATRASO]]=0,0,t.base[[#This Row],[TOTAL]])","v":0}]
["2018-03-13","FERNANDEZ SRL","Norte","0002-004606","2018-03-13",0,{"v":58889,"d":"58,889"},{"$f":"IF(t.base[[#This Row],[DIAS DE ATRASO]]=0,0,t.base[[#This Row],[TOTAL]])","v":0}]
["2017-12-13","LINDO HOGAR S.A.C","Centro","0001-007642","2018-03-13",0,{"v":24445,"d":"24,445"},{"$f":"IF(t.base[[#This Row],[DIAS DE ATRASO]]=0,0,t.base[[#This Row],[TOTAL]])","v":0}]
["2018-02-11","GB ELECTRIC SAC","Centro","0001-004980","2018-03-13",0,{"v":13680,"d":"13,680"},{"$f":"IF(t.base[[#This Row],[DIAS DE ATRASO]]=0,0,t.base[[#This Row],[TOTAL]])","v":0}]
["2017-11-22","METALES FINOS S.A.","Centro","0002-007420","2017-12-22",81,{"v":16407,"d":"16,407"},{"$f":"IF(t.base[[#This Row],[DIAS DE ATRASO]]=0,0,t.base[[#This Row],[TOTAL]])","v":16407}]
["2017-12-13","DICASA Y CIA S.A.C","Centro","0002-006836","2018-03-13",0,{"v":19995,"d":"19,995"},{"$f":"IF(t.base[[#This Row],[DIAS DE ATRASO]]=0,0,t.base[[#This Row],[TOTAL]])","v":0}]
["2017-07-09","TOTY S.A.C.","Norte","0002-009253","2017-09-07",187,{"v":30280,"d":"30,280"},{"$f":"IF(t.base[[#This Row],[DIAS DE ATRASO]]=0,0,t.base[[#This Row],[TOTAL]])","v":30280}]
["2018-02-26","CIA NEMER SAC","Sur","0001-007303","2018-03-13",0,{"v":17446,"d":"17,446"},{"$f":"IF(t.base[[#This Row],[DIAS DE ATRASO]]=0,0,t.base[[#This Row],[TOTAL]])","v":0}]
["2018-03-12","MELASUR S.A.C.","Centro","0001-007646","2018-03-12",1,{"v":18040,"d":"18,040"},{"$f":"IF(t.base[[#This Row],[DIAS DE ATRASO]]=0,0,t.base[[#This Row],[TOTAL]])","v":18040}]
["2018-01-11","HUISA ZAMATA JORGE","Centro","0002-004036","2018-03-12",1,{"v":14862,"d":"14,862"},{"$f":"IF(t.base[[#This Row],[DIAS DE ATRASO]]=0,0,t.base[[#This Row],[TOTAL]])","v":14862}]
["2018-02-10","ILOP  S.A.C.","Centro","0001-003085","2018-03-12",1,{"v":23521,"d":"23,521"},{"$f":"IF(t.base[[#This Row],[DIAS DE ATRASO]]=0,0,t.base[[#This Row],[TOTAL]])","v":23521}]
["2018-02-11","AJRAZ THOME FELIPE","Centro","0002-001705","2018-03-13",0,{"v":27753,"d":"27,753"},{"$f":"IF(t.base[[#This Row],[DIAS DE ATRASO]]=0,0,t.base[[#This Row],[TOTAL]])","v":0}]
["2018-03-13","ROSATEX E.I.R.L.","Centro","0002-004404","2018-03-13",0,{"v":25204,"d":"25,204"},{"$f":"IF(t.base[[#This Row],[DIAS DE ATRASO]]=0,0,t.base[[#This Row],[TOTAL]])","v":0}]
["2017-09-06","ORE TAIPE YOLANDA","Centro","0002-006131","2017-10-21",143,{"v":11429,"d":"11,429"},{"$f":"IF(t.base[[#This Row],[DIAS DE ATRASO]]=0,0,t.base[[#This Row],[TOTAL]])","v":11429}]
["2018-02-26","LAVA EXPRESS SAC","Centro","0002-006392","2018-03-13",0,{"v":24176,"d":"24,176"},{"$f":"IF(t.base[[#This Row],[DIAS DE ATRASO]]=0,0,t.base[[#This Row],[TOTAL]])","v":0}]
["2018-01-05","NEGYSER PERU S.A.C.","Centro","0001-005455","2018-02-04",37,{"v":13524,"d":"13,524"},{"$f":"IF(t.base[[#This Row],[DIAS DE ATRASO]]=0,0,t.base[[#This Row],[TOTAL]])","v":13524}]
["2017-09-20","CONDORCO S.R.L.","Centro","0002-008375","2017-10-20",144,{"v":20351,"d":"20,351"},{"$f":"IF(t.base[[#This Row],[DIAS DE ATRASO]]=0,0,t.base[[#This Row],[TOTAL]])","v":20351}]
["2017-11-30","JYM FASHION EIRL","Centro","0001-004080","2018-01-14",58,{"v":27037,"d":"27,037"},{"$f":"IF(t.base[[#This Row],[DIAS DE ATRASO]]=0,0,t.base[[#This Row],[TOTAL]])","v":27037}]
["2017-10-14","RAVALT S.R.L.","Sur","0002-005085","2018-01-12",60,{"v":35439,"d":"35,439"},{"$f":"IF(t.base[[#This Row],[DIAS DE ATRASO]]=0,0,t.base[[#This Row],[TOTAL]])","v":35439}]
["2017-12-11","CREAKTIVO S.A.C.","Centro","0001-004889","2018-02-09",32,{"v":15278,"d":"15,278"},{"$f":"IF(t.base[[#This Row],[DIAS DE ATRASO]]=0,0,t.base[[#This Row],[TOTAL]])","v":15278}]
["2017-11-28","REGALOS BENJI SAC","Centro","0001-005060","2018-01-12",60,{"v":28973,"d":"28,973"},{"$f":"IF(t.base[[#This Row],[DIAS DE ATRASO]]=0,0,t.base[[#This Row],[TOTAL]])","v":28973}]
["2017-12-21","QUISPE TORRES OLGA","Centro","0002-003010","2017-12-21",82,{"v":24971,"d":"24,971"},{"$f":"IF(t.base[[#This Row],[DIAS DE ATRASO]]=0,0,t.base[[#This Row],[TOTAL]])","v":24971}]
["2018-01-27","CONSORCIO LIPESOL","Centro","0002-001163","2018-03-13",0,{"v":29229,"d":"29,229"},{"$f":"IF(t.base[[#This Row],[DIAS DE ATRASO]]=0,0,t.base[[#This Row],[TOTAL]])","v":0}]
["2017-10-05","EL HERMANO E.I.R.L.","Sur","0002-007112","2017-10-20",144,{"v":10834,"d":"10,834"},{"$f":"IF(t.base[[#This Row],[DIAS DE ATRASO]]=0,0,t.base[[#This Row],[TOTAL]])","v":10834}]
["2018-01-27","PEREZ ROMERO ROGER","Centro","0001-001471","2018-03-13",0,{"v":13941,"d":"13,941"},{"$f":"IF(t.base[[#This Row],[DIAS DE ATRASO]]=0,0,t.base[[#This Row],[TOTAL]])","v":0}]
["2018-01-27","ALI - MART S.A.C.","Centro","0001-006594","2018-03-13",0,{"v":13073,"d":"13,073"},{"$f":"IF(t.base[[#This Row],[DIAS DE ATRASO]]=0,0,t.base[[#This Row],[TOTAL]])","v":0}]
["2018-02-25","J.D. PLASTIC S.A.C.","Centro","0001-008460","2018-03-12",1,{"v":18236,"d":"18,236"},{"$f":"IF(t.base[[#This Row],[DIAS DE ATRASO]]=0,0,t.base[[#This Row],[TOTAL]])","v":18236}]
["2017-12-13","SQHE S.A.C.","Centro","0002-001487","2018-03-13",0,{"v":16630,"d":"16,630"},{"$f":"IF(t.base[[#This Row],[DIAS DE ATRASO]]=0,0,t.base[[#This Row],[TOTAL]])","v":0}]
["2018-03-12","CBMARKETERS S.A.C.","Centro","0002-003808","2018-03-12",1,{"v":18440,"d":"18,440"},{"$f":"IF(t.base[[#This Row],[DIAS DE ATRASO]]=0,0,t.base[[#This Row],[TOTAL]])","v":18440}]
["2017-10-14","TITANIUM S.A.C.","Centro","0002-003706","2017-12-13",90,{"v":13278,"d":"13,278"},{"$f":"IF(t.base[[#This Row],[DIAS DE ATRASO]]=0,0,t.base[[#This Row],[TOTAL]])","v":13278}]
["2018-03-13","YON JAU JUAN","Centro","0001-009081","2018-03-13",0,{"v":22260,"d":"22,260"},{"$f":"IF(t.base[[#This Row],[DIAS DE ATRASO]]=0,0,t.base[[#This Row],[TOTAL]])","v":0}]
["2018-01-27","AVETSA E.I.R.L.","Sur","0002-008290","2018-03-13",0,{"v":43461,"d":"43,461"},{"$f":"IF(t.base[[#This Row],[DIAS DE ATRASO]]=0,0,t.base[[#This Row],[TOTAL]])","v":0}]
["2018-03-13","A & SAN JOSE S.A.C","Centro","0002-008979","2018-03-13",0,{"v":21314,"d":"21,314"},{"$f":"IF(t.base[[#This Row],[DIAS DE ATRASO]]=0,0,t.base[[#This Row],[TOTAL]])","v":0}]
["2018-02-11","MZF EIRL","Centro","0001-001757","2018-03-13",0,{"v":12049,"d":"12,049"},{"$f":"IF(t.base[[#This Row],[DIAS DE ATRASO]]=0,0,t.base[[#This Row],[TOTAL]])","v":0}]
["2018-02-26","QUISPE TORRES OLGA","Centro","0001-006133","2018-03-13",0,{"v":29293,"d":"29,293"},{"$f":"IF(t.base[[#This Row],[DIAS DE ATRASO]]=0,0,t.base[[#This Row],[TOTAL]])","v":0}]
["2017-12-13","CURASMA POMA YODI","Centro","0002-003544","2018-03-13",0,{"v":20605,"d":"20,605"},{"$f":"IF(t.base[[#This Row],[DIAS DE ATRASO]]=0,0,t.base[[#This Row],[TOTAL]])","v":0}]
["2017-09-20","ZEF PERU S.A.C.","Centro","0002-004433","2017-12-19",84,{"v":28755,"d":"28,755"},{"$f":"IF(t.base[[#This Row],[DIAS DE ATRASO]]=0,0,t.base[[#This Row],[TOTAL]])","v":28755}]
["2018-02-25","FIDUCIARIA GBC S.A.","Centro","0001-006738","2018-03-12",1,{"v":17383,"d":"17,383"},{"$f":"IF(t.base[[#This Row],[DIAS DE ATRASO]]=0,0,t.base[[#This Row],[TOTAL]])","v":17383}]
["2018-03-13","TRIGOZO DIAZ CLELIA","Centro","0001-002703","2018-03-13",0,{"v":10361,"d":"10,361"},{"$f":"IF(t.base[[#This Row],[DIAS DE ATRASO]]=0,0,t.base[[#This Row],[TOTAL]])","v":0}]
["2018-01-11","JURO CHAPARRO ISAAC","Centro","0001-003547","2018-03-12",1,{"v":16508,"d":"16,508"},{"$f":"IF(t.base[[#This Row],[DIAS DE ATRASO]]=0,0,t.base[[#This Row],[TOTAL]])","v":16508}]
["2017-08-11","MI ROSEDAL S.A.C.","Centro","0002-002842","2017-10-10",154,{"v":15956,"d":"15,956"},{"$f":"IF(t.base[[#This Row],[DIAS DE ATRASO]]=0,0,t.base[[#This Row],[TOTAL]])","v":15956}]
["2018-01-12","VIDA CORAL PERU SAC","Centro","0002-002600","2018-03-13",0,{"v":24087,"d":"24,087"},{"$f":"IF(t.base[[#This Row],[DIAS DE ATRASO]]=0,0,t.base[[#This Row],[TOTAL]])","v":0}]
["2017-07-17","PROGERSE S R L","Centro","0001-004582","2017-08-16",209,{"v":14346,"d":"14,346"},{"$f":"IF(t.base[[#This Row],[DIAS DE ATRASO]]=0,0,t.base[[#This Row],[TOTAL]])","v":14346}]
["2018-03-10","AMIJE S.R.L.","Norte","0002-008765","2018-03-10",3,{"v":15828,"d":"15,828"},{"$f":"IF(t.base[[#This Row],[DIAS DE ATRASO]]=0,0,t.base[[#This Row],[TOTAL]])","v":15828}]
["2018-02-10","LEON GROUP E.I.R.L.","Sur","0002-009140","2018-03-12",1,{"v":37420,"d":"37,420"},{"$f":"IF(t.base[[#This Row],[DIAS DE ATRASO]]=0,0,t.base[[#This Row],[TOTAL]])","v":37420}]
["2018-03-12","BEKTON S.A.C.","Centro","0002-003005","2018-03-12",1,{"v":21133,"d":"21,133"},{"$f":"IF(t.base[[#This Row],[DIAS DE ATRASO]]=0,0,t.base[[#This Row],[TOTAL]])","v":21133}]
["2017-11-15","MIRJANA S.A.C.","Centro","0001-004216","2017-12-15",88,{"v":27202,"d":"27,202"},{"$f":"IF(t.base[[#This Row],[DIAS DE ATRASO]]=0,0,t.base[[#This Row],[TOTAL]])","v":27202}]
["2017-12-13","SERVICON S.A.C.","Norte","0002-001032","2018-03-13",0,{"v":17040,"d":"17,040"},{"$f":"IF(t.base[[#This Row],[DIAS DE ATRASO]]=0,0,t.base[[#This Row],[TOTAL]])","v":0}]
["2018-02-26","URDICH SAC","Centro","0001-006086","2018-03-13",0,{"v":17350,"d":"17,350"},{"$f":"IF(t.base[[#This Row],[DIAS DE ATRASO]]=0,0,t.base[[#This Row],[TOTAL]])","v":0}]
["2018-01-12","TRANSOIL S.A.C.","Centro","0001-004978","2018-03-13",0,{"v":20358,"d":"20,358"},{"$f":"IF(t.base[[#This Row],[DIAS DE ATRASO]]=0,0,t.base[[#This Row],[TOTAL]])","v":0}]
["2017-07-31","MENESES SAC","Centro","0001-004210","2017-10-29",135,{"v":15707,"d":"15,707"},{"$f":"IF(t.base[[#This Row],[DIAS DE ATRASO]]=0,0,t.base[[#This Row],[TOTAL]])","v":15707}]
["2017-10-27","SALVADOR LAZO FIDEL","Centro","0002-007398","2017-10-27",137,{"v":14107,"d":"14,107"},{"$f":"IF(t.base[[#This Row],[DIAS DE ATRASO]]=0,0,t.base[[#This Row],[TOTAL]])","v":14107}]
["2018-02-11","JYM FASHION EIRL","Centro","0001-003868","2018-03-13",0,{"v":26092,"d":"26,092"},{"$f":"IF(t.base[[#This Row],[DIAS DE ATRASO]]=0,0,t.base[[#This Row],[TOTAL]])","v":0}]
["2017-07-30","SILFER E.I.R.L.","Norte","0001-004621","2017-07-30",226,{"v":23843,"d":"23,843"},{"$f":"IF(t.base[[#This Row],[DIAS DE ATRASO]]=0,0,t.base[[#This Row],[TOTAL]])","v":23843}]
["2018-03-13","EPSON PERU S.A","Centro","0001-002619","2018-03-13",0,{"v":16634,"d":"16,634"},{"$f":"IF(t.base[[#This Row],[DIAS DE ATRASO]]=0,0,t.base[[#This Row],[TOTAL]])","v":0}]
["2018-02-26","SEMAPELI S.R.L.","Sur","0001-001862","2018-03-13",0,{"v":18076,"d":"18,076"},{"$f":"IF(t.base[[#This Row],[DIAS DE ATRASO]]=0,0,t.base[[#This Row],[TOTAL]])","v":0}]
["2018-02-26","ROL EMPRESARIAL S A","Centro","0002-009065","2018-03-13",0,{"v":26444,"d":"26,444"},{"$f":"IF(t.base[[#This Row],[DIAS DE ATRASO]]=0,0,t.base[[#This Row],[TOTAL]])","v":0}]
["2018-02-11","KAVIEL E.I.R.L","Norte","0001-007001","2018-03-13",0,{"v":27861,"d":"27,861"},{"$f":"IF(t.base[[#This Row],[DIAS DE ATRASO]]=0,0,t.base[[#This Row],[TOTAL]])","v":0}]
["2018-02-26","SANKUAY S.R.LTDA.","Centro","0002-004901","2018-03-13",0,{"v":28381,"d":"28,381"},{"$f":"IF(t.base[[#This Row],[DIAS DE ATRASO]]=0,0,t.base[[#This Row],[TOTAL]])","v":0}]
["2018-01-27","LIDER GRAFICO SRL","Norte","0002-009823","2018-03-13",0,{"v":40908,"d":"40,908"},{"$f":"IF(t.base[[#This Row],[DIAS DE ATRASO]]=0,0,t.base[[#This Row],[TOTAL]])","v":0}]
["2018-01-27","TUPER S.A.C.","Centro","0002-005941","2018-03-13",0,{"v":15449,"d":"15,449"},{"$f":"IF(t.base[[#This Row],[DIAS DE ATRASO]]=0,0,t.base[[#This Row],[TOTAL]])","v":0}]
["2017-12-13","TOUS PERU S.A.C.","Centro","0002-007452","2018-03-13",0,{"v":21760,"d":"21,760"},{"$f":"IF(t.base[[#This Row],[DIAS DE ATRASO]]=0,0,t.base[[#This Row],[TOTAL]])","v":0}]
["2018-01-26","WSILVAP E.I.R.L","Centro","0001-004177","2018-03-12",1,{"v":19587,"d":"19,587"},{"$f":"IF(t.base[[#This Row],[DIAS DE ATRASO]]=0,0,t.base[[#This Row],[TOTAL]])","v":19587}]
["2018-01-12","TOP CENTER E.I.R.L.","Sur","0002-007733","2018-03-13",0,{"v":13591,"d":"13,591"},{"$f":"IF(t.base[[#This Row],[DIAS DE ATRASO]]=0,0,t.base[[#This Row],[TOTAL]])","v":0}]
["2018-01-20","POZO TORRES CLAUDIA","Centro","0001-009968","2018-02-04",37,{"v":21732,"d":"21,732"},{"$f":"IF(t.base[[#This Row],[DIAS DE ATRASO]]=0,0,t.base[[#This Row],[TOTAL]])","v":21732}]
["2017-11-02","BALTRONIX E.I.R.L.","Centro","0002-007011","2018-01-01",71,{"v":12694,"d":"12,694"},{"$f":"IF(t.base[[#This Row],[DIAS DE ATRASO]]=0,0,t.base[[#This Row],[TOTAL]])","v":12694}]
["2018-01-27","ESTETICA VENUS SRL","Centro","0001-005999","2018-03-13",0,{"v":28863,"d":"28,863"},{"$f":"IF(t.base[[#This Row],[DIAS DE ATRASO]]=0,0,t.base[[#This Row],[TOTAL]])","v":0}]
["2017-12-13","MAMICLUB S.A.C.","Centro","0001-008627","2018-03-13",0,{"v":19796,"d":"19,796"},{"$f":"IF(t.base[[#This Row],[DIAS DE ATRASO]]=0,0,t.base[[#This Row],[TOTAL]])","v":0}]
["2017-12-13","NUTRE PERU E.I.R.L.","Centro","0001-006685","2018-03-13",0,{"v":18742,"d":"18,742"},{"$f":"IF(t.base[[#This Row],[DIAS DE ATRASO]]=0,0,t.base[[#This Row],[TOTAL]])","v":0}]
["2017-11-11","TEXMACHINE S.A.C.","Centro","0002-009293","2018-02-09",32,{"v":20312,"d":"20,312"},{"$f":"IF(t.base[[#This Row],[DIAS DE ATRASO]]=0,0,t.base[[#This Row],[TOTAL]])","v":20312}]
["2018-03-12","DELNOREP S.R.L.","Centro","0001-003327","2018-03-12",1,{"v":14060,"d":"14,060"},{"$f":"IF(t.base[[#This Row],[DIAS DE ATRASO]]=0,0,t.base[[#This Row],[TOTAL]])","v":14060}]
["2018-01-27","ECO TAXI S.A.C.","Centro","0001-008955","2018-03-13",0,{"v":17549,"d":"17,549"},{"$f":"IF(t.base[[#This Row],[DIAS DE ATRASO]]=0,0,t.base[[#This Row],[TOTAL]])","v":0}]
["2018-01-27","GARCIA CAVERO MAURA","Centro","0002-003544","2018-03-13",0,{"v":10455,"d":"10,455"},{"$f":"IF(t.base[[#This Row],[DIAS DE ATRASO]]=0,0,t.base[[#This Row],[TOTAL]])","v":0}]
["2017-12-12","FARMA OBLEA SAC","Centro","0002-004926","2018-03-12",1,{"v":16706,"d":"16,706"},{"$f":"IF(t.base[[#This Row],[DIAS DE ATRASO]]=0,0,t.base[[#This Row],[TOTAL]])","v":16706}]
["2018-01-12","MICROTEC S.A.C.","Norte","0002-004848","2018-03-13",0,{"v":34155,"d":"34,155"},{"$f":"IF(t.base[[#This Row],[DIAS DE ATRASO]]=0,0,t.base[[#This Row],[TOTAL]])","v":0}]
["2018-03-13","FULL MARKET S.A.C.","Sur","0002-003503","2018-03-13",0,{"v":37151,"d":"37,151"},{"$f":"IF(t.base[[#This Row],[DIAS DE ATRASO]]=0,0,t.base[[#This Row],[TOTAL]])","v":0}]
["2018-01-27","GRAVICOM S.A.C.","Sur","0002-007393","2018-03-13",0,{"v":39484,"d":"39,484"},{"$f":"IF(t.base[[#This Row],[DIAS DE ATRASO]]=0,0,t.base[[#This Row],[TOTAL]])","v":0}]
["2017-12-13","SOBITEC PERU S.A.C.","Centro","0001-008973","2018-03-13",0,{"v":14990,"d":"14,990"},{"$f":"IF(t.base[[#This Row],[DIAS DE ATRASO]]=0,0,t.base[[#This Row],[TOTAL]])","v":0}]
["2017-12-26","NOVAX E.I.R.L.","Centro","0001-005178","2017-12-26",77,{"v":24787,"d":"24,787"},{"$f":"IF(t.base[[#This Row],[DIAS DE ATRASO]]=0,0,t.base[[#This Row],[TOTAL]])","v":24787}]
["2017-12-09","MOTOREMA S.A.C.","Centro","0001-001387","2018-01-23",49,{"v":10044,"d":"10,044"},{"$f":"IF(t.base[[#This Row],[DIAS DE ATRASO]]=0,0,t.base[[#This Row],[TOTAL]])","v":10044}]
["2017-11-11","LIU LING XIANG EIRL","Centro","0002-009821","2018-02-09",32,{"v":24378,"d":"24,378"},{"$f":"IF(t.base[[#This Row],[DIAS DE ATRASO]]=0,0,t.base[[#This Row],[TOTAL]])","v":24378}]
["2018-01-25","SERMATFER E.I.R.L","Centro","0002-001746","2018-02-09",32,{"v":16595,"d":"16,595"},{"$f":"IF(t.base[[#This Row],[DIAS DE ATRASO]]=0,0,t.base[[#This Row],[TOTAL]])","v":16595}]
["2018-03-13","VLALDO E.I.R.L.","Norte","0002-007969","2018-03-13",0,{"v":64938,"d":"64,938"},{"$f":"IF(t.base[[#This Row],[DIAS DE ATRASO]]=0,0,t.base[[#This Row],[TOTAL]])","v":0}]
["2017-11-30","REGALOS BENJI SAC","Centro","0001-004483","2018-02-28",13,{"v":14652,"d":"14,652"},{"$f":"IF(t.base[[#This Row],[DIAS DE ATRASO]]=0,0,t.base[[#This Row],[TOTAL]])","v":14652}]
["2018-03-13","SOTO VILA ROBERTO","Centro","0002-007642","2018-03-13",0,{"v":26721,"d":"26,721"},{"$f":"IF(t.base[[#This Row],[DIAS DE ATRASO]]=0,0,t.base[[#This Row],[TOTAL]])","v":0}]
["2017-11-14","ALFA & ALFA E.I.R.L","Centro","0001-009695","2017-12-29",74,{"v":26259,"d":"26,259"},{"$f":"IF(t.base[[#This Row],[DIAS DE ATRASO]]=0,0,t.base[[#This Row],[TOTAL]])","v":26259}]
["2018-02-21","TONG WONG MU CHIN","Centro","0001-002441","2018-03-08",5,{"v":28679,"d":"28,679"},{"$f":"IF(t.base[[#This Row],[DIAS DE ATRASO]]=0,0,t.base[[#This Row],[TOTAL]])","v":28679}]
["2017-12-17","VILLA GALVEZ NEYCER","Centro","0001-009914","2018-02-15",26,{"v":28783,"d":"28,783"},{"$f":"IF(t.base[[#This Row],[DIAS DE ATRASO]]=0,0,t.base[[#This Row],[TOTAL]])","v":28783}]
["2017-10-01","NAYMLAP INN S.A.C","Centro","0002-006105","2017-11-30",103,{"v":12589,"d":"12,589"},{"$f":"IF(t.base[[#This Row],[DIAS DE ATRASO]]=0,0,t.base[[#This Row],[TOTAL]])","v":12589}]
["2017-12-13","CRITIKOS S.A.C.","Centro","0001-003702","2018-03-13",0,{"v":27423,"d":"27,423"},{"$f":"IF(t.base[[#This Row],[DIAS DE ATRASO]]=0,0,t.base[[#This Row],[TOTAL]])","v":0}]
["2017-12-13","MAQUIHER E.I.R.L.","Sur","0001-006019","2018-03-13",0,{"v":17435,"d":"17,435"},{"$f":"IF(t.base[[#This Row],[DIAS DE ATRASO]]=0,0,t.base[[#This Row],[TOTAL]])","v":0}]
["2017-12-13","CIRFOSA PERU S.R.L.","Norte","0002-005124","2018-03-13",0,{"v":44899,"d":"44,899"},{"$f":"IF(t.base[[#This Row],[DIAS DE ATRASO]]=0,0,t.base[[#This Row],[TOTAL]])","v":0}]
["2018-01-02","ARCATEX S.A.C.","Centro","0001-005215","2018-01-02",70,{"v":21807,"d":"21,807"},{"$f":"IF(t.base[[#This Row],[DIAS DE ATRASO]]=0,0,t.base[[#This Row],[TOTAL]])","v":21807}]
["2017-12-01","BIONOVA S.A.C.","Centro","0001-006845","2018-01-30",42,{"v":17465,"d":"17,465"},{"$f":"IF(t.base[[#This Row],[DIAS DE ATRASO]]=0,0,t.base[[#This Row],[TOTAL]])","v":17465}]
["2017-12-12","TLI ADUANAS S.A.C.","Centro","0002-003164","2018-03-12",1,{"v":26845,"d":"26,845"},{"$f":"IF(t.base[[#This Row],[DIAS DE ATRASO]]=0,0,t.base[[#This Row],[TOTAL]])","v":26845}]
["2018-03-13","KAMIFE E.I.R.L.","Sur","0002-008650","2018-03-13",0,{"v":24567,"d":"24,567"},{"$f":"IF(t.base[[#This Row],[DIAS DE ATRASO]]=0,0,t.base[[#This Row],[TOTAL]])","v":0}]
["2018-01-12","EXPROM EIRL","Centro","0002-002016","2018-03-13",0,{"v":16687,"d":"16,687"},{"$f":"IF(t.base[[#This Row],[DIAS DE ATRASO]]=0,0,t.base[[#This Row],[TOTAL]])","v":0}]
["2018-01-12","TONG WONG MU CHIN","Centro","0002-002995","2018-03-13",0,{"v":20693,"d":"20,693"},{"$f":"IF(t.base[[#This Row],[DIAS DE ATRASO]]=0,0,t.base[[#This Row],[TOTAL]])","v":0}]
["2018-03-13","CLAS ZAMACOLA","Sur","0001-005773","2018-03-13",0,{"v":21806,"d":"21,806"},{"$f":"IF(t.base[[#This Row],[DIAS DE ATRASO]]=0,0,t.base[[#This Row],[TOTAL]])","v":0}]
["2017-12-13","LOLA & MIGUEL SAC","Centro","0002-006316","2018-03-13",0,{"v":15155,"d":"15,155"},{"$f":"IF(t.base[[#This Row],[DIAS DE ATRASO]]=0,0,t.base[[#This Row],[TOTAL]])","v":0}]
["2017-12-25","POLIMAT S.A.C.","Centro","0002-001263","2018-02-23",18,{"v":24953,"d":"24,953"},{"$f":"IF(t.base[[#This Row],[DIAS DE ATRASO]]=0,0,t.base[[#This Row],[TOTAL]])","v":24953}]
["2018-03-13","REPDA PARTS S.R.L.","Sur","0002-009894","2018-03-13",0,{"v":47813,"d":"47,813"},{"$f":"IF(t.base[[#This Row],[DIAS DE ATRASO]]=0,0,t.base[[#This Row],[TOTAL]])","v":0}]
["2017-12-11","URETA SOTO SUSANA","Centro","0001-002945","2018-02-09",32,{"v":25003,"d":"25,003"},{"$f":"IF(t.base[[#This Row],[DIAS DE ATRASO]]=0,0,t.base[[#This Row],[TOTAL]])","v":25003}]
["2018-03-13","PROVESUR S.A.C","Centro","0002-002531","2018-03-13",0,{"v":28458,"d":"28,458"},{"$f":"IF(t.base[[#This Row],[DIAS DE ATRASO]]=0,0,t.base[[#This Row],[TOTAL]])","v":0}]
["2018-01-12","KARCIL S.A.C","Centro","0002-002940","2018-03-13",0,{"v":15750,"d":"15,750"},{"$f":"IF(t.base[[#This Row],[DIAS DE ATRASO]]=0,0,t.base[[#This Row],[TOTAL]])","v":0}]
["2018-02-11","COPA S A","Centro","0001-004960","2018-03-13",0,{"v":27038,"d":"27,038"},{"$f":"IF(t.base[[#This Row],[DIAS DE ATRASO]]=0,0,t.base[[#This Row],[TOTAL]])","v":0}]
["2017-12-02","HURTADO CAMPO JUANA","Centro","0001-006887","2018-01-01",71,{"v":12971,"d":"12,971"},{"$f":"IF(t.base[[#This Row],[DIAS DE ATRASO]]=0,0,t.base[[#This Row],[TOTAL]])","v":12971}]
["2018-01-18","COPLASTGROUP S.A.","Centro","0002-005020","2018-01-18",54,{"v":21609,"d":"21,609"},{"$f":"IF(t.base[[#This Row],[DIAS DE ATRASO]]=0,0,t.base[[#This Row],[TOTAL]])","v":21609}]
["2018-01-03","SYO PERU S.A.C.","Centro","0002-001301","2018-02-17",24,{"v":28637,"d":"28,637"},{"$f":"IF(t.base[[#This Row],[DIAS DE ATRASO]]=0,0,t.base[[#This Row],[TOTAL]])","v":28637}]
["2018-01-12","CEIGNE MUNDO AMIGO","Centro","0001-002790","2018-03-13",0,{"v":23289,"d":"23,289"},{"$f":"IF(t.base[[#This Row],[DIAS DE ATRASO]]=0,0,t.base[[#This Row],[TOTAL]])","v":0}]
["2018-01-23","A.C.D. S.R.L.","Sur","0001-003736","2018-01-23",49,{"v":42847,"d":"42,847"},{"$f":"IF(t.base[[#This Row],[DIAS DE ATRASO]]=0,0,t.base[[#This Row],[TOTAL]])","v":42847}]
["2017-11-20","MEYTEX SAC","Centro","0002-004277","2018-01-19",53,{"v":21581,"d":"21,581"},{"$f":"IF(t.base[[#This Row],[DIAS DE ATRASO]]=0,0,t.base[[#This Row],[TOTAL]])","v":21581}]
["2017-12-13","E - MARKET E.I.R.L.","Centro","0002-003897","2018-03-13",0,{"v":11606,"d":"11,606"},{"$f":"IF(t.base[[#This Row],[DIAS DE ATRASO]]=0,0,t.base[[#This Row],[TOTAL]])","v":0}]
["2018-02-26","ECOMODA S.A.C.","Centro","0002-009608","2018-03-13",0,{"v":19388,"d":"19,388"},{"$f":"IF(t.base[[#This Row],[DIAS DE ATRASO]]=0,0,t.base[[#This Row],[TOTAL]])","v":0}]
["2017-12-13","AJRAZ THOME FELIPE","Centro","0001-002698","2018-03-13",0,{"v":19155,"d":"19,155"},{"$f":"IF(t.base[[#This Row],[DIAS DE ATRASO]]=0,0,t.base[[#This Row],[TOTAL]])","v":0}]
["2018-02-11","WIBGUS S.A.C.","Centro","0001-008138","2018-03-13",0,{"v":20342,"d":"20,342"},{"$f":"IF(t.base[[#This Row],[DIAS DE ATRASO]]=0,0,t.base[[#This Row],[TOTAL]])","v":0}]
["2017-12-13","RASCH S.A.C.","Sur","0001-004818","2018-03-13",0,{"v":47838,"d":"47,838"},{"$f":"IF(t.base[[#This Row],[DIAS DE ATRASO]]=0,0,t.base[[#This Row],[TOTAL]])","v":0}]
["2018-01-23","C. CHINININ S.A.C.","Centro","0002-001284","2018-03-09",4,{"v":15380,"d":"15,380"},{"$f":"IF(t.base[[#This Row],[DIAS DE ATRASO]]=0,0,t.base[[#This Row],[TOTAL]])","v":15380}]
["2018-02-10","GRUPO 27 S.A.C.","Centro","0001-007151","2018-02-10",31,{"v":22832,"d":"22,832"},{"$f":"IF(t.base[[#This Row],[DIAS DE ATRASO]]=0,0,t.base[[#This Row],[TOTAL]])","v":22832}]
["2018-03-12","GRUPO VIGO S.A.C.","Centro","0001-004667","2018-03-12",1,{"v":11140,"d":"11,140"},{"$f":"IF(t.base[[#This Row],[DIAS DE ATRASO]]=0,0,t.base[[#This Row],[TOTAL]])","v":11140}]
["2018-02-11","MRP E.I.R.L.","Centro","0001-006250","2018-03-13",0,{"v":14655,"d":"14,655"},{"$f":"IF(t.base[[#This Row],[DIAS DE ATRASO]]=0,0,t.base[[#This Row],[TOTAL]])","v":0}]
["2018-01-27","SYSTCOM IMPORT SAC","Centro","0002-002939","2018-03-13",0,{"v":10098,"d":"10,098"},{"$f":"IF(t.base[[#This Row],[DIAS DE ATRASO]]=0,0,t.base[[#This Row],[TOTAL]])","v":0}]
["2018-01-11","D'SAYOMA EIRL","Sur","0001-005230","2018-03-12",1,{"v":19083,"d":"19,083"},{"$f":"IF(t.base[[#This Row],[DIAS DE ATRASO]]=0,0,t.base[[#This Row],[TOTAL]])","v":19083}]
["2017-12-13","LEI HUANLAN","Centro","0001-009830","2018-03-13",0,{"v":12333,"d":"12,333"},{"$f":"IF(t.base[[#This Row],[DIAS DE ATRASO]]=0,0,t.base[[#This Row],[TOTAL]])","v":0}]
["2017-11-10","BOMPER E.I.R.L.","Centro","0001-002129","2017-12-25",78,{"v":12685,"d":"12,685"},{"$f":"IF(t.base[[#This Row],[DIAS DE ATRASO]]=0,0,t.base[[#This Row],[TOTAL]])","v":12685}]
["2017-12-13","LA ROCCA SAC","Centro","0002-005390","2018-03-13",0,{"v":11417,"d":"11,417"},{"$f":"IF(t.base[[#This Row],[DIAS DE ATRASO]]=0,0,t.base[[#This Row],[TOTAL]])","v":0}]
["2018-01-12","CARROTEK S.A.C","Centro","0002-005227","2018-03-13",0,{"v":23578,"d":"23,578"},{"$f":"IF(t.base[[#This Row],[DIAS DE ATRASO]]=0,0,t.base[[#This Row],[TOTAL]])","v":0}]
["2018-02-26","TECENG S.A.C.","Centro","0001-009584","2018-03-13",0,{"v":10962,"d":"10,962"},{"$f":"IF(t.base[[#This Row],[DIAS DE ATRASO]]=0,0,t.base[[#This Row],[TOTAL]])","v":0}]
["2018-01-12","PROVINAK S.A.C.","Centro","0002-005864","2018-03-13",0,{"v":19722,"d":"19,722"},{"$f":"IF(t.base[[#This Row],[DIAS DE ATRASO]]=0,0,t.base[[#This Row],[TOTAL]])","v":0}]
["2017-11-23","BRENCO SAC","Norte","0001-004403","2018-01-07",65,{"v":25635,"d":"25,635"},{"$f":"IF(t.base[[#This Row],[DIAS DE ATRASO]]=0,0,t.base[[#This Row],[TOTAL]])","v":25635}]
["2018-02-26","MOCHILEROS S.A.C.","Centro","0001-008900","2018-03-13",0,{"v":24875,"d":"24,875"},{"$f":"IF(t.base[[#This Row],[DIAS DE ATRASO]]=0,0,t.base[[#This Row],[TOTAL]])","v":0}]
["2018-01-21","KARPATRI S.A.C.","Centro","0001-001859","2018-01-21",51,{"v":18592,"d":"18,592"},{"$f":"IF(t.base[[#This Row],[DIAS DE ATRASO]]=0,0,t.base[[#This Row],[TOTAL]])","v":18592}]
["2018-02-11","ROYAL TRANS S.A.C.","Centro","0001-009270","2018-03-13",0,{"v":19857,"d":"19,857"},{"$f":"IF(t.base[[#This Row],[DIAS DE ATRASO]]=0,0,t.base[[#This Row],[TOTAL]])","v":0}]
["2018-03-13","SERVOX S.R.L.","Sur","0001-009474","2018-03-13",0,{"v":47012,"d":"47,012"},{"$f":"IF(t.base[[#This Row],[DIAS DE ATRASO]]=0,0,t.base[[#This Row],[TOTAL]])","v":0}]
["2018-01-09","ROSATEX E.I.R.L.","Centro","0002-009393","2018-01-24",48,{"v":24236,"d":"24,236"},{"$f":"IF(t.base[[#This Row],[DIAS DE ATRASO]]=0,0,t.base[[#This Row],[TOTAL]])","v":24236}]
["2017-11-09","URETA SOTO SUSANA","Centro","0001-005631","2017-12-24",79,{"v":16119,"d":"16,119"},{"$f":"IF(t.base[[#This Row],[DIAS DE ATRASO]]=0,0,t.base[[#This Row],[TOTAL]])","v":16119}]
["2018-03-13","PEQUE E.I.R.L.","Centro","0001-005000","2018-03-13",0,{"v":24341,"d":"24,341"},{"$f":"IF(t.base[[#This Row],[DIAS DE ATRASO]]=0,0,t.base[[#This Row],[TOTAL]])","v":0}]
["2017-11-28","MELASUR S.A.C.","Centro","0001-008498","2018-01-12",60,{"v":22255,"d":"22,255"},{"$f":"IF(t.base[[#This Row],[DIAS DE ATRASO]]=0,0,t.base[[#This Row],[TOTAL]])","v":22255}]
["2018-01-27","J.O.B GAMES S.A.C.","Centro","0001-002984","2018-01-27",45,{"v":12676,"d":"12,676"},{"$f":"IF(t.base[[#This Row],[DIAS DE ATRASO]]=0,0,t.base[[#This Row],[TOTAL]])","v":12676}]
["2017-12-12","ASCLEPIO S.A.C.","Centro","0001-005395","2018-03-12",1,{"v":13413,"d":"13,413"},{"$f":"IF(t.base[[#This Row],[DIAS DE ATRASO]]=0,0,t.base[[#This Row],[TOTAL]])","v":13413}]
["2018-01-12","MAQUIHER E.I.R.L.","Sur","0001-005189","2018-03-13",0,{"v":33869,"d":"33,869"},{"$f":"IF(t.base[[#This Row],[DIAS DE ATRASO]]=0,0,t.base[[#This Row],[TOTAL]])","v":0}]
["2018-03-01","AGROSANTA E.I.R.L.","Centro","0002-009320","2018-03-01",12,{"v":10290,"d":"10,290"},{"$f":"IF(t.base[[#This Row],[DIAS DE ATRASO]]=0,0,t.base[[#This Row],[TOTAL]])","v":10290}]
["2018-03-12","ESTETICA VENUS SRL","Centro","0001-005599","2018-03-12",1,{"v":17591,"d":"17,591"},{"$f":"IF(t.base[[#This Row],[DIAS DE ATRASO]]=0,0,t.base[[#This Row],[TOTAL]])","v":17591}]
["2017-12-13","TEXARIAN E.I.R.L.","Centro","0001-004125","2018-03-13",0,{"v":18769,"d":"18,769"},{"$f":"IF(t.base[[#This Row],[DIAS DE ATRASO]]=0,0,t.base[[#This Row],[TOTAL]])","v":0}]
["2018-01-02","BODEGA OJEDA","Norte","0001-007102","2018-03-03",10,{"v":65158,"d":"65,158"},{"$f":"IF(t.base[[#This Row],[DIAS DE ATRASO]]=0,0,t.base[[#This Row],[TOTAL]])","v":65158}]
["2017-09-15","LAURI S.A.C.","Norte","0001-007219","2017-12-14",89,{"v":50749,"d":"50,749"},{"$f":"IF(t.base[[#This Row],[DIAS DE ATRASO]]=0,0,t.base[[#This Row],[TOTAL]])","v":50749}]
["2018-01-01","TRUCK PERU S.A.C.","Centro","0001-001012","2018-01-01",71,{"v":19743,"d":"19,743"},{"$f":"IF(t.base[[#This Row],[DIAS DE ATRASO]]=0,0,t.base[[#This Row],[TOTAL]])","v":19743}]
["2017-11-27","PAR OFFICE SAC","Centro","0001-005139","2018-01-26",46,{"v":19831,"d":"19,831"},{"$f":"IF(t.base[[#This Row],[DIAS DE ATRASO]]=0,0,t.base[[#This Row],[TOTAL]])","v":19831}]
["2018-03-12","GRAVICOM S.A.C.","Sur","0002-003743","2018-03-12",1,{"v":40316,"d":"40,316"},{"$f":"IF(t.base[[#This Row],[DIAS DE ATRASO]]=0,0,t.base[[#This Row],[TOTAL]])","v":40316}]
["2018-02-26","HACEB DEL PERU S.A.","Centro","0001-006374","2018-03-13",0,{"v":11616,"d":"11,616"},{"$f":"IF(t.base[[#This Row],[DIAS DE ATRASO]]=0,0,t.base[[#This Row],[TOTAL]])","v":0}]
["2017-11-14","S.J2 S.A.C.","Norte","0001-005091","2018-01-13",59,{"v":16603,"d":"16,603"},{"$f":"IF(t.base[[#This Row],[DIAS DE ATRASO]]=0,0,t.base[[#This Row],[TOTAL]])","v":16603}]
["2018-02-26","FIDUCIARIA GBC S.A.","Centro","0002-006420","2018-03-13",0,{"v":10281,"d":"10,281"},{"$f":"IF(t.base[[#This Row],[DIAS DE ATRASO]]=0,0,t.base[[#This Row],[TOTAL]])","v":0}]
["2018-01-12","GORVEZ E.I.R.L.","Norte","0002-009628","2018-03-13",0,{"v":28561,"d":"28,561"},{"$f":"IF(t.base[[#This Row],[DIAS DE ATRASO]]=0,0,t.base[[#This Row],[TOTAL]])","v":0}]
["2018-01-27","CASA LE MAN'S S.A.","Centro","0001-001936","2018-03-13",0,{"v":18269,"d":"18,269"},{"$f":"IF(t.base[[#This Row],[DIAS DE ATRASO]]=0,0,t.base[[#This Row],[TOTAL]])","v":0}]
["2018-02-11","INSUVECA PERU SA","Centro","0002-006863","2018-03-13",0,{"v":26132,"d":"26,132"},{"$f":"IF(t.base[[#This Row],[DIAS DE ATRASO]]=0,0,t.base[[#This Row],[TOTAL]])","v":0}]
["2018-01-16","COPLASTGROUP S.A.","Centro","0002-005490","2018-03-02",11,{"v":14225,"d":"14,225"},{"$f":"IF(t.base[[#This Row],[DIAS DE ATRASO]]=0,0,t.base[[#This Row],[TOTAL]])","v":14225}]
["2017-11-23","AGRORETAIL  S.A.C.","Centro","0001-003871","2017-12-23",80,{"v":26480,"d":"26,480"},{"$f":"IF(t.base[[#This Row],[DIAS DE ATRASO]]=0,0,t.base[[#This Row],[TOTAL]])","v":26480}]
["2018-03-13","ZOEY EIRL","Norte","0002-002904","2018-03-13",0,{"v":33930,"d":"33,930"},{"$f":"IF(t.base[[#This Row],[DIAS DE ATRASO]]=0,0,t.base[[#This Row],[TOTAL]])","v":0}]
["2017-11-22","NUEVA ATLANTIS SAC","Norte","0002-004500","2018-01-21",51,{"v":43674,"d":"43,674"},{"$f":"IF(t.base[[#This Row],[DIAS DE ATRASO]]=0,0,t.base[[#This Row],[TOTAL]])","v":43674}]
["2017-08-31","G.M. TRAMAS S.A.","Centro","0001-003621","2017-09-15",179,{"v":18377,"d":"18,377"},{"$f":"IF(t.base[[#This Row],[DIAS DE ATRASO]]=0,0,t.base[[#This Row],[TOTAL]])","v":18377}]
["2018-01-16","C. CHINININ S.A.C.","Centro","0001-006746","2018-03-02",11,{"v":18455,"d":"18,455"},{"$f":"IF(t.base[[#This Row],[DIAS DE ATRASO]]=0,0,t.base[[#This Row],[TOTAL]])","v":18455}]
["2017-12-22","CORTES ROMAN NAHUM","Centro","0001-002435","2018-02-05",36,{"v":17924,"d":"17,924"},{"$f":"IF(t.base[[#This Row],[DIAS DE ATRASO]]=0,0,t.base[[#This Row],[TOTAL]])","v":17924}]
["2018-01-15","CIRIACA S.A.C.","Centro","0001-004910","2018-01-30",42,{"v":26245,"d":"26,245"},{"$f":"IF(t.base[[#This Row],[DIAS DE ATRASO]]=0,0,t.base[[#This Row],[TOTAL]])","v":26245}]
["2018-01-12","SCHENONE S A","Centro","0002-009932","2018-03-13",0,{"v":25138,"d":"25,138"},{"$f":"IF(t.base[[#This Row],[DIAS DE ATRASO]]=0,0,t.base[[#This Row],[TOTAL]])","v":0}]
["2018-03-13","CODYGOZ S.A.C.","Centro","0001-004324","2018-03-13",0,{"v":24881,"d":"24,881"},{"$f":"IF(t.base[[#This Row],[DIAS DE ATRASO]]=0,0,t.base[[#This Row],[TOTAL]])","v":0}]
["2018-02-13","MEDICAL CT S.A.C.","Centro","0001-002726","2018-02-28",13,{"v":13693,"d":"13,693"},{"$f":"IF(t.base[[#This Row],[DIAS DE ATRASO]]=0,0,t.base[[#This Row],[TOTAL]])","v":13693}]
["2018-01-19","KE JIANQING","Centro","0001-008751","2018-01-19",53,{"v":13326,"d":"13,326"},{"$f":"IF(t.base[[#This Row],[DIAS DE ATRASO]]=0,0,t.base[[#This Row],[TOTAL]])","v":13326}]
["2018-02-26","SANKUAY S.R.LTDA.","Centro","0001-001468","2018-03-13",0,{"v":13164,"d":"13,164"},{"$f":"IF(t.base[[#This Row],[DIAS DE ATRASO]]=0,0,t.base[[#This Row],[TOTAL]])","v":0}]
["2017-08-27","J.O.B GAMES S.A.C.","Centro","0001-007551","2017-11-25",108,{"v":19932,"d":"19,932"},{"$f":"IF(t.base[[#This Row],[DIAS DE ATRASO]]=0,0,t.base[[#This Row],[TOTAL]])","v":19932}]
["2018-02-26","AUTOS MH EIRL","Centro","0001-007334","2018-03-13",0,{"v":11706,"d":"11,706"},{"$f":"IF(t.base[[#This Row],[DIAS DE ATRASO]]=0,0,t.base[[#This Row],[TOTAL]])","v":0}]
["2018-02-26","MOTO ANDES S.A.C.","Centro","0001-009237","2018-03-13",0,{"v":23888,"d":"23,888"},{"$f":"IF(t.base[[#This Row],[DIAS DE ATRASO]]=0,0,t.base[[#This Row],[TOTAL]])","v":0}]
["2018-03-13","BLAIROC E.I.R.L.","Centro","0002-001057","2018-03-13",0,{"v":23657,"d":"23,657"},{"$f":"IF(t.base[[#This Row],[DIAS DE ATRASO]]=0,0,t.base[[#This Row],[TOTAL]])","v":0}]
["2018-01-11","FENIX DEL PERU SRL","Centro","0002-008441","2018-03-12",1,{"v":24077,"d":"24,077"},{"$f":"IF(t.base[[#This Row],[DIAS DE ATRASO]]=0,0,t.base[[#This Row],[TOTAL]])","v":24077}]
["2017-07-18","TRAUMA S.A.C.","Centro","0001-004725","2017-09-16",178,{"v":15790,"d":"15,790"},{"$f":"IF(t.base[[#This Row],[DIAS DE ATRASO]]=0,0,t.base[[#This Row],[TOTAL]])","v":15790}]
["2017-12-19","FARMABCO S.A.C","Centro","0001-006438","2018-01-18",54,{"v":27090,"d":"27,090"},{"$f":"IF(t.base[[#This Row],[DIAS DE ATRASO]]=0,0,t.base[[#This Row],[TOTAL]])","v":27090}]
["2018-03-12","DAGAL S.A.C.","Centro","0002-007718","2018-03-12",1,{"v":10002,"d":"10,002"},{"$f":"IF(t.base[[#This Row],[DIAS DE ATRASO]]=0,0,t.base[[#This Row],[TOTAL]])","v":10002}]
["2017-11-16","XIN HUI SAC","Centro","0001-009535","2017-12-31",72,{"v":16003,"d":"16,003"},{"$f":"IF(t.base[[#This Row],[DIAS DE ATRASO]]=0,0,t.base[[#This Row],[TOTAL]])","v":16003}]
["2017-12-13","ALCANZANDO","Centro","0001-008494","2018-03-13",0,{"v":21765,"d":"21,765"},{"$f":"IF(t.base[[#This Row],[DIAS DE ATRASO]]=0,0,t.base[[#This Row],[TOTAL]])","v":0}]
["2018-02-26","AURODISA EIRL","Centro","0002-009870","2018-03-13",0,{"v":20993,"d":"20,993"},{"$f":"IF(t.base[[#This Row],[DIAS DE ATRASO]]=0,0,t.base[[#This Row],[TOTAL]])","v":0}]
["2017-12-27","CAPIRENA S.A.C.","Centro","0002-004953","2018-02-10",31,{"v":22627,"d":"22,627"},{"$f":"IF(t.base[[#This Row],[DIAS DE ATRASO]]=0,0,t.base[[#This Row],[TOTAL]])","v":22627}]
["2017-12-13","FUMIGUERRA EIRL","Centro","0001-003182","2018-03-13",0,{"v":25767,"d":"25,767"},{"$f":"IF(t.base[[#This Row],[DIAS DE ATRASO]]=0,0,t.base[[#This Row],[TOTAL]])","v":0}]
["2018-01-12","CHEMAYOL E.I.R.L.","Centro","0001-009749","2018-03-13",0,{"v":23506,"d":"23,506"},{"$f":"IF(t.base[[#This Row],[DIAS DE ATRASO]]=0,0,t.base[[#This Row],[TOTAL]])","v":0}]
["2017-09-07","PNEUMOHELP E.I.R.L.","Centro","0001-003228","2017-09-22",172,{"v":21248,"d":"21,248"},{"$f":"IF(t.base[[#This Row],[DIAS DE ATRASO]]=0,0,t.base[[#This Row],[TOTAL]])","v":21248}]
["2017-10-08","PARKETON S.A.C.","Centro","0002-006388","2017-11-22",111,{"v":12454,"d":"12,454"},{"$f":"IF(t.base[[#This Row],[DIAS DE ATRASO]]=0,0,t.base[[#This Row],[TOTAL]])","v":12454}]
["2018-01-09","PARKETON S.A.C.","Centro","0001-003995","2018-02-23",18,{"v":13399,"d":"13,399"},{"$f":"IF(t.base[[#This Row],[DIAS DE ATRASO]]=0,0,t.base[[#This Row],[TOTAL]])","v":13399}]
["2017-12-16","FERNANDEZ SRL","Norte","0002-003493","2018-01-15",57,{"v":18882,"d":"18,882"},{"$f":"IF(t.base[[#This Row],[DIAS DE ATRASO]]=0,0,t.base[[#This Row],[TOTAL]])","v":18882}]
["2017-12-13","SOLISA S.A.C.","Centro","0001-008286","2018-03-13",0,{"v":24584,"d":"24,584"},{"$f":"IF(t.base[[#This Row],[DIAS DE ATRASO]]=0,0,t.base[[#This Row],[TOTAL]])","v":0}]
["2017-07-25","RAUDO PERU S.A.C.","Norte","0001-006784","2017-08-09",216,{"v":24997,"d":"24,997"},{"$f":"IF(t.base[[#This Row],[DIAS DE ATRASO]]=0,0,t.base[[#This Row],[TOTAL]])","v":24997}]
["2017-08-06","X-TRA PLUS E.I.R.L.","Sur","0001-007235","2017-08-06",219,{"v":44937,"d":"44,937"},{"$f":"IF(t.base[[#This Row],[DIAS DE ATRASO]]=0,0,t.base[[#This Row],[TOTAL]])","v":44937}]
["2017-12-13","CODICENTRO S.A.C.","Centro","0002-007482","2018-03-13",0,{"v":13934,"d":"13,934"},{"$f":"IF(t.base[[#This Row],[DIAS DE ATRASO]]=0,0,t.base[[#This Row],[TOTAL]])","v":0}]
["2017-12-29","M & ST SALUD S.A.C","Centro","0001-009772","2018-01-13",59,{"v":12651,"d":"12,651"},{"$f":"IF(t.base[[#This Row],[DIAS DE ATRASO]]=0,0,t.base[[#This Row],[TOTAL]])","v":12651}]
["2017-10-14","TRANSEQUIP E.I.R.L.","Centro","0001-009277","2017-11-13",120,{"v":21666,"d":"21,666"},{"$f":"IF(t.base[[#This Row],[DIAS DE ATRASO]]=0,0,t.base[[#This Row],[TOTAL]])","v":21666}]
["2018-02-26","DICASA Y CIA S.A.C","Centro","0002-004328","2018-03-13",0,{"v":29550,"d":"29,550"},{"$f":"IF(t.base[[#This Row],[DIAS DE ATRASO]]=0,0,t.base[[#This Row],[TOTAL]])","v":0}]
["2018-02-11","LINDO HOGAR S.A.C","Centro","0001-007034","2018-03-13",0,{"v":16787,"d":"16,787"},{"$f":"IF(t.base[[#This Row],[DIAS DE ATRASO]]=0,0,t.base[[#This Row],[TOTAL]])","v":0}]
["2018-01-27","TEXTIL 1649 S.A.C.","Centro","0001-001794","2018-03-13",0,{"v":23312,"d":"23,312"},{"$f":"IF(t.base[[#This Row],[DIAS DE ATRASO]]=0,0,t.base[[#This Row],[TOTAL]])","v":0}]
["2017-12-19","C. CHINININ S.A.C.","Centro","0001-002421","2018-02-17",24,{"v":24503,"d":"24,503"},{"$f":"IF(t.base[[#This Row],[DIAS DE ATRASO]]=0,0,t.base[[#This Row],[TOTAL]])","v":24503}]
["2018-02-11","COMERCIAL M&P SRL","Sur","0001-006474","2018-03-13",0,{"v":25742,"d":"25,742"},{"$f":"IF(t.base[[#This Row],[DIAS DE ATRASO]]=0,0,t.base[[#This Row],[TOTAL]])","v":0}]
["2018-01-12","DEPOSITOS S A DEPSA","Centro","0001-009259","2018-03-13",0,{"v":26356,"d":"26,356"},{"$f":"IF(t.base[[#This Row],[DIAS DE ATRASO]]=0,0,t.base[[#This Row],[TOTAL]])","v":0}]
["2018-02-26","SUCAROL E.I.R.L.","Centro","0001-006085","2018-03-13",0,{"v":12656,"d":"12,656"},{"$f":"IF(t.base[[#This Row],[DIAS DE ATRASO]]=0,0,t.base[[#This Row],[TOTAL]])","v":0}]
["2018-03-12","CAPITEX S.A.C","Centro","0001-001535","2018-03-12",1,{"v":28767,"d":"28,767"},{"$f":"IF(t.base[[#This Row],[DIAS DE ATRASO]]=0,0,t.base[[#This Row],[TOTAL]])","v":28767}]
["2018-01-27","CARRASCO RUIZ ELINO","Centro","0002-009750","2018-03-13",0,{"v":13298,"d":"13,298"},{"$f":"IF(t.base[[#This Row],[DIAS DE ATRASO]]=0,0,t.base[[#This Row],[TOTAL]])","v":0}]
["2017-11-02","HUISA MERMA DORIS","Centro","0002-008652","2017-11-02",131,{"v":23244,"d":"23,244"},{"$f":"IF(t.base[[#This Row],[DIAS DE ATRASO]]=0,0,t.base[[#This Row],[TOTAL]])","v":23244}]
["2017-12-13","SURTIDORES S.A.C.","Centro","0002-002208","2018-03-13",0,{"v":14767,"d":"14,767"},{"$f":"IF(t.base[[#This Row],[DIAS DE ATRASO]]=0,0,t.base[[#This Row],[TOTAL]])","v":0}]
["2017-11-01","SONMAR S.R.L.","Sur","0001-009388","2017-12-31",72,{"v":35492,"d":"35,492"},{"$f":"IF(t.base[[#This Row],[DIAS DE ATRASO]]=0,0,t.base[[#This Row],[TOTAL]])","v":35492}]
["2018-02-26","MHO IMPORT S.A.C.","Centro","0002-004956","2018-03-13",0,{"v":22178,"d":"22,178"},{"$f":"IF(t.base[[#This Row],[DIAS DE ATRASO]]=0,0,t.base[[#This Row],[TOTAL]])","v":0}]
["2017-12-13","MEDFARMA EIRL","Norte","0002-002447","2018-03-13",0,{"v":24278,"d":"24,278"},{"$f":"IF(t.base[[#This Row],[DIAS DE ATRASO]]=0,0,t.base[[#This Row],[TOTAL]])","v":0}]
["2018-01-26","A Z CHEMICAL EIRL","Centro","0001-005583","2018-03-12",1,{"v":17880,"d":"17,880"},{"$f":"IF(t.base[[#This Row],[DIAS DE ATRASO]]=0,0,t.base[[#This Row],[TOTAL]])","v":17880}]
["2018-02-07","GEOINFORMACION S.A.","Centro","0001-008879","2018-03-09",4,{"v":14768,"d":"14,768"},{"$f":"IF(t.base[[#This Row],[DIAS DE ATRASO]]=0,0,t.base[[#This Row],[TOTAL]])","v":14768}]
["2017-12-07","LI SHUI PIN","Centro","0002-003725","2018-02-05",36,{"v":20467,"d":"20,467"},{"$f":"IF(t.base[[#This Row],[DIAS DE ATRASO]]=0,0,t.base[[#This Row],[TOTAL]])","v":20467}]
["2018-02-26","TANZACO S.A.C","Centro","0002-009129","2018-03-13",0,{"v":22903,"d":"22,903"},{"$f":"IF(t.base[[#This Row],[DIAS DE ATRASO]]=0,0,t.base[[#This Row],[TOTAL]])","v":0}]
["2018-02-11","MOSOQ INN E.I.R.L.","Sur","0002-001605","2018-03-13",0,{"v":6148,"d":"6,148"},{"$f":"IF(t.base[[#This Row],[DIAS DE ATRASO]]=0,0,t.base[[#This Row],[TOTAL]])","v":0}]
["2018-02-11","CIA VALQUI E.I.R.L.","Sur","0002-001830","2018-03-13",0,{"v":26729,"d":"26,729"},{"$f":"IF(t.base[[#This Row],[DIAS DE ATRASO]]=0,0,t.base[[#This Row],[TOTAL]])","v":0}]
["2017-07-08","CHR HANSEN S.A.","Centro","0002-001932","2017-10-06",158,{"v":13097,"d":"13,097"},{"$f":"IF(t.base[[#This Row],[DIAS DE ATRASO]]=0,0,t.base[[#This Row],[TOTAL]])","v":13097}]
["2017-12-14","STYLO EDWIL SRL","Centro","0002-006433","2018-01-13",59,{"v":13375,"d":"13,375"},{"$f":"IF(t.base[[#This Row],[DIAS DE ATRASO]]=0,0,t.base[[#This Row],[TOTAL]])","v":13375}]
["2017-12-23","AITER'S SRL","Centro","0002-004260","2017-12-23",80,{"v":26544,"d":"26,544"},{"$f":"IF(t.base[[#This Row],[DIAS DE ATRASO]]=0,0,t.base[[#This Row],[TOTAL]])","v":26544}]
["2017-12-13","LOZANO IMPORT SAC.","Norte","0002-002982","2018-03-13",0,{"v":42932,"d":"42,932"},{"$f":"IF(t.base[[#This Row],[DIAS DE ATRASO]]=0,0,t.base[[#This Row],[TOTAL]])","v":0}]
["2018-03-12","MORAN VALENCIA ENMA","Centro","0002-006274","2018-03-12",1,{"v":16065,"d":"16,065"},{"$f":"IF(t.base[[#This Row],[DIAS DE ATRASO]]=0,0,t.base[[#This Row],[TOTAL]])","v":16065}]
["2017-08-28","YOAAN EIRL","Centro","0001-001362","2017-11-26",107,{"v":11484,"d":"11,484"},{"$f":"IF(t.base[[#This Row],[DIAS DE ATRASO]]=0,0,t.base[[#This Row],[TOTAL]])","v":11484}]
["2018-02-11","MG-1 E.I.R.L.","Centro","0001-003988","2018-03-13",0,{"v":22445,"d":"22,445"},{"$f":"IF(t.base[[#This Row],[DIAS DE ATRASO]]=0,0,t.base[[#This Row],[TOTAL]])","v":0}]
["2017-11-18","OBILABS  PERU  SAC","Centro","0002-006785","2018-01-17",55,{"v":15126,"d":"15,126"},{"$f":"IF(t.base[[#This Row],[DIAS DE ATRASO]]=0,0,t.base[[#This Row],[TOTAL]])","v":15126}]
["2018-02-26","D'OLPHINS E.I.R.L.","Norte","0001-002337","2018-03-13",0,{"v":31819,"d":"31,819"},{"$f":"IF(t.base[[#This Row],[DIAS DE ATRASO]]=0,0,t.base[[#This Row],[TOTAL]])","v":0}]
["2018-01-03","DATA PC S.R.L.","Sur","0001-005177","2018-02-17",24,{"v":45826,"d":"45,826"},{"$f":"IF(t.base[[#This Row],[DIAS DE ATRASO]]=0,0,t.base[[#This Row],[TOTAL]])","v":45826}]
["2018-02-12","HUAMALI ANCO TITO","Centro","0001-002541","2018-02-27",14,{"v":29365,"d":"29,365"},{"$f":"IF(t.base[[#This Row],[DIAS DE ATRASO]]=0,0,t.base[[#This Row],[TOTAL]])","v":29365}]
["2018-02-25","REPDA PARTS S.R.L.","Sur","0001-003363","2018-03-12",1,{"v":46936,"d":"46,936"},{"$f":"IF(t.base[[#This Row],[DIAS DE ATRASO]]=0,0,t.base[[#This Row],[TOTAL]])","v":46936}]
["2017-11-10","DUNKEL E.I.R.L.","Sur","0002-007932","2018-02-08",33,{"v":8852,"d":"8,852"},{"$f":"IF(t.base[[#This Row],[DIAS DE ATRASO]]=0,0,t.base[[#This Row],[TOTAL]])","v":8852}]
["2018-01-27","MOLVIMAR S.A.C.","Norte","0002-008898","2018-03-13",0,{"v":45043,"d":"45,043"},{"$f":"IF(t.base[[#This Row],[DIAS DE ATRASO]]=0,0,t.base[[#This Row],[TOTAL]])","v":0}]
["2017-07-14","UNIGRUAS S.A.C.","Centro","0002-007302","2017-07-29",227,{"v":21826,"d":"21,826"},{"$f":"IF(t.base[[#This Row],[DIAS DE ATRASO]]=0,0,t.base[[#This Row],[TOTAL]])","v":21826}]
["2018-01-27","FEMAT S.A.C.","Centro","0002-006072","2018-03-13",0,{"v":22078,"d":"22,078"},{"$f":"IF(t.base[[#This Row],[DIAS DE ATRASO]]=0,0,t.base[[#This Row],[TOTAL]])","v":0}]
["2017-12-08","QUEA TAPIA EULALIA","Centro","0001-008921","2017-12-23",80,{"v":23815,"d":"23,815"},{"$f":"IF(t.base[[#This Row],[DIAS DE ATRASO]]=0,0,t.base[[#This Row],[TOTAL]])","v":23815}]
["2018-01-27","WSILVAP E.I.R.L","Centro","0002-003723","2018-03-13",0,{"v":27349,"d":"27,349"},{"$f":"IF(t.base[[#This Row],[DIAS DE ATRASO]]=0,0,t.base[[#This Row],[TOTAL]])","v":0}]
["2018-01-12","D'OLPHINS E.I.R.L.","Norte","0001-008755","2018-03-13",0,{"v":41384,"d":"41,384"},{"$f":"IF(t.base[[#This Row],[DIAS DE ATRASO]]=0,0,t.base[[#This Row],[TOTAL]])","v":0}]
["2018-02-26","SYO PERU S.A.C.","Centro","0001-009682","2018-03-13",0,{"v":28227,"d":"28,227"},{"$f":"IF(t.base[[#This Row],[DIAS DE ATRASO]]=0,0,t.base[[#This Row],[TOTAL]])","v":0}]
["2018-02-10","MATOS CAMAC FELIX","Centro","0001-005263","2018-03-12",1,{"v":25503,"d":"25,503"},{"$f":"IF(t.base[[#This Row],[DIAS DE ATRASO]]=0,0,t.base[[#This Row],[TOTAL]])","v":25503}]
["2017-10-26","CLAS CONDESUYOS","Sur","0001-001839","2017-12-25",78,{"v":22796,"d":"22,796"},{"$f":"IF(t.base[[#This Row],[DIAS DE ATRASO]]=0,0,t.base[[#This Row],[TOTAL]])","v":22796}]
["2018-01-27","SERV&DATA S.A.C.","Centro","0001-002055","2018-03-13",0,{"v":28790,"d":"28,790"},{"$f":"IF(t.base[[#This Row],[DIAS DE ATRASO]]=0,0,t.base[[#This Row],[TOTAL]])","v":0}]
["2018-01-03","DESANA S.A.C.","Centro","0001-006460","2018-02-17",24,{"v":23725,"d":"23,725"},{"$f":"IF(t.base[[#This Row],[DIAS DE ATRASO]]=0,0,t.base[[#This Row],[TOTAL]])","v":23725}]
["2017-12-26","LEE WEI LIN","Centro","0002-008107","2018-01-25",47,{"v":15623,"d":"15,623"},{"$f":"IF(t.base[[#This Row],[DIAS DE ATRASO]]=0,0,t.base[[#This Row],[TOTAL]])","v":15623}]
["2018-02-11","MAMANI TONE MARLENI","Centro","0002-004470","2018-03-13",0,{"v":26982,"d":"26,982"},{"$f":"IF(t.base[[#This Row],[DIAS DE ATRASO]]=0,0,t.base[[#This Row],[TOTAL]])","v":0}]
["2017-12-29","ENVER E.I.R.L.","Sur","0001-004986","2017-12-29",74,{"v":41179,"d":"41,179"},{"$f":"IF(t.base[[#This Row],[DIAS DE ATRASO]]=0,0,t.base[[#This Row],[TOTAL]])","v":41179}]
["2018-01-27","REDIJUA S.R.L.","Sur","0001-001820","2018-03-13",0,{"v":11508,"d":"11,508"},{"$f":"IF(t.base[[#This Row],[DIAS DE ATRASO]]=0,0,t.base[[#This Row],[TOTAL]])","v":0}]
["2018-03-13","ELITSUR S.R.L.","Sur","0002-007367","2018-03-13",0,{"v":37458,"d":"37,458"},{"$f":"IF(t.base[[#This Row],[DIAS DE ATRASO]]=0,0,t.base[[#This Row],[TOTAL]])","v":0}]
["2018-01-12","KEV S.A.C.","Centro","0002-007821","2018-03-13",0,{"v":10722,"d":"10,722"},{"$f":"IF(t.base[[#This Row],[DIAS DE ATRASO]]=0,0,t.base[[#This Row],[TOTAL]])","v":0}]
["2017-11-03","SALCOM S.A.C.","Centro","0002-004125","2017-12-18",85,{"v":22724,"d":"22,724"},{"$f":"IF(t.base[[#This Row],[DIAS DE ATRASO]]=0,0,t.base[[#This Row],[TOTAL]])","v":22724}]
["2017-12-10","NEOSALUD S.A.C.","Centro","0001-001690","2018-01-24",48,{"v":22504,"d":"22,504"},{"$f":"IF(t.base[[#This Row],[DIAS DE ATRASO]]=0,0,t.base[[#This Row],[TOTAL]])","v":22504}]
["2017-12-13","FAVET E.I.R.L.","Norte","0002-001230","2018-03-13",0,{"v":41705,"d":"41,705"},{"$f":"IF(t.base[[#This Row],[DIAS DE ATRASO]]=0,0,t.base[[#This Row],[TOTAL]])","v":0}]
["2018-01-27","FAVET E.I.R.L.","Norte","0002-005056","2018-03-13",0,{"v":47653,"d":"47,653"},{"$f":"IF(t.base[[#This Row],[DIAS DE ATRASO]]=0,0,t.base[[#This Row],[TOTAL]])","v":0}]
["2017-09-16","PROVESUR S.A.C","Centro","0001-009316","2017-12-15",88,{"v":24841,"d":"24,841"},{"$f":"IF(t.base[[#This Row],[DIAS DE ATRASO]]=0,0,t.base[[#This Row],[TOTAL]])","v":24841}]
["2017-09-29","NEGYSER PERU S.A.C.","Centro","0001-006030","2017-12-28",75,{"v":21634,"d":"21,634"},{"$f":"IF(t.base[[#This Row],[DIAS DE ATRASO]]=0,0,t.base[[#This Row],[TOTAL]])","v":21634}]
["2017-08-27","KUNTUR WASSI S.A.C.","Sur","0001-008764","2017-10-26",138,{"v":13835,"d":"13,835"},{"$f":"IF(t.base[[#This Row],[DIAS DE ATRASO]]=0,0,t.base[[#This Row],[TOTAL]])","v":13835}]
["2018-02-25","OROMONTE S.A","Centro","0002-003218","2018-03-12",1,{"v":11402,"d":"11,402"},{"$f":"IF(t.base[[#This Row],[DIAS DE ATRASO]]=0,0,t.base[[#This Row],[TOTAL]])","v":11402}]
["2018-01-17","S A RINCON GAUCHO","Centro","0001-007234","2018-01-17",55,{"v":11400,"d":"11,400"},{"$f":"IF(t.base[[#This Row],[DIAS DE ATRASO]]=0,0,t.base[[#This Row],[TOTAL]])","v":11400}]
["2017-12-27","TECH LAB S.A.C.","Centro","0001-002004","2018-01-26",46,{"v":13396,"d":"13,396"},{"$f":"IF(t.base[[#This Row],[DIAS DE ATRASO]]=0,0,t.base[[#This Row],[TOTAL]])","v":13396}]
["2018-02-26","CODICENTRO S.A.C.","Centro","0002-003529","2018-03-13",0,{"v":17381,"d":"17,381"},{"$f":"IF(t.base[[#This Row],[DIAS DE ATRASO]]=0,0,t.base[[#This Row],[TOTAL]])","v":0}]
["2018-02-23","SAINT LOUIS S.A.C.","Centro","0002-008404","2018-03-10",3,{"v":23996,"d":"23,996"},{"$f":"IF(t.base[[#This Row],[DIAS DE ATRASO]]=0,0,t.base[[#This Row],[TOTAL]])","v":23996}]
["2018-02-11","T-MOVIL S.A.C.","Norte","0001-008338","2018-03-13",0,{"v":64557,"d":"64,557"},{"$f":"IF(t.base[[#This Row],[DIAS DE ATRASO]]=0,0,t.base[[#This Row],[TOTAL]])","v":0}]
["2018-01-24","KARPATRI S.A.C.","Centro","0001-007103","2018-03-10",3,{"v":18784,"d":"18,784"},{"$f":"IF(t.base[[#This Row],[DIAS DE ATRASO]]=0,0,t.base[[#This Row],[TOTAL]])","v":18784}]
["2017-10-14","NAYMLAP INN S.A.C","Centro","0002-007784","2017-10-14",150,{"v":25715,"d":"25,715"},{"$f":"IF(t.base[[#This Row],[DIAS DE ATRASO]]=0,0,t.base[[#This Row],[TOTAL]])","v":25715}]
["2017-09-08","TRANSVED S.R.L.","Sur","0002-005997","2017-09-08",186,{"v":20144,"d":"20,144"},{"$f":"IF(t.base[[#This Row],[DIAS DE ATRASO]]=0,0,t.base[[#This Row],[TOTAL]])","v":20144}]
["2017-08-31","CABERY S.A.C.","Centro","0002-009546","2017-10-15",149,{"v":21606,"d":"21,606"},{"$f":"IF(t.base[[#This Row],[DIAS DE ATRASO]]=0,0,t.base[[#This Row],[TOTAL]])","v":21606}]
["2018-02-11","DICASA Y CIA S.A.C","Centro","0002-009665","2018-03-13",0,{"v":20791,"d":"20,791"},{"$f":"IF(t.base[[#This Row],[DIAS DE ATRASO]]=0,0,t.base[[#This Row],[TOTAL]])","v":0}]
["2018-03-13","CEPE APOSTOL PABLO","Sur","0002-009473","2018-03-13",0,{"v":30642,"d":"30,642"},{"$f":"IF(t.base[[#This Row],[DIAS DE ATRASO]]=0,0,t.base[[#This Row],[TOTAL]])","v":0}]
["2017-11-28","ALTAMIRANO SRL","Norte","0002-004555","2017-12-28",75,{"v":16118,"d":"16,118"},{"$f":"IF(t.base[[#This Row],[DIAS DE ATRASO]]=0,0,t.base[[#This Row],[TOTAL]])","v":16118}]
["2018-03-12","MECDRILL  E.I.R.L.","Centro","0002-009487","2018-03-12",1,{"v":15397,"d":"15,397"},{"$f":"IF(t.base[[#This Row],[DIAS DE ATRASO]]=0,0,t.base[[#This Row],[TOTAL]])","v":15397}]
["2018-02-26","XIN HUI SAC","Centro","0002-008211","2018-03-13",0,{"v":21120,"d":"21,120"},{"$f":"IF(t.base[[#This Row],[DIAS DE ATRASO]]=0,0,t.base[[#This Row],[TOTAL]])","v":0}]
["2018-03-12","ZELA KID'S E.I.R.L.","Norte","0001-002912","2018-03-12",1,{"v":49995,"d":"49,995"},{"$f":"IF(t.base[[#This Row],[DIAS DE ATRASO]]=0,0,t.base[[#This Row],[TOTAL]])","v":49995}]
["2018-01-11","SEMAPELI S.R.L.","Sur","0001-009674","2018-03-12",1,{"v":23651,"d":"23,651"},{"$f":"IF(t.base[[#This Row],[DIAS DE ATRASO]]=0,0,t.base[[#This Row],[TOTAL]])","v":23651}]
["2018-01-11","SERMATFER E.I.R.L","Centro","0001-002884","2018-01-11",61,{"v":11847,"d":"11,847"},{"$f":"IF(t.base[[#This Row],[DIAS DE ATRASO]]=0,0,t.base[[#This Row],[TOTAL]])","v":11847}]
["2017-11-07","GOMEZ YUCRA SIMEON","Centro","0001-005305","2018-01-06",66,{"v":24410,"d":"24,410"},{"$f":"IF(t.base[[#This Row],[DIAS DE ATRASO]]=0,0,t.base[[#This Row],[TOTAL]])","v":24410}]
["2017-12-14","CLAS ZAMACOLA","Sur","0002-003926","2017-12-14",89,{"v":25857,"d":"25,857"},{"$f":"IF(t.base[[#This Row],[DIAS DE ATRASO]]=0,0,t.base[[#This Row],[TOTAL]])","v":25857}]
["2017-12-12","AUTOS MH EIRL","Centro","0002-007454","2018-03-12",1,{"v":24101,"d":"24,101"},{"$f":"IF(t.base[[#This Row],[DIAS DE ATRASO]]=0,0,t.base[[#This Row],[TOTAL]])","v":24101}]
["2017-12-13","SONMAR S.R.L.","Sur","0001-005234","2018-03-13",0,{"v":13372,"d":"13,372"},{"$f":"IF(t.base[[#This Row],[DIAS DE ATRASO]]=0,0,t.base[[#This Row],[TOTAL]])","v":0}]
["2018-01-05","B. CHANG E.I.R.L.","Sur","0001-002055","2018-02-19",22,{"v":16032,"d":"16,032"},{"$f":"IF(t.base[[#This Row],[DIAS DE ATRASO]]=0,0,t.base[[#This Row],[TOTAL]])","v":16032}]
["2018-02-11","QB&A S.A.C.","Sur","0002-005882","2018-03-13",0,{"v":33832,"d":"33,832"},{"$f":"IF(t.base[[#This Row],[DIAS DE ATRASO]]=0,0,t.base[[#This Row],[TOTAL]])","v":0}]
["2018-02-11","LOZANO E I R LTDA","Centro","0002-009249","2018-03-13",0,{"v":24535,"d":"24,535"},{"$f":"IF(t.base[[#This Row],[DIAS DE ATRASO]]=0,0,t.base[[#This Row],[TOTAL]])","v":0}]
["2017-04-27","GLEW SAC","Centro","0001-002388","2017-07-26",230,{"v":26003,"d":"26,003"},{"$f":"IF(t.base[[#This Row],[DIAS DE ATRASO]]=0,0,t.base[[#This Row],[TOTAL]])","v":26003}]
["2017-12-18","CARFIDERM E.I.R.L.","Centro","0001-001789","2018-01-17",55,{"v":26092,"d":"26,092"},{"$f":"IF(t.base[[#This Row],[DIAS DE ATRASO]]=0,0,t.base[[#This Row],[TOTAL]])","v":26092}]
["2017-12-02","WALLPA SUA  S.A.C","Sur","0002-007282","2018-01-01",71,{"v":47087,"d":"47,087"},{"$f":"IF(t.base[[#This Row],[DIAS DE ATRASO]]=0,0,t.base[[#This Row],[TOTAL]])","v":47087}]
["2018-01-27","QUAN-FHU S.C.R.L.","Centro","0002-002202","2018-03-13",0,{"v":11826,"d":"11,826"},{"$f":"IF(t.base[[#This Row],[DIAS DE ATRASO]]=0,0,t.base[[#This Row],[TOTAL]])","v":0}]
["2018-01-12","MR MACELLAIO S.A.C.","Centro","0002-008490","2018-03-13",0,{"v":20403,"d":"20,403"},{"$f":"IF(t.base[[#This Row],[DIAS DE ATRASO]]=0,0,t.base[[#This Row],[TOTAL]])","v":0}]
["2018-02-22","M Y W SALAS S A","Centro","0002-007457","2018-02-22",19,{"v":10995,"d":"10,995"},{"$f":"IF(t.base[[#This Row],[DIAS DE ATRASO]]=0,0,t.base[[#This Row],[TOTAL]])","v":10995}]
["2017-10-22","VIVEL S.A.","Norte","0002-002220","2018-01-20",52,{"v":53011,"d":"53,011"},{"$f":"IF(t.base[[#This Row],[DIAS DE ATRASO]]=0,0,t.base[[#This Row],[TOTAL]])","v":53011}]
["2017-11-26","SEBAL S.A.C.","Centro","0002-006072","2018-01-25",47,{"v":18912,"d":"18,912"},{"$f":"IF(t.base[[#This Row],[DIAS DE ATRASO]]=0,0,t.base[[#This Row],[TOTAL]])","v":18912}]
["2018-02-10","DIOS ES AMOR S.A.C.","Norte","0001-007854","2018-03-12",1,{"v":66345,"d":"66,345"},{"$f":"IF(t.base[[#This Row],[DIAS DE ATRASO]]=0,0,t.base[[#This Row],[TOTAL]])","v":66345}]
["2018-02-26","CHOQUE COPA CARLOS","Centro","0002-008243","2018-03-13",0,{"v":21185,"d":"21,185"},{"$f":"IF(t.base[[#This Row],[DIAS DE ATRASO]]=0,0,t.base[[#This Row],[TOTAL]])","v":0}]
["2018-01-12","LUCMOIS E.I.R.L.","Centro","0001-008802","2018-03-13",0,{"v":15149,"d":"15,149"},{"$f":"IF(t.base[[#This Row],[DIAS DE ATRASO]]=0,0,t.base[[#This Row],[TOTAL]])","v":0}]
["2018-02-11","CHOQUE COPA CARLOS","Centro","0002-004043","2018-03-13",0,{"v":11275,"d":"11,275"},{"$f":"IF(t.base[[#This Row],[DIAS DE ATRASO]]=0,0,t.base[[#This Row],[TOTAL]])","v":0}]
["2018-01-19","EXACT S.A.C.","Centro","0002-008080","2018-01-19",53,{"v":26130,"d":"26,130"},{"$f":"IF(t.base[[#This Row],[DIAS DE ATRASO]]=0,0,t.base[[#This Row],[TOTAL]])","v":26130}]
["2018-01-27","TRANSPORTE ZEM EIRL","Centro","0002-009698","2018-03-13",0,{"v":20879,"d":"20,879"},{"$f":"IF(t.base[[#This Row],[DIAS DE ATRASO]]=0,0,t.base[[#This Row],[TOTAL]])","v":0}]
["2018-03-13","SPORTRADE S.A.C.","Centro","0001-003833","2018-03-13",0,{"v":26406,"d":"26,406"},{"$f":"IF(t.base[[#This Row],[DIAS DE ATRASO]]=0,0,t.base[[#This Row],[TOTAL]])","v":0}]
["2018-02-26","YANG  JINZHAO","Centro","0001-004255","2018-03-13",0,{"v":25436,"d":"25,436"},{"$f":"IF(t.base[[#This Row],[DIAS DE ATRASO]]=0,0,t.base[[#This Row],[TOTAL]])","v":0}]
["2017-07-22","RUTHY S S.R.LTDA","Centro","0001-003230","2017-10-20",144,{"v":26302,"d":"26,302"},{"$f":"IF(t.base[[#This Row],[DIAS DE ATRASO]]=0,0,t.base[[#This Row],[TOTAL]])","v":26302}]
["2018-01-27","JON MARSIL E.I.R.L","Centro","0002-006414","2018-03-13",0,{"v":27317,"d":"27,317"},{"$f":"IF(t.base[[#This Row],[DIAS DE ATRASO]]=0,0,t.base[[#This Row],[TOTAL]])","v":0}]
["2018-03-12","AYUMI S.A.C.","Centro","0001-004056","2018-03-12",1,{"v":15849,"d":"15,849"},{"$f":"IF(t.base[[#This Row],[DIAS DE ATRASO]]=0,0,t.base[[#This Row],[TOTAL]])","v":15849}]
["2018-03-13","SIMCA S.A.C.","Sur","0001-005092","2018-03-13",0,{"v":39924,"d":"39,924"},{"$f":"IF(t.base[[#This Row],[DIAS DE ATRASO]]=0,0,t.base[[#This Row],[TOTAL]])","v":0}]
["2018-03-13","ALPAMEL S.A.C.","Sur","0001-004158","2018-03-13",0,{"v":9430,"d":"9,430"},{"$f":"IF(t.base[[#This Row],[DIAS DE ATRASO]]=0,0,t.base[[#This Row],[TOTAL]])","v":0}]
["2017-12-07","SALAS TUANAMA HIDA","Centro","0001-003127","2018-01-21",51,{"v":25766,"d":"25,766"},{"$f":"IF(t.base[[#This Row],[DIAS DE ATRASO]]=0,0,t.base[[#This Row],[TOTAL]])","v":25766}]
["2018-02-26","CAMPOS QUISPE MARIO","Centro","0002-001290","2018-03-13",0,{"v":21262,"d":"21,262"},{"$f":"IF(t.base[[#This Row],[DIAS DE ATRASO]]=0,0,t.base[[#This Row],[TOTAL]])","v":0}]
["2018-01-12","C. CHINININ S.A.C.","Centro","0002-003812","2018-03-13",0,{"v":27555,"d":"27,555"},{"$f":"IF(t.base[[#This Row],[DIAS DE ATRASO]]=0,0,t.base[[#This Row],[TOTAL]])","v":0}]
["2017-10-02","TRANSPORTE ZEM EIRL","Centro","0002-005718","2017-11-01",132,{"v":14309,"d":"14,309"},{"$f":"IF(t.base[[#This Row],[DIAS DE ATRASO]]=0,0,t.base[[#This Row],[TOTAL]])","v":14309}]
["2018-02-12","ESTETICA VENUS SRL","Centro","0001-007911","2018-02-27",14,{"v":25784,"d":"25,784"},{"$f":"IF(t.base[[#This Row],[DIAS DE ATRASO]]=0,0,t.base[[#This Row],[TOTAL]])","v":25784}]
["2017-08-11","RB & RD S.R.L.","Sur","0001-004836","2017-08-11",214,{"v":13928,"d":"13,928"},{"$f":"IF(t.base[[#This Row],[DIAS DE ATRASO]]=0,0,t.base[[#This Row],[TOTAL]])","v":13928}]
["2017-12-13","INSANOR S.A.C.","Centro","0001-006929","2018-03-13",0,{"v":18630,"d":"18,630"},{"$f":"IF(t.base[[#This Row],[DIAS DE ATRASO]]=0,0,t.base[[#This Row],[TOTAL]])","v":0}]
["2018-03-13","RAMOS JACINTO PEDRO","Centro","0001-007680","2018-03-13",0,{"v":23985,"d":"23,985"},{"$f":"IF(t.base[[#This Row],[DIAS DE ATRASO]]=0,0,t.base[[#This Row],[TOTAL]])","v":0}]
["2018-01-11","OMNITEC S.R.L.","Sur","0002-006861","2018-03-12",1,{"v":9007,"d":"9,007"},{"$f":"IF(t.base[[#This Row],[DIAS DE ATRASO]]=0,0,t.base[[#This Row],[TOTAL]])","v":9007}]
["2017-12-04","AD LIBITUM S.A.C.","Centro","0002-006390","2018-01-03",69,{"v":20951,"d":"20,951"},{"$f":"IF(t.base[[#This Row],[DIAS DE ATRASO]]=0,0,t.base[[#This Row],[TOTAL]])","v":20951}]
["2018-01-26","ROSATEX E.I.R.L.","Centro","0002-007991","2018-02-25",16,{"v":26129,"d":"26,129"},{"$f":"IF(t.base[[#This Row],[DIAS DE ATRASO]]=0,0,t.base[[#This Row],[TOTAL]])","v":26129}]
["2017-12-12","SURCO SURCO RAFAEL","Centro","0001-006327","2018-03-12",1,{"v":29033,"d":"29,033"},{"$f":"IF(t.base[[#This Row],[DIAS DE ATRASO]]=0,0,t.base[[#This Row],[TOTAL]])","v":29033}]
["2018-01-26","AMAR ORTIZ MARIBEL","Centro","0001-007178","2018-02-25",16,{"v":27603,"d":"27,603"},{"$f":"IF(t.base[[#This Row],[DIAS DE ATRASO]]=0,0,t.base[[#This Row],[TOTAL]])","v":27603}]
["2017-10-22","OROMONTE S.A","Centro","0002-008523","2018-01-20",52,{"v":22531,"d":"22,531"},{"$f":"IF(t.base[[#This Row],[DIAS DE ATRASO]]=0,0,t.base[[#This Row],[TOTAL]])","v":22531}]
["2018-01-12","KATHY R S.A.C.","Centro","0001-005531","2018-03-13",0,{"v":16144,"d":"16,144"},{"$f":"IF(t.base[[#This Row],[DIAS DE ATRASO]]=0,0,t.base[[#This Row],[TOTAL]])","v":0}]
["2018-01-27","RUIZ VEGA ROBINSON","Centro","0001-007097","2018-03-13",0,{"v":25324,"d":"25,324"},{"$f":"IF(t.base[[#This Row],[DIAS DE ATRASO]]=0,0,t.base[[#This Row],[TOTAL]])","v":0}]
["2017-11-27","EMAPAVIGSSA","Sur","0001-003714","2017-12-27",76,{"v":16826,"d":"16,826"},{"$f":"IF(t.base[[#This Row],[DIAS DE ATRASO]]=0,0,t.base[[#This Row],[TOTAL]])","v":16826}]
["2017-12-13","RAMA TEX S.A.C","Centro","0002-005100","2018-03-13",0,{"v":17594,"d":"17,594"},{"$f":"IF(t.base[[#This Row],[DIAS DE ATRASO]]=0,0,t.base[[#This Row],[TOTAL]])","v":0}]
["2018-01-12","NOVAX E.I.R.L.","Centro","0001-002123","2018-03-13",0,{"v":22161,"d":"22,161"},{"$f":"IF(t.base[[#This Row],[DIAS DE ATRASO]]=0,0,t.base[[#This Row],[TOTAL]])","v":0}]
["2018-02-11","CRITIKOS S.A.C.","Centro","0002-001802","2018-03-13",0,{"v":24239,"d":"24,239"},{"$f":"IF(t.base[[#This Row],[DIAS DE ATRASO]]=0,0,t.base[[#This Row],[TOTAL]])","v":0}]
["2017-11-10","EL REPOSTERO SAC","Centro","0001-003667","2018-02-08",33,{"v":13888,"d":"13,888"},{"$f":"IF(t.base[[#This Row],[DIAS DE ATRASO]]=0,0,t.base[[#This Row],[TOTAL]])","v":13888}]
["2017-11-15","SERMATFER E.I.R.L","Centro","0001-006171","2017-12-30",73,{"v":16768,"d":"16,768"},{"$f":"IF(t.base[[#This Row],[DIAS DE ATRASO]]=0,0,t.base[[#This Row],[TOTAL]])","v":16768}]
["2017-06-08","GOMEZ ROMANI LEONOR","Centro","0001-008966","2017-08-07",218,{"v":29949,"d":"29,949"},{"$f":"IF(t.base[[#This Row],[DIAS DE ATRASO]]=0,0,t.base[[#This Row],[TOTAL]])","v":29949}]
["2017-11-02","ANTONIO CARBONE SA","Centro","0002-003027","2017-12-17",86,{"v":24077,"d":"24,077"},{"$f":"IF(t.base[[#This Row],[DIAS DE ATRASO]]=0,0,t.base[[#This Row],[TOTAL]])","v":24077}]
["2017-12-30","EYE BUSINESS S.A.C","Centro","0001-002873","2018-02-13",28,{"v":16901,"d":"16,901"},{"$f":"IF(t.base[[#This Row],[DIAS DE ATRASO]]=0,0,t.base[[#This Row],[TOTAL]])","v":16901}]
["2018-02-26","KROMO E.I.R.L.","Sur","0002-007013","2018-03-13",0,{"v":47907,"d":"47,907"},{"$f":"IF(t.base[[#This Row],[DIAS DE ATRASO]]=0,0,t.base[[#This Row],[TOTAL]])","v":0}]
["2017-12-24","DELFINO MAR S.R.L.","Sur","0001-004154","2018-01-23",49,{"v":32116,"d":"32,116"},{"$f":"IF(t.base[[#This Row],[DIAS DE ATRASO]]=0,0,t.base[[#This Row],[TOTAL]])","v":32116}]
["2018-03-13","A.C.D. S.R.L.","Sur","0002-006835","2018-03-13",0,{"v":39732,"d":"39,732"},{"$f":"IF(t.base[[#This Row],[DIAS DE ATRASO]]=0,0,t.base[[#This Row],[TOTAL]])","v":0}]
["2017-12-13","RAVALT S.R.L.","Sur","0002-008747","2018-03-13",0,{"v":10002,"d":"10,002"},{"$f":"IF(t.base[[#This Row],[DIAS DE ATRASO]]=0,0,t.base[[#This Row],[TOTAL]])","v":0}]
["2017-09-16","T-MOVIL S.A.C.","Norte","0001-008204","2017-11-15",118,{"v":55756,"d":"55,756"},{"$f":"IF(t.base[[#This Row],[DIAS DE ATRASO]]=0,0,t.base[[#This Row],[TOTAL]])","v":55756}]
["2017-12-29","GEOINFORMACION S.A.","Centro","0001-004034","2018-02-12",29,{"v":10275,"d":"10,275"},{"$f":"IF(t.base[[#This Row],[DIAS DE ATRASO]]=0,0,t.base[[#This Row],[TOTAL]])","v":10275}]
["2017-12-13","UNIGRUAS S.A.C.","Centro","0002-001117","2018-03-13",0,{"v":16559,"d":"16,559"},{"$f":"IF(t.base[[#This Row],[DIAS DE ATRASO]]=0,0,t.base[[#This Row],[TOTAL]])","v":0}]
["2017-12-11","MEDITERRANEO S.A.C.","Sur","0001-002138","2018-02-09",32,{"v":23953,"d":"23,953"},{"$f":"IF(t.base[[#This Row],[DIAS DE ATRASO]]=0,0,t.base[[#This Row],[TOTAL]])","v":23953}]
["2017-12-13","DR GAS S.A.C.","Centro","0002-002148","2018-03-13",0,{"v":27478,"d":"27,478"},{"$f":"IF(t.base[[#This Row],[DIAS DE ATRASO]]=0,0,t.base[[#This Row],[TOTAL]])","v":0}]
["2017-12-18","JJJ KADAR S.A.C.","Centro","0002-003358","2018-02-01",40,{"v":19256,"d":"19,256"},{"$f":"IF(t.base[[#This Row],[DIAS DE ATRASO]]=0,0,t.base[[#This Row],[TOTAL]])","v":19256}]
["2018-03-13","RIOS SOLIS ALCIDES","Centro","0001-005948","2018-03-13",0,{"v":19892,"d":"19,892"},{"$f":"IF(t.base[[#This Row],[DIAS DE ATRASO]]=0,0,t.base[[#This Row],[TOTAL]])","v":0}]
["2018-01-27","MHO IMPORT S.A.C.","Centro","0002-004449","2018-03-13",0,{"v":10245,"d":"10,245"},{"$f":"IF(t.base[[#This Row],[DIAS DE ATRASO]]=0,0,t.base[[#This Row],[TOTAL]])","v":0}]
["2017-12-13","GROUP E Y R S.R.L.","Centro","0001-001396","2018-03-13",0,{"v":19241,"d":"19,241"},{"$f":"IF(t.base[[#This Row],[DIAS DE ATRASO]]=0,0,t.base[[#This Row],[TOTAL]])","v":0}]
["2018-02-26","VYLDTECO S R L","Centro","0002-005924","2018-03-13",0,{"v":12069,"d":"12,069"},{"$f":"IF(t.base[[#This Row],[DIAS DE ATRASO]]=0,0,t.base[[#This Row],[TOTAL]])","v":0}]
["2018-01-12","CAMPO LIMPIO","Centro","0001-001413","2018-03-13",0,{"v":20082,"d":"20,082"},{"$f":"IF(t.base[[#This Row],[DIAS DE ATRASO]]=0,0,t.base[[#This Row],[TOTAL]])","v":0}]
["2017-12-13","MAQPOL S.A.C.","Centro","0001-008785","2018-03-13",0,{"v":10941,"d":"10,941"},{"$f":"IF(t.base[[#This Row],[DIAS DE ATRASO]]=0,0,t.base[[#This Row],[TOTAL]])","v":0}]
["2017-07-17","SOBITEC PERU S.A.C.","Centro","0002-008601","2017-09-15",179,{"v":28078,"d":"28,078"},{"$f":"IF(t.base[[#This Row],[DIAS DE ATRASO]]=0,0,t.base[[#This Row],[TOTAL]])","v":28078}]
["2018-02-26","ALI & CIA S.A.C","Norte","0002-009324","2018-03-13",0,{"v":34815,"d":"34,815"},{"$f":"IF(t.base[[#This Row],[DIAS DE ATRASO]]=0,0,t.base[[#This Row],[TOTAL]])","v":0}]
["2017-12-12","INGEMEC PERU SAC","Norte","0001-007948","2018-03-12",1,{"v":34241,"d":"34,241"},{"$f":"IF(t.base[[#This Row],[DIAS DE ATRASO]]=0,0,t.base[[#This Row],[TOTAL]])","v":34241}]
["2017-12-07","M & ST SALUD S.A.C","Centro","0002-004908","2017-12-22",81,{"v":20107,"d":"20,107"},{"$f":"IF(t.base[[#This Row],[DIAS DE ATRASO]]=0,0,t.base[[#This Row],[TOTAL]])","v":20107}]
["2017-11-21","ARCPERU S.A.C.","Norte","0002-009459","2018-01-20",52,{"v":10686,"d":"10,686"},{"$f":"IF(t.base[[#This Row],[DIAS DE ATRASO]]=0,0,t.base[[#This Row],[TOTAL]])","v":10686}]
["2017-09-28","OBILABS  PERU  SAC","Centro","0002-008851","2017-12-27",76,{"v":29730,"d":"29,730"},{"$f":"IF(t.base[[#This Row],[DIAS DE ATRASO]]=0,0,t.base[[#This Row],[TOTAL]])","v":29730}]
["2018-02-11","SILVA RIVERA HAYDEE","Centro","0002-009503","2018-03-13",0,{"v":19872,"d":"19,872"},{"$f":"IF(t.base[[#This Row],[DIAS DE ATRASO]]=0,0,t.base[[#This Row],[TOTAL]])","v":0}]
["2018-02-26","OROMONTE S.A","Centro","0002-001290","2018-03-13",0,{"v":16897,"d":"16,897"},{"$f":"IF(t.base[[#This Row],[DIAS DE ATRASO]]=0,0,t.base[[#This Row],[TOTAL]])","v":0}]
["2018-02-11","DEPOSITOS S A DEPSA","Centro","0001-003617","2018-03-13",0,{"v":27118,"d":"27,118"},{"$f":"IF(t.base[[#This Row],[DIAS DE ATRASO]]=0,0,t.base[[#This Row],[TOTAL]])","v":0}]
["2017-11-25","OLVA WORLD E.I.R.L.","Centro","0001-003357","2017-12-25",78,{"v":22002,"d":"22,002"},{"$f":"IF(t.base[[#This Row],[DIAS DE ATRASO]]=0,0,t.base[[#This Row],[TOTAL]])","v":22002}]
["2017-10-21","WHC DEL PERU S.A.","Centro","0002-002536","2018-01-19",53,{"v":19384,"d":"19,384"},{"$f":"IF(t.base[[#This Row],[DIAS DE ATRASO]]=0,0,t.base[[#This Row],[TOTAL]])","v":19384}]
["2018-02-11","G & T CARGO S.A.C.","Centro","0002-003030","2018-03-13",0,{"v":27920,"d":"27,920"},{"$f":"IF(t.base[[#This Row],[DIAS DE ATRASO]]=0,0,t.base[[#This Row],[TOTAL]])","v":0}]
["2018-03-13","ROJAS VILLANO NILO","Centro","0001-005766","2018-03-13",0,{"v":27309,"d":"27,309"},{"$f":"IF(t.base[[#This Row],[DIAS DE ATRASO]]=0,0,t.base[[#This Row],[TOTAL]])","v":0}]
["2018-03-13","CAIMI PERU S.A.C.","Centro","0002-009817","2018-03-13",0,{"v":20347,"d":"20,347"},{"$f":"IF(t.base[[#This Row],[DIAS DE ATRASO]]=0,0,t.base[[#This Row],[TOTAL]])","v":0}]
["2018-01-27","AQUINO PEREZ RONEL","Centro","0002-005173","2018-03-13",0,{"v":29568,"d":"29,568"},{"$f":"IF(t.base[[#This Row],[DIAS DE ATRASO]]=0,0,t.base[[#This Row],[TOTAL]])","v":0}]
["2017-11-08","NEGOCIOS VEGA SAC","Norte","0002-007020","2018-02-06",35,{"v":30910,"d":"30,910"},{"$f":"IF(t.base[[#This Row],[DIAS DE ATRASO]]=0,0,t.base[[#This Row],[TOTAL]])","v":30910}]
["2017-12-25","KOIMED S.A.C.","Centro","0002-002315","2018-02-23",18,{"v":29817,"d":"29,817"},{"$f":"IF(t.base[[#This Row],[DIAS DE ATRASO]]=0,0,t.base[[#This Row],[TOTAL]])","v":29817}]
["2018-01-27","PHOENIX S.R.LTDA","Norte","0002-007022","2018-03-13",0,{"v":43085,"d":"43,085"},{"$f":"IF(t.base[[#This Row],[DIAS DE ATRASO]]=0,0,t.base[[#This Row],[TOTAL]])","v":0}]
["2018-01-11","JOSHEL IMPORT SAC","Centro","0001-006941","2018-03-12",1,{"v":21997,"d":"21,997"},{"$f":"IF(t.base[[#This Row],[DIAS DE ATRASO]]=0,0,t.base[[#This Row],[TOTAL]])","v":21997}]
["2017-11-07","CLORINA S.A.C.","Centro","0001-008827","2017-12-22",81,{"v":12005,"d":"12,005"},{"$f":"IF(t.base[[#This Row],[DIAS DE ATRASO]]=0,0,t.base[[#This Row],[TOTAL]])","v":12005}]
["2017-05-30","XIN HUI SAC","Centro","0001-004762","2017-07-29",227,{"v":19665,"d":"19,665"},{"$f":"IF(t.base[[#This Row],[DIAS DE ATRASO]]=0,0,t.base[[#This Row],[TOTAL]])","v":19665}]
["2018-01-12","MAQUERA RAMOS IRMA","Centro","0001-004192","2018-03-13",0,{"v":13424,"d":"13,424"},{"$f":"IF(t.base[[#This Row],[DIAS DE ATRASO]]=0,0,t.base[[#This Row],[TOTAL]])","v":0}]
["2018-01-12","MEI-NOI SAC.","Centro","0001-001014","2018-03-13",0,{"v":20529,"d":"20,529"},{"$f":"IF(t.base[[#This Row],[DIAS DE ATRASO]]=0,0,t.base[[#This Row],[TOTAL]])","v":0}]
["2018-01-12","COPA S A","Centro","0001-009597","2018-03-13",0,{"v":22654,"d":"22,654"},{"$f":"IF(t.base[[#This Row],[DIAS DE ATRASO]]=0,0,t.base[[#This Row],[TOTAL]])","v":0}]
["2017-12-24","FUMIGUERRA EIRL","Centro","0002-002426","2018-02-22",19,{"v":14532,"d":"14,532"},{"$f":"IF(t.base[[#This Row],[DIAS DE ATRASO]]=0,0,t.base[[#This Row],[TOTAL]])","v":14532}]
["2017-08-05","APAZA PUMA LEONARDA","Centro","0002-001799","2017-09-19",175,{"v":21046,"d":"21,046"},{"$f":"IF(t.base[[#This Row],[DIAS DE ATRASO]]=0,0,t.base[[#This Row],[TOTAL]])","v":21046}]
["2018-01-11","YOAAN EIRL","Centro","0001-001994","2018-03-12",1,{"v":23568,"d":"23,568"},{"$f":"IF(t.base[[#This Row],[DIAS DE ATRASO]]=0,0,t.base[[#This Row],[TOTAL]])","v":23568}]
["2018-02-26","AMEDEP E.I.R.L.","Centro","0002-005505","2018-03-13",0,{"v":26884,"d":"26,884"},{"$f":"IF(t.base[[#This Row],[DIAS DE ATRASO]]=0,0,t.base[[#This Row],[TOTAL]])","v":0}]
["2018-02-26","2M SERVICIOS S.A.C.","Sur","0002-008634","2018-03-13",0,{"v":43378,"d":"43,378"},{"$f":"IF(t.base[[#This Row],[DIAS DE ATRASO]]=0,0,t.base[[#This Row],[TOTAL]])","v":0}]
["2018-01-12","MARCESA S.R.L.","Centro","0002-003209","2018-03-13",0,{"v":20050,"d":"20,050"},{"$f":"IF(t.base[[#This Row],[DIAS DE ATRASO]]=0,0,t.base[[#This Row],[TOTAL]])","v":0}]
["2017-11-20","FIVE PERU E.I.R.L.","Centro","0001-003324","2018-01-19",53,{"v":23851,"d":"23,851"},{"$f":"IF(t.base[[#This Row],[DIAS DE ATRASO]]=0,0,t.base[[#This Row],[TOTAL]])","v":23851}]
["2018-03-13","GUIA SEMANAL S.A.C","Norte","0002-008627","2018-03-13",0,{"v":32008,"d":"32,008"},{"$f":"IF(t.base[[#This Row],[DIAS DE ATRASO]]=0,0,t.base[[#This Row],[TOTAL]])","v":0}]
["2018-02-10","SERVICON S.A.C.","Norte","0001-007692","2018-03-12",1,{"v":24207,"d":"24,207"},{"$f":"IF(t.base[[#This Row],[DIAS DE ATRASO]]=0,0,t.base[[#This Row],[TOTAL]])","v":24207}]
["2018-02-11","GB ELECTRIC SAC","Centro","0001-004723","2018-03-13",0,{"v":26560,"d":"26,560"},{"$f":"IF(t.base[[#This Row],[DIAS DE ATRASO]]=0,0,t.base[[#This Row],[TOTAL]])","v":0}]
["2018-01-11","PAXI PAUCAR TEODORO","Centro","0002-005153","2018-03-12",1,{"v":22430,"d":"22,430"},{"$f":"IF(t.base[[#This Row],[DIAS DE ATRASO]]=0,0,t.base[[#This Row],[TOTAL]])","v":22430}]
["2018-01-11","TLI ADUANAS S.A.C.","Centro","0002-002731","2018-03-12",1,{"v":26595,"d":"26,595"},{"$f":"IF(t.base[[#This Row],[DIAS DE ATRASO]]=0,0,t.base[[#This Row],[TOTAL]])","v":26595}]
["2018-01-02","TANG KONG FU","Centro","0001-008606","2018-01-17",55,{"v":14935,"d":"14,935"},{"$f":"IF(t.base[[#This Row],[DIAS DE ATRASO]]=0,0,t.base[[#This Row],[TOTAL]])","v":14935}]
["2018-01-12","CIGREN PERU S.A.C.","Centro","0001-007739","2018-03-13",0,{"v":19485,"d":"19,485"},{"$f":"IF(t.base[[#This Row],[DIAS DE ATRASO]]=0,0,t.base[[#This Row],[TOTAL]])","v":0}]
["2018-01-12","GREEN STAR S.A.C","Centro","0002-005143","2018-03-13",0,{"v":22072,"d":"22,072"},{"$f":"IF(t.base[[#This Row],[DIAS DE ATRASO]]=0,0,t.base[[#This Row],[TOTAL]])","v":0}]
["2017-10-27","GOMEZ ROMANI LEONOR","Centro","0002-007021","2017-12-26",77,{"v":18946,"d":"18,946"},{"$f":"IF(t.base[[#This Row],[DIAS DE ATRASO]]=0,0,t.base[[#This Row],[TOTAL]])","v":18946}]
["2018-02-26","REDITEC E.I.R.L.","Sur","0001-008397","2018-03-13",0,{"v":18900,"d":"18,900"},{"$f":"IF(t.base[[#This Row],[DIAS DE ATRASO]]=0,0,t.base[[#This Row],[TOTAL]])","v":0}]
["2017-12-12","LI XINNAN","Centro","0001-006596","2018-03-12",1,{"v":15736,"d":"15,736"},{"$f":"IF(t.base[[#This Row],[DIAS DE ATRASO]]=0,0,t.base[[#This Row],[TOTAL]])","v":15736}]
["2018-02-01","ALCANZANDO","Centro","0001-009035","2018-02-01",40,{"v":10906,"d":"10,906"},{"$f":"IF(t.base[[#This Row],[DIAS DE ATRASO]]=0,0,t.base[[#This Row],[TOTAL]])","v":10906}]
["2018-02-11","FINAS COMPUTER SAC","Norte","0002-006005","2018-03-13",0,{"v":42624,"d":"42,624"},{"$f":"IF(t.base[[#This Row],[DIAS DE ATRASO]]=0,0,t.base[[#This Row],[TOTAL]])","v":0}]
["2018-02-11","FE GOLD S.A.C.","Centro","0002-002178","2018-03-13",0,{"v":23231,"d":"23,231"},{"$f":"IF(t.base[[#This Row],[DIAS DE ATRASO]]=0,0,t.base[[#This Row],[TOTAL]])","v":0}]
["2017-11-27","MARVE E.I.R.L.","Sur","0002-002366","2018-01-26",46,{"v":24568,"d":"24,568"},{"$f":"IF(t.base[[#This Row],[DIAS DE ATRASO]]=0,0,t.base[[#This Row],[TOTAL]])","v":24568}]
["2017-10-31","EAC SAC","Centro","0001-009183","2017-12-30",73,{"v":28292,"d":"28,292"},{"$f":"IF(t.base[[#This Row],[DIAS DE ATRASO]]=0,0,t.base[[#This Row],[TOTAL]])","v":28292}]
["2018-01-10","DELI.COM S.A.C.","Centro","0002-007537","2018-01-10",62,{"v":15772,"d":"15,772"},{"$f":"IF(t.base[[#This Row],[DIAS DE ATRASO]]=0,0,t.base[[#This Row],[TOTAL]])","v":15772}]
["2017-11-29","ROSAS PANDO ANIBAL","Centro","0001-009515","2018-01-28",44,{"v":17340,"d":"17,340"},{"$f":"IF(t.base[[#This Row],[DIAS DE ATRASO]]=0,0,t.base[[#This Row],[TOTAL]])","v":17340}]
["2018-01-26","SAN CARLOS S.A.C.","Centro","0002-007176","2018-02-25",16,{"v":11773,"d":"11,773"},{"$f":"IF(t.base[[#This Row],[DIAS DE ATRASO]]=0,0,t.base[[#This Row],[TOTAL]])","v":11773}]
["2017-12-02","L M MOTORS SA","Centro","0002-002195","2018-01-16",56,{"v":20716,"d":"20,716"},{"$f":"IF(t.base[[#This Row],[DIAS DE ATRASO]]=0,0,t.base[[#This Row],[TOTAL]])","v":20716}]
["2018-02-03","TRANSOIL S.A.C.","Centro","0002-003882","2018-02-18",23,{"v":19830,"d":"19,830"},{"$f":"IF(t.base[[#This Row],[DIAS DE ATRASO]]=0,0,t.base[[#This Row],[TOTAL]])","v":19830}]
["2017-11-09","MEDICAL MED SAC","Centro","0002-001508","2018-01-08",64,{"v":23568,"d":"23,568"},{"$f":"IF(t.base[[#This Row],[DIAS DE ATRASO]]=0,0,t.base[[#This Row],[TOTAL]])","v":23568}]
["2018-02-26","CLAS CIUDAD DE DIOS","Sur","0001-003746","2018-03-13",0,{"v":38699,"d":"38,699"},{"$f":"IF(t.base[[#This Row],[DIAS DE ATRASO]]=0,0,t.base[[#This Row],[TOTAL]])","v":0}]
["2018-01-27","FENIX DEL PERU SRL","Centro","0001-008755","2018-03-13",0,{"v":24344,"d":"24,344"},{"$f":"IF(t.base[[#This Row],[DIAS DE ATRASO]]=0,0,t.base[[#This Row],[TOTAL]])","v":0}]
["2017-12-12","2M SERVICIOS S.A.C.","Sur","0001-009412","2018-01-11",61,{"v":27912,"d":"27,912"},{"$f":"IF(t.base[[#This Row],[DIAS DE ATRASO]]=0,0,t.base[[#This Row],[TOTAL]])","v":27912}]
["2018-02-11","AMAR ORTIZ MARIBEL","Centro","0002-004433","2018-03-13",0,{"v":17111,"d":"17,111"},{"$f":"IF(t.base[[#This Row],[DIAS DE ATRASO]]=0,0,t.base[[#This Row],[TOTAL]])","v":0}]
["2017-09-06","RPS PERU S.A.C.","Centro","0002-006794","2017-09-06",188,{"v":17976,"d":"17,976"},{"$f":"IF(t.base[[#This Row],[DIAS DE ATRASO]]=0,0,t.base[[#This Row],[TOTAL]])","v":17976}]
["2017-10-29","SEGURITEMP E.I.R.L.","Norte","0002-005309","2017-12-13",90,{"v":34119,"d":"34,119"},{"$f":"IF(t.base[[#This Row],[DIAS DE ATRASO]]=0,0,t.base[[#This Row],[TOTAL]])","v":34119}]
["2017-11-18","CYPRESS PERU S.A.C.","Centro","0001-009319","2018-01-02",70,{"v":11636,"d":"11,636"},{"$f":"IF(t.base[[#This Row],[DIAS DE ATRASO]]=0,0,t.base[[#This Row],[TOTAL]])","v":11636}]
["2018-01-03","ARTROTRAUMAS SAC","Centro","0002-006113","2018-02-17",24,{"v":13167,"d":"13,167"},{"$f":"IF(t.base[[#This Row],[DIAS DE ATRASO]]=0,0,t.base[[#This Row],[TOTAL]])","v":13167}]
["2017-12-13","TEXMACHINE S.A.C.","Centro","0001-002453","2018-03-13",0,{"v":22797,"d":"22,797"},{"$f":"IF(t.base[[#This Row],[DIAS DE ATRASO]]=0,0,t.base[[#This Row],[TOTAL]])","v":0}]
["2018-03-13","CUTITON S.A.C","Centro","0002-007319","2018-03-13",0,{"v":29746,"d":"29,746"},{"$f":"IF(t.base[[#This Row],[DIAS DE ATRASO]]=0,0,t.base[[#This Row],[TOTAL]])","v":0}]
["2018-02-26","DAMERED S.A.C.","Centro","0002-004777","2018-03-13",0,{"v":14774,"d":"14,774"},{"$f":"IF(t.base[[#This Row],[DIAS DE ATRASO]]=0,0,t.base[[#This Row],[TOTAL]])","v":0}]
["2018-02-26","SERVICON S.A.C.","Norte","0001-003622","2018-03-13",0,{"v":30835,"d":"30,835"},{"$f":"IF(t.base[[#This Row],[DIAS DE ATRASO]]=0,0,t.base[[#This Row],[TOTAL]])","v":0}]
["2018-01-12","JHOSBET E.I.R.L.","Centro","0001-004203","2018-03-13",0,{"v":22166,"d":"22,166"},{"$f":"IF(t.base[[#This Row],[DIAS DE ATRASO]]=0,0,t.base[[#This Row],[TOTAL]])","v":0}]
["2018-01-21","AQUINO PEREZ RONEL","Centro","0002-001311","2018-02-05",36,{"v":14864,"d":"14,864"},{"$f":"IF(t.base[[#This Row],[DIAS DE ATRASO]]=0,0,t.base[[#This Row],[TOTAL]])","v":14864}]
["2017-11-28","INTELECTRIC  S.A.C.","Centro","0001-004270","2018-02-26",15,{"v":10952,"d":"10,952"},{"$f":"IF(t.base[[#This Row],[DIAS DE ATRASO]]=0,0,t.base[[#This Row],[TOTAL]])","v":10952}]
["2018-03-07","D & M MEDICAL EIRL","Centro","0002-009019","2018-03-07",6,{"v":14409,"d":"14,409"},{"$f":"IF(t.base[[#This Row],[DIAS DE ATRASO]]=0,0,t.base[[#This Row],[TOTAL]])","v":14409}]
["2017-12-13","OXIMARC S.R.L.","Norte","0001-003154","2018-03-13",0,{"v":33601,"d":"33,601"},{"$f":"IF(t.base[[#This Row],[DIAS DE ATRASO]]=0,0,t.base[[#This Row],[TOTAL]])","v":0}]
["2018-01-27","TEXTILES PAULA SAC","Centro","0001-001631","2018-03-13",0,{"v":15856,"d":"15,856"},{"$f":"IF(t.base[[#This Row],[DIAS DE ATRASO]]=0,0,t.base[[#This Row],[TOTAL]])","v":0}]
["2017-12-13","PHOENIX S.R.LTDA","Norte","0002-008703","2018-03-13",0,{"v":65479,"d":"65,479"},{"$f":"IF(t.base[[#This Row],[DIAS DE ATRASO]]=0,0,t.base[[#This Row],[TOTAL]])","v":0}]
["2018-01-12","TECNO COLOR S R L","Centro","0002-004105","2018-01-27",45,{"v":18047,"d":"18,047"},{"$f":"IF(t.base[[#This Row],[DIAS DE ATRASO]]=0,0,t.base[[#This Row],[TOTAL]])","v":18047}]
["2018-02-26","SERPENOR S.R.LTDA","Norte","0001-006061","2018-03-13",0,{"v":66506,"d":"66,506"},{"$f":"IF(t.base[[#This Row],[DIAS DE ATRASO]]=0,0,t.base[[#This Row],[TOTAL]])","v":0}]
["2018-02-11","SACOSA SAC.","Norte","0001-005189","2018-03-13",0,{"v":43868,"d":"43,868"},{"$f":"IF(t.base[[#This Row],[DIAS DE ATRASO]]=0,0,t.base[[#This Row],[TOTAL]])","v":0}]
["2018-01-31","ANVI'S S.R.L.","Norte","0002-006564","2018-03-02",11,{"v":56216,"d":"56,216"},{"$f":"IF(t.base[[#This Row],[DIAS DE ATRASO]]=0,0,t.base[[#This Row],[TOTAL]])","v":56216}]
["2018-01-12","TWO STAR S.A.C.","Centro","0002-006072","2018-03-13",0,{"v":11497,"d":"11,497"},{"$f":"IF(t.base[[#This Row],[DIAS DE ATRASO]]=0,0,t.base[[#This Row],[TOTAL]])","v":0}]
["2017-05-18","HARBINGER S.A.C.","Centro","0001-001444","2017-07-17",239,{"v":22609,"d":"22,609"},{"$f":"IF(t.base[[#This Row],[DIAS DE ATRASO]]=0,0,t.base[[#This Row],[TOTAL]])","v":22609}]
["2017-12-13","ZHOU YA S.A.C","Centro","0001-006100","2018-03-13",0,{"v":29920,"d":"29,920"},{"$f":"IF(t.base[[#This Row],[DIAS DE ATRASO]]=0,0,t.base[[#This Row],[TOTAL]])","v":0}]
["2017-10-06","M & ST SALUD S.A.C","Centro","0002-008460","2018-01-04",68,{"v":13965,"d":"13,965"},{"$f":"IF(t.base[[#This Row],[DIAS DE ATRASO]]=0,0,t.base[[#This Row],[TOTAL]])","v":13965}]
["2017-12-13","MEYTEX SAC","Centro","0001-007686","2018-03-13",0,{"v":29035,"d":"29,035"},{"$f":"IF(t.base[[#This Row],[DIAS DE ATRASO]]=0,0,t.base[[#This Row],[TOTAL]])","v":0}]
["2018-03-13","MULTITAPS S.A.C.","Centro","0002-001220","2018-03-13",0,{"v":25047,"d":"25,047"},{"$f":"IF(t.base[[#This Row],[DIAS DE ATRASO]]=0,0,t.base[[#This Row],[TOTAL]])","v":0}]
["2017-09-22","IMPRENTA W&Y EIRL","Norte","0001-006789","2017-11-21",112,{"v":21485,"d":"21,485"},{"$f":"IF(t.base[[#This Row],[DIAS DE ATRASO]]=0,0,t.base[[#This Row],[TOTAL]])","v":21485}]
["2017-11-01","CLINICA ELERA S.R.L","Centro","0002-006931","2017-12-16",87,{"v":26344,"d":"26,344"},{"$f":"IF(t.base[[#This Row],[DIAS DE ATRASO]]=0,0,t.base[[#This Row],[TOTAL]])","v":26344}]
["2017-12-12","ILOP  S.A.C.","Centro","0002-009937","2018-03-12",1,{"v":17590,"d":"17,590"},{"$f":"IF(t.base[[#This Row],[DIAS DE ATRASO]]=0,0,t.base[[#This Row],[TOTAL]])","v":17590}]
["2017-11-21","MPK E.I.R.L.","Sur","0002-007610","2018-02-19",22,{"v":7492,"d":"7,492"},{"$f":"IF(t.base[[#This Row],[DIAS DE ATRASO]]=0,0,t.base[[#This Row],[TOTAL]])","v":7492}]
["2018-03-13","JERI LUNA JORGE","Centro","0002-007747","2018-03-13",0,{"v":11876,"d":"11,876"},{"$f":"IF(t.base[[#This Row],[DIAS DE ATRASO]]=0,0,t.base[[#This Row],[TOTAL]])","v":0}]
["2017-12-22","VIP CHANNEL S.A.C.","Centro","0001-003708","2018-01-06",66,{"v":28188,"d":"28,188"},{"$f":"IF(t.base[[#This Row],[DIAS DE ATRASO]]=0,0,t.base[[#This Row],[TOTAL]])","v":28188}]
["2017-09-06","TRAUMA S.A.C.","Centro","0002-003279","2017-09-06",188,{"v":22658,"d":"22,658"},{"$f":"IF(t.base[[#This Row],[DIAS DE ATRASO]]=0,0,t.base[[#This Row],[TOTAL]])","v":22658}]
["2018-02-12","QUISPE TORRES OLGA","Centro","0002-003564","2018-02-12",29,{"v":26717,"d":"26,717"},{"$f":"IF(t.base[[#This Row],[DIAS DE ATRASO]]=0,0,t.base[[#This Row],[TOTAL]])","v":26717}]
["2017-12-13","DAMIAN SRLTDA.","Centro","0001-008043","2018-03-13",0,{"v":18686,"d":"18,686"},{"$f":"IF(t.base[[#This Row],[DIAS DE ATRASO]]=0,0,t.base[[#This Row],[TOTAL]])","v":0}]
["2017-12-22","ECONO TAXI S.R.L.","Centro","0001-009777","2018-01-06",66,{"v":20080,"d":"20,080"},{"$f":"IF(t.base[[#This Row],[DIAS DE ATRASO]]=0,0,t.base[[#This Row],[TOTAL]])","v":20080}]
["2017-12-13","REHOBOT PC E.I.R.L.","Centro","0001-003229","2018-03-13",0,{"v":29874,"d":"29,874"},{"$f":"IF(t.base[[#This Row],[DIAS DE ATRASO]]=0,0,t.base[[#This Row],[TOTAL]])","v":0}]
["2017-08-27","VILLA DENT SRL","Centro","0001-002352","2017-09-26",168,{"v":20778,"d":"20,778"},{"$f":"IF(t.base[[#This Row],[DIAS DE ATRASO]]=0,0,t.base[[#This Row],[TOTAL]])","v":20778}]
["2018-02-11","DESANA S.A.C.","Centro","0002-002592","2018-03-13",0,{"v":17358,"d":"17,358"},{"$f":"IF(t.base[[#This Row],[DIAS DE ATRASO]]=0,0,t.base[[#This Row],[TOTAL]])","v":0}]
["2017-11-09","ALBACONSULT S.A.C.","Centro","0002-002603","2017-12-24",79,{"v":22072,"d":"22,072"},{"$f":"IF(t.base[[#This Row],[DIAS DE ATRASO]]=0,0,t.base[[#This Row],[TOTAL]])","v":22072}]
["2017-07-09","ASCLEPIO S.A.C.","Centro","0001-001466","2017-09-07",187,{"v":22092,"d":"22,092"},{"$f":"IF(t.base[[#This Row],[DIAS DE ATRASO]]=0,0,t.base[[#This Row],[TOTAL]])","v":22092}]
["2018-01-12","SPORT FREE E.I.R.L.","Centro","0001-002458","2018-03-13",0,{"v":23613,"d":"23,613"},{"$f":"IF(t.base[[#This Row],[DIAS DE ATRASO]]=0,0,t.base[[#This Row],[TOTAL]])","v":0}]
["2017-12-19","MAMANI SOSA ANA","Centro","0002-007876","2018-02-02",39,{"v":27428,"d":"27,428"},{"$f":"IF(t.base[[#This Row],[DIAS DE ATRASO]]=0,0,t.base[[#This Row],[TOTAL]])","v":27428}]
["2018-02-11","ALDI S.A.C.","Sur","0002-001435","2018-03-13",0,{"v":24322,"d":"24,322"},{"$f":"IF(t.base[[#This Row],[DIAS DE ATRASO]]=0,0,t.base[[#This Row],[TOTAL]])","v":0}]
["2018-02-26","CUTITON S.A.C","Centro","0002-003812","2018-03-13",0,{"v":15318,"d":"15,318"},{"$f":"IF(t.base[[#This Row],[DIAS DE ATRASO]]=0,0,t.base[[#This Row],[TOTAL]])","v":0}]
["2018-01-11","XSTRATA PERU S.A","Centro","0002-003264","2018-03-12",1,{"v":12282,"d":"12,282"},{"$f":"IF(t.base[[#This Row],[DIAS DE ATRASO]]=0,0,t.base[[#This Row],[TOTAL]])","v":12282}]
["2018-02-11","IKEA E.I.R.L.","Sur","0002-003718","2018-03-13",0,{"v":31193,"d":"31,193"},{"$f":"IF(t.base[[#This Row],[DIAS DE ATRASO]]=0,0,t.base[[#This Row],[TOTAL]])","v":0}]
["2018-02-26","LIDER GRAFICO SRL","Norte","0002-002562","2018-03-13",0,{"v":42033,"d":"42,033"},{"$f":"IF(t.base[[#This Row],[DIAS DE ATRASO]]=0,0,t.base[[#This Row],[TOTAL]])","v":0}]
["2018-01-12","C. CHINININ S.A.C.","Centro","0002-004647","2018-03-13",0,{"v":13542,"d":"13,542"},{"$f":"IF(t.base[[#This Row],[DIAS DE ATRASO]]=0,0,t.base[[#This Row],[TOTAL]])","v":0}]
["2018-01-12","LOAYZA KARI ENRIQUE","Centro","0002-001259","2018-03-13",0,{"v":15718,"d":"15,718"},{"$f":"IF(t.base[[#This Row],[DIAS DE ATRASO]]=0,0,t.base[[#This Row],[TOTAL]])","v":0}]
["2017-12-31","EURO PERUANA S.A.C.","Centro","0001-006862","2018-01-30",42,{"v":21358,"d":"21,358"},{"$f":"IF(t.base[[#This Row],[DIAS DE ATRASO]]=0,0,t.base[[#This Row],[TOTAL]])","v":21358}]
["2018-03-13","USATEL S.A.C.","Centro","0001-001469","2018-03-13",0,{"v":19546,"d":"19,546"},{"$f":"IF(t.base[[#This Row],[DIAS DE ATRASO]]=0,0,t.base[[#This Row],[TOTAL]])","v":0}]
["2018-02-10","SOLISA S.A.C.","Centro","0002-009136","2018-02-25",16,{"v":19686,"d":"19,686"},{"$f":"IF(t.base[[#This Row],[DIAS DE ATRASO]]=0,0,t.base[[#This Row],[TOTAL]])","v":19686}]
["2018-03-07","OFITECC S.A.C.","Norte","0002-009546","2018-03-07",6,{"v":20292,"d":"20,292"},{"$f":"IF(t.base[[#This Row],[DIAS DE ATRASO]]=0,0,t.base[[#This Row],[TOTAL]])","v":20292}]
["2018-01-27","OXIMARC S.R.L.","Norte","0001-006854","2018-03-13",0,{"v":36120,"d":"36,120"},{"$f":"IF(t.base[[#This Row],[DIAS DE ATRASO]]=0,0,t.base[[#This Row],[TOTAL]])","v":0}]
["2017-12-12","DAGAL S.A.C.","Centro","0002-008253","2018-03-12",1,{"v":18358,"d":"18,358"},{"$f":"IF(t.base[[#This Row],[DIAS DE ATRASO]]=0,0,t.base[[#This Row],[TOTAL]])","v":18358}]
["2017-07-16","GARCIA PEÐA MANUEL","Centro","0002-005352","2017-08-30",195,{"v":12017,"d":"12,017"},{"$f":"IF(t.base[[#This Row],[DIAS DE ATRASO]]=0,0,t.base[[#This Row],[TOTAL]])","v":12017}]
["2018-03-13","CEP KERPEN HORREN","Centro","0002-007208","2018-03-13",0,{"v":17253,"d":"17,253"},{"$f":"IF(t.base[[#This Row],[DIAS DE ATRASO]]=0,0,t.base[[#This Row],[TOTAL]])","v":0}]
["2018-02-05","BENING S.A.C.","Norte","0002-003678","2018-02-05",36,{"v":35893,"d":"35,893"},{"$f":"IF(t.base[[#This Row],[DIAS DE ATRASO]]=0,0,t.base[[#This Row],[TOTAL]])","v":35893}]
["2018-02-25","NEYRA MEDINA RAFAEL","Centro","0001-005112","2018-03-12",1,{"v":22354,"d":"22,354"},{"$f":"IF(t.base[[#This Row],[DIAS DE ATRASO]]=0,0,t.base[[#This Row],[TOTAL]])","v":22354}]
["2018-03-12","XIE SHIYA","Centro","0001-003894","2018-03-12",1,{"v":10515,"d":"10,515"},{"$f":"IF(t.base[[#This Row],[DIAS DE ATRASO]]=0,0,t.base[[#This Row],[TOTAL]])","v":10515}]
["2017-08-25","TRICOTTON S.A.C","Centro","0002-002123","2017-09-09",185,{"v":24417,"d":"24,417"},{"$f":"IF(t.base[[#This Row],[DIAS DE ATRASO]]=0,0,t.base[[#This Row],[TOTAL]])","v":24417}]
["2018-01-27","ALYJOV FARMA SRL","Centro","0002-001968","2018-03-13",0,{"v":20801,"d":"20,801"},{"$f":"IF(t.base[[#This Row],[DIAS DE ATRASO]]=0,0,t.base[[#This Row],[TOTAL]])","v":0}]
["2017-12-13","HACEB DEL PERU S.A.","Centro","0002-003920","2018-03-13",0,{"v":27071,"d":"27,071"},{"$f":"IF(t.base[[#This Row],[DIAS DE ATRASO]]=0,0,t.base[[#This Row],[TOTAL]])","v":0}]
["2018-03-13","NESTOR MARTIN S.R.L","Sur","0002-003141","2018-03-13",0,{"v":34403,"d":"34,403"},{"$f":"IF(t.base[[#This Row],[DIAS DE ATRASO]]=0,0,t.base[[#This Row],[TOTAL]])","v":0}]
["2018-03-13","KOZUMI PERU S.A.","Centro","0002-004750","2018-03-13",0,{"v":29994,"d":"29,994"},{"$f":"IF(t.base[[#This Row],[DIAS DE ATRASO]]=0,0,t.base[[#This Row],[TOTAL]])","v":0}]
["2018-01-12","LIANHE SRL","Centro","0001-003815","2018-03-13",0,{"v":15608,"d":"15,608"},{"$f":"IF(t.base[[#This Row],[DIAS DE ATRASO]]=0,0,t.base[[#This Row],[TOTAL]])","v":0}]
["2017-12-13","SISCOM E.I.R.L.","Sur","0001-006433","2018-03-13",0,{"v":33113,"d":"33,113"},{"$f":"IF(t.base[[#This Row],[DIAS DE ATRASO]]=0,0,t.base[[#This Row],[TOTAL]])","v":0}]
["2018-01-27","PERVISAC SRL","Centro","0002-002311","2018-03-13",0,{"v":11726,"d":"11,726"},{"$f":"IF(t.base[[#This Row],[DIAS DE ATRASO]]=0,0,t.base[[#This Row],[TOTAL]])","v":0}]
["2018-03-13","ECO GRANJA S.R.L.","Centro","0001-005775","2018-03-13",0,{"v":21711,"d":"21,711"},{"$f":"IF(t.base[[#This Row],[DIAS DE ATRASO]]=0,0,t.base[[#This Row],[TOTAL]])","v":0}]
["2017-10-07","INSANOR S.A.C.","Centro","0001-007554","2018-01-05",67,{"v":28821,"d":"28,821"},{"$f":"IF(t.base[[#This Row],[DIAS DE ATRASO]]=0,0,t.base[[#This Row],[TOTAL]])","v":28821}]
["2017-11-09","ARENAS RAMOS FREDY","Centro","0002-002927","2017-12-24",79,{"v":16699,"d":"16,699"},{"$f":"IF(t.base[[#This Row],[DIAS DE ATRASO]]=0,0,t.base[[#This Row],[TOTAL]])","v":16699}]
["2018-02-26","BOZA GOMEZ JUAN","Centro","0002-005754","2018-03-13",0,{"v":10498,"d":"10,498"},{"$f":"IF(t.base[[#This Row],[DIAS DE ATRASO]]=0,0,t.base[[#This Row],[TOTAL]])","v":0}]
["2018-03-13","MEPAL S.A.C","Centro","0001-007158","2018-03-13",0,{"v":20590,"d":"20,590"},{"$f":"IF(t.base[[#This Row],[DIAS DE ATRASO]]=0,0,t.base[[#This Row],[TOTAL]])","v":0}]
["2017-08-10","TECNO COLOR S R L","Centro","0001-008550","2017-08-10",215,{"v":28592,"d":"28,592"},{"$f":"IF(t.base[[#This Row],[DIAS DE ATRASO]]=0,0,t.base[[#This Row],[TOTAL]])","v":28592}]
["2018-03-12","MOSOQ INN E.I.R.L.","Sur","0002-009107","2018-03-12",1,{"v":29885,"d":"29,885"},{"$f":"IF(t.base[[#This Row],[DIAS DE ATRASO]]=0,0,t.base[[#This Row],[TOTAL]])","v":29885}]
["2017-07-03","DISCOFERT SRL","Centro","0001-009883","2017-08-17",208,{"v":19345,"d":"19,345"},{"$f":"IF(t.base[[#This Row],[DIAS DE ATRASO]]=0,0,t.base[[#This Row],[TOTAL]])","v":19345}]
["2017-08-24","ALFA & ALFA E.I.R.L","Centro","0002-009084","2017-11-22",111,{"v":28724,"d":"28,724"},{"$f":"IF(t.base[[#This Row],[DIAS DE ATRASO]]=0,0,t.base[[#This Row],[TOTAL]])","v":28724}]
["2018-01-12","TECSE MUYOC","Sur","0002-006942","2018-03-13",0,{"v":14363,"d":"14,363"},{"$f":"IF(t.base[[#This Row],[DIAS DE ATRASO]]=0,0,t.base[[#This Row],[TOTAL]])","v":0}]
["2017-11-29","ISA BARHAM S.A.C.","Centro","0001-007746","2018-01-13",59,{"v":29095,"d":"29,095"},{"$f":"IF(t.base[[#This Row],[DIAS DE ATRASO]]=0,0,t.base[[#This Row],[TOTAL]])","v":29095}]
["2017-12-24","HOCADE S.A.","Centro","0001-002721","2017-12-24",79,{"v":13543,"d":"13,543"},{"$f":"IF(t.base[[#This Row],[DIAS DE ATRASO]]=0,0,t.base[[#This Row],[TOTAL]])","v":13543}]
["2018-01-19","HATHOR S.R.L.","Centro","0001-006372","2018-03-05",8,{"v":13069,"d":"13,069"},{"$f":"IF(t.base[[#This Row],[DIAS DE ATRASO]]=0,0,t.base[[#This Row],[TOTAL]])","v":13069}]
["2018-01-27","ENERWELD SAC","Centro","0002-007084","2018-03-13",0,{"v":18223,"d":"18,223"},{"$f":"IF(t.base[[#This Row],[DIAS DE ATRASO]]=0,0,t.base[[#This Row],[TOTAL]])","v":0}]
["2018-03-13","VASQUEZ CAMPOS BETY","Centro","0001-002252","2018-03-13",0,{"v":20016,"d":"20,016"},{"$f":"IF(t.base[[#This Row],[DIAS DE ATRASO]]=0,0,t.base[[#This Row],[TOTAL]])","v":0}]
["2017-10-18","COPY DATA E.I.R.L.","Centro","0002-006392","2017-12-17",86,{"v":12014,"d":"12,014"},{"$f":"IF(t.base[[#This Row],[DIAS DE ATRASO]]=0,0,t.base[[#This Row],[TOTAL]])","v":12014}]
["2018-01-27","JOMAHI E.I.R.L.","Norte","0001-009837","2018-03-13",0,{"v":41775,"d":"41,775"},{"$f":"IF(t.base[[#This Row],[DIAS DE ATRASO]]=0,0,t.base[[#This Row],[TOTAL]])","v":0}]
["2018-01-29","NEGOCIOS A & D SRL","Norte","0002-009938","2018-02-13",28,{"v":30515,"d":"30,515"},{"$f":"IF(t.base[[#This Row],[DIAS DE ATRASO]]=0,0,t.base[[#This Row],[TOTAL]])","v":30515}]
["2017-12-25","GORVEZ E.I.R.L.","Norte","0002-007548","2018-02-23",18,{"v":34013,"d":"34,013"},{"$f":"IF(t.base[[#This Row],[DIAS DE ATRASO]]=0,0,t.base[[#This Row],[TOTAL]])","v":34013}]
["2018-02-25","KOIMED S.A.C.","Centro","0002-005450","2018-03-12",1,{"v":16370,"d":"16,370"},{"$f":"IF(t.base[[#This Row],[DIAS DE ATRASO]]=0,0,t.base[[#This Row],[TOTAL]])","v":16370}]
["2017-12-11","C.S.I. S.A.C.","Sur","0001-004962","2018-03-11",2,{"v":43244,"d":"43,244"},{"$f":"IF(t.base[[#This Row],[DIAS DE ATRASO]]=0,0,t.base[[#This Row],[TOTAL]])","v":43244}]
["2017-12-13","ESTETICA VENUS SRL","Centro","0002-008034","2018-03-13",0,{"v":22057,"d":"22,057"},{"$f":"IF(t.base[[#This Row],[DIAS DE ATRASO]]=0,0,t.base[[#This Row],[TOTAL]])","v":0}]
["2018-02-11","TITANIUM S.A.C.","Centro","0001-008935","2018-03-13",0,{"v":25132,"d":"25,132"},{"$f":"IF(t.base[[#This Row],[DIAS DE ATRASO]]=0,0,t.base[[#This Row],[TOTAL]])","v":0}]
["2017-06-26","REGALOS BENJI SAC","Centro","0001-004101","2017-08-25",200,{"v":14073,"d":"14,073"},{"$f":"IF(t.base[[#This Row],[DIAS DE ATRASO]]=0,0,t.base[[#This Row],[TOTAL]])","v":14073}]
["2018-03-13","ROJAS VILLANO NILO","Centro","0002-009943","2018-03-13",0,{"v":12383,"d":"12,383"},{"$f":"IF(t.base[[#This Row],[DIAS DE ATRASO]]=0,0,t.base[[#This Row],[TOTAL]])","v":0}]
["2017-12-13","FIDUCIARIA GBC S.A.","Centro","0001-005832","2018-03-13",0,{"v":24917,"d":"24,917"},{"$f":"IF(t.base[[#This Row],[DIAS DE ATRASO]]=0,0,t.base[[#This Row],[TOTAL]])","v":0}]
["2017-12-20","ATELCINE PERU SAC","Centro","0001-007554","2018-02-18",23,{"v":15545,"d":"15,545"},{"$f":"IF(t.base[[#This Row],[DIAS DE ATRASO]]=0,0,t.base[[#This Row],[TOTAL]])","v":15545}]
["2018-02-11","MAMANI ANCCO DAMIAN","Centro","0001-007519","2018-03-13",0,{"v":12516,"d":"12,516"},{"$f":"IF(t.base[[#This Row],[DIAS DE ATRASO]]=0,0,t.base[[#This Row],[TOTAL]])","v":0}]
["2017-12-03","TRANSILMAR S.A.C.","Sur","0001-009883","2018-01-17",55,{"v":24073,"d":"24,073"},{"$f":"IF(t.base[[#This Row],[DIAS DE ATRASO]]=0,0,t.base[[#This Row],[TOTAL]])","v":24073}]
["2018-01-21","HUAMALI ANCO TITO","Centro","0002-004540","2018-03-07",6,{"v":23310,"d":"23,310"},{"$f":"IF(t.base[[#This Row],[DIAS DE ATRASO]]=0,0,t.base[[#This Row],[TOTAL]])","v":23310}]
["2018-01-12","PROVINAK S.A.C.","Centro","0002-008081","2018-03-13",0,{"v":10960,"d":"10,960"},{"$f":"IF(t.base[[#This Row],[DIAS DE ATRASO]]=0,0,t.base[[#This Row],[TOTAL]])","v":0}]
["2017-11-11","TAI FENG SAC","Centro","0001-002469","2018-01-10",62,{"v":19028,"d":"19,028"},{"$f":"IF(t.base[[#This Row],[DIAS DE ATRASO]]=0,0,t.base[[#This Row],[TOTAL]])","v":19028}]
["2018-01-12","TORSAL E.I.R.L.","Sur","0002-006194","2018-03-13",0,{"v":19625,"d":"19,625"},{"$f":"IF(t.base[[#This Row],[DIAS DE ATRASO]]=0,0,t.base[[#This Row],[TOTAL]])","v":0}]
["2018-02-11","ERIKA LENS E.I.R.L.","Centro","0002-003814","2018-03-13",0,{"v":21618,"d":"21,618"},{"$f":"IF(t.base[[#This Row],[DIAS DE ATRASO]]=0,0,t.base[[#This Row],[TOTAL]])","v":0}]
["2018-02-18","JARRO ROJAS IRMA","Centro","0002-007380","2018-02-18",23,{"v":14863,"d":"14,863"},{"$f":"IF(t.base[[#This Row],[DIAS DE ATRASO]]=0,0,t.base[[#This Row],[TOTAL]])","v":14863}]
["2018-02-25","ORBE EMPRESARIAL SA","Centro","0001-007185","2018-03-12",1,{"v":10028,"d":"10,028"},{"$f":"IF(t.base[[#This Row],[DIAS DE ATRASO]]=0,0,t.base[[#This Row],[TOTAL]])","v":10028}]
["2018-01-27","TRIMAGEN STUDIO SAC","Centro","0002-008686","2018-03-13",0,{"v":29225,"d":"29,225"},{"$f":"IF(t.base[[#This Row],[DIAS DE ATRASO]]=0,0,t.base[[#This Row],[TOTAL]])","v":0}]
["2018-03-13","CAPIRENA S.A.C.","Centro","0001-004955","2018-03-13",0,{"v":28946,"d":"28,946"},{"$f":"IF(t.base[[#This Row],[DIAS DE ATRASO]]=0,0,t.base[[#This Row],[TOTAL]])","v":0}]
["2018-02-11","REYES HUANCA GIL","Centro","0001-008343","2018-02-26",15,{"v":26890,"d":"26,890"},{"$f":"IF(t.base[[#This Row],[DIAS DE ATRASO]]=0,0,t.base[[#This Row],[TOTAL]])","v":26890}]
["2018-03-12","METALAB S.A.C.","Centro","0001-005338","2018-03-12",1,{"v":26497,"d":"26,497"},{"$f":"IF(t.base[[#This Row],[DIAS DE ATRASO]]=0,0,t.base[[#This Row],[TOTAL]])","v":26497}]
["2018-03-13","MOVILLANTAS S.A.C.","Centro","0001-003807","2018-03-13",0,{"v":21628,"d":"21,628"},{"$f":"IF(t.base[[#This Row],[DIAS DE ATRASO]]=0,0,t.base[[#This Row],[TOTAL]])","v":0}]
["2017-12-13","SEGECAL S.R.L.","Centro","0002-001275","2018-03-13",0,{"v":23603,"d":"23,603"},{"$f":"IF(t.base[[#This Row],[DIAS DE ATRASO]]=0,0,t.base[[#This Row],[TOTAL]])","v":0}]
["2018-02-11","SILFER E.I.R.L.","Norte","0002-003811","2018-03-13",0,{"v":24979,"d":"24,979"},{"$f":"IF(t.base[[#This Row],[DIAS DE ATRASO]]=0,0,t.base[[#This Row],[TOTAL]])","v":0}]
["2018-02-11","RIE SAKATA E.I.R.L.","Centro","0002-004405","2018-03-13",0,{"v":17834,"d":"17,834"},{"$f":"IF(t.base[[#This Row],[DIAS DE ATRASO]]=0,0,t.base[[#This Row],[TOTAL]])","v":0}]
["2017-11-22","NEGYSER PERU S.A.C.","Centro","0002-001078","2018-01-21",51,{"v":24622,"d":"24,622"},{"$f":"IF(t.base[[#This Row],[DIAS DE ATRASO]]=0,0,t.base[[#This Row],[TOTAL]])","v":24622}]
["2018-01-12","QUEQUE MAMANI LIDIA","Centro","0001-006158","2018-03-13",0,{"v":26306,"d":"26,306"},{"$f":"IF(t.base[[#This Row],[DIAS DE ATRASO]]=0,0,t.base[[#This Row],[TOTAL]])","v":0}]
["2018-03-13","ILOP  S.A.C.","Centro","0001-003761","2018-03-13",0,{"v":14701,"d":"14,701"},{"$f":"IF(t.base[[#This Row],[DIAS DE ATRASO]]=0,0,t.base[[#This Row],[TOTAL]])","v":0}]
["2018-02-04","AGRO FALCON S.R.L.","Norte","0002-005297","2018-02-19",22,{"v":38582,"d":"38,582"},{"$f":"IF(t.base[[#This Row],[DIAS DE ATRASO]]=0,0,t.base[[#This Row],[TOTAL]])","v":38582}]
["2018-01-27","CRITIKOS S.A.C.","Centro","0002-001044","2018-03-13",0,{"v":14776,"d":"14,776"},{"$f":"IF(t.base[[#This Row],[DIAS DE ATRASO]]=0,0,t.base[[#This Row],[TOTAL]])","v":0}]
["2018-02-25","A.C.D. S.R.L.","Sur","0001-001705","2018-03-12",1,{"v":43963,"d":"43,963"},{"$f":"IF(t.base[[#This Row],[DIAS DE ATRASO]]=0,0,t.base[[#This Row],[TOTAL]])","v":43963}]
["2018-02-26","FINAS COMPUTER SAC","Norte","0002-001661","2018-03-13",0,{"v":22576,"d":"22,576"},{"$f":"IF(t.base[[#This Row],[DIAS DE ATRASO]]=0,0,t.base[[#This Row],[TOTAL]])","v":0}]
["2018-03-13","MAGROF S.A.","Centro","0002-001321","2018-03-13",0,{"v":21603,"d":"21,603"},{"$f":"IF(t.base[[#This Row],[DIAS DE ATRASO]]=0,0,t.base[[#This Row],[TOTAL]])","v":0}]
["2018-02-11","HUANG LISHA","Centro","0001-007746","2018-03-13",0,{"v":24333,"d":"24,333"},{"$f":"IF(t.base[[#This Row],[DIAS DE ATRASO]]=0,0,t.base[[#This Row],[TOTAL]])","v":0}]
["2018-03-13","WHC DEL PERU S.A.","Centro","0002-003547","2018-03-13",0,{"v":19575,"d":"19,575"},{"$f":"IF(t.base[[#This Row],[DIAS DE ATRASO]]=0,0,t.base[[#This Row],[TOTAL]])","v":0}]
["2017-12-03","MSM INSUMOS S.A.C","Centro","0001-004470","2018-01-02",70,{"v":14648,"d":"14,648"},{"$f":"IF(t.base[[#This Row],[DIAS DE ATRASO]]=0,0,t.base[[#This Row],[TOTAL]])","v":14648}]
["2017-11-15","QUISPE TORRES OLGA","Centro","0001-008516","2017-12-15",88,{"v":10633,"d":"10,633"},{"$f":"IF(t.base[[#This Row],[DIAS DE ATRASO]]=0,0,t.base[[#This Row],[TOTAL]])","v":10633}]
["2017-12-13","MC SERVICE EIRL","Norte","0002-004815","2018-03-13",0,{"v":10843,"d":"10,843"},{"$f":"IF(t.base[[#This Row],[DIAS DE ATRASO]]=0,0,t.base[[#This Row],[TOTAL]])","v":0}]
["2018-02-11","JOMAR KOAN S.A.C.","Centro","0001-009657","2018-03-13",0,{"v":25636,"d":"25,636"},{"$f":"IF(t.base[[#This Row],[DIAS DE ATRASO]]=0,0,t.base[[#This Row],[TOTAL]])","v":0}]
["2018-02-10","ALEFRAN E.I.R.L.","Centro","0001-008613","2018-03-12",1,{"v":22543,"d":"22,543"},{"$f":"IF(t.base[[#This Row],[DIAS DE ATRASO]]=0,0,t.base[[#This Row],[TOTAL]])","v":22543}]
["2017-10-16","CYPRESS PERU S.A.C.","Centro","0001-004131","2018-01-14",58,{"v":20191,"d":"20,191"},{"$f":"IF(t.base[[#This Row],[DIAS DE ATRASO]]=0,0,t.base[[#This Row],[TOTAL]])","v":20191}]
["2018-02-26","GARCIA CAVERO MAURA","Centro","0002-006775","2018-03-13",0,{"v":27052,"d":"27,052"},{"$f":"IF(t.base[[#This Row],[DIAS DE ATRASO]]=0,0,t.base[[#This Row],[TOTAL]])","v":0}]
["2017-12-13","VILLA GALVEZ NEYCER","Centro","0001-006369","2018-03-13",0,{"v":23434,"d":"23,434"},{"$f":"IF(t.base[[#This Row],[DIAS DE ATRASO]]=0,0,t.base[[#This Row],[TOTAL]])","v":0}]
["2018-02-26","KAMIFE E.I.R.L.","Sur","0002-007776","2018-03-13",0,{"v":22465,"d":"22,465"},{"$f":"IF(t.base[[#This Row],[DIAS DE ATRASO]]=0,0,t.base[[#This Row],[TOTAL]])","v":0}]
["2017-11-20","VALTER SPORT SAC","Centro","0001-003493","2017-12-05",98,{"v":15697,"d":"15,697"},{"$f":"IF(t.base[[#This Row],[DIAS DE ATRASO]]=0,0,t.base[[#This Row],[TOTAL]])","v":15697}]
["2018-01-06","DDP ADUANAS S.A.C.","Sur","0001-004513","2018-03-07",6,{"v":20616,"d":"20,616"},{"$f":"IF(t.base[[#This Row],[DIAS DE ATRASO]]=0,0,t.base[[#This Row],[TOTAL]])","v":20616}]
["2017-12-13","ECO TAXI S.A.C.","Centro","0001-007237","2018-03-13",0,{"v":23057,"d":"23,057"},{"$f":"IF(t.base[[#This Row],[DIAS DE ATRASO]]=0,0,t.base[[#This Row],[TOTAL]])","v":0}]
["2017-12-24","VILLA FIORI S.A.C.","Centro","0002-004181","2018-02-07",34,{"v":29511,"d":"29,511"},{"$f":"IF(t.base[[#This Row],[DIAS DE ATRASO]]=0,0,t.base[[#This Row],[TOTAL]])","v":29511}]
["2018-02-11","SAMMYTEC S.A.","Centro","0002-007884","2018-03-13",0,{"v":28109,"d":"28,109"},{"$f":"IF(t.base[[#This Row],[DIAS DE ATRASO]]=0,0,t.base[[#This Row],[TOTAL]])","v":0}]
["2018-01-09","KATHY R S.A.C.","Centro","0001-004246","2018-01-09",63,{"v":15682,"d":"15,682"},{"$f":"IF(t.base[[#This Row],[DIAS DE ATRASO]]=0,0,t.base[[#This Row],[TOTAL]])","v":15682}]
["2017-11-20","ALIFAD E.I.R.L.","Centro","0002-003286","2018-01-19",53,{"v":18469,"d":"18,469"},{"$f":"IF(t.base[[#This Row],[DIAS DE ATRASO]]=0,0,t.base[[#This Row],[TOTAL]])","v":18469}]
["2018-01-27","TRANSEQUIP E.I.R.L.","Centro","0002-004373","2018-03-13",0,{"v":20669,"d":"20,669"},{"$f":"IF(t.base[[#This Row],[DIAS DE ATRASO]]=0,0,t.base[[#This Row],[TOTAL]])","v":0}]
["2018-01-12","ROYAL TRANS S.A.C.","Centro","0002-008511","2018-03-13",0,{"v":23423,"d":"23,423"},{"$f":"IF(t.base[[#This Row],[DIAS DE ATRASO]]=0,0,t.base[[#This Row],[TOTAL]])","v":0}]
["2017-12-13","MIDSUTECH S.A.C.","Centro","0001-001456","2018-03-13",0,{"v":26565,"d":"26,565"},{"$f":"IF(t.base[[#This Row],[DIAS DE ATRASO]]=0,0,t.base[[#This Row],[TOTAL]])","v":0}]
["2017-08-19","JARRO ROJAS IRMA","Centro","0001-004854","2017-09-03",191,{"v":13638,"d":"13,638"},{"$f":"IF(t.base[[#This Row],[DIAS DE ATRASO]]=0,0,t.base[[#This Row],[TOTAL]])","v":13638}]
["2017-12-16","TELSER S.R.L","Centro","0002-009157","2017-12-16",87,{"v":14367,"d":"14,367"},{"$f":"IF(t.base[[#This Row],[DIAS DE ATRASO]]=0,0,t.base[[#This Row],[TOTAL]])","v":14367}]
["2017-11-14","SEIKATSU  SAC","Centro","0001-008945","2017-11-14",119,{"v":14454,"d":"14,454"},{"$f":"IF(t.base[[#This Row],[DIAS DE ATRASO]]=0,0,t.base[[#This Row],[TOTAL]])","v":14454}]
["2017-09-09","INVERMEDIC SAC","Norte","0001-004420","2017-09-09",185,{"v":34898,"d":"34,898"},{"$f":"IF(t.base[[#This Row],[DIAS DE ATRASO]]=0,0,t.base[[#This Row],[TOTAL]])","v":34898}]
["2017-07-05","TRANSVED S.R.L.","Sur","0002-008118","2017-09-03",191,{"v":9321,"d":"9,321"},{"$f":"IF(t.base[[#This Row],[DIAS DE ATRASO]]=0,0,t.base[[#This Row],[TOTAL]])","v":9321}]
["2018-03-12","MIDSUTECH S.A.C.","Centro","0002-002848","2018-03-12",1,{"v":29320,"d":"29,320"},{"$f":"IF(t.base[[#This Row],[DIAS DE ATRASO]]=0,0,t.base[[#This Row],[TOTAL]])","v":29320}]
["2018-02-11","KUNTUR WASSI S.A.C.","Sur","0002-006206","2018-03-13",0,{"v":42984,"d":"42,984"},{"$f":"IF(t.base[[#This Row],[DIAS DE ATRASO]]=0,0,t.base[[#This Row],[TOTAL]])","v":0}]
["2018-01-27","FUJIN EIRL","Centro","0002-007800","2018-03-13",0,{"v":24937,"d":"24,937"},{"$f":"IF(t.base[[#This Row],[DIAS DE ATRASO]]=0,0,t.base[[#This Row],[TOTAL]])","v":0}]
["2017-05-12","ILOP  S.A.C.","Centro","0001-001630","2017-08-10",215,{"v":26981,"d":"26,981"},{"$f":"IF(t.base[[#This Row],[DIAS DE ATRASO]]=0,0,t.base[[#This Row],[TOTAL]])","v":26981}]
["2018-02-26","AVETSA E.I.R.L.","Sur","0001-004317","2018-03-13",0,{"v":7266,"d":"7,266"},{"$f":"IF(t.base[[#This Row],[DIAS DE ATRASO]]=0,0,t.base[[#This Row],[TOTAL]])","v":0}]
["2018-01-11","NEYOR E.I.R.L.","Sur","0001-009146","2018-03-12",1,{"v":32924,"d":"32,924"},{"$f":"IF(t.base[[#This Row],[DIAS DE ATRASO]]=0,0,t.base[[#This Row],[TOTAL]])","v":32924}]
["2017-12-26","MECDRILL  E.I.R.L.","Centro","0002-005760","2018-02-24",17,{"v":22125,"d":"22,125"},{"$f":"IF(t.base[[#This Row],[DIAS DE ATRASO]]=0,0,t.base[[#This Row],[TOTAL]])","v":22125}]
["2017-12-31","PLASTILEON EIRL","Centro","0001-008335","2018-01-15",57,{"v":20262,"d":"20,262"},{"$f":"IF(t.base[[#This Row],[DIAS DE ATRASO]]=0,0,t.base[[#This Row],[TOTAL]])","v":20262}]
["2018-01-27","CHUMANCORP E.I.R.L.","Centro","0002-003478","2018-03-13",0,{"v":25613,"d":"25,613"},{"$f":"IF(t.base[[#This Row],[DIAS DE ATRASO]]=0,0,t.base[[#This Row],[TOTAL]])","v":0}]
["2018-02-11","RPS PERU S.A.C.","Centro","0001-004353","2018-03-13",0,{"v":10171,"d":"10,171"},{"$f":"IF(t.base[[#This Row],[DIAS DE ATRASO]]=0,0,t.base[[#This Row],[TOTAL]])","v":0}]
["2017-12-12","PILCO VILCA PASTORA","Centro","0001-008050","2018-03-12",1,{"v":21277,"d":"21,277"},{"$f":"IF(t.base[[#This Row],[DIAS DE ATRASO]]=0,0,t.base[[#This Row],[TOTAL]])","v":21277}]
["2018-01-05","DISCOFERT SRL","Centro","0002-007801","2018-02-19",22,{"v":25803,"d":"25,803"},{"$f":"IF(t.base[[#This Row],[DIAS DE ATRASO]]=0,0,t.base[[#This Row],[TOTAL]])","v":25803}]
["2017-12-20","DARMA S.A","Centro","0002-001538","2018-01-19",53,{"v":17038,"d":"17,038"},{"$f":"IF(t.base[[#This Row],[DIAS DE ATRASO]]=0,0,t.base[[#This Row],[TOTAL]])","v":17038}]
["2018-02-28","INTERBIKE EIRL","Centro","0002-004334","2018-02-28",13,{"v":10138,"d":"10,138"},{"$f":"IF(t.base[[#This Row],[DIAS DE ATRASO]]=0,0,t.base[[#This Row],[TOTAL]])","v":10138}]
["2017-12-13","OPTICAS JVQ  S.A.C.","Centro","0001-008794","2018-03-13",0,{"v":11699,"d":"11,699"},{"$f":"IF(t.base[[#This Row],[DIAS DE ATRASO]]=0,0,t.base[[#This Row],[TOTAL]])","v":0}]
["2018-01-27","MIDSUTECH S.A.C.","Centro","0002-006009","2018-03-13",0,{"v":19233,"d":"19,233"},{"$f":"IF(t.base[[#This Row],[DIAS DE ATRASO]]=0,0,t.base[[#This Row],[TOTAL]])","v":0}]
["2018-02-11","GREEN STAR S.A.C","Centro","0001-003428","2018-03-13",0,{"v":20433,"d":"20,433"},{"$f":"IF(t.base[[#This Row],[DIAS DE ATRASO]]=0,0,t.base[[#This Row],[TOTAL]])","v":0}]
["2017-08-26","NOVA GAS S A","Centro","0001-002589","2017-09-25",169,{"v":11393,"d":"11,393"},{"$f":"IF(t.base[[#This Row],[DIAS DE ATRASO]]=0,0,t.base[[#This Row],[TOTAL]])","v":11393}]
["2017-07-06","REFLECENTRO SRL","Centro","0002-008455","2017-10-04",160,{"v":10012,"d":"10,012"},{"$f":"IF(t.base[[#This Row],[DIAS DE ATRASO]]=0,0,t.base[[#This Row],[TOTAL]])","v":10012}]
["2017-12-13","REFLECENTRO SRL","Centro","0002-006320","2018-03-13",0,{"v":16964,"d":"16,964"},{"$f":"IF(t.base[[#This Row],[DIAS DE ATRASO]]=0,0,t.base[[#This Row],[TOTAL]])","v":0}]
["2018-03-12","MC SERVICE EIRL","Norte","0002-005321","2018-03-12",1,{"v":27703,"d":"27,703"},{"$f":"IF(t.base[[#This Row],[DIAS DE ATRASO]]=0,0,t.base[[#This Row],[TOTAL]])","v":27703}]
["2018-03-13","LIU LING XIANG EIRL","Centro","0002-002436","2018-03-13",0,{"v":22683,"d":"22,683"},{"$f":"IF(t.base[[#This Row],[DIAS DE ATRASO]]=0,0,t.base[[#This Row],[TOTAL]])","v":0}]
["2017-11-09","GRAVICOM S.A.C.","Sur","0002-002899","2018-01-08",64,{"v":33844,"d":"33,844"},{"$f":"IF(t.base[[#This Row],[DIAS DE ATRASO]]=0,0,t.base[[#This Row],[TOTAL]])","v":33844}]
["2017-12-12","TECNO COLOR S R L","Centro","0001-002592","2018-03-12",1,{"v":27943,"d":"27,943"},{"$f":"IF(t.base[[#This Row],[DIAS DE ATRASO]]=0,0,t.base[[#This Row],[TOTAL]])","v":27943}]
["2018-03-13","YUT WU S.A.C.","Centro","0002-005707","2018-03-13",0,{"v":27013,"d":"27,013"},{"$f":"IF(t.base[[#This Row],[DIAS DE ATRASO]]=0,0,t.base[[#This Row],[TOTAL]])","v":0}]
["2018-01-27","HACEB DEL PERU S.A.","Centro","0001-004193","2018-03-13",0,{"v":25788,"d":"25,788"},{"$f":"IF(t.base[[#This Row],[DIAS DE ATRASO]]=0,0,t.base[[#This Row],[TOTAL]])","v":0}]
["2018-03-13","ROBERCAR EIRL","Centro","0002-002989","2018-03-13",0,{"v":10402,"d":"10,402"},{"$f":"IF(t.base[[#This Row],[DIAS DE ATRASO]]=0,0,t.base[[#This Row],[TOTAL]])","v":0}]
["2018-02-26","ALTAMIRANO SRL","Norte","0002-007121","2018-03-13",0,{"v":30013,"d":"30,013"},{"$f":"IF(t.base[[#This Row],[DIAS DE ATRASO]]=0,0,t.base[[#This Row],[TOTAL]])","v":0}]
["2018-01-12","MARCESA S.R.L.","Centro","0001-008562","2018-03-13",0,{"v":29197,"d":"29,197"},{"$f":"IF(t.base[[#This Row],[DIAS DE ATRASO]]=0,0,t.base[[#This Row],[TOTAL]])","v":0}]
["2017-12-24","AGF VULCANO S.R.L.","Centro","0002-004711","2017-12-24",79,{"v":28218,"d":"28,218"},{"$f":"IF(t.base[[#This Row],[DIAS DE ATRASO]]=0,0,t.base[[#This Row],[TOTAL]])","v":28218}]
["2018-01-12","PROGERSE S R L","Centro","0002-005887","2018-03-13",0,{"v":16735,"d":"16,735"},{"$f":"IF(t.base[[#This Row],[DIAS DE ATRASO]]=0,0,t.base[[#This Row],[TOTAL]])","v":0}]
["2017-10-10","ROL EMPRESARIAL S A","Centro","0001-004366","2017-10-25",139,{"v":24257,"d":"24,257"},{"$f":"IF(t.base[[#This Row],[DIAS DE ATRASO]]=0,0,t.base[[#This Row],[TOTAL]])","v":24257}]
["2017-10-07","ERIKA LENS E.I.R.L.","Centro","0002-008755","2017-12-06",97,{"v":10416,"d":"10,416"},{"$f":"IF(t.base[[#This Row],[DIAS DE ATRASO]]=0,0,t.base[[#This Row],[TOTAL]])","v":10416}]
["2017-12-11","TRANSILMAR S.A.C.","Sur","0001-004412","2018-01-10",62,{"v":28487,"d":"28,487"},{"$f":"IF(t.base[[#This Row],[DIAS DE ATRASO]]=0,0,t.base[[#This Row],[TOTAL]])","v":28487}]
["2018-01-27","ROBERCAR EIRL","Centro","0001-004201","2018-03-13",0,{"v":10082,"d":"10,082"},{"$f":"IF(t.base[[#This Row],[DIAS DE ATRASO]]=0,0,t.base[[#This Row],[TOTAL]])","v":0}]
["2018-03-13","JASPE E.I.R.L.","Sur","0002-005576","2018-03-13",0,{"v":23966,"d":"23,966"},{"$f":"IF(t.base[[#This Row],[DIAS DE ATRASO]]=0,0,t.base[[#This Row],[TOTAL]])","v":0}]
["2018-02-11","OPTICAS JVQ  S.A.C.","Centro","0002-002590","2018-03-13",0,{"v":18454,"d":"18,454"},{"$f":"IF(t.base[[#This Row],[DIAS DE ATRASO]]=0,0,t.base[[#This Row],[TOTAL]])","v":0}]
["2018-01-12","QUIMICHEM S.A.C.","Centro","0002-002806","2018-03-13",0,{"v":20124,"d":"20,124"},{"$f":"IF(t.base[[#This Row],[DIAS DE ATRASO]]=0,0,t.base[[#This Row],[TOTAL]])","v":0}]
["2017-12-13","SERVIMAX E.I.R.L","Norte","0001-004846","2018-03-13",0,{"v":49196,"d":"49,196"},{"$f":"IF(t.base[[#This Row],[DIAS DE ATRASO]]=0,0,t.base[[#This Row],[TOTAL]])","v":0}]
["2018-02-26","SEGECAL S.R.L.","Centro","0001-003691","2018-03-13",0,{"v":25961,"d":"25,961"},{"$f":"IF(t.base[[#This Row],[DIAS DE ATRASO]]=0,0,t.base[[#This Row],[TOTAL]])","v":0}]
["2018-01-27","COMPUMAGIC S.A.C.","Centro","0002-006292","2018-03-13",0,{"v":24610,"d":"24,610"},{"$f":"IF(t.base[[#This Row],[DIAS DE ATRASO]]=0,0,t.base[[#This Row],[TOTAL]])","v":0}]
["2017-12-14","MPK E.I.R.L.","Sur","0002-007672","2017-12-29",74,{"v":43510,"d":"43,510"},{"$f":"IF(t.base[[#This Row],[DIAS DE ATRASO]]=0,0,t.base[[#This Row],[TOTAL]])","v":43510}]
["2018-01-27","R.K.S. E.I.R.L.","Centro","0002-003482","2018-03-13",0,{"v":13305,"d":"13,305"},{"$f":"IF(t.base[[#This Row],[DIAS DE ATRASO]]=0,0,t.base[[#This Row],[TOTAL]])","v":0}]
["2018-01-10","SIZU S.A.C.","Centro","0002-002309","2018-02-24",17,{"v":18560,"d":"18,560"},{"$f":"IF(t.base[[#This Row],[DIAS DE ATRASO]]=0,0,t.base[[#This Row],[TOTAL]])","v":18560}]
["2018-01-27","AD LIBITUM S.A.C.","Centro","0002-001749","2018-03-13",0,{"v":21532,"d":"21,532"},{"$f":"IF(t.base[[#This Row],[DIAS DE ATRASO]]=0,0,t.base[[#This Row],[TOTAL]])","v":0}]
["2017-10-28","SERTEL PC S.R.L.","Norte","0001-009978","2017-12-27",76,{"v":57283,"d":"57,283"},{"$f":"IF(t.base[[#This Row],[DIAS DE ATRASO]]=0,0,t.base[[#This Row],[TOTAL]])","v":57283}]
["2018-01-13","WIBGUS S.A.C.","Centro","0002-001504","2018-01-28",44,{"v":17834,"d":"17,834"},{"$f":"IF(t.base[[#This Row],[DIAS DE ATRASO]]=0,0,t.base[[#This Row],[TOTAL]])","v":17834}]
["2018-01-27","ALDI S.A.C.","Sur","0001-003787","2018-03-13",0,{"v":33163,"d":"33,163"},{"$f":"IF(t.base[[#This Row],[DIAS DE ATRASO]]=0,0,t.base[[#This Row],[TOTAL]])","v":0}]
["2017-12-13","GRANJA TOSHI S.A.","Centro","0001-008359","2018-03-13",0,{"v":10595,"d":"10,595"},{"$f":"IF(t.base[[#This Row],[DIAS DE ATRASO]]=0,0,t.base[[#This Row],[TOTAL]])","v":0}]
["2017-09-30","SOBITEC PERU S.A.C.","Centro","0001-004246","2017-12-29",74,{"v":23663,"d":"23,663"},{"$f":"IF(t.base[[#This Row],[DIAS DE ATRASO]]=0,0,t.base[[#This Row],[TOTAL]])","v":23663}]
["2018-02-10","RAVALT S.R.L.","Sur","0001-007165","2018-03-12",1,{"v":9760,"d":"9,760"},{"$f":"IF(t.base[[#This Row],[DIAS DE ATRASO]]=0,0,t.base[[#This Row],[TOTAL]])","v":9760}]
["2018-01-27","CREAKTIVO S.A.C.","Centro","0001-005248","2018-03-13",0,{"v":10988,"d":"10,988"},{"$f":"IF(t.base[[#This Row],[DIAS DE ATRASO]]=0,0,t.base[[#This Row],[TOTAL]])","v":0}]
["2018-01-12","MPK E.I.R.L.","Sur","0001-003323","2018-03-13",0,{"v":35811,"d":"35,811"},{"$f":"IF(t.base[[#This Row],[DIAS DE ATRASO]]=0,0,t.base[[#This Row],[TOTAL]])","v":0}]
["2017-12-13","G.M. TRAMAS S.A.","Centro","0001-001036","2018-03-13",0,{"v":15457,"d":"15,457"},{"$f":"IF(t.base[[#This Row],[DIAS DE ATRASO]]=0,0,t.base[[#This Row],[TOTAL]])","v":0}]
["2018-01-24","DELPHINUS S.A.C.","Centro","0002-007140","2018-01-24",48,{"v":12514,"d":"12,514"},{"$f":"IF(t.base[[#This Row],[DIAS DE ATRASO]]=0,0,t.base[[#This Row],[TOTAL]])","v":12514}]
["2018-03-13","TRANSOIL S.A.C.","Centro","0002-006134","2018-03-13",0,{"v":19006,"d":"19,006"},{"$f":"IF(t.base[[#This Row],[DIAS DE ATRASO]]=0,0,t.base[[#This Row],[TOTAL]])","v":0}]
["2018-01-27","MENCANI E.I.R.L.","Centro","0002-003087","2018-03-13",0,{"v":22479,"d":"22,479"},{"$f":"IF(t.base[[#This Row],[DIAS DE ATRASO]]=0,0,t.base[[#This Row],[TOTAL]])","v":0}]
["2018-01-12","CHAVEZ FLORES BETZY","Centro","0002-003310","2018-03-13",0,{"v":28884,"d":"28,884"},{"$f":"IF(t.base[[#This Row],[DIAS DE ATRASO]]=0,0,t.base[[#This Row],[TOTAL]])","v":0}]
["2017-10-25","OXIMARC S.R.L.","Norte","0001-009425","2017-12-24",79,{"v":20884,"d":"20,884"},{"$f":"IF(t.base[[#This Row],[DIAS DE ATRASO]]=0,0,t.base[[#This Row],[TOTAL]])","v":20884}]
["2018-01-12","X-TRA PLUS E.I.R.L.","Sur","0001-008174","2018-03-13",0,{"v":7065,"d":"7,065"},{"$f":"IF(t.base[[#This Row],[DIAS DE ATRASO]]=0,0,t.base[[#This Row],[TOTAL]])","v":0}]
["2017-12-13","DS GLOBAL S.A.C","Centro","0001-005158","2018-03-13",0,{"v":20251,"d":"20,251"},{"$f":"IF(t.base[[#This Row],[DIAS DE ATRASO]]=0,0,t.base[[#This Row],[TOTAL]])","v":0}]
["2018-03-12","ITAPIER S.R.L.","Centro","0002-005237","2018-03-12",1,{"v":24519,"d":"24,519"},{"$f":"IF(t.base[[#This Row],[DIAS DE ATRASO]]=0,0,t.base[[#This Row],[TOTAL]])","v":24519}]
["2018-01-27","SAN CARLOS S.A.C.","Centro","0001-009674","2018-03-13",0,{"v":14990,"d":"14,990"},{"$f":"IF(t.base[[#This Row],[DIAS DE ATRASO]]=0,0,t.base[[#This Row],[TOTAL]])","v":0}]
["2017-12-30","TANG KONG FU","Centro","0001-007591","2018-01-29",43,{"v":26848,"d":"26,848"},{"$f":"IF(t.base[[#This Row],[DIAS DE ATRASO]]=0,0,t.base[[#This Row],[TOTAL]])","v":26848}]
["2018-03-13","JON MARSIL E.I.R.L","Centro","0001-007277","2018-03-13",0,{"v":22318,"d":"22,318"},{"$f":"IF(t.base[[#This Row],[DIAS DE ATRASO]]=0,0,t.base[[#This Row],[TOTAL]])","v":0}]
["2018-02-25","CAMPO LIMPIO","Centro","0001-003405","2018-03-12",1,{"v":11973,"d":"11,973"},{"$f":"IF(t.base[[#This Row],[DIAS DE ATRASO]]=0,0,t.base[[#This Row],[TOTAL]])","v":11973}]
["2018-02-26","ALYJOV FARMA SRL","Centro","0001-007305","2018-03-13",0,{"v":17220,"d":"17,220"},{"$f":"IF(t.base[[#This Row],[DIAS DE ATRASO]]=0,0,t.base[[#This Row],[TOTAL]])","v":0}]
["2018-01-12","RIFUSE EIRL","Sur","0002-003133","2018-03-13",0,{"v":47075,"d":"47,075"},{"$f":"IF(t.base[[#This Row],[DIAS DE ATRASO]]=0,0,t.base[[#This Row],[TOTAL]])","v":0}]
["2018-01-27","ELENA MARKET S.R.L.","Sur","0001-001530","2018-03-13",0,{"v":33526,"d":"33,526"},{"$f":"IF(t.base[[#This Row],[DIAS DE ATRASO]]=0,0,t.base[[#This Row],[TOTAL]])","v":0}]
["2017-11-08","JADE TRES SAC","Centro","0001-004394","2017-12-23",80,{"v":24117,"d":"24,117"},{"$f":"IF(t.base[[#This Row],[DIAS DE ATRASO]]=0,0,t.base[[#This Row],[TOTAL]])","v":24117}]
["2018-03-13","M Y W SALAS S A","Centro","0001-001807","2018-03-13",0,{"v":14791,"d":"14,791"},{"$f":"IF(t.base[[#This Row],[DIAS DE ATRASO]]=0,0,t.base[[#This Row],[TOTAL]])","v":0}]
["2018-02-11","LIAO GUO WEI","Centro","0001-003852","2018-03-13",0,{"v":20506,"d":"20,506"},{"$f":"IF(t.base[[#This Row],[DIAS DE ATRASO]]=0,0,t.base[[#This Row],[TOTAL]])","v":0}]
["2018-01-27","CONDORCO S.R.L.","Centro","0001-007023","2018-03-13",0,{"v":19737,"d":"19,737"},{"$f":"IF(t.base[[#This Row],[DIAS DE ATRASO]]=0,0,t.base[[#This Row],[TOTAL]])","v":0}]
["2017-09-28","DELPHINUS S.A.C.","Centro","0001-007151","2017-12-27",76,{"v":20192,"d":"20,192"},{"$f":"IF(t.base[[#This Row],[DIAS DE ATRASO]]=0,0,t.base[[#This Row],[TOTAL]])","v":20192}]
["2018-02-26","LUQUE HUANCA IRMA","Centro","0002-002758","2018-03-13",0,{"v":19894,"d":"19,894"},{"$f":"IF(t.base[[#This Row],[DIAS DE ATRASO]]=0,0,t.base[[#This Row],[TOTAL]])","v":0}]
["2017-07-09","JARRO ROJAS IRMA","Centro","0002-005230","2017-08-23",202,{"v":21153,"d":"21,153"},{"$f":"IF(t.base[[#This Row],[DIAS DE ATRASO]]=0,0,t.base[[#This Row],[TOTAL]])","v":21153}]
["2018-02-26","BOTICA MUNICIPAL","Norte","0002-009306","2018-03-13",0,{"v":33137,"d":"33,137"},{"$f":"IF(t.base[[#This Row],[DIAS DE ATRASO]]=0,0,t.base[[#This Row],[TOTAL]])","v":0}]
["2018-01-22","ITAPIER S.R.L.","Centro","0002-001562","2018-03-08",5,{"v":11298,"d":"11,298"},{"$f":"IF(t.base[[#This Row],[DIAS DE ATRASO]]=0,0,t.base[[#This Row],[TOTAL]])","v":11298}]
["2017-11-13","PERALTA ROMAN YOISY","Centro","0001-007464","2017-12-13",90,{"v":22582,"d":"22,582"},{"$f":"IF(t.base[[#This Row],[DIAS DE ATRASO]]=0,0,t.base[[#This Row],[TOTAL]])","v":22582}]
["2018-02-06","SOLISA S.A.C.","Centro","0001-003233","2018-02-06",35,{"v":20376,"d":"20,376"},{"$f":"IF(t.base[[#This Row],[DIAS DE ATRASO]]=0,0,t.base[[#This Row],[TOTAL]])","v":20376}]
["2018-01-02","MOTO ANDES S.A.C.","Centro","0002-008197","2018-01-17",55,{"v":17575,"d":"17,575"},{"$f":"IF(t.base[[#This Row],[DIAS DE ATRASO]]=0,0,t.base[[#This Row],[TOTAL]])","v":17575}]
["2018-02-11","KE JIANQING","Centro","0001-007425","2018-03-13",0,{"v":25406,"d":"25,406"},{"$f":"IF(t.base[[#This Row],[DIAS DE ATRASO]]=0,0,t.base[[#This Row],[TOTAL]])","v":0}]
["2017-08-23","NOVAX E.I.R.L.","Centro","0002-001635","2017-10-22",142,{"v":29260,"d":"29,260"},{"$f":"IF(t.base[[#This Row],[DIAS DE ATRASO]]=0,0,t.base[[#This Row],[TOTAL]])","v":29260}]
["2017-11-19","EXACT S.A.C.","Centro","0001-006087","2018-01-18",54,{"v":28590,"d":"28,590"},{"$f":"IF(t.base[[#This Row],[DIAS DE ATRASO]]=0,0,t.base[[#This Row],[TOTAL]])","v":28590}]
["2018-02-26","MERP S.A.C.","Centro","0002-003791","2018-03-13",0,{"v":18175,"d":"18,175"},{"$f":"IF(t.base[[#This Row],[DIAS DE ATRASO]]=0,0,t.base[[#This Row],[TOTAL]])","v":0}]
["2017-12-13","BOTICA MUNICIPAL","Norte","0001-009526","2018-03-13",0,{"v":17285,"d":"17,285"},{"$f":"IF(t.base[[#This Row],[DIAS DE ATRASO]]=0,0,t.base[[#This Row],[TOTAL]])","v":0}]
["2018-03-13","TECH LAB S.A.C.","Centro","0001-002453","2018-03-13",0,{"v":29647,"d":"29,647"},{"$f":"IF(t.base[[#This Row],[DIAS DE ATRASO]]=0,0,t.base[[#This Row],[TOTAL]])","v":0}]
["2017-11-29","MICROTEC S.A.C.","Norte","0001-003344","2017-12-14",89,{"v":48438,"d":"48,438"},{"$f":"IF(t.base[[#This Row],[DIAS DE ATRASO]]=0,0,t.base[[#This Row],[TOTAL]])","v":48438}]
["2018-02-11","ALVARADO VEGA LESLY","Centro","0001-009519","2018-03-13",0,{"v":10756,"d":"10,756"},{"$f":"IF(t.base[[#This Row],[DIAS DE ATRASO]]=0,0,t.base[[#This Row],[TOTAL]])","v":0}]
["2018-01-27","DIOS ES AMOR S.A.C.","Norte","0002-009177","2018-03-13",0,{"v":25392,"d":"25,392"},{"$f":"IF(t.base[[#This Row],[DIAS DE ATRASO]]=0,0,t.base[[#This Row],[TOTAL]])","v":0}]
["2018-03-13","B2B CENTER S.A.C","Centro","0001-007163","2018-03-13",0,{"v":13928,"d":"13,928"},{"$f":"IF(t.base[[#This Row],[DIAS DE ATRASO]]=0,0,t.base[[#This Row],[TOTAL]])","v":0}]
["2018-01-12","CARFIDERM E.I.R.L.","Centro","0002-007076","2018-03-13",0,{"v":11665,"d":"11,665"},{"$f":"IF(t.base[[#This Row],[DIAS DE ATRASO]]=0,0,t.base[[#This Row],[TOTAL]])","v":0}]
["2018-01-12","A & SAN JOSE S.A.C","Centro","0002-007691","2018-03-13",0,{"v":20401,"d":"20,401"},{"$f":"IF(t.base[[#This Row],[DIAS DE ATRASO]]=0,0,t.base[[#This Row],[TOTAL]])","v":0}]
["2018-02-11","LIDER GAS E.I.R.L.","Centro","0002-006215","2018-03-13",0,{"v":21689,"d":"21,689"},{"$f":"IF(t.base[[#This Row],[DIAS DE ATRASO]]=0,0,t.base[[#This Row],[TOTAL]])","v":0}]
["2018-02-11","JEPALA EIRL.","Sur","0002-001712","2018-03-13",0,{"v":5813,"d":"5,813"},{"$f":"IF(t.base[[#This Row],[DIAS DE ATRASO]]=0,0,t.base[[#This Row],[TOTAL]])","v":0}]
["2017-10-13","LUZ Y COLOR S.A.C.","Centro","0002-006571","2018-01-11",61,{"v":22583,"d":"22,583"},{"$f":"IF(t.base[[#This Row],[DIAS DE ATRASO]]=0,0,t.base[[#This Row],[TOTAL]])","v":22583}]
["2018-02-11","METRICO E.I.R.L.","Centro","0002-003591","2018-03-13",0,{"v":20894,"d":"20,894"},{"$f":"IF(t.base[[#This Row],[DIAS DE ATRASO]]=0,0,t.base[[#This Row],[TOTAL]])","v":0}]
["2017-12-13","FE GOLD S.A.C.","Centro","0001-006045","2018-03-13",0,{"v":21666,"d":"21,666"},{"$f":"IF(t.base[[#This Row],[DIAS DE ATRASO]]=0,0,t.base[[#This Row],[TOTAL]])","v":0}]
["2018-03-13","GALKEM E.I.R.L.","Centro","0002-001823","2018-03-13",0,{"v":28217,"d":"28,217"},{"$f":"IF(t.base[[#This Row],[DIAS DE ATRASO]]=0,0,t.base[[#This Row],[TOTAL]])","v":0}]
["2018-03-12","TRANSJOHNNY S.A.C.","Centro","0002-006545","2018-03-12",1,{"v":20456,"d":"20,456"},{"$f":"IF(t.base[[#This Row],[DIAS DE ATRASO]]=0,0,t.base[[#This Row],[TOTAL]])","v":20456}]
["2018-02-26","OLRAS SRL.","Norte","0002-001010","2018-03-13",0,{"v":57965,"d":"57,965"},{"$f":"IF(t.base[[#This Row],[DIAS DE ATRASO]]=0,0,t.base[[#This Row],[TOTAL]])","v":0}]
["2018-01-12","TRANS ITAL S.A.C.","Centro","0002-005887","2018-03-13",0,{"v":12631,"d":"12,631"},{"$f":"IF(t.base[[#This Row],[DIAS DE ATRASO]]=0,0,t.base[[#This Row],[TOTAL]])","v":0}]
["2018-01-20","RIMASSA S.A.C.","Sur","0002-004158","2018-02-19",22,{"v":13793,"d":"13,793"},{"$f":"IF(t.base[[#This Row],[DIAS DE ATRASO]]=0,0,t.base[[#This Row],[TOTAL]])","v":13793}]
["2018-03-13","ZHONG YUSHU","Centro","0002-007161","2018-03-13",0,{"v":22403,"d":"22,403"},{"$f":"IF(t.base[[#This Row],[DIAS DE ATRASO]]=0,0,t.base[[#This Row],[TOTAL]])","v":0}]
["2018-02-11","GALKEM E.I.R.L.","Centro","0001-007236","2018-03-13",0,{"v":16501,"d":"16,501"},{"$f":"IF(t.base[[#This Row],[DIAS DE ATRASO]]=0,0,t.base[[#This Row],[TOTAL]])","v":0}]
["2018-01-27","ICM CONSULTING SAC","Centro","0002-006868","2018-03-13",0,{"v":27643,"d":"27,643"},{"$f":"IF(t.base[[#This Row],[DIAS DE ATRASO]]=0,0,t.base[[#This Row],[TOTAL]])","v":0}]
["2017-10-23","CLAS CIUDAD DE DIOS","Sur","0002-004444","2017-12-22",81,{"v":9792,"d":"9,792"},{"$f":"IF(t.base[[#This Row],[DIAS DE ATRASO]]=0,0,t.base[[#This Row],[TOTAL]])","v":9792}]
["2018-01-27","BESTSOLTI SAC","Centro","0002-009815","2018-03-13",0,{"v":11460,"d":"11,460"},{"$f":"IF(t.base[[#This Row],[DIAS DE ATRASO]]=0,0,t.base[[#This Row],[TOTAL]])","v":0}]
["2018-01-30","PASTAGIORNO E.I.R.L","Centro","0001-008551","2018-02-14",27,{"v":17714,"d":"17,714"},{"$f":"IF(t.base[[#This Row],[DIAS DE ATRASO]]=0,0,t.base[[#This Row],[TOTAL]])","v":17714}]
["2018-02-26","SANTO MARTIN S.A.C.","Centro","0002-007729","2018-03-13",0,{"v":27884,"d":"27,884"},{"$f":"IF(t.base[[#This Row],[DIAS DE ATRASO]]=0,0,t.base[[#This Row],[TOTAL]])","v":0}]
["2018-01-27","KATHY R S.A.C.","Centro","0002-005801","2018-03-13",0,{"v":29209,"d":"29,209"},{"$f":"IF(t.base[[#This Row],[DIAS DE ATRASO]]=0,0,t.base[[#This Row],[TOTAL]])","v":0}]
["2018-03-13","MULTIVISION S.R.L.","Sur","0001-007120","2018-03-13",0,{"v":9169,"d":"9,169"},{"$f":"IF(t.base[[#This Row],[DIAS DE ATRASO]]=0,0,t.base[[#This Row],[TOTAL]])","v":0}]
["2018-01-26","IRYOVI E.I.R.L.","Centro","0001-008734","2018-03-12",1,{"v":11562,"d":"11,562"},{"$f":"IF(t.base[[#This Row],[DIAS DE ATRASO]]=0,0,t.base[[#This Row],[TOTAL]])","v":11562}]
["2018-01-27","MEDELCO SRL","Sur","0001-002470","2018-03-13",0,{"v":13002,"d":"13,002"},{"$f":"IF(t.base[[#This Row],[DIAS DE ATRASO]]=0,0,t.base[[#This Row],[TOTAL]])","v":0}]
["2017-10-28","PASTAGIORNO E.I.R.L","Centro","0002-001907","2017-12-27",76,{"v":10619,"d":"10,619"},{"$f":"IF(t.base[[#This Row],[DIAS DE ATRASO]]=0,0,t.base[[#This Row],[TOTAL]])","v":10619}]
["2018-01-12","GOMEZ ROMANI LEONOR","Centro","0002-004105","2018-03-13",0,{"v":22257,"d":"22,257"},{"$f":"IF(t.base[[#This Row],[DIAS DE ATRASO]]=0,0,t.base[[#This Row],[TOTAL]])","v":0}]
["2017-09-06","ZHENG HE","Centro","0002-006704","2017-10-21",143,{"v":26635,"d":"26,635"},{"$f":"IF(t.base[[#This Row],[DIAS DE ATRASO]]=0,0,t.base[[#This Row],[TOTAL]])","v":26635}]
["2018-01-12","MOTO ANDES S.A.C.","Centro","0002-007665","2018-03-13",0,{"v":27101,"d":"27,101"},{"$f":"IF(t.base[[#This Row],[DIAS DE ATRASO]]=0,0,t.base[[#This Row],[TOTAL]])","v":0}]
["2018-02-26","YOAAN EIRL","Centro","0001-006001","2018-03-13",0,{"v":17964,"d":"17,964"},{"$f":"IF(t.base[[#This Row],[DIAS DE ATRASO]]=0,0,t.base[[#This Row],[TOTAL]])","v":0}]
["2018-02-26","CALIGAS S.R.L.","Centro","0002-009505","2018-03-13",0,{"v":26218,"d":"26,218"},{"$f":"IF(t.base[[#This Row],[DIAS DE ATRASO]]=0,0,t.base[[#This Row],[TOTAL]])","v":0}]
["2018-02-26","MOCHILEROS S.A.C.","Centro","0001-001340","2018-03-13",0,{"v":18857,"d":"18,857"},{"$f":"IF(t.base[[#This Row],[DIAS DE ATRASO]]=0,0,t.base[[#This Row],[TOTAL]])","v":0}]
["2017-12-15","TAI FENG SAC","Centro","0002-004566","2017-12-30",73,{"v":14831,"d":"14,831"},{"$f":"IF(t.base[[#This Row],[DIAS DE ATRASO]]=0,0,t.base[[#This Row],[TOTAL]])","v":14831}]
["2018-02-26","TECSE MUYOC","Sur","0001-009003","2018-03-13",0,{"v":24316,"d":"24,316"},{"$f":"IF(t.base[[#This Row],[DIAS DE ATRASO]]=0,0,t.base[[#This Row],[TOTAL]])","v":0}]
["2017-12-27","2M SERVICIOS S.A.C.","Sur","0001-009702","2018-01-11",61,{"v":35647,"d":"35,647"},{"$f":"IF(t.base[[#This Row],[DIAS DE ATRASO]]=0,0,t.base[[#This Row],[TOTAL]])","v":35647}]
["2017-12-13","JADE TRES SAC","Centro","0002-007317","2018-03-13",0,{"v":28099,"d":"28,099"},{"$f":"IF(t.base[[#This Row],[DIAS DE ATRASO]]=0,0,t.base[[#This Row],[TOTAL]])","v":0}]
["2018-02-11","MSM INSUMOS S.A.C","Centro","0001-001580","2018-03-13",0,{"v":24555,"d":"24,555"},{"$f":"IF(t.base[[#This Row],[DIAS DE ATRASO]]=0,0,t.base[[#This Row],[TOTAL]])","v":0}]
["2017-12-24","FLORES PARI ROSALIA","Centro","0002-004496","2018-02-07",34,{"v":15563,"d":"15,563"},{"$f":"IF(t.base[[#This Row],[DIAS DE ATRASO]]=0,0,t.base[[#This Row],[TOTAL]])","v":15563}]
["2018-01-12","RUIZ PIÐA REMIGIO","Centro","0001-007107","2018-03-13",0,{"v":21639,"d":"21,639"},{"$f":"IF(t.base[[#This Row],[DIAS DE ATRASO]]=0,0,t.base[[#This Row],[TOTAL]])","v":0}]
["2018-02-26","NEYOR E.I.R.L.","Sur","0001-007114","2018-03-13",0,{"v":27710,"d":"27,710"},{"$f":"IF(t.base[[#This Row],[DIAS DE ATRASO]]=0,0,t.base[[#This Row],[TOTAL]])","v":0}]
["2017-12-03","VAMER E.I.R.L","Norte","0002-002507","2017-12-18",85,{"v":35027,"d":"35,027"},{"$f":"IF(t.base[[#This Row],[DIAS DE ATRASO]]=0,0,t.base[[#This Row],[TOTAL]])","v":35027}]
["2018-03-13","QUISPE NINA AMERICO","Centro","0002-006464","2018-03-13",0,{"v":12980,"d":"12,980"},{"$f":"IF(t.base[[#This Row],[DIAS DE ATRASO]]=0,0,t.base[[#This Row],[TOTAL]])","v":0}]
["2017-12-01","TEXTIL 1649 S.A.C.","Centro","0001-005479","2017-12-31",72,{"v":14421,"d":"14,421"},{"$f":"IF(t.base[[#This Row],[DIAS DE ATRASO]]=0,0,t.base[[#This Row],[TOTAL]])","v":14421}]
["2018-02-11","TIERRA SUR E.I.R.L.","Sur","0001-009869","2018-03-13",0,{"v":29726,"d":"29,726"},{"$f":"IF(t.base[[#This Row],[DIAS DE ATRASO]]=0,0,t.base[[#This Row],[TOTAL]])","v":0}]
["2018-01-20","G.M. TRAMAS S.A.","Centro","0001-008444","2018-03-06",7,{"v":14925,"d":"14,925"},{"$f":"IF(t.base[[#This Row],[DIAS DE ATRASO]]=0,0,t.base[[#This Row],[TOTAL]])","v":14925}]
["2018-01-27","VIP CHANNEL S.A.C.","Centro","0002-005849","2018-03-13",0,{"v":20050,"d":"20,050"},{"$f":"IF(t.base[[#This Row],[DIAS DE ATRASO]]=0,0,t.base[[#This Row],[TOTAL]])","v":0}]
["2018-01-16","NUTRE PERU E.I.R.L.","Centro","0002-005959","2018-01-16",56,{"v":18124,"d":"18,124"},{"$f":"IF(t.base[[#This Row],[DIAS DE ATRASO]]=0,0,t.base[[#This Row],[TOTAL]])","v":18124}]
["2017-10-24","MI ROSEDAL S.A.C.","Centro","0002-009802","2017-11-23",110,{"v":24442,"d":"24,442"},{"$f":"IF(t.base[[#This Row],[DIAS DE ATRASO]]=0,0,t.base[[#This Row],[TOTAL]])","v":24442}]
["2018-03-13","HARBINGER S.A.C.","Centro","0002-002739","2018-03-13",0,{"v":24430,"d":"24,430"},{"$f":"IF(t.base[[#This Row],[DIAS DE ATRASO]]=0,0,t.base[[#This Row],[TOTAL]])","v":0}]
["2018-03-13","LOGISTICA PERU SRL","Norte","0002-001068","2018-03-13",0,{"v":25980,"d":"25,980"},{"$f":"IF(t.base[[#This Row],[DIAS DE ATRASO]]=0,0,t.base[[#This Row],[TOTAL]])","v":0}]
["2018-02-26","LEUNG PANG EILEEN","Centro","0001-004906","2018-03-13",0,{"v":25164,"d":"25,164"},{"$f":"IF(t.base[[#This Row],[DIAS DE ATRASO]]=0,0,t.base[[#This Row],[TOTAL]])","v":0}]
["2018-01-11","XIE SHIYA","Centro","0002-002865","2018-03-12",1,{"v":20858,"d":"20,858"},{"$f":"IF(t.base[[#This Row],[DIAS DE ATRASO]]=0,0,t.base[[#This Row],[TOTAL]])","v":20858}]
["2018-02-10","BRIDAG E.I.R.LTDA.","Centro","0002-008226","2018-03-12",1,{"v":13469,"d":"13,469"},{"$f":"IF(t.base[[#This Row],[DIAS DE ATRASO]]=0,0,t.base[[#This Row],[TOTAL]])","v":13469}]
["2017-12-24","MPK E.I.R.L.","Sur","0001-004111","2017-12-24",79,{"v":30106,"d":"30,106"},{"$f":"IF(t.base[[#This Row],[DIAS DE ATRASO]]=0,0,t.base[[#This Row],[TOTAL]])","v":30106}]
["2018-02-26","MC SERVICE EIRL","Norte","0001-007414","2018-03-13",0,{"v":44203,"d":"44,203"},{"$f":"IF(t.base[[#This Row],[DIAS DE ATRASO]]=0,0,t.base[[#This Row],[TOTAL]])","v":0}]
["2018-03-12","SALLO LEVA ISABEL","Centro","0002-003849","2018-03-12",1,{"v":13818,"d":"13,818"},{"$f":"IF(t.base[[#This Row],[DIAS DE ATRASO]]=0,0,t.base[[#This Row],[TOTAL]])","v":13818}]
["2017-08-15","DISCOFERT SRL","Centro","0001-009984","2017-08-30",195,{"v":22257,"d":"22,257"},{"$f":"IF(t.base[[#This Row],[DIAS DE ATRASO]]=0,0,t.base[[#This Row],[TOTAL]])","v":22257}]
["2018-03-12","NEYRA MEDINA RAFAEL","Centro","0002-007476","2018-03-12",1,{"v":12705,"d":"12,705"},{"$f":"IF(t.base[[#This Row],[DIAS DE ATRASO]]=0,0,t.base[[#This Row],[TOTAL]])","v":12705}]
["2017-12-13","VIVEL S.A.","Norte","0002-001921","2018-03-13",0,{"v":53326,"d":"53,326"},{"$f":"IF(t.base[[#This Row],[DIAS DE ATRASO]]=0,0,t.base[[#This Row],[TOTAL]])","v":0}]
["2018-02-26","CONTRACTORS SAC","Centro","0002-006450","2018-03-13",0,{"v":29781,"d":"29,781"},{"$f":"IF(t.base[[#This Row],[DIAS DE ATRASO]]=0,0,t.base[[#This Row],[TOTAL]])","v":0}]
["2018-02-25","RUTHY S S.R.LTDA","Centro","0002-003822","2018-03-12",1,{"v":14291,"d":"14,291"},{"$f":"IF(t.base[[#This Row],[DIAS DE ATRASO]]=0,0,t.base[[#This Row],[TOTAL]])","v":14291}]
["2018-03-13","METALAB S.A.C.","Centro","0002-008778","2018-03-13",0,{"v":15222,"d":"15,222"},{"$f":"IF(t.base[[#This Row],[DIAS DE ATRASO]]=0,0,t.base[[#This Row],[TOTAL]])","v":0}]
["2018-02-26","INSUVECA PERU SA","Centro","0002-002615","2018-03-13",0,{"v":11218,"d":"11,218"},{"$f":"IF(t.base[[#This Row],[DIAS DE ATRASO]]=0,0,t.base[[#This Row],[TOTAL]])","v":0}]
["2017-11-08","RIMASSA S.A.C.","Sur","0002-008604","2017-12-23",80,{"v":7389,"d":"7,389"},{"$f":"IF(t.base[[#This Row],[DIAS DE ATRASO]]=0,0,t.base[[#This Row],[TOTAL]])","v":7389}]
["2018-02-26","COPY DATA E.I.R.L.","Centro","0002-009573","2018-03-13",0,{"v":16311,"d":"16,311"},{"$f":"IF(t.base[[#This Row],[DIAS DE ATRASO]]=0,0,t.base[[#This Row],[TOTAL]])","v":0}]
["2017-10-31","SOTO BAZAN WILFREDO","Centro","0001-008824","2017-12-15",88,{"v":10993,"d":"10,993"},{"$f":"IF(t.base[[#This Row],[DIAS DE ATRASO]]=0,0,t.base[[#This Row],[TOTAL]])","v":10993}]
["2018-01-12","SEGURINDUSTRIA SA","Norte","0002-007581","2018-01-12",60,{"v":18061,"d":"18,061"},{"$f":"IF(t.base[[#This Row],[DIAS DE ATRASO]]=0,0,t.base[[#This Row],[TOTAL]])","v":18061}]
["2018-02-10","CAMILO E.I.R.L.","Norte","0002-006138","2018-03-12",1,{"v":14157,"d":"14,157"},{"$f":"IF(t.base[[#This Row],[DIAS DE ATRASO]]=0,0,t.base[[#This Row],[TOTAL]])","v":14157}]
["2018-03-13","DOMNAR S.A.C.","Centro","0001-008717","2018-03-13",0,{"v":17654,"d":"17,654"},{"$f":"IF(t.base[[#This Row],[DIAS DE ATRASO]]=0,0,t.base[[#This Row],[TOTAL]])","v":0}]
["2017-06-18","TRANSPORTE ZEM EIRL","Centro","0001-005695","2017-08-17",208,{"v":29765,"d":"29,765"},{"$f":"IF(t.base[[#This Row],[DIAS DE ATRASO]]=0,0,t.base[[#This Row],[TOTAL]])","v":29765}]
["2018-02-26","RENGIFO LOPEZ SARA","Centro","0001-001357","2018-03-13",0,{"v":10079,"d":"10,079"},{"$f":"IF(t.base[[#This Row],[DIAS DE ATRASO]]=0,0,t.base[[#This Row],[TOTAL]])","v":0}]
["2017-12-13","AQUINO PEREZ RONEL","Centro","0001-001799","2018-03-13",0,{"v":21272,"d":"21,272"},{"$f":"IF(t.base[[#This Row],[DIAS DE ATRASO]]=0,0,t.base[[#This Row],[TOTAL]])","v":0}]
["2018-02-25","SERMATFER E.I.R.L","Centro","0002-001095","2018-03-12",1,{"v":12201,"d":"12,201"},{"$f":"IF(t.base[[#This Row],[DIAS DE ATRASO]]=0,0,t.base[[#This Row],[TOTAL]])","v":12201}]
["2017-12-04","SISCOM E.I.R.L.","Sur","0002-004070","2018-02-02",39,{"v":12308,"d":"12,308"},{"$f":"IF(t.base[[#This Row],[DIAS DE ATRASO]]=0,0,t.base[[#This Row],[TOTAL]])","v":12308}]
["2018-01-12","MAQPOL S.A.C.","Centro","0002-006588","2018-03-13",0,{"v":29971,"d":"29,971"},{"$f":"IF(t.base[[#This Row],[DIAS DE ATRASO]]=0,0,t.base[[#This Row],[TOTAL]])","v":0}]
["2018-01-20","COANDINA S R LTDA","Centro","0001-006161","2018-03-06",7,{"v":26564,"d":"26,564"},{"$f":"IF(t.base[[#This Row],[DIAS DE ATRASO]]=0,0,t.base[[#This Row],[TOTAL]])","v":26564}]
["2017-11-06","TRICOTTON S.A.C","Centro","0002-002449","2018-02-04",37,{"v":22604,"d":"22,604"},{"$f":"IF(t.base[[#This Row],[DIAS DE ATRASO]]=0,0,t.base[[#This Row],[TOTAL]])","v":22604}]
["2017-12-17","MIAMI -SHOP S.A.C.","Centro","0002-008815","2018-02-15",26,{"v":18791,"d":"18,791"},{"$f":"IF(t.base[[#This Row],[DIAS DE ATRASO]]=0,0,t.base[[#This Row],[TOTAL]])","v":18791}]
["2018-02-01","SYO PERU S.A.C.","Centro","0001-002766","2018-02-01",40,{"v":25807,"d":"25,807"},{"$f":"IF(t.base[[#This Row],[DIAS DE ATRASO]]=0,0,t.base[[#This Row],[TOTAL]])","v":25807}]
["2017-10-18","JASPE E.I.R.L.","Sur","0002-005298","2018-01-16",56,{"v":8964,"d":"8,964"},{"$f":"IF(t.base[[#This Row],[DIAS DE ATRASO]]=0,0,t.base[[#This Row],[TOTAL]])","v":8964}]
["2017-11-24","PARKETON S.A.C.","Centro","0002-003891","2018-01-08",64,{"v":11478,"d":"11,478"},{"$f":"IF(t.base[[#This Row],[DIAS DE ATRASO]]=0,0,t.base[[#This Row],[TOTAL]])","v":11478}]
["2018-03-13","LIMPI QUISPE CELIA","Centro","0002-006079","2018-03-13",0,{"v":18111,"d":"18,111"},{"$f":"IF(t.base[[#This Row],[DIAS DE ATRASO]]=0,0,t.base[[#This Row],[TOTAL]])","v":0}]
["2018-03-13","JON MARSIL E.I.R.L","Centro","0001-009672","2018-03-13",0,{"v":13054,"d":"13,054"},{"$f":"IF(t.base[[#This Row],[DIAS DE ATRASO]]=0,0,t.base[[#This Row],[TOTAL]])","v":0}]
["2017-12-03","SAINT LOUIS S.A.C.","Centro","0002-007200","2017-12-18",85,{"v":24173,"d":"24,173"},{"$f":"IF(t.base[[#This Row],[DIAS DE ATRASO]]=0,0,t.base[[#This Row],[TOTAL]])","v":24173}]
["2017-12-09","VGO S.A.C.","Norte","0001-006344","2018-02-07",34,{"v":40485,"d":"40,485"},{"$f":"IF(t.base[[#This Row],[DIAS DE ATRASO]]=0,0,t.base[[#This Row],[TOTAL]])","v":40485}]
["2018-02-26","SCHENONE S A","Centro","0002-007835","2018-03-13",0,{"v":10303,"d":"10,303"},{"$f":"IF(t.base[[#This Row],[DIAS DE ATRASO]]=0,0,t.base[[#This Row],[TOTAL]])","v":0}]
["2017-07-21","SEGURITEMP E.I.R.L.","Norte","0002-008767","2017-08-20",205,{"v":24930,"d":"24,930"},{"$f":"IF(t.base[[#This Row],[DIAS DE ATRASO]]=0,0,t.base[[#This Row],[TOTAL]])","v":24930}]
["2017-12-13","CHIANG JIANG S.A.C.","Centro","0002-007125","2018-03-13",0,{"v":26948,"d":"26,948"},{"$f":"IF(t.base[[#This Row],[DIAS DE ATRASO]]=0,0,t.base[[#This Row],[TOTAL]])","v":0}]
["2018-01-12","RADIO ASTORIA S A","Norte","0001-004485","2018-03-13",0,{"v":34909,"d":"34,909"},{"$f":"IF(t.base[[#This Row],[DIAS DE ATRASO]]=0,0,t.base[[#This Row],[TOTAL]])","v":0}]
["2018-03-13","CEP SAN RAFAEL","Centro","0002-008270","2018-03-13",0,{"v":13301,"d":"13,301"},{"$f":"IF(t.base[[#This Row],[DIAS DE ATRASO]]=0,0,t.base[[#This Row],[TOTAL]])","v":0}]
["2018-01-12","DETAILHOUSE S.A.C.","Centro","0001-002557","2018-03-13",0,{"v":24104,"d":"24,104"},{"$f":"IF(t.base[[#This Row],[DIAS DE ATRASO]]=0,0,t.base[[#This Row],[TOTAL]])","v":0}]
["2017-12-02","GOMEZ YUCRA SIMEON","Centro","0001-006945","2018-03-02",11,{"v":24626,"d":"24,626"},{"$f":"IF(t.base[[#This Row],[DIAS DE ATRASO]]=0,0,t.base[[#This Row],[TOTAL]])","v":24626}]
["2018-02-11","KAMASENI S.A.C.","Centro","0001-005215","2018-03-13",0,{"v":12671,"d":"12,671"},{"$f":"IF(t.base[[#This Row],[DIAS DE ATRASO]]=0,0,t.base[[#This Row],[TOTAL]])","v":0}]
["2017-11-26","DDP ADUANAS S.A.C.","Sur","0002-003268","2018-02-24",17,{"v":25379,"d":"25,379"},{"$f":"IF(t.base[[#This Row],[DIAS DE ATRASO]]=0,0,t.base[[#This Row],[TOTAL]])","v":25379}]
["2018-02-26","LA JOSEFA S.A.C.","Centro","0001-005792","2018-03-13",0,{"v":29023,"d":"29,023"},{"$f":"IF(t.base[[#This Row],[DIAS DE ATRASO]]=0,0,t.base[[#This Row],[TOTAL]])","v":0}]
["2017-12-13","MARINAS GUZMAN JOSE","Centro","0002-009798","2018-03-13",0,{"v":10975,"d":"10,975"},{"$f":"IF(t.base[[#This Row],[DIAS DE ATRASO]]=0,0,t.base[[#This Row],[TOTAL]])","v":0}]
["2018-01-27","INVESTCORP S.A.","Centro","0002-007151","2018-03-13",0,{"v":25120,"d":"25,120"},{"$f":"IF(t.base[[#This Row],[DIAS DE ATRASO]]=0,0,t.base[[#This Row],[TOTAL]])","v":0}]
["2017-12-05","QUEA TAPIA EULALIA","Centro","0002-008225","2018-01-04",68,{"v":23742,"d":"23,742"},{"$f":"IF(t.base[[#This Row],[DIAS DE ATRASO]]=0,0,t.base[[#This Row],[TOTAL]])","v":23742}]
["2017-12-27","SEMAPELI S.R.L.","Sur","0002-005938","2017-12-27",76,{"v":18305,"d":"18,305"},{"$f":"IF(t.base[[#This Row],[DIAS DE ATRASO]]=0,0,t.base[[#This Row],[TOTAL]])","v":18305}]
["2017-09-12","HONGYING ZHOU","Centro","0001-007490","2017-10-27",137,{"v":28840,"d":"28,840"},{"$f":"IF(t.base[[#This Row],[DIAS DE ATRASO]]=0,0,t.base[[#This Row],[TOTAL]])","v":28840}]
["2018-01-27","CHAVEZ FLORES BETZY","Centro","0002-002513","2018-03-13",0,{"v":18408,"d":"18,408"},{"$f":"IF(t.base[[#This Row],[DIAS DE ATRASO]]=0,0,t.base[[#This Row],[TOTAL]])","v":0}]
["2018-02-26","SERVIMEDICOS S.A.C.","Norte","0001-004813","2018-03-13",0,{"v":17935,"d":"17,935"},{"$f":"IF(t.base[[#This Row],[DIAS DE ATRASO]]=0,0,t.base[[#This Row],[TOTAL]])","v":0}]
["2018-03-13","GHL INVERSIONES SA","Centro","0002-005873","2018-03-13",0,{"v":26483,"d":"26,483"},{"$f":"IF(t.base[[#This Row],[DIAS DE ATRASO]]=0,0,t.base[[#This Row],[TOTAL]])","v":0}]
["2017-11-12","PEREA VELA JANETH","Centro","0001-008564","2018-01-11",61,{"v":24018,"d":"24,018"},{"$f":"IF(t.base[[#This Row],[DIAS DE ATRASO]]=0,0,t.base[[#This Row],[TOTAL]])","v":24018}]
["2017-12-12","KOZUMI PERU S.A.","Centro","0002-003959","2018-03-12",1,{"v":13723,"d":"13,723"},{"$f":"IF(t.base[[#This Row],[DIAS DE ATRASO]]=0,0,t.base[[#This Row],[TOTAL]])","v":13723}]
["2018-01-26","TAPIPLASTIC  S.A.C.","Norte","0002-006640","2018-03-12",1,{"v":52726,"d":"52,726"},{"$f":"IF(t.base[[#This Row],[DIAS DE ATRASO]]=0,0,t.base[[#This Row],[TOTAL]])","v":52726}]
["2017-09-19","JOSHEL IMPORT SAC","Centro","0002-004055","2017-09-19",175,{"v":26068,"d":"26,068"},{"$f":"IF(t.base[[#This Row],[DIAS DE ATRASO]]=0,0,t.base[[#This Row],[TOTAL]])","v":26068}]
["2017-12-13","BIONOVA S.A.C.","Centro","0001-004053","2018-01-12",60,{"v":23905,"d":"23,905"},{"$f":"IF(t.base[[#This Row],[DIAS DE ATRASO]]=0,0,t.base[[#This Row],[TOTAL]])","v":23905}]
["2018-03-12","YUT WU S.A.C.","Centro","0001-009412","2018-03-12",1,{"v":20514,"d":"20,514"},{"$f":"IF(t.base[[#This Row],[DIAS DE ATRASO]]=0,0,t.base[[#This Row],[TOTAL]])","v":20514}]
["2017-12-13","LEE WEI LIN","Centro","0002-006185","2018-03-13",0,{"v":26078,"d":"26,078"},{"$f":"IF(t.base[[#This Row],[DIAS DE ATRASO]]=0,0,t.base[[#This Row],[TOTAL]])","v":0}]
["2018-01-12","CROWN GAMING S.A.C.","Centro","0002-001031","2018-03-13",0,{"v":20607,"d":"20,607"},{"$f":"IF(t.base[[#This Row],[DIAS DE ATRASO]]=0,0,t.base[[#This Row],[TOTAL]])","v":0}]
["2017-12-13","C. CHINININ S.A.C.","Centro","0001-005692","2018-03-13",0,{"v":11181,"d":"11,181"},{"$f":"IF(t.base[[#This Row],[DIAS DE ATRASO]]=0,0,t.base[[#This Row],[TOTAL]])","v":0}]
["2017-12-13","JOMAHI E.I.R.L.","Norte","0001-003309","2018-03-13",0,{"v":56555,"d":"56,555"},{"$f":"IF(t.base[[#This Row],[DIAS DE ATRASO]]=0,0,t.base[[#This Row],[TOTAL]])","v":0}]
["2018-02-11","EQUIPROBEZ E.I.R.L.","Centro","0002-004650","2018-03-13",0,{"v":29456,"d":"29,456"},{"$f":"IF(t.base[[#This Row],[DIAS DE ATRASO]]=0,0,t.base[[#This Row],[TOTAL]])","v":0}]
["2017-12-31","NAYMLAP INN S.A.C","Centro","0001-002617","2017-12-31",72,{"v":24114,"d":"24,114"},{"$f":"IF(t.base[[#This Row],[DIAS DE ATRASO]]=0,0,t.base[[#This Row],[TOTAL]])","v":24114}]
["2017-09-04","TAPIPLASTIC  S.A.C.","Norte","0002-004703","2017-10-04",160,{"v":45786,"d":"45,786"},{"$f":"IF(t.base[[#This Row],[DIAS DE ATRASO]]=0,0,t.base[[#This Row],[TOTAL]])","v":45786}]
["2017-10-22","KINSA WARMI SRL","Centro","0002-009368","2017-12-21",82,{"v":16566,"d":"16,566"},{"$f":"IF(t.base[[#This Row],[DIAS DE ATRASO]]=0,0,t.base[[#This Row],[TOTAL]])","v":16566}]
["2018-01-12","ATELCINE PERU SAC","Centro","0002-008123","2018-03-13",0,{"v":17970,"d":"17,970"},{"$f":"IF(t.base[[#This Row],[DIAS DE ATRASO]]=0,0,t.base[[#This Row],[TOTAL]])","v":0}]
["2017-12-13","NORIKIRU S.A.C.","Centro","0001-005881","2018-03-13",0,{"v":25540,"d":"25,540"},{"$f":"IF(t.base[[#This Row],[DIAS DE ATRASO]]=0,0,t.base[[#This Row],[TOTAL]])","v":0}]
["2018-02-11","LAGO IMPORT EIRL","Centro","0002-002071","2018-03-13",0,{"v":25657,"d":"25,657"},{"$f":"IF(t.base[[#This Row],[DIAS DE ATRASO]]=0,0,t.base[[#This Row],[TOTAL]])","v":0}]
["2018-03-12","CLAS CIUDAD DE DIOS","Sur","0002-006386","2018-03-12",1,{"v":39271,"d":"39,271"},{"$f":"IF(t.base[[#This Row],[DIAS DE ATRASO]]=0,0,t.base[[#This Row],[TOTAL]])","v":39271}]
["2018-01-07","URDICH SAC","Centro","0001-002714","2018-01-07",65,{"v":25247,"d":"25,247"},{"$f":"IF(t.base[[#This Row],[DIAS DE ATRASO]]=0,0,t.base[[#This Row],[TOTAL]])","v":25247}]
["2017-12-12","IMMETAZ E.I.R.L.","Sur","0002-007961","2018-03-12",1,{"v":46052,"d":"46,052"},{"$f":"IF(t.base[[#This Row],[DIAS DE ATRASO]]=0,0,t.base[[#This Row],[TOTAL]])","v":46052}]
["2018-01-27","BODEGA OJEDA","Norte","0002-008091","2018-03-13",0,{"v":64714,"d":"64,714"},{"$f":"IF(t.base[[#This Row],[DIAS DE ATRASO]]=0,0,t.base[[#This Row],[TOTAL]])","v":0}]
["2018-01-27","COLOR Y BELLEZA SAC","Norte","0002-001200","2018-03-13",0,{"v":27740,"d":"27,740"},{"$f":"IF(t.base[[#This Row],[DIAS DE ATRASO]]=0,0,t.base[[#This Row],[TOTAL]])","v":0}]
["2018-01-26","AYAME S.A.C.","Centro","0001-008474","2018-03-12",1,{"v":26638,"d":"26,638"},{"$f":"IF(t.base[[#This Row],[DIAS DE ATRASO]]=0,0,t.base[[#This Row],[TOTAL]])","v":26638}]
["2018-01-27","PERALTA ROMAN YOISY","Centro","0001-004077","2018-03-13",0,{"v":11236,"d":"11,236"},{"$f":"IF(t.base[[#This Row],[DIAS DE ATRASO]]=0,0,t.base[[#This Row],[TOTAL]])","v":0}]
["2017-12-13","LEE WEI LIN","Centro","0001-004839","2018-03-13",0,{"v":17468,"d":"17,468"},{"$f":"IF(t.base[[#This Row],[DIAS DE ATRASO]]=0,0,t.base[[#This Row],[TOTAL]])","v":0}]
["2017-12-13","COAGROECO S.R.L.","Sur","0002-008217","2018-03-13",0,{"v":47783,"d":"47,783"},{"$f":"IF(t.base[[#This Row],[DIAS DE ATRASO]]=0,0,t.base[[#This Row],[TOTAL]])","v":0}]
["2017-12-13","GORVEZ E.I.R.L.","Norte","0002-009821","2018-03-13",0,{"v":47685,"d":"47,685"},{"$f":"IF(t.base[[#This Row],[DIAS DE ATRASO]]=0,0,t.base[[#This Row],[TOTAL]])","v":0}]
["2018-02-26","WHC DEL PERU S.A.","Centro","0002-009813","2018-03-13",0,{"v":28249,"d":"28,249"},{"$f":"IF(t.base[[#This Row],[DIAS DE ATRASO]]=0,0,t.base[[#This Row],[TOTAL]])","v":0}]
["2017-11-14","CHOQUE COPA CARLOS","Centro","0002-003774","2017-12-29",74,{"v":26445,"d":"26,445"},{"$f":"IF(t.base[[#This Row],[DIAS DE ATRASO]]=0,0,t.base[[#This Row],[TOTAL]])","v":26445}]
["2018-01-27","COPYNET DATA S.A.C.","Centro","0002-002395","2018-03-13",0,{"v":29984,"d":"29,984"},{"$f":"IF(t.base[[#This Row],[DIAS DE ATRASO]]=0,0,t.base[[#This Row],[TOTAL]])","v":0}]
["2018-03-13","TECNO COLOR S R L","Centro","0001-004772","2018-03-13",0,{"v":10330,"d":"10,330"},{"$f":"IF(t.base[[#This Row],[DIAS DE ATRASO]]=0,0,t.base[[#This Row],[TOTAL]])","v":0}]
["2018-02-26","SUCAROL E.I.R.L.","Centro","0001-006252","2018-03-13",0,{"v":11556,"d":"11,556"},{"$f":"IF(t.base[[#This Row],[DIAS DE ATRASO]]=0,0,t.base[[#This Row],[TOTAL]])","v":0}]
["2018-01-12","ARMESSO S.A.C","Centro","0001-006935","2018-03-13",0,{"v":21492,"d":"21,492"},{"$f":"IF(t.base[[#This Row],[DIAS DE ATRASO]]=0,0,t.base[[#This Row],[TOTAL]])","v":0}]
["2017-12-13","G & M PNEUMATIC SAC","Centro","0002-009473","2018-03-13",0,{"v":27871,"d":"27,871"},{"$f":"IF(t.base[[#This Row],[DIAS DE ATRASO]]=0,0,t.base[[#This Row],[TOTAL]])","v":0}]
["2018-01-29","ALI - MART S.A.C.","Centro","0001-002901","2018-02-28",13,{"v":12377,"d":"12,377"},{"$f":"IF(t.base[[#This Row],[DIAS DE ATRASO]]=0,0,t.base[[#This Row],[TOTAL]])","v":12377}]
["2018-01-12","CAPITEX S.A.C","Centro","0001-008912","2018-03-13",0,{"v":27044,"d":"27,044"},{"$f":"IF(t.base[[#This Row],[DIAS DE ATRASO]]=0,0,t.base[[#This Row],[TOTAL]])","v":0}]
["2018-01-12","TEXCOPE S.A.C.","Centro","0001-006388","2018-03-13",0,{"v":28814,"d":"28,814"},{"$f":"IF(t.base[[#This Row],[DIAS DE ATRASO]]=0,0,t.base[[#This Row],[TOTAL]])","v":0}]
["2018-01-27","JICKA S.R.L.","Centro","0001-009667","2018-03-13",0,{"v":19330,"d":"19,330"},{"$f":"IF(t.base[[#This Row],[DIAS DE ATRASO]]=0,0,t.base[[#This Row],[TOTAL]])","v":0}]
["2017-10-15","PERALTA ROMAN YOISY","Centro","0001-001681","2018-01-13",59,{"v":11277,"d":"11,277"},{"$f":"IF(t.base[[#This Row],[DIAS DE ATRASO]]=0,0,t.base[[#This Row],[TOTAL]])","v":11277}]
["2018-02-11","ROSATEX E.I.R.L.","Centro","0002-001582","2018-03-13",0,{"v":16556,"d":"16,556"},{"$f":"IF(t.base[[#This Row],[DIAS DE ATRASO]]=0,0,t.base[[#This Row],[TOTAL]])","v":0}]
["2018-02-26","COPY DATA E.I.R.L.","Centro","0001-004424","2018-03-13",0,{"v":15040,"d":"15,040"},{"$f":"IF(t.base[[#This Row],[DIAS DE ATRASO]]=0,0,t.base[[#This Row],[TOTAL]])","v":0}]
["2018-02-01","RONESK S.A.C.","Centro","0001-001766","2018-02-01",40,{"v":26623,"d":"26,623"},{"$f":"IF(t.base[[#This Row],[DIAS DE ATRASO]]=0,0,t.base[[#This Row],[TOTAL]])","v":26623}]
["2018-02-11","G & T CARGO S.A.C.","Centro","0002-009798","2018-03-13",0,{"v":22141,"d":"22,141"},{"$f":"IF(t.base[[#This Row],[DIAS DE ATRASO]]=0,0,t.base[[#This Row],[TOTAL]])","v":0}]
["2017-10-19","HATHOR S.R.L.","Centro","0001-003734","2017-12-18",85,{"v":23719,"d":"23,719"},{"$f":"IF(t.base[[#This Row],[DIAS DE ATRASO]]=0,0,t.base[[#This Row],[TOTAL]])","v":23719}]
["2017-06-26","DKARGA S.A.C.","Centro","0002-002692","2017-08-10",215,{"v":17174,"d":"17,174"},{"$f":"IF(t.base[[#This Row],[DIAS DE ATRASO]]=0,0,t.base[[#This Row],[TOTAL]])","v":17174}]
["2018-02-11","TRANSILMAR S.A.C.","Sur","0001-007172","2018-03-13",0,{"v":19537,"d":"19,537"},{"$f":"IF(t.base[[#This Row],[DIAS DE ATRASO]]=0,0,t.base[[#This Row],[TOTAL]])","v":0}]
["2018-01-11","NEGYSER PERU S.A.C.","Centro","0001-003782","2018-03-12",1,{"v":19120,"d":"19,120"},{"$f":"IF(t.base[[#This Row],[DIAS DE ATRASO]]=0,0,t.base[[#This Row],[TOTAL]])","v":19120}]
["2017-12-13","E - MARKET E.I.R.L.","Centro","0001-007231","2018-03-13",0,{"v":15567,"d":"15,567"},{"$f":"IF(t.base[[#This Row],[DIAS DE ATRASO]]=0,0,t.base[[#This Row],[TOTAL]])","v":0}]
["2018-03-13","SORUM S.R.L.","Sur","0001-003566","2018-03-13",0,{"v":47435,"d":"47,435"},{"$f":"IF(t.base[[#This Row],[DIAS DE ATRASO]]=0,0,t.base[[#This Row],[TOTAL]])","v":0}]
["2018-02-10","SAMANTHA S.A.C.","Norte","0001-009635","2018-03-12",1,{"v":50739,"d":"50,739"},{"$f":"IF(t.base[[#This Row],[DIAS DE ATRASO]]=0,0,t.base[[#This Row],[TOTAL]])","v":50739}]
["2017-11-08","SUPERPRINT S.A.C.","Centro","0001-009239","2017-12-23",80,{"v":21045,"d":"21,045"},{"$f":"IF(t.base[[#This Row],[DIAS DE ATRASO]]=0,0,t.base[[#This Row],[TOTAL]])","v":21045}]
["2018-01-27","ERTI SRL","Sur","0001-009021","2018-03-13",0,{"v":36849,"d":"36,849"},{"$f":"IF(t.base[[#This Row],[DIAS DE ATRASO]]=0,0,t.base[[#This Row],[TOTAL]])","v":0}]
["2017-12-13","SOJITZ PERU S.A.","Centro","0001-005364","2018-03-13",0,{"v":20136,"d":"20,136"},{"$f":"IF(t.base[[#This Row],[DIAS DE ATRASO]]=0,0,t.base[[#This Row],[TOTAL]])","v":0}]
["2018-01-12","ARENAS RAMOS FREDY","Centro","0001-007730","2018-03-13",0,{"v":20392,"d":"20,392"},{"$f":"IF(t.base[[#This Row],[DIAS DE ATRASO]]=0,0,t.base[[#This Row],[TOTAL]])","v":0}]
["2017-11-22","BEKTON S.A.C.","Centro","0002-003746","2017-12-22",81,{"v":13961,"d":"13,961"},{"$f":"IF(t.base[[#This Row],[DIAS DE ATRASO]]=0,0,t.base[[#This Row],[TOTAL]])","v":13961}]
["2017-10-14","MG-1 E.I.R.L.","Centro","0002-006268","2018-01-12",60,{"v":22143,"d":"22,143"},{"$f":"IF(t.base[[#This Row],[DIAS DE ATRASO]]=0,0,t.base[[#This Row],[TOTAL]])","v":22143}]
["2018-03-13","AGROVISION E.I.R.L.","Centro","0002-002006","2018-03-13",0,{"v":13364,"d":"13,364"},{"$f":"IF(t.base[[#This Row],[DIAS DE ATRASO]]=0,0,t.base[[#This Row],[TOTAL]])","v":0}]
["2018-02-11","DS GLOBAL S.A.C","Centro","0001-007348","2018-03-13",0,{"v":17886,"d":"17,886"},{"$f":"IF(t.base[[#This Row],[DIAS DE ATRASO]]=0,0,t.base[[#This Row],[TOTAL]])","v":0}]
["2018-02-26","CELEKSA S R L","Centro","0002-008485","2018-03-13",0,{"v":12367,"d":"12,367"},{"$f":"IF(t.base[[#This Row],[DIAS DE ATRASO]]=0,0,t.base[[#This Row],[TOTAL]])","v":0}]
["2018-01-27","VARGAS S.R.L.","Norte","0002-007366","2018-03-13",0,{"v":58476,"d":"58,476"},{"$f":"IF(t.base[[#This Row],[DIAS DE ATRASO]]=0,0,t.base[[#This Row],[TOTAL]])","v":0}]
["2017-11-06","RELINO OTR S.A.C.","Centro","0001-008014","2017-12-06",97,{"v":11983,"d":"11,983"},{"$f":"IF(t.base[[#This Row],[DIAS DE ATRASO]]=0,0,t.base[[#This Row],[TOTAL]])","v":11983}]
["2017-12-27","ECO GRANJA S.R.L.","Centro","0002-007955","2018-01-26",46,{"v":26739,"d":"26,739"},{"$f":"IF(t.base[[#This Row],[DIAS DE ATRASO]]=0,0,t.base[[#This Row],[TOTAL]])","v":26739}]
["2017-12-17","DACIA TRADING SAC","Centro","0002-002477","2017-12-17",86,{"v":19223,"d":"19,223"},{"$f":"IF(t.base[[#This Row],[DIAS DE ATRASO]]=0,0,t.base[[#This Row],[TOTAL]])","v":19223}]
["2018-02-26","A & SAN JOSE S.A.C","Centro","0002-006430","2018-03-13",0,{"v":10071,"d":"10,071"},{"$f":"IF(t.base[[#This Row],[DIAS DE ATRASO]]=0,0,t.base[[#This Row],[TOTAL]])","v":0}]
["2018-02-26","TECSE MUYOC","Sur","0001-004647","2018-03-13",0,{"v":14008,"d":"14,008"},{"$f":"IF(t.base[[#This Row],[DIAS DE ATRASO]]=0,0,t.base[[#This Row],[TOTAL]])","v":0}]
["2017-12-26","BRENCO SAC","Norte","0001-006930","2017-12-26",77,{"v":43060,"d":"43,060"},{"$f":"IF(t.base[[#This Row],[DIAS DE ATRASO]]=0,0,t.base[[#This Row],[TOTAL]])","v":43060}]
["2017-12-13","FEMAT S.A.C.","Centro","0001-008855","2018-03-13",0,{"v":14265,"d":"14,265"},{"$f":"IF(t.base[[#This Row],[DIAS DE ATRASO]]=0,0,t.base[[#This Row],[TOTAL]])","v":0}]
["2018-01-04","GREEN STAR S.A.C","Centro","0001-003916","2018-01-19",53,{"v":13489,"d":"13,489"},{"$f":"IF(t.base[[#This Row],[DIAS DE ATRASO]]=0,0,t.base[[#This Row],[TOTAL]])","v":13489}]
["2018-02-05","ERAZO ERAZO TULIO","Centro","0001-007464","2018-02-20",21,{"v":13033,"d":"13,033"},{"$f":"IF(t.base[[#This Row],[DIAS DE ATRASO]]=0,0,t.base[[#This Row],[TOTAL]])","v":13033}]
["2018-02-26","STYLO EDWIL SRL","Centro","0002-005214","2018-03-13",0,{"v":18164,"d":"18,164"},{"$f":"IF(t.base[[#This Row],[DIAS DE ATRASO]]=0,0,t.base[[#This Row],[TOTAL]])","v":0}]
["2018-01-25","ENCANTADA E.I.R.L.","Centro","0001-006649","2018-02-24",17,{"v":10668,"d":"10,668"},{"$f":"IF(t.base[[#This Row],[DIAS DE ATRASO]]=0,0,t.base[[#This Row],[TOTAL]])","v":10668}]
["2018-01-27","SALISARA SAC","Centro","0002-006719","2018-03-13",0,{"v":18885,"d":"18,885"},{"$f":"IF(t.base[[#This Row],[DIAS DE ATRASO]]=0,0,t.base[[#This Row],[TOTAL]])","v":0}]
["2018-01-02","JERI LUNA JORGE","Centro","0001-009067","2018-01-17",55,{"v":13618,"d":"13,618"},{"$f":"IF(t.base[[#This Row],[DIAS DE ATRASO]]=0,0,t.base[[#This Row],[TOTAL]])","v":13618}]
["2017-06-25","KE JIANQING","Centro","0001-008047","2017-09-23",171,{"v":15953,"d":"15,953"},{"$f":"IF(t.base[[#This Row],[DIAS DE ATRASO]]=0,0,t.base[[#This Row],[TOTAL]])","v":15953}]
["2017-12-13","CREDIVILSA EIRL","Norte","0002-004729","2018-02-11",30,{"v":44160,"d":"44,160"},{"$f":"IF(t.base[[#This Row],[DIAS DE ATRASO]]=0,0,t.base[[#This Row],[TOTAL]])","v":44160}]
["2018-01-27","MPK E.I.R.L.","Sur","0001-007080","2018-03-13",0,{"v":48490,"d":"48,490"},{"$f":"IF(t.base[[#This Row],[DIAS DE ATRASO]]=0,0,t.base[[#This Row],[TOTAL]])","v":0}]
["2018-01-26","CAIMI PERU S.A.C.","Centro","0002-002487","2018-03-12",1,{"v":20406,"d":"20,406"},{"$f":"IF(t.base[[#This Row],[DIAS DE ATRASO]]=0,0,t.base[[#This Row],[TOTAL]])","v":20406}]
["2017-12-10","J & F TRADERS S.A.","Centro","0001-007128","2017-12-25",78,{"v":21810,"d":"21,810"},{"$f":"IF(t.base[[#This Row],[DIAS DE ATRASO]]=0,0,t.base[[#This Row],[TOTAL]])","v":21810}]
["2018-02-26","DERMASALUD S.R.L.","Centro","0002-004460","2018-03-13",0,{"v":22089,"d":"22,089"},{"$f":"IF(t.base[[#This Row],[DIAS DE ATRASO]]=0,0,t.base[[#This Row],[TOTAL]])","v":0}]
["2018-03-13","NEGOCIOS VEGA SAC","Norte","0001-005771","2018-03-13",0,{"v":21683,"d":"21,683"},{"$f":"IF(t.base[[#This Row],[DIAS DE ATRASO]]=0,0,t.base[[#This Row],[TOTAL]])","v":0}]
["2017-12-13","SEGURINDUSTRIA SA","Norte","0002-004654","2018-03-13",0,{"v":31682,"d":"31,682"},{"$f":"IF(t.base[[#This Row],[DIAS DE ATRASO]]=0,0,t.base[[#This Row],[TOTAL]])","v":0}]
["2017-10-15","CLAS CAYLLOMA ALTA","Sur","0001-004111","2017-12-14",89,{"v":10720,"d":"10,720"},{"$f":"IF(t.base[[#This Row],[DIAS DE ATRASO]]=0,0,t.base[[#This Row],[TOTAL]])","v":10720}]
["2017-05-01","B2B CENTER S.A.C","Centro","0002-004501","2017-07-30",226,{"v":10255,"d":"10,255"},{"$f":"IF(t.base[[#This Row],[DIAS DE ATRASO]]=0,0,t.base[[#This Row],[TOTAL]])","v":10255}]
["2017-11-18","CIRFOSA PERU S.R.L.","Norte","0002-008300","2017-12-18",85,{"v":12796,"d":"12,796"},{"$f":"IF(t.base[[#This Row],[DIAS DE ATRASO]]=0,0,t.base[[#This Row],[TOTAL]])","v":12796}]
["2018-02-26","INVERGALAZ S.R.L.","Norte","0001-009688","2018-03-13",0,{"v":69189,"d":"69,189"},{"$f":"IF(t.base[[#This Row],[DIAS DE ATRASO]]=0,0,t.base[[#This Row],[TOTAL]])","v":0}]
["2018-01-27","PLUS MEDIC E.I.R.L.","Centro","0001-004608","2018-03-13",0,{"v":12779,"d":"12,779"},{"$f":"IF(t.base[[#This Row],[DIAS DE ATRASO]]=0,0,t.base[[#This Row],[TOTAL]])","v":0}]
["2018-02-26","PRU SAC","Centro","0001-006035","2018-03-13",0,{"v":19714,"d":"19,714"},{"$f":"IF(t.base[[#This Row],[DIAS DE ATRASO]]=0,0,t.base[[#This Row],[TOTAL]])","v":0}]
["2018-02-06","ECO TAXI S.A.C.","Centro","0001-003618","2018-02-06",35,{"v":24760,"d":"24,760"},{"$f":"IF(t.base[[#This Row],[DIAS DE ATRASO]]=0,0,t.base[[#This Row],[TOTAL]])","v":24760}]
["2018-01-26","LA LUCILA S.R.L.","Sur","0001-004196","2018-03-12",1,{"v":36139,"d":"36,139"},{"$f":"IF(t.base[[#This Row],[DIAS DE ATRASO]]=0,0,t.base[[#This Row],[TOTAL]])","v":36139}]
["2018-01-30","URDICH SAC","Centro","0002-007649","2018-01-30",42,{"v":24848,"d":"24,848"},{"$f":"IF(t.base[[#This Row],[DIAS DE ATRASO]]=0,0,t.base[[#This Row],[TOTAL]])","v":24848}]
["2018-02-26","TECH LAB S.A.C.","Centro","0002-001874","2018-03-13",0,{"v":10941,"d":"10,941"},{"$f":"IF(t.base[[#This Row],[DIAS DE ATRASO]]=0,0,t.base[[#This Row],[TOTAL]])","v":0}]
["2018-03-13","MEYTEX SAC","Centro","0001-006102","2018-03-13",0,{"v":21674,"d":"21,674"},{"$f":"IF(t.base[[#This Row],[DIAS DE ATRASO]]=0,0,t.base[[#This Row],[TOTAL]])","v":0}]
["2018-01-27","TAI FENG SAC","Centro","0002-006168","2018-03-13",0,{"v":15541,"d":"15,541"},{"$f":"IF(t.base[[#This Row],[DIAS DE ATRASO]]=0,0,t.base[[#This Row],[TOTAL]])","v":0}]
["2017-07-11","PERALTA ROMAN YOISY","Centro","0002-005093","2017-08-10",215,{"v":10899,"d":"10,899"},{"$f":"IF(t.base[[#This Row],[DIAS DE ATRASO]]=0,0,t.base[[#This Row],[TOTAL]])","v":10899}]
["2018-01-12","MULTITAPS S.A.C.","Centro","0001-002631","2018-03-13",0,{"v":18513,"d":"18,513"},{"$f":"IF(t.base[[#This Row],[DIAS DE ATRASO]]=0,0,t.base[[#This Row],[TOTAL]])","v":0}]
["2017-11-13","CUBO MAGICO S.A.C.","Centro","0001-002668","2018-01-12",60,{"v":26788,"d":"26,788"},{"$f":"IF(t.base[[#This Row],[DIAS DE ATRASO]]=0,0,t.base[[#This Row],[TOTAL]])","v":26788}]
["2017-12-30","PRO VERDE SAC","Centro","0001-007346","2018-01-14",58,{"v":27066,"d":"27,066"},{"$f":"IF(t.base[[#This Row],[DIAS DE ATRASO]]=0,0,t.base[[#This Row],[TOTAL]])","v":27066}]
["2018-01-12","WHC DEL PERU S.A.","Centro","0001-006186","2018-03-13",0,{"v":27521,"d":"27,521"},{"$f":"IF(t.base[[#This Row],[DIAS DE ATRASO]]=0,0,t.base[[#This Row],[TOTAL]])","v":0}]
["2017-11-30","LAGO IMPORT EIRL","Centro","0001-001010","2017-12-15",88,{"v":15804,"d":"15,804"},{"$f":"IF(t.base[[#This Row],[DIAS DE ATRASO]]=0,0,t.base[[#This Row],[TOTAL]])","v":15804}]
["2018-02-26","GREY GROUP S.A.C","Centro","0002-002270","2018-03-13",0,{"v":17013,"d":"17,013"},{"$f":"IF(t.base[[#This Row],[DIAS DE ATRASO]]=0,0,t.base[[#This Row],[TOTAL]])","v":0}]
["2018-02-11","ROJAS VILLANO NILO","Centro","0001-009813","2018-03-13",0,{"v":16131,"d":"16,131"},{"$f":"IF(t.base[[#This Row],[DIAS DE ATRASO]]=0,0,t.base[[#This Row],[TOTAL]])","v":0}]
["2018-01-26","CORTES ROMAN NAHUM","Centro","0002-001307","2018-03-12",1,{"v":24845,"d":"24,845"},{"$f":"IF(t.base[[#This Row],[DIAS DE ATRASO]]=0,0,t.base[[#This Row],[TOTAL]])","v":24845}]
["2018-01-27","INICIO PC S.R.L.","Norte","0002-009184","2018-03-13",0,{"v":19903,"d":"19,903"},{"$f":"IF(t.base[[#This Row],[DIAS DE ATRASO]]=0,0,t.base[[#This Row],[TOTAL]])","v":0}]
["2017-11-13","COPYNET DATA S.A.C.","Centro","0001-009474","2017-12-13",90,{"v":26116,"d":"26,116"},{"$f":"IF(t.base[[#This Row],[DIAS DE ATRASO]]=0,0,t.base[[#This Row],[TOTAL]])","v":26116}]
["2018-03-05","BRENCO SAC","Norte","0002-009808","2018-03-05",8,{"v":58948,"d":"58,948"},{"$f":"IF(t.base[[#This Row],[DIAS DE ATRASO]]=0,0,t.base[[#This Row],[TOTAL]])","v":58948}]
["2018-01-12","INCIVIAS S.A.C.","Centro","0001-001384","2018-03-13",0,{"v":19947,"d":"19,947"},{"$f":"IF(t.base[[#This Row],[DIAS DE ATRASO]]=0,0,t.base[[#This Row],[TOTAL]])","v":0}]
["2017-12-13","MI CASA JNC S.A.C.","Centro","0002-003632","2018-03-13",0,{"v":13194,"d":"13,194"},{"$f":"IF(t.base[[#This Row],[DIAS DE ATRASO]]=0,0,t.base[[#This Row],[TOTAL]])","v":0}]
["2018-01-12","VEGA RIOS GLORIA","Centro","0001-009353","2018-03-13",0,{"v":15131,"d":"15,131"},{"$f":"IF(t.base[[#This Row],[DIAS DE ATRASO]]=0,0,t.base[[#This Row],[TOTAL]])","v":0}]
["2017-12-23","INTERBIKE EIRL","Centro","0002-005849","2018-02-06",35,{"v":24867,"d":"24,867"},{"$f":"IF(t.base[[#This Row],[DIAS DE ATRASO]]=0,0,t.base[[#This Row],[TOTAL]])","v":24867}]
["2017-12-28","MONICA CHANG S.A.C.","Centro","0002-002760","2017-12-28",75,{"v":25000,"d":"25,000"},{"$f":"IF(t.base[[#This Row],[DIAS DE ATRASO]]=0,0,t.base[[#This Row],[TOTAL]])","v":25000}]
["2018-01-12","OLVA WORLD E.I.R.L.","Centro","0001-004202","2018-03-13",0,{"v":25035,"d":"25,035"},{"$f":"IF(t.base[[#This Row],[DIAS DE ATRASO]]=0,0,t.base[[#This Row],[TOTAL]])","v":0}]
["2018-03-13","ALEFRAN E.I.R.L.","Centro","0001-005395","2018-03-13",0,{"v":22847,"d":"22,847"},{"$f":"IF(t.base[[#This Row],[DIAS DE ATRASO]]=0,0,t.base[[#This Row],[TOTAL]])","v":0}]
["2018-02-11","MORE CLASS S.A.C","Centro","0002-006719","2018-03-13",0,{"v":13581,"d":"13,581"},{"$f":"IF(t.base[[#This Row],[DIAS DE ATRASO]]=0,0,t.base[[#This Row],[TOTAL]])","v":0}]
["2017-12-22","ÐAHUIS LEYVA PABLO","Centro","0001-007479","2018-02-05",36,{"v":27530,"d":"27,530"},{"$f":"IF(t.base[[#This Row],[DIAS DE ATRASO]]=0,0,t.base[[#This Row],[TOTAL]])","v":27530}]
["2018-02-26","CUBO MAGICO S.A.C.","Centro","0001-009392","2018-03-13",0,{"v":25407,"d":"25,407"},{"$f":"IF(t.base[[#This Row],[DIAS DE ATRASO]]=0,0,t.base[[#This Row],[TOTAL]])","v":0}]
["2018-01-12","TWO STAR S.A.C.","Centro","0001-009851","2018-03-13",0,{"v":24547,"d":"24,547"},{"$f":"IF(t.base[[#This Row],[DIAS DE ATRASO]]=0,0,t.base[[#This Row],[TOTAL]])","v":0}]
["2018-02-10","MAGROF S.A.","Centro","0002-007956","2018-03-12",1,{"v":20614,"d":"20,614"},{"$f":"IF(t.base[[#This Row],[DIAS DE ATRASO]]=0,0,t.base[[#This Row],[TOTAL]])","v":20614}]
["2018-02-26","NEGYSER PERU S.A.C.","Centro","0002-008530","2018-03-13",0,{"v":28571,"d":"28,571"},{"$f":"IF(t.base[[#This Row],[DIAS DE ATRASO]]=0,0,t.base[[#This Row],[TOTAL]])","v":0}]
["2017-12-13","NUTRE PERU E.I.R.L.","Centro","0001-001626","2018-03-13",0,{"v":25632,"d":"25,632"},{"$f":"IF(t.base[[#This Row],[DIAS DE ATRASO]]=0,0,t.base[[#This Row],[TOTAL]])","v":0}]
["2018-01-03","LAM LEUNG ALEJANDRO","Centro","0002-004587","2018-01-18",54,{"v":13580,"d":"13,580"},{"$f":"IF(t.base[[#This Row],[DIAS DE ATRASO]]=0,0,t.base[[#This Row],[TOTAL]])","v":13580}]
["2018-01-12","PUROCORAZON S.A.C.","Centro","0002-009272","2018-03-13",0,{"v":29432,"d":"29,432"},{"$f":"IF(t.base[[#This Row],[DIAS DE ATRASO]]=0,0,t.base[[#This Row],[TOTAL]])","v":0}]
["2018-01-11","POLIMAT S.A.C.","Centro","0001-009221","2018-03-12",1,{"v":16532,"d":"16,532"},{"$f":"IF(t.base[[#This Row],[DIAS DE ATRASO]]=0,0,t.base[[#This Row],[TOTAL]])","v":16532}]
["2017-12-04","AMAR ORTIZ MARIBEL","Centro","0002-004730","2018-01-18",54,{"v":22115,"d":"22,115"},{"$f":"IF(t.base[[#This Row],[DIAS DE ATRASO]]=0,0,t.base[[#This Row],[TOTAL]])","v":22115}]
["2018-01-12","TONG WONG MU CHIN","Centro","0001-002492","2018-03-13",0,{"v":17983,"d":"17,983"},{"$f":"IF(t.base[[#This Row],[DIAS DE ATRASO]]=0,0,t.base[[#This Row],[TOTAL]])","v":0}]
["2017-12-13","BECAR E.I.R.L.","Sur","0001-004387","2018-03-13",0,{"v":39439,"d":"39,439"},{"$f":"IF(t.base[[#This Row],[DIAS DE ATRASO]]=0,0,t.base[[#This Row],[TOTAL]])","v":0}]
["2018-02-26","DAMERED S.A.C.","Centro","0002-006499","2018-03-13",0,{"v":27765,"d":"27,765"},{"$f":"IF(t.base[[#This Row],[DIAS DE ATRASO]]=0,0,t.base[[#This Row],[TOTAL]])","v":0}]
["2018-01-12","MAMANI SOSA ANA","Centro","0002-003702","2018-03-13",0,{"v":26682,"d":"26,682"},{"$f":"IF(t.base[[#This Row],[DIAS DE ATRASO]]=0,0,t.base[[#This Row],[TOTAL]])","v":0}]
["2017-12-13","VYLDTECO S R L","Centro","0001-008557","2018-03-13",0,{"v":22647,"d":"22,647"},{"$f":"IF(t.base[[#This Row],[DIAS DE ATRASO]]=0,0,t.base[[#This Row],[TOTAL]])","v":0}]
["2017-10-29","DR GAS S.A.C.","Centro","0002-003930","2017-12-13",90,{"v":22979,"d":"22,979"},{"$f":"IF(t.base[[#This Row],[DIAS DE ATRASO]]=0,0,t.base[[#This Row],[TOTAL]])","v":22979}]
["2017-07-08","CHAHUERRE S.C.R.L","Norte","0002-005173","2017-07-23",233,{"v":66044,"d":"66,044"},{"$f":"IF(t.base[[#This Row],[DIAS DE ATRASO]]=0,0,t.base[[#This Row],[TOTAL]])","v":66044}]
["2018-01-12","TEXPLAS S.A.C.","Centro","0001-001782","2018-03-13",0,{"v":17026,"d":"17,026"},{"$f":"IF(t.base[[#This Row],[DIAS DE ATRASO]]=0,0,t.base[[#This Row],[TOTAL]])","v":0}]
["2018-02-11","ALBACONSULT S.A.C.","Centro","0001-002774","2018-03-13",0,{"v":26011,"d":"26,011"},{"$f":"IF(t.base[[#This Row],[DIAS DE ATRASO]]=0,0,t.base[[#This Row],[TOTAL]])","v":0}]
["2018-01-10","JV ELECTRONICA EIRL","Centro","0001-006948","2018-01-10",62,{"v":25039,"d":"25,039"},{"$f":"IF(t.base[[#This Row],[DIAS DE ATRASO]]=0,0,t.base[[#This Row],[TOTAL]])","v":25039}]
["2018-02-10","LOPEZ ARIAS MANUEL","Centro","0001-001251","2018-03-12",1,{"v":25637,"d":"25,637"},{"$f":"IF(t.base[[#This Row],[DIAS DE ATRASO]]=0,0,t.base[[#This Row],[TOTAL]])","v":25637}]
["2018-02-17","VIP CHANNEL S.A.C.","Centro","0001-001732","2018-02-17",24,{"v":13918,"d":"13,918"},{"$f":"IF(t.base[[#This Row],[DIAS DE ATRASO]]=0,0,t.base[[#This Row],[TOTAL]])","v":13918}]
["2018-03-13","SVITZER ANDINO S.A.","Centro","0002-008731","2018-03-13",0,{"v":28113,"d":"28,113"},{"$f":"IF(t.base[[#This Row],[DIAS DE ATRASO]]=0,0,t.base[[#This Row],[TOTAL]])","v":0}]
["2018-01-27","DELGADO DIAZ ABEL","Centro","0001-005951","2018-03-13",0,{"v":23744,"d":"23,744"},{"$f":"IF(t.base[[#This Row],[DIAS DE ATRASO]]=0,0,t.base[[#This Row],[TOTAL]])","v":0}]
["2017-12-01","SANKUAY S.R.LTDA.","Centro","0002-006272","2018-01-15",57,{"v":27699,"d":"27,699"},{"$f":"IF(t.base[[#This Row],[DIAS DE ATRASO]]=0,0,t.base[[#This Row],[TOTAL]])","v":27699}]
["2018-02-25","DACIA TRADING SAC","Centro","0001-004460","2018-03-12",1,{"v":17728,"d":"17,728"},{"$f":"IF(t.base[[#This Row],[DIAS DE ATRASO]]=0,0,t.base[[#This Row],[TOTAL]])","v":17728}]
["2018-01-12","CARFIDERM E.I.R.L.","Centro","0002-009407","2018-03-13",0,{"v":13256,"d":"13,256"},{"$f":"IF(t.base[[#This Row],[DIAS DE ATRASO]]=0,0,t.base[[#This Row],[TOTAL]])","v":0}]
["2018-01-13","CHAHUERRE S.C.R.L","Norte","0001-004305","2018-02-12",29,{"v":14845,"d":"14,845"},{"$f":"IF(t.base[[#This Row],[DIAS DE ATRASO]]=0,0,t.base[[#This Row],[TOTAL]])","v":14845}]
["2017-12-12","NEOSALUD S.A.C.","Centro","0001-009787","2018-03-12",1,{"v":25800,"d":"25,800"},{"$f":"IF(t.base[[#This Row],[DIAS DE ATRASO]]=0,0,t.base[[#This Row],[TOTAL]])","v":25800}]
["2018-03-13","BOMPER E.I.R.L.","Centro","0001-006185","2018-03-13",0,{"v":26733,"d":"26,733"},{"$f":"IF(t.base[[#This Row],[DIAS DE ATRASO]]=0,0,t.base[[#This Row],[TOTAL]])","v":0}]
["2017-12-13","GB ELECTRIC SAC","Centro","0001-006161","2018-03-13",0,{"v":29836,"d":"29,836"},{"$f":"IF(t.base[[#This Row],[DIAS DE ATRASO]]=0,0,t.base[[#This Row],[TOTAL]])","v":0}]
["2018-01-12","AMEDEP E.I.R.L.","Centro","0002-006916","2018-03-13",0,{"v":26228,"d":"26,228"},{"$f":"IF(t.base[[#This Row],[DIAS DE ATRASO]]=0,0,t.base[[#This Row],[TOTAL]])","v":0}]
["2018-02-25","HUISA ZAMATA JORGE","Centro","0001-006224","2018-03-12",1,{"v":17511,"d":"17,511"},{"$f":"IF(t.base[[#This Row],[DIAS DE ATRASO]]=0,0,t.base[[#This Row],[TOTAL]])","v":17511}]
["2018-01-28","KORPAK E.I.R.L.","Centro","0002-004605","2018-01-28",44,{"v":24100,"d":"24,100"},{"$f":"IF(t.base[[#This Row],[DIAS DE ATRASO]]=0,0,t.base[[#This Row],[TOTAL]])","v":24100}]
["2018-02-26","REPDA PARTS S.R.L.","Sur","0001-003241","2018-03-13",0,{"v":33048,"d":"33,048"},{"$f":"IF(t.base[[#This Row],[DIAS DE ATRASO]]=0,0,t.base[[#This Row],[TOTAL]])","v":0}]
["2018-01-12","KAMIFE E.I.R.L.","Sur","0001-009493","2018-03-13",0,{"v":6342,"d":"6,342"},{"$f":"IF(t.base[[#This Row],[DIAS DE ATRASO]]=0,0,t.base[[#This Row],[TOTAL]])","v":0}]
["2018-02-26","LI & MAN S.R.L.","Centro","0001-009268","2018-03-13",0,{"v":23668,"d":"23,668"},{"$f":"IF(t.base[[#This Row],[DIAS DE ATRASO]]=0,0,t.base[[#This Row],[TOTAL]])","v":0}]
["2017-12-23","FOSAM S.A.C.","Centro","0001-008198","2018-02-06",35,{"v":18357,"d":"18,357"},{"$f":"IF(t.base[[#This Row],[DIAS DE ATRASO]]=0,0,t.base[[#This Row],[TOTAL]])","v":18357}]
["2017-07-14","TEXMACHINE S.A.C.","Centro","0001-008522","2017-07-29",227,{"v":19759,"d":"19,759"},{"$f":"IF(t.base[[#This Row],[DIAS DE ATRASO]]=0,0,t.base[[#This Row],[TOTAL]])","v":19759}]
["2017-10-08","F Y F CORP. S.A.C.","Centro","0001-002061","2018-01-06",66,{"v":27540,"d":"27,540"},{"$f":"IF(t.base[[#This Row],[DIAS DE ATRASO]]=0,0,t.base[[#This Row],[TOTAL]])","v":27540}]
["2017-12-10","MACOFEVI E.I.R.L.","Norte","0001-004881","2017-12-25",78,{"v":13444,"d":"13,444"},{"$f":"IF(t.base[[#This Row],[DIAS DE ATRASO]]=0,0,t.base[[#This Row],[TOTAL]])","v":13444}]
["2018-02-02","CONTRACTORS SAC","Centro","0001-009036","2018-03-04",9,{"v":26501,"d":"26,501"},{"$f":"IF(t.base[[#This Row],[DIAS DE ATRASO]]=0,0,t.base[[#This Row],[TOTAL]])","v":26501}]
["2018-01-27","SUCAROL E.I.R.L.","Centro","0001-002587","2018-03-13",0,{"v":25938,"d":"25,938"},{"$f":"IF(t.base[[#This Row],[DIAS DE ATRASO]]=0,0,t.base[[#This Row],[TOTAL]])","v":0}]
["2018-01-27","APRENDA S.A.","Centro","0001-009937","2018-03-13",0,{"v":19160,"d":"19,160"},{"$f":"IF(t.base[[#This Row],[DIAS DE ATRASO]]=0,0,t.base[[#This Row],[TOTAL]])","v":0}]
["2018-03-13","NEYOR E.I.R.L.","Sur","0002-006024","2018-03-13",0,{"v":48069,"d":"48,069"},{"$f":"IF(t.base[[#This Row],[DIAS DE ATRASO]]=0,0,t.base[[#This Row],[TOTAL]])","v":0}]
["2017-08-19","ARCPERU S.A.C.","Norte","0002-003319","2017-08-19",206,{"v":16459,"d":"16,459"},{"$f":"IF(t.base[[#This Row],[DIAS DE ATRASO]]=0,0,t.base[[#This Row],[TOTAL]])","v":16459}]
["2018-02-26","AMG KYODAI S.A.C.","Centro","0001-004282","2018-03-13",0,{"v":24507,"d":"24,507"},{"$f":"IF(t.base[[#This Row],[DIAS DE ATRASO]]=0,0,t.base[[#This Row],[TOTAL]])","v":0}]
["2018-02-26","PERU BOX AIR S.A.C.","Centro","0002-001897","2018-03-13",0,{"v":27891,"d":"27,891"},{"$f":"IF(t.base[[#This Row],[DIAS DE ATRASO]]=0,0,t.base[[#This Row],[TOTAL]])","v":0}]
["2018-01-27","DOCTOR SALUD S.A.C.","Centro","0002-006960","2018-03-13",0,{"v":15054,"d":"15,054"},{"$f":"IF(t.base[[#This Row],[DIAS DE ATRASO]]=0,0,t.base[[#This Row],[TOTAL]])","v":0}]
["2018-02-10","TEXPLAS S.A.C.","Centro","0001-007874","2018-03-12",1,{"v":21830,"d":"21,830"},{"$f":"IF(t.base[[#This Row],[DIAS DE ATRASO]]=0,0,t.base[[#This Row],[TOTAL]])","v":21830}]
["2018-01-26","SAAD SAID T I","Centro","0002-009601","2018-03-12",1,{"v":26193,"d":"26,193"},{"$f":"IF(t.base[[#This Row],[DIAS DE ATRASO]]=0,0,t.base[[#This Row],[TOTAL]])","v":26193}]
["2018-01-26","HOSTAL RUIZ SRL","Norte","0002-004309","2018-03-12",1,{"v":63111,"d":"63,111"},{"$f":"IF(t.base[[#This Row],[DIAS DE ATRASO]]=0,0,t.base[[#This Row],[TOTAL]])","v":63111}]
["2018-01-26","OBILABS  PERU  SAC","Centro","0002-007453","2018-03-12",1,{"v":10088,"d":"10,088"},{"$f":"IF(t.base[[#This Row],[DIAS DE ATRASO]]=0,0,t.base[[#This Row],[TOTAL]])","v":10088}]
["2017-12-16","ALTAMIRANO SRL","Norte","0001-001394","2017-12-31",72,{"v":24082,"d":"24,082"},{"$f":"IF(t.base[[#This Row],[DIAS DE ATRASO]]=0,0,t.base[[#This Row],[TOTAL]])","v":24082}]
["2018-02-26","BIOFER S.A.C.","Centro","0002-002479","2018-03-13",0,{"v":24760,"d":"24,760"},{"$f":"IF(t.base[[#This Row],[DIAS DE ATRASO]]=0,0,t.base[[#This Row],[TOTAL]])","v":0}]
["2017-09-22","TOP MODEL S.A.C","Norte","0001-005258","2017-09-22",172,{"v":27575,"d":"27,575"},{"$f":"IF(t.base[[#This Row],[DIAS DE ATRASO]]=0,0,t.base[[#This Row],[TOTAL]])","v":27575}]
["2018-02-09","DELPHINUS S.A.C.","Centro","0002-006037","2018-03-11",2,{"v":13848,"d":"13,848"},{"$f":"IF(t.base[[#This Row],[DIAS DE ATRASO]]=0,0,t.base[[#This Row],[TOTAL]])","v":13848}]
["2018-01-27","REFLECENTRO SRL","Centro","0002-009270","2018-03-13",0,{"v":29787,"d":"29,787"},{"$f":"IF(t.base[[#This Row],[DIAS DE ATRASO]]=0,0,t.base[[#This Row],[TOTAL]])","v":0}]
["2017-12-12","INGEMEC PERU SAC","Norte","0002-005853","2018-03-12",1,{"v":25571,"d":"25,571"},{"$f":"IF(t.base[[#This Row],[DIAS DE ATRASO]]=0,0,t.base[[#This Row],[TOTAL]])","v":25571}]
["2017-11-18","TRIGOZO DIAZ CLELIA","Centro","0002-003904","2017-12-18",85,{"v":27127,"d":"27,127"},{"$f":"IF(t.base[[#This Row],[DIAS DE ATRASO]]=0,0,t.base[[#This Row],[TOTAL]])","v":27127}]
["2018-01-12","QUIMENSA EIRL","Centro","0002-007927","2018-03-13",0,{"v":12764,"d":"12,764"},{"$f":"IF(t.base[[#This Row],[DIAS DE ATRASO]]=0,0,t.base[[#This Row],[TOTAL]])","v":0}]
["2018-03-13","SEGUNDO POSHA SOFIA","Centro","0001-001427","2018-03-13",0,{"v":11901,"d":"11,901"},{"$f":"IF(t.base[[#This Row],[DIAS DE ATRASO]]=0,0,t.base[[#This Row],[TOTAL]])","v":0}]
["2018-02-04","ISA BARHAM S.A.C.","Centro","0002-003762","2018-02-19",22,{"v":15627,"d":"15,627"},{"$f":"IF(t.base[[#This Row],[DIAS DE ATRASO]]=0,0,t.base[[#This Row],[TOTAL]])","v":15627}]
["2017-10-03","TRANSLYA S.A.C.","Centro","0002-006599","2018-01-01",71,{"v":16626,"d":"16,626"},{"$f":"IF(t.base[[#This Row],[DIAS DE ATRASO]]=0,0,t.base[[#This Row],[TOTAL]])","v":16626}]
["2017-12-08","COMERCIAL ISIS SAC","Centro","0002-001384","2018-02-06",35,{"v":24067,"d":"24,067"},{"$f":"IF(t.base[[#This Row],[DIAS DE ATRASO]]=0,0,t.base[[#This Row],[TOTAL]])","v":24067}]
["2018-01-12","CUTITON S.A.C","Centro","0002-004950","2018-03-13",0,{"v":24174,"d":"24,174"},{"$f":"IF(t.base[[#This Row],[DIAS DE ATRASO]]=0,0,t.base[[#This Row],[TOTAL]])","v":0}]
["2018-01-12","HONGYING ZHOU","Centro","0002-002507","2018-03-13",0,{"v":21609,"d":"21,609"},{"$f":"IF(t.base[[#This Row],[DIAS DE ATRASO]]=0,0,t.base[[#This Row],[TOTAL]])","v":0}]
["2018-02-11","PEQUE E.I.R.L.","Centro","0002-005097","2018-03-13",0,{"v":24402,"d":"24,402"},{"$f":"IF(t.base[[#This Row],[DIAS DE ATRASO]]=0,0,t.base[[#This Row],[TOTAL]])","v":0}]
["2018-01-12","PROGERSE S R L","Centro","0002-008477","2018-03-13",0,{"v":28635,"d":"28,635"},{"$f":"IF(t.base[[#This Row],[DIAS DE ATRASO]]=0,0,t.base[[#This Row],[TOTAL]])","v":0}]
["2018-01-12","CAMILO E.I.R.L.","Norte","0001-004757","2018-03-13",0,{"v":21402,"d":"21,402"},{"$f":"IF(t.base[[#This Row],[DIAS DE ATRASO]]=0,0,t.base[[#This Row],[TOTAL]])","v":0}]
["2018-02-11","PERUVIANDENT S.A.C.","Centro","0001-006874","2018-03-13",0,{"v":28298,"d":"28,298"},{"$f":"IF(t.base[[#This Row],[DIAS DE ATRASO]]=0,0,t.base[[#This Row],[TOTAL]])","v":0}]
["2018-02-11","JINSEI SAC","Centro","0001-002088","2018-03-13",0,{"v":24919,"d":"24,919"},{"$f":"IF(t.base[[#This Row],[DIAS DE ATRASO]]=0,0,t.base[[#This Row],[TOTAL]])","v":0}]
["2018-02-11","GRUPO IMPORT EIRL","Norte","0002-009372","2018-03-13",0,{"v":25667,"d":"25,667"},{"$f":"IF(t.base[[#This Row],[DIAS DE ATRASO]]=0,0,t.base[[#This Row],[TOTAL]])","v":0}]
["2017-11-16","JARRO ROJAS IRMA","Centro","0002-009374","2017-12-01",102,{"v":16003,"d":"16,003"},{"$f":"IF(t.base[[#This Row],[DIAS DE ATRASO]]=0,0,t.base[[#This Row],[TOTAL]])","v":16003}]
["2017-12-01","JICKA S.R.L.","Centro","0002-001368","2018-01-15",57,{"v":12986,"d":"12,986"},{"$f":"IF(t.base[[#This Row],[DIAS DE ATRASO]]=0,0,t.base[[#This Row],[TOTAL]])","v":12986}]
["2018-01-10","CAM DE KAM KEN WAN","Centro","0002-006588","2018-03-11",2,{"v":24373,"d":"24,373"},{"$f":"IF(t.base[[#This Row],[DIAS DE ATRASO]]=0,0,t.base[[#This Row],[TOTAL]])","v":24373}]
["2017-12-07","MISS TOPAZIO S.A.C.","Centro","0001-009043","2017-12-22",81,{"v":19309,"d":"19,309"},{"$f":"IF(t.base[[#This Row],[DIAS DE ATRASO]]=0,0,t.base[[#This Row],[TOTAL]])","v":19309}]
["2018-03-13","RONG YINGLIN","Centro","0002-003619","2018-03-13",0,{"v":17855,"d":"17,855"},{"$f":"IF(t.base[[#This Row],[DIAS DE ATRASO]]=0,0,t.base[[#This Row],[TOTAL]])","v":0}]
["2017-12-26","CODYGOZ S.A.C.","Centro","0001-009637","2018-01-10",62,{"v":17796,"d":"17,796"},{"$f":"IF(t.base[[#This Row],[DIAS DE ATRASO]]=0,0,t.base[[#This Row],[TOTAL]])","v":17796}]
["2017-08-28","ACEROS JK S.A.C.","Centro","0001-002087","2017-09-12",182,{"v":13238,"d":"13,238"},{"$f":"IF(t.base[[#This Row],[DIAS DE ATRASO]]=0,0,t.base[[#This Row],[TOTAL]])","v":13238}]
["2017-11-27","D'OLPHINS E.I.R.L.","Norte","0001-007025","2018-02-25",16,{"v":30871,"d":"30,871"},{"$f":"IF(t.base[[#This Row],[DIAS DE ATRASO]]=0,0,t.base[[#This Row],[TOTAL]])","v":30871}]
["2018-03-13","NEOSALUD S.A.C.","Centro","0001-006968","2018-03-13",0,{"v":14936,"d":"14,936"},{"$f":"IF(t.base[[#This Row],[DIAS DE ATRASO]]=0,0,t.base[[#This Row],[TOTAL]])","v":0}]
["2018-02-02","GORVEZ E.I.R.L.","Norte","0002-001283","2018-03-04",9,{"v":52132,"d":"52,132"},{"$f":"IF(t.base[[#This Row],[DIAS DE ATRASO]]=0,0,t.base[[#This Row],[TOTAL]])","v":52132}]
["2018-02-11","CHIANG JIANG S.A.C.","Centro","0001-006267","2018-03-13",0,{"v":29445,"d":"29,445"},{"$f":"IF(t.base[[#This Row],[DIAS DE ATRASO]]=0,0,t.base[[#This Row],[TOTAL]])","v":0}]
["2017-12-13","MI ROSEDAL S.A.C.","Centro","0002-009967","2018-02-11",30,{"v":26777,"d":"26,777"},{"$f":"IF(t.base[[#This Row],[DIAS DE ATRASO]]=0,0,t.base[[#This Row],[TOTAL]])","v":26777}]
["2018-03-13","NEXT CARGO S.A.C.","Centro","0001-003116","2018-03-13",0,{"v":14536,"d":"14,536"},{"$f":"IF(t.base[[#This Row],[DIAS DE ATRASO]]=0,0,t.base[[#This Row],[TOTAL]])","v":0}]
["2017-12-13","AGROCAUCHO EIRL","Sur","0001-004955","2018-03-13",0,{"v":23583,"d":"23,583"},{"$f":"IF(t.base[[#This Row],[DIAS DE ATRASO]]=0,0,t.base[[#This Row],[TOTAL]])","v":0}]
["2018-01-12","CLINICA ELERA S.R.L","Centro","0001-008718","2018-03-13",0,{"v":24377,"d":"24,377"},{"$f":"IF(t.base[[#This Row],[DIAS DE ATRASO]]=0,0,t.base[[#This Row],[TOTAL]])","v":0}]
["2018-03-12","LUBRILLANTE EIRL","Norte","0001-002687","2018-03-12",1,{"v":60296,"d":"60,296"},{"$f":"IF(t.base[[#This Row],[DIAS DE ATRASO]]=0,0,t.base[[#This Row],[TOTAL]])","v":60296}]
["2018-01-27","ILOHOGAR E.I.R.L.","Sur","0001-006114","2018-03-13",0,{"v":44044,"d":"44,044"},{"$f":"IF(t.base[[#This Row],[DIAS DE ATRASO]]=0,0,t.base[[#This Row],[TOTAL]])","v":0}]
["2018-01-12","AYAME S.A.C.","Centro","0001-008947","2018-03-13",0,{"v":16462,"d":"16,462"},{"$f":"IF(t.base[[#This Row],[DIAS DE ATRASO]]=0,0,t.base[[#This Row],[TOTAL]])","v":0}]
["2018-01-27","DESANA S.A.C.","Centro","0001-007204","2018-03-13",0,{"v":24828,"d":"24,828"},{"$f":"IF(t.base[[#This Row],[DIAS DE ATRASO]]=0,0,t.base[[#This Row],[TOTAL]])","v":0}]
["2017-10-16","RUIZ LAVADO HEBER","Centro","0001-005456","2018-01-14",58,{"v":29084,"d":"29,084"},{"$f":"IF(t.base[[#This Row],[DIAS DE ATRASO]]=0,0,t.base[[#This Row],[TOTAL]])","v":29084}]
["2017-12-25","BIOS PERU S.A.C.","Centro","0001-008810","2017-12-25",78,{"v":13917,"d":"13,917"},{"$f":"IF(t.base[[#This Row],[DIAS DE ATRASO]]=0,0,t.base[[#This Row],[TOTAL]])","v":13917}]
["2017-07-18","SPRIND S.A.C.","Centro","0002-006617","2017-08-02",223,{"v":25711,"d":"25,711"},{"$f":"IF(t.base[[#This Row],[DIAS DE ATRASO]]=0,0,t.base[[#This Row],[TOTAL]])","v":25711}]
["2017-12-21","AGRORETAIL  S.A.C.","Centro","0002-001288","2018-01-05",67,{"v":14901,"d":"14,901"},{"$f":"IF(t.base[[#This Row],[DIAS DE ATRASO]]=0,0,t.base[[#This Row],[TOTAL]])","v":14901}]
["2018-02-26","NEGOCIOS A & D SRL","Norte","0001-009723","2018-03-13",0,{"v":50001,"d":"50,001"},{"$f":"IF(t.base[[#This Row],[DIAS DE ATRASO]]=0,0,t.base[[#This Row],[TOTAL]])","v":0}]
["2018-01-01","REYAL SRLTDA","Centro","0001-008952","2018-01-16",56,{"v":23975,"d":"23,975"},{"$f":"IF(t.base[[#This Row],[DIAS DE ATRASO]]=0,0,t.base[[#This Row],[TOTAL]])","v":23975}]
["2017-06-30","GREY GROUP S.A.C","Centro","0002-002343","2017-08-29",196,{"v":21969,"d":"21,969"},{"$f":"IF(t.base[[#This Row],[DIAS DE ATRASO]]=0,0,t.base[[#This Row],[TOTAL]])","v":21969}]
["2018-01-12","IMMETAZ E.I.R.L.","Sur","0001-004271","2018-03-13",0,{"v":26666,"d":"26,666"},{"$f":"IF(t.base[[#This Row],[DIAS DE ATRASO]]=0,0,t.base[[#This Row],[TOTAL]])","v":0}]
["2018-02-26","LEI HUANLAN","Centro","0001-002264","2018-03-13",0,{"v":28283,"d":"28,283"},{"$f":"IF(t.base[[#This Row],[DIAS DE ATRASO]]=0,0,t.base[[#This Row],[TOTAL]])","v":0}]
["2017-12-13","LOZANO IMPORT SAC.","Norte","0002-003478","2018-03-13",0,{"v":47207,"d":"47,207"},{"$f":"IF(t.base[[#This Row],[DIAS DE ATRASO]]=0,0,t.base[[#This Row],[TOTAL]])","v":0}]
["2017-12-12","REDICAL SAC","Norte","0002-001566","2018-03-12",1,{"v":30484,"d":"30,484"},{"$f":"IF(t.base[[#This Row],[DIAS DE ATRASO]]=0,0,t.base[[#This Row],[TOTAL]])","v":30484}]
["2018-03-13","CHEMAYOL E.I.R.L.","Centro","0001-007161","2018-03-13",0,{"v":11631,"d":"11,631"},{"$f":"IF(t.base[[#This Row],[DIAS DE ATRASO]]=0,0,t.base[[#This Row],[TOTAL]])","v":0}]
["2017-07-12","SOLOT PERU S.A.C.","Centro","0001-008013","2017-09-10",184,{"v":20306,"d":"20,306"},{"$f":"IF(t.base[[#This Row],[DIAS DE ATRASO]]=0,0,t.base[[#This Row],[TOTAL]])","v":20306}]
["2017-10-17","KINSA WARMI SRL","Centro","0001-003166","2018-01-15",57,{"v":15412,"d":"15,412"},{"$f":"IF(t.base[[#This Row],[DIAS DE ATRASO]]=0,0,t.base[[#This Row],[TOTAL]])","v":15412}]
["2017-11-08","SYSTCOM IMPORT SAC","Centro","0001-007139","2018-01-07",65,{"v":10597,"d":"10,597"},{"$f":"IF(t.base[[#This Row],[DIAS DE ATRASO]]=0,0,t.base[[#This Row],[TOTAL]])","v":10597}]
["2017-11-09","ALBACONSULT S.A.C.","Centro","0002-007476","2018-02-07",34,{"v":14968,"d":"14,968"},{"$f":"IF(t.base[[#This Row],[DIAS DE ATRASO]]=0,0,t.base[[#This Row],[TOTAL]])","v":14968}]
["2018-02-13","L M MOTORS SA","Centro","0002-007076","2018-02-13",28,{"v":18569,"d":"18,569"},{"$f":"IF(t.base[[#This Row],[DIAS DE ATRASO]]=0,0,t.base[[#This Row],[TOTAL]])","v":18569}]
["2017-12-18","MRP E.I.R.L.","Centro","0002-006988","2018-01-02",70,{"v":17963,"d":"17,963"},{"$f":"IF(t.base[[#This Row],[DIAS DE ATRASO]]=0,0,t.base[[#This Row],[TOTAL]])","v":17963}]
["2017-12-05","BIONOVA S.A.C.","Centro","0001-003562","2018-01-19",53,{"v":16720,"d":"16,720"},{"$f":"IF(t.base[[#This Row],[DIAS DE ATRASO]]=0,0,t.base[[#This Row],[TOTAL]])","v":16720}]
["2018-02-26","TOUS PERU S.A.C.","Centro","0002-004878","2018-03-13",0,{"v":28664,"d":"28,664"},{"$f":"IF(t.base[[#This Row],[DIAS DE ATRASO]]=0,0,t.base[[#This Row],[TOTAL]])","v":0}]
["2018-01-11","MELASUR S.A.C.","Centro","0002-004960","2018-03-12",1,{"v":18854,"d":"18,854"},{"$f":"IF(t.base[[#This Row],[DIAS DE ATRASO]]=0,0,t.base[[#This Row],[TOTAL]])","v":18854}]
["2018-02-25","YANG SHAO ZHONG","Centro","0002-004911","2018-03-12",1,{"v":18099,"d":"18,099"},{"$f":"IF(t.base[[#This Row],[DIAS DE ATRASO]]=0,0,t.base[[#This Row],[TOTAL]])","v":18099}]
["2018-03-13","FRANK MEDICA S.A.C","Centro","0002-003195","2018-03-13",0,{"v":21248,"d":"21,248"},{"$f":"IF(t.base[[#This Row],[DIAS DE ATRASO]]=0,0,t.base[[#This Row],[TOTAL]])","v":0}]
["2018-01-12","JINSEI SAC","Centro","0002-001453","2018-03-13",0,{"v":17437,"d":"17,437"},{"$f":"IF(t.base[[#This Row],[DIAS DE ATRASO]]=0,0,t.base[[#This Row],[TOTAL]])","v":0}]
["2018-03-13","CORTES ROMAN NAHUM","Centro","0002-006516","2018-03-13",0,{"v":21934,"d":"21,934"},{"$f":"IF(t.base[[#This Row],[DIAS DE ATRASO]]=0,0,t.base[[#This Row],[TOTAL]])","v":0}]
["2018-01-12","TOTY S.A.C.","Norte","0002-002437","2018-03-13",0,{"v":27023,"d":"27,023"},{"$f":"IF(t.base[[#This Row],[DIAS DE ATRASO]]=0,0,t.base[[#This Row],[TOTAL]])","v":0}]
["2017-11-26","EURO PERUANA S.A.C.","Centro","0002-005731","2018-02-24",17,{"v":13449,"d":"13,449"},{"$f":"IF(t.base[[#This Row],[DIAS DE ATRASO]]=0,0,t.base[[#This Row],[TOTAL]])","v":13449}]
["2018-03-13","TRANSPORTE ZEM EIRL","Centro","0002-007941","2018-03-13",0,{"v":26870,"d":"26,870"},{"$f":"IF(t.base[[#This Row],[DIAS DE ATRASO]]=0,0,t.base[[#This Row],[TOTAL]])","v":0}]
["2018-02-25","ARENAS RAMOS FREDY","Centro","0001-008616","2018-03-12",1,{"v":17961,"d":"17,961"},{"$f":"IF(t.base[[#This Row],[DIAS DE ATRASO]]=0,0,t.base[[#This Row],[TOTAL]])","v":17961}]
["2017-12-01","ALCANZANDO","Centro","0001-003327","2017-12-16",87,{"v":11494,"d":"11,494"},{"$f":"IF(t.base[[#This Row],[DIAS DE ATRASO]]=0,0,t.base[[#This Row],[TOTAL]])","v":11494}]
["2018-01-12","SERPENOR S.R.LTDA","Norte","0002-003128","2018-03-13",0,{"v":33796,"d":"33,796"},{"$f":"IF(t.base[[#This Row],[DIAS DE ATRASO]]=0,0,t.base[[#This Row],[TOTAL]])","v":0}]
["2018-02-11","KENUAL S.A.C.","Centro","0002-008336","2018-03-13",0,{"v":16201,"d":"16,201"},{"$f":"IF(t.base[[#This Row],[DIAS DE ATRASO]]=0,0,t.base[[#This Row],[TOTAL]])","v":0}]
["2018-02-10","MERP S.A.C.","Centro","0002-005419","2018-03-12",1,{"v":22150,"d":"22,150"},{"$f":"IF(t.base[[#This Row],[DIAS DE ATRASO]]=0,0,t.base[[#This Row],[TOTAL]])","v":22150}]
["2017-06-19","CREAKTIVO S.A.C.","Centro","0001-006019","2017-08-03",222,{"v":22319,"d":"22,319"},{"$f":"IF(t.base[[#This Row],[DIAS DE ATRASO]]=0,0,t.base[[#This Row],[TOTAL]])","v":22319}]
["2018-01-12","DICORO S.A.C.","Centro","0001-002039","2018-03-13",0,{"v":14077,"d":"14,077"},{"$f":"IF(t.base[[#This Row],[DIAS DE ATRASO]]=0,0,t.base[[#This Row],[TOTAL]])","v":0}]
["2018-01-27","TEXTILES PAULA SAC","Centro","0001-009521","2018-03-13",0,{"v":24078,"d":"24,078"},{"$f":"IF(t.base[[#This Row],[DIAS DE ATRASO]]=0,0,t.base[[#This Row],[TOTAL]])","v":0}]
["2018-03-13","SILVER & ME S.A.","Centro","0001-003691","2018-03-13",0,{"v":10539,"d":"10,539"},{"$f":"IF(t.base[[#This Row],[DIAS DE ATRASO]]=0,0,t.base[[#This Row],[TOTAL]])","v":0}]
["2018-02-26","HATHOR S.R.L.","Centro","0002-007251","2018-03-13",0,{"v":18303,"d":"18,303"},{"$f":"IF(t.base[[#This Row],[DIAS DE ATRASO]]=0,0,t.base[[#This Row],[TOTAL]])","v":0}]
["2017-11-17","MOSOQ INN E.I.R.L.","Sur","0002-007240","2018-01-01",71,{"v":46014,"d":"46,014"},{"$f":"IF(t.base[[#This Row],[DIAS DE ATRASO]]=0,0,t.base[[#This Row],[TOTAL]])","v":46014}]
["2018-03-13","HURTADO CAMPO JUANA","Centro","0001-007098","2018-03-13",0,{"v":20008,"d":"20,008"},{"$f":"IF(t.base[[#This Row],[DIAS DE ATRASO]]=0,0,t.base[[#This Row],[TOTAL]])","v":0}]
["2018-01-14","RAMOS JACINTO PEDRO","Centro","0001-007100","2018-01-29",43,{"v":24751,"d":"24,751"},{"$f":"IF(t.base[[#This Row],[DIAS DE ATRASO]]=0,0,t.base[[#This Row],[TOTAL]])","v":24751}]
["2018-02-26","GAGLIARDO E.I.R.L.","Centro","0002-005139","2018-03-13",0,{"v":24465,"d":"24,465"},{"$f":"IF(t.base[[#This Row],[DIAS DE ATRASO]]=0,0,t.base[[#This Row],[TOTAL]])","v":0}]
["2018-01-13","VILLA GALVEZ NEYCER","Centro","0001-006140","2018-02-12",29,{"v":20669,"d":"20,669"},{"$f":"IF(t.base[[#This Row],[DIAS DE ATRASO]]=0,0,t.base[[#This Row],[TOTAL]])","v":20669}]
["2018-02-26","MIAMI -SHOP S.A.C.","Centro","0001-003976","2018-03-13",0,{"v":29193,"d":"29,193"},{"$f":"IF(t.base[[#This Row],[DIAS DE ATRASO]]=0,0,t.base[[#This Row],[TOTAL]])","v":0}]
["2018-02-04","ERICELL S.A.C.","Norte","0002-005205","2018-02-19",22,{"v":66988,"d":"66,988"},{"$f":"IF(t.base[[#This Row],[DIAS DE ATRASO]]=0,0,t.base[[#This Row],[TOTAL]])","v":66988}]
["2018-01-05","CHR HANSEN S.A.","Centro","0002-009061","2018-01-20",52,{"v":18097,"d":"18,097"},{"$f":"IF(t.base[[#This Row],[DIAS DE ATRASO]]=0,0,t.base[[#This Row],[TOTAL]])","v":18097}]
["2018-02-26","LEUNG PANG EILEEN","Centro","0002-005082","2018-03-13",0,{"v":10037,"d":"10,037"},{"$f":"IF(t.base[[#This Row],[DIAS DE ATRASO]]=0,0,t.base[[#This Row],[TOTAL]])","v":0}]
["2018-01-12","C.S.I. S.A.C.","Sur","0002-008894","2018-03-13",0,{"v":46721,"d":"46,721"},{"$f":"IF(t.base[[#This Row],[DIAS DE ATRASO]]=0,0,t.base[[#This Row],[TOTAL]])","v":0}]
["2018-03-13","TECH LAB S.A.C.","Centro","0001-001397","2018-03-13",0,{"v":22877,"d":"22,877"},{"$f":"IF(t.base[[#This Row],[DIAS DE ATRASO]]=0,0,t.base[[#This Row],[TOTAL]])","v":0}]
["2018-02-11","WANG - XIAMENG","Centro","0002-003487","2018-03-13",0,{"v":20623,"d":"20,623"},{"$f":"IF(t.base[[#This Row],[DIAS DE ATRASO]]=0,0,t.base[[#This Row],[TOTAL]])","v":0}]
["2017-11-20","LUQUE HUANCA IRMA","Centro","0001-001004","2018-01-19",53,{"v":26179,"d":"26,179"},{"$f":"IF(t.base[[#This Row],[DIAS DE ATRASO]]=0,0,t.base[[#This Row],[TOTAL]])","v":26179}]
["2018-01-12","CIGREN PERU S.A.C.","Centro","0002-008737","2018-03-13",0,{"v":23837,"d":"23,837"},{"$f":"IF(t.base[[#This Row],[DIAS DE ATRASO]]=0,0,t.base[[#This Row],[TOTAL]])","v":0}]
["2017-09-20","HUAMAN NAPA ABRAHAM","Centro","0002-008268","2017-12-19",84,{"v":20386,"d":"20,386"},{"$f":"IF(t.base[[#This Row],[DIAS DE ATRASO]]=0,0,t.base[[#This Row],[TOTAL]])","v":20386}]
["2018-01-12","DISTRIMED S.A.C.","Centro","0002-002290","2018-03-13",0,{"v":16031,"d":"16,031"},{"$f":"IF(t.base[[#This Row],[DIAS DE ATRASO]]=0,0,t.base[[#This Row],[TOTAL]])","v":0}]
["2018-02-26","OBILABS  PERU  SAC","Centro","0002-005313","2018-03-13",0,{"v":11649,"d":"11,649"},{"$f":"IF(t.base[[#This Row],[DIAS DE ATRASO]]=0,0,t.base[[#This Row],[TOTAL]])","v":0}]
["2018-02-10","JARRO ROJAS IRMA","Centro","0001-007916","2018-03-12",1,{"v":26552,"d":"26,552"},{"$f":"IF(t.base[[#This Row],[DIAS DE ATRASO]]=0,0,t.base[[#This Row],[TOTAL]])","v":26552}]
["2018-03-13","ALMAPEL E.I.R.L.","Sur","0002-001634","2018-03-13",0,{"v":13808,"d":"13,808"},{"$f":"IF(t.base[[#This Row],[DIAS DE ATRASO]]=0,0,t.base[[#This Row],[TOTAL]])","v":0}]
["2018-01-12","BEPERU S.A.C.","Centro","0002-005532","2018-03-13",0,{"v":13356,"d":"13,356"},{"$f":"IF(t.base[[#This Row],[DIAS DE ATRASO]]=0,0,t.base[[#This Row],[TOTAL]])","v":0}]
["2018-02-11","ANDINA IMEX S.A.C","Centro","0001-005231","2018-03-13",0,{"v":12006,"d":"12,006"},{"$f":"IF(t.base[[#This Row],[DIAS DE ATRASO]]=0,0,t.base[[#This Row],[TOTAL]])","v":0}]
["2018-01-27","PROVINAK S.A.C.","Centro","0002-003634","2018-03-13",0,{"v":28877,"d":"28,877"},{"$f":"IF(t.base[[#This Row],[DIAS DE ATRASO]]=0,0,t.base[[#This Row],[TOTAL]])","v":0}]
["2018-01-27","GRAVICOM S.A.C.","Sur","0002-003167","2018-03-13",0,{"v":16307,"d":"16,307"},{"$f":"IF(t.base[[#This Row],[DIAS DE ATRASO]]=0,0,t.base[[#This Row],[TOTAL]])","v":0}]
["2018-02-26","CAPITEX S.A.C","Centro","0001-007670","2018-03-13",0,{"v":22611,"d":"22,611"},{"$f":"IF(t.base[[#This Row],[DIAS DE ATRASO]]=0,0,t.base[[#This Row],[TOTAL]])","v":0}]
["2018-02-25","BOZA GOMEZ JUAN","Centro","0001-001885","2018-03-12",1,{"v":21461,"d":"21,461"},{"$f":"IF(t.base[[#This Row],[DIAS DE ATRASO]]=0,0,t.base[[#This Row],[TOTAL]])","v":21461}]
["2017-12-13","RAMOS ROCHA CARLOS","Centro","0002-005235","2018-03-13",0,{"v":12993,"d":"12,993"},{"$f":"IF(t.base[[#This Row],[DIAS DE ATRASO]]=0,0,t.base[[#This Row],[TOTAL]])","v":0}]
["2018-02-10","CHUMANCORP E.I.R.L.","Centro","0002-003237","2018-03-12",1,{"v":25618,"d":"25,618"},{"$f":"IF(t.base[[#This Row],[DIAS DE ATRASO]]=0,0,t.base[[#This Row],[TOTAL]])","v":25618}]
["2018-01-23","TSABAZIS VASSILIOS","Centro","0002-002263","2018-02-07",34,{"v":10938,"d":"10,938"},{"$f":"IF(t.base[[#This Row],[DIAS DE ATRASO]]=0,0,t.base[[#This Row],[TOTAL]])","v":10938}]
["2018-02-26","SANKUAY S.R.LTDA.","Centro","0001-008705","2018-03-13",0,{"v":22100,"d":"22,100"},{"$f":"IF(t.base[[#This Row],[DIAS DE ATRASO]]=0,0,t.base[[#This Row],[TOTAL]])","v":0}]
["2018-01-27","FAVET E.I.R.L.","Norte","0001-003502","2018-03-13",0,{"v":17631,"d":"17,631"},{"$f":"IF(t.base[[#This Row],[DIAS DE ATRASO]]=0,0,t.base[[#This Row],[TOTAL]])","v":0}]
["2018-02-11","CAO JINHONG","Centro","0001-003350","2018-03-13",0,{"v":11201,"d":"11,201"},{"$f":"IF(t.base[[#This Row],[DIAS DE ATRASO]]=0,0,t.base[[#This Row],[TOTAL]])","v":0}]
["2018-02-11","GLEW SAC","Centro","0002-008124","2018-03-13",0,{"v":21880,"d":"21,880"},{"$f":"IF(t.base[[#This Row],[DIAS DE ATRASO]]=0,0,t.base[[#This Row],[TOTAL]])","v":0}]
["2017-12-13","WAGER SLOTS S.A.C.","Centro","0001-009400","2018-03-13",0,{"v":29121,"d":"29,121"},{"$f":"IF(t.base[[#This Row],[DIAS DE ATRASO]]=0,0,t.base[[#This Row],[TOTAL]])","v":0}]
["2018-01-11","TRANSEQUIP E.I.R.L.","Centro","0001-009225","2018-03-12",1,{"v":17422,"d":"17,422"},{"$f":"IF(t.base[[#This Row],[DIAS DE ATRASO]]=0,0,t.base[[#This Row],[TOTAL]])","v":17422}]
["2018-01-12","DAGAL S.A.C.","Centro","0001-003778","2018-03-13",0,{"v":19690,"d":"19,690"},{"$f":"IF(t.base[[#This Row],[DIAS DE ATRASO]]=0,0,t.base[[#This Row],[TOTAL]])","v":0}]
["2017-12-13","CONDORCO S.R.L.","Centro","0001-009487","2018-03-13",0,{"v":23900,"d":"23,900"},{"$f":"IF(t.base[[#This Row],[DIAS DE ATRASO]]=0,0,t.base[[#This Row],[TOTAL]])","v":0}]
["2017-12-13","PROGERSE S R L","Centro","0002-008148","2018-03-13",0,{"v":17738,"d":"17,738"},{"$f":"IF(t.base[[#This Row],[DIAS DE ATRASO]]=0,0,t.base[[#This Row],[TOTAL]])","v":0}]
["2017-10-20","ARMYCOX S.A.","Centro","0002-007120","2018-01-18",54,{"v":21592,"d":"21,592"},{"$f":"IF(t.base[[#This Row],[DIAS DE ATRASO]]=0,0,t.base[[#This Row],[TOTAL]])","v":21592}]
["2018-01-12","E - MARKET E.I.R.L.","Centro","0001-005900","2018-03-13",0,{"v":14135,"d":"14,135"},{"$f":"IF(t.base[[#This Row],[DIAS DE ATRASO]]=0,0,t.base[[#This Row],[TOTAL]])","v":0}]
["2017-12-24","TRAUMA SPORT S.A.C.","Centro","0001-001420","2018-02-07",34,{"v":10547,"d":"10,547"},{"$f":"IF(t.base[[#This Row],[DIAS DE ATRASO]]=0,0,t.base[[#This Row],[TOTAL]])","v":10547}]
["2018-01-12","CASTRO NUÐEZ NELSON","Centro","0002-009486","2018-03-13",0,{"v":18802,"d":"18,802"},{"$f":"IF(t.base[[#This Row],[DIAS DE ATRASO]]=0,0,t.base[[#This Row],[TOTAL]])","v":0}]
["2018-01-27","MI ROSEDAL S.A.C.","Centro","0001-008848","2018-03-13",0,{"v":14940,"d":"14,940"},{"$f":"IF(t.base[[#This Row],[DIAS DE ATRASO]]=0,0,t.base[[#This Row],[TOTAL]])","v":0}]
["2018-02-11","LAURA PARI ALIPIO","Centro","0001-009501","2018-03-13",0,{"v":27239,"d":"27,239"},{"$f":"IF(t.base[[#This Row],[DIAS DE ATRASO]]=0,0,t.base[[#This Row],[TOTAL]])","v":0}]
["2017-08-13","GEEKS  E.I.R.L.","Centro","0001-008011","2017-08-13",212,{"v":24522,"d":"24,522"},{"$f":"IF(t.base[[#This Row],[DIAS DE ATRASO]]=0,0,t.base[[#This Row],[TOTAL]])","v":24522}]
["2018-03-13","D & M MEDICAL EIRL","Centro","0001-009487","2018-03-13",0,{"v":12575,"d":"12,575"},{"$f":"IF(t.base[[#This Row],[DIAS DE ATRASO]]=0,0,t.base[[#This Row],[TOTAL]])","v":0}]
["2017-12-13","PAXI PAUCAR TEODORO","Centro","0002-009788","2018-03-13",0,{"v":13815,"d":"13,815"},{"$f":"IF(t.base[[#This Row],[DIAS DE ATRASO]]=0,0,t.base[[#This Row],[TOTAL]])","v":0}]
["2018-01-28","ZEF PERU S.A.C.","Centro","0001-006869","2018-01-28",44,{"v":14899,"d":"14,899"},{"$f":"IF(t.base[[#This Row],[DIAS DE ATRASO]]=0,0,t.base[[#This Row],[TOTAL]])","v":14899}]
["2018-01-12","QC DOSE S.A.C.","Centro","0002-006707","2018-03-13",0,{"v":20392,"d":"20,392"},{"$f":"IF(t.base[[#This Row],[DIAS DE ATRASO]]=0,0,t.base[[#This Row],[TOTAL]])","v":0}]
["2017-11-12","PAR OFFICE SAC","Centro","0002-002900","2017-12-12",91,{"v":12547,"d":"12,547"},{"$f":"IF(t.base[[#This Row],[DIAS DE ATRASO]]=0,0,t.base[[#This Row],[TOTAL]])","v":12547}]
["2018-02-11","CACERESA S.A.C.","Centro","0002-005132","2018-03-13",0,{"v":26531,"d":"26,531"},{"$f":"IF(t.base[[#This Row],[DIAS DE ATRASO]]=0,0,t.base[[#This Row],[TOTAL]])","v":0}]
["2018-01-12","ESTETICA VENUS SRL","Centro","0002-007650","2018-03-13",0,{"v":17336,"d":"17,336"},{"$f":"IF(t.base[[#This Row],[DIAS DE ATRASO]]=0,0,t.base[[#This Row],[TOTAL]])","v":0}]
["2018-02-26","A & SAN JOSE S.A.C","Centro","0002-003433","2018-03-13",0,{"v":16344,"d":"16,344"},{"$f":"IF(t.base[[#This Row],[DIAS DE ATRASO]]=0,0,t.base[[#This Row],[TOTAL]])","v":0}]
["2017-12-02","TRASDIP E.I.R.L.","Sur","0001-002959","2018-01-31",41,{"v":18354,"d":"18,354"},{"$f":"IF(t.base[[#This Row],[DIAS DE ATRASO]]=0,0,t.base[[#This Row],[TOTAL]])","v":18354}]
["2018-01-12","SERMATFER E.I.R.L","Centro","0002-007028","2018-03-13",0,{"v":21653,"d":"21,653"},{"$f":"IF(t.base[[#This Row],[DIAS DE ATRASO]]=0,0,t.base[[#This Row],[TOTAL]])","v":0}]
["2018-01-11","COPY DATA E.I.R.L.","Centro","0001-008438","2018-03-12",1,{"v":17877,"d":"17,877"},{"$f":"IF(t.base[[#This Row],[DIAS DE ATRASO]]=0,0,t.base[[#This Row],[TOTAL]])","v":17877}]
["2018-01-27","POZO TORRES CLAUDIA","Centro","0002-002532","2018-03-13",0,{"v":16336,"d":"16,336"},{"$f":"IF(t.base[[#This Row],[DIAS DE ATRASO]]=0,0,t.base[[#This Row],[TOTAL]])","v":0}]
["2017-10-23","SERVITEC S A","Centro","0001-008252","2017-12-22",81,{"v":10621,"d":"10,621"},{"$f":"IF(t.base[[#This Row],[DIAS DE ATRASO]]=0,0,t.base[[#This Row],[TOTAL]])","v":10621}]
["2017-08-31","CLAS CIUDAD DE DIOS","Sur","0001-006585","2017-08-31",194,{"v":23099,"d":"23,099"},{"$f":"IF(t.base[[#This Row],[DIAS DE ATRASO]]=0,0,t.base[[#This Row],[TOTAL]])","v":23099}]
["2018-01-27","HURTADO CAMPO JUANA","Centro","0001-004792","2018-03-13",0,{"v":29848,"d":"29,848"},{"$f":"IF(t.base[[#This Row],[DIAS DE ATRASO]]=0,0,t.base[[#This Row],[TOTAL]])","v":0}]
["2018-02-26","SERTEGTEC S.A.C.","Sur","0002-008055","2018-03-13",0,{"v":6806,"d":"6,806"},{"$f":"IF(t.base[[#This Row],[DIAS DE ATRASO]]=0,0,t.base[[#This Row],[TOTAL]])","v":0}]
["2017-12-13","COMERCIAL LIVCI SAC","Centro","0002-006371","2018-03-13",0,{"v":16008,"d":"16,008"},{"$f":"IF(t.base[[#This Row],[DIAS DE ATRASO]]=0,0,t.base[[#This Row],[TOTAL]])","v":0}]
["2017-08-31","SAN CARLOS S.A.C.","Centro","0002-001106","2017-10-30",134,{"v":13729,"d":"13,729"},{"$f":"IF(t.base[[#This Row],[DIAS DE ATRASO]]=0,0,t.base[[#This Row],[TOTAL]])","v":13729}]
["2018-03-13","APAZA MAMANI NATTY","Centro","0002-003929","2018-03-13",0,{"v":17958,"d":"17,958"},{"$f":"IF(t.base[[#This Row],[DIAS DE ATRASO]]=0,0,t.base[[#This Row],[TOTAL]])","v":0}]
["2018-02-03","VIP PERU S.A.C.","Centro","0002-005958","2018-03-05",8,{"v":12427,"d":"12,427"},{"$f":"IF(t.base[[#This Row],[DIAS DE ATRASO]]=0,0,t.base[[#This Row],[TOTAL]])","v":12427}]
["2018-02-15","SEGUNDO POSHA SOFIA","Centro","0001-002180","2018-03-02",11,{"v":11644,"d":"11,644"},{"$f":"IF(t.base[[#This Row],[DIAS DE ATRASO]]=0,0,t.base[[#This Row],[TOTAL]])","v":11644}]
["2018-01-20","FUMIGUERRA EIRL","Centro","0002-002274","2018-03-06",7,{"v":27220,"d":"27,220"},{"$f":"IF(t.base[[#This Row],[DIAS DE ATRASO]]=0,0,t.base[[#This Row],[TOTAL]])","v":27220}]
["2018-01-27","AMAR ORTIZ MARIBEL","Centro","0002-003247","2018-03-13",0,{"v":11214,"d":"11,214"},{"$f":"IF(t.base[[#This Row],[DIAS DE ATRASO]]=0,0,t.base[[#This Row],[TOTAL]])","v":0}]
["2017-09-29","IRYOVI E.I.R.L.","Centro","0002-006827","2017-12-28",75,{"v":28825,"d":"28,825"},{"$f":"IF(t.base[[#This Row],[DIAS DE ATRASO]]=0,0,t.base[[#This Row],[TOTAL]])","v":28825}]
["2018-02-26","BRANAT E.I.R.L.","Centro","0002-006232","2018-03-13",0,{"v":15645,"d":"15,645"},{"$f":"IF(t.base[[#This Row],[DIAS DE ATRASO]]=0,0,t.base[[#This Row],[TOTAL]])","v":0}]
["2018-01-12","FEMAT S.A.C.","Centro","0002-007607","2018-03-13",0,{"v":20326,"d":"20,326"},{"$f":"IF(t.base[[#This Row],[DIAS DE ATRASO]]=0,0,t.base[[#This Row],[TOTAL]])","v":0}]
["2018-01-10","BESTSOLTI SAC","Centro","0001-003630","2018-01-10",62,{"v":25115,"d":"25,115"},{"$f":"IF(t.base[[#This Row],[DIAS DE ATRASO]]=0,0,t.base[[#This Row],[TOTAL]])","v":25115}]
["2017-12-12","DATA PC S.R.L.","Sur","0001-008540","2018-03-12",1,{"v":41768,"d":"41,768"},{"$f":"IF(t.base[[#This Row],[DIAS DE ATRASO]]=0,0,t.base[[#This Row],[TOTAL]])","v":41768}]
["2018-01-27","VLALDO E.I.R.L.","Norte","0001-006971","2018-03-13",0,{"v":26709,"d":"26,709"},{"$f":"IF(t.base[[#This Row],[DIAS DE ATRASO]]=0,0,t.base[[#This Row],[TOTAL]])","v":0}]
["2017-12-12","BRIDAG E.I.R.LTDA.","Centro","0001-005266","2018-03-12",1,{"v":27695,"d":"27,695"},{"$f":"IF(t.base[[#This Row],[DIAS DE ATRASO]]=0,0,t.base[[#This Row],[TOTAL]])","v":27695}]
["2018-01-06","ALEFRAN E.I.R.L.","Centro","0001-007114","2018-02-20",21,{"v":24448,"d":"24,448"},{"$f":"IF(t.base[[#This Row],[DIAS DE ATRASO]]=0,0,t.base[[#This Row],[TOTAL]])","v":24448}]
["2018-01-27","MENESES SAC","Centro","0001-004880","2018-03-13",0,{"v":29653,"d":"29,653"},{"$f":"IF(t.base[[#This Row],[DIAS DE ATRASO]]=0,0,t.base[[#This Row],[TOTAL]])","v":0}]
["2018-01-11","SOBITEC PERU S.A.C.","Centro","0001-003341","2018-03-12",1,{"v":26699,"d":"26,699"},{"$f":"IF(t.base[[#This Row],[DIAS DE ATRASO]]=0,0,t.base[[#This Row],[TOTAL]])","v":26699}]
["2018-02-11","NAYMLAP INN S.A.C","Centro","0001-008904","2018-03-13",0,{"v":23906,"d":"23,906"},{"$f":"IF(t.base[[#This Row],[DIAS DE ATRASO]]=0,0,t.base[[#This Row],[TOTAL]])","v":0}]
["2017-12-24","AVETSA E.I.R.L.","Sur","0002-006229","2017-12-24",79,{"v":40733,"d":"40,733"},{"$f":"IF(t.base[[#This Row],[DIAS DE ATRASO]]=0,0,t.base[[#This Row],[TOTAL]])","v":40733}]
["2018-03-13","PAR OFFICE SAC","Centro","0002-004543","2018-03-13",0,{"v":23154,"d":"23,154"},{"$f":"IF(t.base[[#This Row],[DIAS DE ATRASO]]=0,0,t.base[[#This Row],[TOTAL]])","v":0}]
["2017-12-15","RUWA S.A.C.","Centro","0001-007509","2018-01-14",58,{"v":17267,"d":"17,267"},{"$f":"IF(t.base[[#This Row],[DIAS DE ATRASO]]=0,0,t.base[[#This Row],[TOTAL]])","v":17267}]
["2018-01-27","RIMASSA S.A.C.","Sur","0002-006563","2018-03-13",0,{"v":9945,"d":"9,945"},{"$f":"IF(t.base[[#This Row],[DIAS DE ATRASO]]=0,0,t.base[[#This Row],[TOTAL]])","v":0}]
["2017-12-13","DELI.COM S.A.C.","Centro","0001-002643","2017-12-28",75,{"v":28487,"d":"28,487"},{"$f":"IF(t.base[[#This Row],[DIAS DE ATRASO]]=0,0,t.base[[#This Row],[TOTAL]])","v":28487}]
["2018-01-27","CEP SAN RAFAEL","Centro","0001-007532","2018-03-13",0,{"v":28911,"d":"28,911"},{"$f":"IF(t.base[[#This Row],[DIAS DE ATRASO]]=0,0,t.base[[#This Row],[TOTAL]])","v":0}]
["2018-01-27","WALLPA SUA  S.A.C","Sur","0001-004408","2018-03-13",0,{"v":22422,"d":"22,422"},{"$f":"IF(t.base[[#This Row],[DIAS DE ATRASO]]=0,0,t.base[[#This Row],[TOTAL]])","v":0}]
["2018-01-11","G & M PNEUMATIC SAC","Centro","0001-003949","2018-02-10",31,{"v":17844,"d":"17,844"},{"$f":"IF(t.base[[#This Row],[DIAS DE ATRASO]]=0,0,t.base[[#This Row],[TOTAL]])","v":17844}]
["2017-11-04","MARCESA S.R.L.","Centro","0001-002945","2017-11-04",129,{"v":18165,"d":"18,165"},{"$f":"IF(t.base[[#This Row],[DIAS DE ATRASO]]=0,0,t.base[[#This Row],[TOTAL]])","v":18165}]
["2017-12-01","AGROCAUCHO EIRL","Sur","0001-004321","2017-12-31",72,{"v":31016,"d":"31,016"},{"$f":"IF(t.base[[#This Row],[DIAS DE ATRASO]]=0,0,t.base[[#This Row],[TOTAL]])","v":31016}]
["2018-02-10","DELGADO DIAZ ABEL","Centro","0001-005368","2018-03-12",1,{"v":14422,"d":"14,422"},{"$f":"IF(t.base[[#This Row],[DIAS DE ATRASO]]=0,0,t.base[[#This Row],[TOTAL]])","v":14422}]
["2018-02-11","COLCA TREK EIRL.","Sur","0001-009446","2018-03-13",0,{"v":21891,"d":"21,891"},{"$f":"IF(t.base[[#This Row],[DIAS DE ATRASO]]=0,0,t.base[[#This Row],[TOTAL]])","v":0}]
["2018-03-03","ZOE DESIGN S.A.C.","Centro","0002-008848","2018-03-03",10,{"v":28750,"d":"28,750"},{"$f":"IF(t.base[[#This Row],[DIAS DE ATRASO]]=0,0,t.base[[#This Row],[TOTAL]])","v":28750}]
["2018-02-26","SCORAL S.A.C.","Centro","0002-005537","2018-03-13",0,{"v":10997,"d":"10,997"},{"$f":"IF(t.base[[#This Row],[DIAS DE ATRASO]]=0,0,t.base[[#This Row],[TOTAL]])","v":0}]
["2017-12-21","RALP E.I.R.L","Norte","0002-004001","2018-02-19",22,{"v":66152,"d":"66,152"},{"$f":"IF(t.base[[#This Row],[DIAS DE ATRASO]]=0,0,t.base[[#This Row],[TOTAL]])","v":66152}]
["2017-10-13","JERI LUNA JORGE","Centro","0001-008196","2017-11-27",106,{"v":20679,"d":"20,679"},{"$f":"IF(t.base[[#This Row],[DIAS DE ATRASO]]=0,0,t.base[[#This Row],[TOTAL]])","v":20679}]
["2017-12-13","SOJITZ PERU S.A.","Centro","0001-003338","2018-03-13",0,{"v":22907,"d":"22,907"},{"$f":"IF(t.base[[#This Row],[DIAS DE ATRASO]]=0,0,t.base[[#This Row],[TOTAL]])","v":0}]
["2017-12-13","MEDITERRANEO S.A.C.","Sur","0001-008282","2018-03-13",0,{"v":44491,"d":"44,491"},{"$f":"IF(t.base[[#This Row],[DIAS DE ATRASO]]=0,0,t.base[[#This Row],[TOTAL]])","v":0}]
["2017-11-03","MIWA SPORT S.A.","Centro","0002-004371","2017-11-03",130,{"v":28869,"d":"28,869"},{"$f":"IF(t.base[[#This Row],[DIAS DE ATRASO]]=0,0,t.base[[#This Row],[TOTAL]])","v":28869}]
["2017-12-13","PROVESUR S.A.C","Centro","0002-003656","2018-03-13",0,{"v":26598,"d":"26,598"},{"$f":"IF(t.base[[#This Row],[DIAS DE ATRASO]]=0,0,t.base[[#This Row],[TOTAL]])","v":0}]
["2018-01-04","YANG  JINZHAO","Centro","0001-009399","2018-01-04",68,{"v":12061,"d":"12,061"},{"$f":"IF(t.base[[#This Row],[DIAS DE ATRASO]]=0,0,t.base[[#This Row],[TOTAL]])","v":12061}]
["2018-02-11","TECH HOME E.I.R.L.","Sur","0002-009015","2018-03-13",0,{"v":47626,"d":"47,626"},{"$f":"IF(t.base[[#This Row],[DIAS DE ATRASO]]=0,0,t.base[[#This Row],[TOTAL]])","v":0}]
["2018-01-25","PUBLICITY S.R.L","Centro","0002-002593","2018-03-11",2,{"v":19749,"d":"19,749"},{"$f":"IF(t.base[[#This Row],[DIAS DE ATRASO]]=0,0,t.base[[#This Row],[TOTAL]])","v":19749}]
["2018-03-13","MIAMI -SHOP S.A.C.","Centro","0002-001884","2018-03-13",0,{"v":11458,"d":"11,458"},{"$f":"IF(t.base[[#This Row],[DIAS DE ATRASO]]=0,0,t.base[[#This Row],[TOTAL]])","v":0}]
["2018-01-12","LAGO IMPORT EIRL","Centro","0002-007494","2018-03-13",0,{"v":19383,"d":"19,383"},{"$f":"IF(t.base[[#This Row],[DIAS DE ATRASO]]=0,0,t.base[[#This Row],[TOTAL]])","v":0}]
["2017-12-08","TRANSPORTE ZEM EIRL","Centro","0002-002282","2018-01-07",65,{"v":26456,"d":"26,456"},{"$f":"IF(t.base[[#This Row],[DIAS DE ATRASO]]=0,0,t.base[[#This Row],[TOTAL]])","v":26456}]
["2017-12-02","GUIA SEMANAL S.A.C","Norte","0002-004248","2018-01-01",71,{"v":10451,"d":"10,451"},{"$f":"IF(t.base[[#This Row],[DIAS DE ATRASO]]=0,0,t.base[[#This Row],[TOTAL]])","v":10451}]
["2017-11-01","CARGRAPHICS S.A.C.","Centro","0001-009327","2017-12-31",72,{"v":25952,"d":"25,952"},{"$f":"IF(t.base[[#This Row],[DIAS DE ATRASO]]=0,0,t.base[[#This Row],[TOTAL]])","v":25952}]
["2018-01-27","DOMNAR S.A.C.","Centro","0002-007334","2018-03-13",0,{"v":27430,"d":"27,430"},{"$f":"IF(t.base[[#This Row],[DIAS DE ATRASO]]=0,0,t.base[[#This Row],[TOTAL]])","v":0}]
["2017-06-02","DAGAL S.A.C.","Centro","0002-008108","2017-08-01",224,{"v":15189,"d":"15,189"},{"$f":"IF(t.base[[#This Row],[DIAS DE ATRASO]]=0,0,t.base[[#This Row],[TOTAL]])","v":15189}]
["2017-12-13","KEV S.A.C.","Centro","0002-005979","2018-03-13",0,{"v":28627,"d":"28,627"},{"$f":"IF(t.base[[#This Row],[DIAS DE ATRASO]]=0,0,t.base[[#This Row],[TOTAL]])","v":0}]
["2018-03-13","NEYRA MEDINA RAFAEL","Centro","0002-002094","2018-03-13",0,{"v":29143,"d":"29,143"},{"$f":"IF(t.base[[#This Row],[DIAS DE ATRASO]]=0,0,t.base[[#This Row],[TOTAL]])","v":0}]
["2018-03-13","TEXTIL 1649 S.A.C.","Centro","0001-009469","2018-03-13",0,{"v":18737,"d":"18,737"},{"$f":"IF(t.base[[#This Row],[DIAS DE ATRASO]]=0,0,t.base[[#This Row],[TOTAL]])","v":0}]
["2018-02-11","DIFMAG S.A.C","Centro","0002-006670","2018-03-13",0,{"v":15909,"d":"15,909"},{"$f":"IF(t.base[[#This Row],[DIAS DE ATRASO]]=0,0,t.base[[#This Row],[TOTAL]])","v":0}]
["2018-01-24","FARMABCO S.A.C","Centro","0001-006993","2018-02-08",33,{"v":29029,"d":"29,029"},{"$f":"IF(t.base[[#This Row],[DIAS DE ATRASO]]=0,0,t.base[[#This Row],[TOTAL]])","v":29029}]
["2018-02-11","LAVA EXPRESS SAC","Centro","0001-001636","2018-03-13",0,{"v":15861,"d":"15,861"},{"$f":"IF(t.base[[#This Row],[DIAS DE ATRASO]]=0,0,t.base[[#This Row],[TOTAL]])","v":0}]
["2017-08-02","SERV&DATA S.A.C.","Centro","0001-004373","2017-10-31",133,{"v":14945,"d":"14,945"},{"$f":"IF(t.base[[#This Row],[DIAS DE ATRASO]]=0,0,t.base[[#This Row],[TOTAL]])","v":14945}]
["2018-02-26","TANZACO S.A.C","Centro","0002-006508","2018-03-13",0,{"v":10735,"d":"10,735"},{"$f":"IF(t.base[[#This Row],[DIAS DE ATRASO]]=0,0,t.base[[#This Row],[TOTAL]])","v":0}]
["2018-02-26","ORE TAIPE YOLANDA","Centro","0002-007373","2018-03-13",0,{"v":19635,"d":"19,635"},{"$f":"IF(t.base[[#This Row],[DIAS DE ATRASO]]=0,0,t.base[[#This Row],[TOTAL]])","v":0}]
["2017-12-12","FE GOLD S.A.C.","Centro","0002-009512","2018-03-12",1,{"v":14702,"d":"14,702"},{"$f":"IF(t.base[[#This Row],[DIAS DE ATRASO]]=0,0,t.base[[#This Row],[TOTAL]])","v":14702}]
["2018-01-12","KORPAK E.I.R.L.","Centro","0002-003094","2018-03-13",0,{"v":19188,"d":"19,188"},{"$f":"IF(t.base[[#This Row],[DIAS DE ATRASO]]=0,0,t.base[[#This Row],[TOTAL]])","v":0}]
["2017-08-19","S.J2 S.A.C.","Norte","0002-005791","2017-11-17",116,{"v":53533,"d":"53,533"},{"$f":"IF(t.base[[#This Row],[DIAS DE ATRASO]]=0,0,t.base[[#This Row],[TOTAL]])","v":53533}]
["2017-12-09","LA TIENDA E.I.R.L.","Sur","0002-006995","2018-01-23",49,{"v":44068,"d":"44,068"},{"$f":"IF(t.base[[#This Row],[DIAS DE ATRASO]]=0,0,t.base[[#This Row],[TOTAL]])","v":44068}]
["2017-11-19","TAGA S.R.LTDA","Sur","0002-003052","2018-01-03",69,{"v":15691,"d":"15,691"},{"$f":"IF(t.base[[#This Row],[DIAS DE ATRASO]]=0,0,t.base[[#This Row],[TOTAL]])","v":15691}]
["2018-02-25","LUQUE HUANCA IRMA","Centro","0002-008375","2018-03-12",1,{"v":18124,"d":"18,124"},{"$f":"IF(t.base[[#This Row],[DIAS DE ATRASO]]=0,0,t.base[[#This Row],[TOTAL]])","v":18124}]
["2017-11-21","PILCO VILCA PASTORA","Centro","0001-008879","2017-12-21",82,{"v":10033,"d":"10,033"},{"$f":"IF(t.base[[#This Row],[DIAS DE ATRASO]]=0,0,t.base[[#This Row],[TOTAL]])","v":10033}]
["2017-10-04","PORCELL  S.A.C.","Centro","0001-003413","2017-11-18",115,{"v":14414,"d":"14,414"},{"$f":"IF(t.base[[#This Row],[DIAS DE ATRASO]]=0,0,t.base[[#This Row],[TOTAL]])","v":14414}]
["2018-02-11","VEGA RIOS GLORIA","Centro","0001-006164","2018-03-13",0,{"v":18931,"d":"18,931"},{"$f":"IF(t.base[[#This Row],[DIAS DE ATRASO]]=0,0,t.base[[#This Row],[TOTAL]])","v":0}]
["2018-02-22","BOMPER E.I.R.L.","Centro","0002-007803","2018-02-22",19,{"v":22830,"d":"22,830"},{"$f":"IF(t.base[[#This Row],[DIAS DE ATRASO]]=0,0,t.base[[#This Row],[TOTAL]])","v":22830}]
["2017-12-28","SOTO BAZAN WILFREDO","Centro","0001-007956","2017-12-28",75,{"v":10368,"d":"10,368"},{"$f":"IF(t.base[[#This Row],[DIAS DE ATRASO]]=0,0,t.base[[#This Row],[TOTAL]])","v":10368}]
["2017-11-08","CAIRSA E.I.R.L","Centro","0002-001946","2017-11-08",125,{"v":24500,"d":"24,500"},{"$f":"IF(t.base[[#This Row],[DIAS DE ATRASO]]=0,0,t.base[[#This Row],[TOTAL]])","v":24500}]
["2018-01-27","SILFER E.I.R.L.","Norte","0002-002550","2018-03-13",0,{"v":10713,"d":"10,713"},{"$f":"IF(t.base[[#This Row],[DIAS DE ATRASO]]=0,0,t.base[[#This Row],[TOTAL]])","v":0}]
["2018-03-12","ARENAS RAMOS FREDY","Centro","0001-005621","2018-03-12",1,{"v":28095,"d":"28,095"},{"$f":"IF(t.base[[#This Row],[DIAS DE ATRASO]]=0,0,t.base[[#This Row],[TOTAL]])","v":28095}]
["2017-12-13","DESANA S.A.C.","Centro","0001-003313","2018-03-13",0,{"v":25257,"d":"25,257"},{"$f":"IF(t.base[[#This Row],[DIAS DE ATRASO]]=0,0,t.base[[#This Row],[TOTAL]])","v":0}]
["2018-02-26","TACTICO MKT S.A.C.","Centro","0001-005461","2018-03-13",0,{"v":19531,"d":"19,531"},{"$f":"IF(t.base[[#This Row],[DIAS DE ATRASO]]=0,0,t.base[[#This Row],[TOTAL]])","v":0}]
["2017-12-12","PLASTILEON EIRL","Centro","0002-009060","2018-03-12",1,{"v":18517,"d":"18,517"},{"$f":"IF(t.base[[#This Row],[DIAS DE ATRASO]]=0,0,t.base[[#This Row],[TOTAL]])","v":18517}]
["2018-01-12","ANVACHRIS E.I.R.L.","Centro","0002-001380","2018-03-13",0,{"v":26073,"d":"26,073"},{"$f":"IF(t.base[[#This Row],[DIAS DE ATRASO]]=0,0,t.base[[#This Row],[TOTAL]])","v":0}]
["2018-01-27","EPOJE S.A.C","Centro","0002-004669","2018-03-13",0,{"v":27800,"d":"27,800"},{"$f":"IF(t.base[[#This Row],[DIAS DE ATRASO]]=0,0,t.base[[#This Row],[TOTAL]])","v":0}]
["2018-02-10","MAQPOL S.A.C.","Centro","0002-001522","2018-03-12",1,{"v":16556,"d":"16,556"},{"$f":"IF(t.base[[#This Row],[DIAS DE ATRASO]]=0,0,t.base[[#This Row],[TOTAL]])","v":16556}]
["2018-01-27","STYLO EDWIL SRL","Centro","0001-003315","2018-03-13",0,{"v":27379,"d":"27,379"},{"$f":"IF(t.base[[#This Row],[DIAS DE ATRASO]]=0,0,t.base[[#This Row],[TOTAL]])","v":0}]
["2017-12-21","SALLO LEVA ISABEL","Centro","0001-001281","2018-02-19",22,{"v":16938,"d":"16,938"},{"$f":"IF(t.base[[#This Row],[DIAS DE ATRASO]]=0,0,t.base[[#This Row],[TOTAL]])","v":16938}]
["2017-12-13","URETA SOTO SUSANA","Centro","0001-003564","2018-03-13",0,{"v":18375,"d":"18,375"},{"$f":"IF(t.base[[#This Row],[DIAS DE ATRASO]]=0,0,t.base[[#This Row],[TOTAL]])","v":0}]
["2018-01-14","KATHY R S.A.C.","Centro","0002-008118","2018-02-13",28,{"v":15968,"d":"15,968"},{"$f":"IF(t.base[[#This Row],[DIAS DE ATRASO]]=0,0,t.base[[#This Row],[TOTAL]])","v":15968}]
["2018-01-14","PEREZ ROMERO ROGER","Centro","0002-009608","2018-02-13",28,{"v":25973,"d":"25,973"},{"$f":"IF(t.base[[#This Row],[DIAS DE ATRASO]]=0,0,t.base[[#This Row],[TOTAL]])","v":25973}]
["2017-11-30","REAL EQUIPOS S R L.","Centro","0002-004832","2018-01-29",43,{"v":14128,"d":"14,128"},{"$f":"IF(t.base[[#This Row],[DIAS DE ATRASO]]=0,0,t.base[[#This Row],[TOTAL]])","v":14128}]
["2018-02-26","SERVOX S.R.L.","Sur","0001-008615","2018-03-13",0,{"v":45616,"d":"45,616"},{"$f":"IF(t.base[[#This Row],[DIAS DE ATRASO]]=0,0,t.base[[#This Row],[TOTAL]])","v":0}]
["2017-12-13","MEDITERRANEO S.A.C.","Sur","0001-009746","2018-03-13",0,{"v":41731,"d":"41,731"},{"$f":"IF(t.base[[#This Row],[DIAS DE ATRASO]]=0,0,t.base[[#This Row],[TOTAL]])","v":0}]
["2018-01-27","ALFA & ALFA E.I.R.L","Centro","0001-003411","2018-03-13",0,{"v":11493,"d":"11,493"},{"$f":"IF(t.base[[#This Row],[DIAS DE ATRASO]]=0,0,t.base[[#This Row],[TOTAL]])","v":0}]
["2018-02-11","CAM DE KAM KEN WAN","Centro","0002-007478","2018-03-13",0,{"v":10620,"d":"10,620"},{"$f":"IF(t.base[[#This Row],[DIAS DE ATRASO]]=0,0,t.base[[#This Row],[TOTAL]])","v":0}]
["2018-03-13","MACOFEVI E.I.R.L.","Norte","0002-001828","2018-03-13",0,{"v":23027,"d":"23,027"},{"$f":"IF(t.base[[#This Row],[DIAS DE ATRASO]]=0,0,t.base[[#This Row],[TOTAL]])","v":0}]
["2017-10-26","PC MAGIMPORT S.A.C.","Centro","0001-009282","2018-01-24",48,{"v":26471,"d":"26,471"},{"$f":"IF(t.base[[#This Row],[DIAS DE ATRASO]]=0,0,t.base[[#This Row],[TOTAL]])","v":26471}]
["2018-02-26","LARCO PETS EIRL","Norte","0001-002340","2018-03-13",0,{"v":28296,"d":"28,296"},{"$f":"IF(t.base[[#This Row],[DIAS DE ATRASO]]=0,0,t.base[[#This Row],[TOTAL]])","v":0}]
["2017-10-24","ITAPIER S.R.L.","Centro","0001-006036","2017-12-23",80,{"v":29886,"d":"29,886"},{"$f":"IF(t.base[[#This Row],[DIAS DE ATRASO]]=0,0,t.base[[#This Row],[TOTAL]])","v":29886}]
["2018-02-11","LIMBERT E.I.R.L.","Sur","0001-008830","2018-03-13",0,{"v":20642,"d":"20,642"},{"$f":"IF(t.base[[#This Row],[DIAS DE ATRASO]]=0,0,t.base[[#This Row],[TOTAL]])","v":0}]
["2018-02-11","DELFINO MAR S.R.L.","Sur","0001-001115","2018-03-13",0,{"v":15638,"d":"15,638"},{"$f":"IF(t.base[[#This Row],[DIAS DE ATRASO]]=0,0,t.base[[#This Row],[TOTAL]])","v":0}]
["2018-02-26","SERTEGTEC S.A.C.","Sur","0001-004247","2018-03-13",0,{"v":32566,"d":"32,566"},{"$f":"IF(t.base[[#This Row],[DIAS DE ATRASO]]=0,0,t.base[[#This Row],[TOTAL]])","v":0}]
["2018-01-27","PMS PERU S.A.C.","Centro","0001-001342","2018-03-13",0,{"v":10788,"d":"10,788"},{"$f":"IF(t.base[[#This Row],[DIAS DE ATRASO]]=0,0,t.base[[#This Row],[TOTAL]])","v":0}]
["2017-08-26","AQUINO PEREZ RONEL","Centro","0002-001017","2017-11-24",109,{"v":16783,"d":"16,783"},{"$f":"IF(t.base[[#This Row],[DIAS DE ATRASO]]=0,0,t.base[[#This Row],[TOTAL]])","v":16783}]
["2018-03-13","CHUMANCORP E.I.R.L.","Centro","0001-003713","2018-03-13",0,{"v":24930,"d":"24,930"},{"$f":"IF(t.base[[#This Row],[DIAS DE ATRASO]]=0,0,t.base[[#This Row],[TOTAL]])","v":0}]
["2018-02-26","ASTRIB S.A.C.","Centro","0002-004289","2018-03-13",0,{"v":25022,"d":"25,022"},{"$f":"IF(t.base[[#This Row],[DIAS DE ATRASO]]=0,0,t.base[[#This Row],[TOTAL]])","v":0}]
["2018-01-26","TRANEDO S.R.L.","Norte","0002-009782","2018-03-12",1,{"v":69413,"d":"69,413"},{"$f":"IF(t.base[[#This Row],[DIAS DE ATRASO]]=0,0,t.base[[#This Row],[TOTAL]])","v":69413}]
["2017-12-13","FUKU E.I.R.L.","Centro","0001-004445","2018-03-13",0,{"v":11387,"d":"11,387"},{"$f":"IF(t.base[[#This Row],[DIAS DE ATRASO]]=0,0,t.base[[#This Row],[TOTAL]])","v":0}]
["2017-12-24","SOLO SERVICE S.A.C.","Norte","0001-003200","2018-01-08",64,{"v":48442,"d":"48,442"},{"$f":"IF(t.base[[#This Row],[DIAS DE ATRASO]]=0,0,t.base[[#This Row],[TOTAL]])","v":48442}]
["2018-03-13","C.V.GLOBAL S.A.C.","Centro","0001-003571","2018-03-13",0,{"v":17548,"d":"17,548"},{"$f":"IF(t.base[[#This Row],[DIAS DE ATRASO]]=0,0,t.base[[#This Row],[TOTAL]])","v":0}]
["2018-03-12","IMMETAZ E.I.R.L.","Sur","0002-001969","2018-03-12",1,{"v":48722,"d":"48,722"},{"$f":"IF(t.base[[#This Row],[DIAS DE ATRASO]]=0,0,t.base[[#This Row],[TOTAL]])","v":48722}]
["2018-01-12","INFOR COLOR S.R.L.","Sur","0002-003162","2018-03-13",0,{"v":32667,"d":"32,667"},{"$f":"IF(t.base[[#This Row],[DIAS DE ATRASO]]=0,0,t.base[[#This Row],[TOTAL]])","v":0}]
["2018-01-27","STANY S.A.C.","Centro","0001-007553","2018-03-13",0,{"v":18136,"d":"18,136"},{"$f":"IF(t.base[[#This Row],[DIAS DE ATRASO]]=0,0,t.base[[#This Row],[TOTAL]])","v":0}]
["2017-12-13","DELFINO MAR S.R.L.","Sur","0002-007272","2018-03-13",0,{"v":43446,"d":"43,446"},{"$f":"IF(t.base[[#This Row],[DIAS DE ATRASO]]=0,0,t.base[[#This Row],[TOTAL]])","v":0}]
["2018-01-26","YANG  JINZHAO","Centro","0001-007045","2018-03-12",1,{"v":25120,"d":"25,120"},{"$f":"IF(t.base[[#This Row],[DIAS DE ATRASO]]=0,0,t.base[[#This Row],[TOTAL]])","v":25120}]
["2017-11-20","FM INDUSTRIAL S.A.","Centro","0002-006147","2018-02-18",23,{"v":15068,"d":"15,068"},{"$f":"IF(t.base[[#This Row],[DIAS DE ATRASO]]=0,0,t.base[[#This Row],[TOTAL]])","v":15068}]
["2017-09-06","PEREZ RUBIO IRENE","Centro","0001-006369","2017-09-06",188,{"v":25557,"d":"25,557"},{"$f":"IF(t.base[[#This Row],[DIAS DE ATRASO]]=0,0,t.base[[#This Row],[TOTAL]])","v":25557}]
["2017-05-27","UNIDAX E.I.R.L.","Sur","0001-006061","2017-07-26",230,{"v":17071,"d":"17,071"},{"$f":"IF(t.base[[#This Row],[DIAS DE ATRASO]]=0,0,t.base[[#This Row],[TOTAL]])","v":17071}]
["2017-12-13","C & F PRINTS S.A.C.","Centro","0002-005227","2018-03-13",0,{"v":17991,"d":"17,991"},{"$f":"IF(t.base[[#This Row],[DIAS DE ATRASO]]=0,0,t.base[[#This Row],[TOTAL]])","v":0}]
["2017-12-13","LEOPAN E.I.R.L.","Centro","0002-001090","2018-03-13",0,{"v":15115,"d":"15,115"},{"$f":"IF(t.base[[#This Row],[DIAS DE ATRASO]]=0,0,t.base[[#This Row],[TOTAL]])","v":0}]
["2017-10-31","HUISA MERMA DORIS","Centro","0001-004873","2017-12-30",73,{"v":27929,"d":"27,929"},{"$f":"IF(t.base[[#This Row],[DIAS DE ATRASO]]=0,0,t.base[[#This Row],[TOTAL]])","v":27929}]
["2018-02-09","GLOBAL PAPER SAC","Centro","0002-009919","2018-03-11",2,{"v":23683,"d":"23,683"},{"$f":"IF(t.base[[#This Row],[DIAS DE ATRASO]]=0,0,t.base[[#This Row],[TOTAL]])","v":23683}]
["2018-01-27","PLUS MEDIC E.I.R.L.","Centro","0001-005588","2018-03-13",0,{"v":17690,"d":"17,690"},{"$f":"IF(t.base[[#This Row],[DIAS DE ATRASO]]=0,0,t.base[[#This Row],[TOTAL]])","v":0}]
["2018-01-27","TAPIPLASTIC  S.A.C.","Norte","0001-007444","2018-03-13",0,{"v":50060,"d":"50,060"},{"$f":"IF(t.base[[#This Row],[DIAS DE ATRASO]]=0,0,t.base[[#This Row],[TOTAL]])","v":0}]
["2017-06-16","SPEAK EASY","Sur","0001-001442","2017-07-31",225,{"v":9499,"d":"9,499"},{"$f":"IF(t.base[[#This Row],[DIAS DE ATRASO]]=0,0,t.base[[#This Row],[TOTAL]])","v":9499}]
["2018-01-27","PROVESUR S.A.C","Centro","0001-004104","2018-03-13",0,{"v":23908,"d":"23,908"},{"$f":"IF(t.base[[#This Row],[DIAS DE ATRASO]]=0,0,t.base[[#This Row],[TOTAL]])","v":0}]
["2018-02-26","J.D. PLASTIC S.A.C.","Centro","0002-001930","2018-03-13",0,{"v":18925,"d":"18,925"},{"$f":"IF(t.base[[#This Row],[DIAS DE ATRASO]]=0,0,t.base[[#This Row],[TOTAL]])","v":0}]
["2018-01-12","TECNO ALUM E.I.R.L.","Centro","0001-004715","2018-03-13",0,{"v":28817,"d":"28,817"},{"$f":"IF(t.base[[#This Row],[DIAS DE ATRASO]]=0,0,t.base[[#This Row],[TOTAL]])","v":0}]
["2017-09-15","ZELADA SILVA ANIBAL","Centro","0002-006215","2017-09-30",164,{"v":14012,"d":"14,012"},{"$f":"IF(t.base[[#This Row],[DIAS DE ATRASO]]=0,0,t.base[[#This Row],[TOTAL]])","v":14012}]
["2018-02-11","CAMILO E.I.R.L.","Norte","0001-008626","2018-03-13",0,{"v":61284,"d":"61,284"},{"$f":"IF(t.base[[#This Row],[DIAS DE ATRASO]]=0,0,t.base[[#This Row],[TOTAL]])","v":0}]
["2018-01-27","INKACLOTH S.A.C.","Centro","0002-005216","2018-03-13",0,{"v":18084,"d":"18,084"},{"$f":"IF(t.base[[#This Row],[DIAS DE ATRASO]]=0,0,t.base[[#This Row],[TOTAL]])","v":0}]
["2018-02-26","NORIKIRU S.A.C.","Centro","0002-004006","2018-03-13",0,{"v":16041,"d":"16,041"},{"$f":"IF(t.base[[#This Row],[DIAS DE ATRASO]]=0,0,t.base[[#This Row],[TOTAL]])","v":0}]
["2018-02-11","SACOSA SAC.","Norte","0001-002189","2018-03-13",0,{"v":58176,"d":"58,176"},{"$f":"IF(t.base[[#This Row],[DIAS DE ATRASO]]=0,0,t.base[[#This Row],[TOTAL]])","v":0}]
["2018-02-11","CAPITEX S.A.C","Centro","0002-004370","2018-03-13",0,{"v":18697,"d":"18,697"},{"$f":"IF(t.base[[#This Row],[DIAS DE ATRASO]]=0,0,t.base[[#This Row],[TOTAL]])","v":0}]
["2017-07-27","CHR HANSEN S.A.","Centro","0002-007996","2017-07-27",229,{"v":20271,"d":"20,271"},{"$f":"IF(t.base[[#This Row],[DIAS DE ATRASO]]=0,0,t.base[[#This Row],[TOTAL]])","v":20271}]
["2018-02-26","ALCANZANDO","Centro","0002-009682","2018-03-13",0,{"v":23536,"d":"23,536"},{"$f":"IF(t.base[[#This Row],[DIAS DE ATRASO]]=0,0,t.base[[#This Row],[TOTAL]])","v":0}]
["2017-12-11","JOMI TOURS S.A.C","Centro","0001-004669","2018-01-10",62,{"v":24549,"d":"24,549"},{"$f":"IF(t.base[[#This Row],[DIAS DE ATRASO]]=0,0,t.base[[#This Row],[TOTAL]])","v":24549}]
["2017-11-27","TAPIPLASTIC  S.A.C.","Norte","0001-009319","2017-12-27",76,{"v":30149,"d":"30,149"},{"$f":"IF(t.base[[#This Row],[DIAS DE ATRASO]]=0,0,t.base[[#This Row],[TOTAL]])","v":30149}]
["2018-02-10","REPDA PARTS S.R.L.","Sur","0002-008819","2018-03-12",1,{"v":42282,"d":"42,282"},{"$f":"IF(t.base[[#This Row],[DIAS DE ATRASO]]=0,0,t.base[[#This Row],[TOTAL]])","v":42282}]
["2017-09-22","PAXI PAUCAR TEODORO","Centro","0001-002585","2017-10-07",157,{"v":26662,"d":"26,662"},{"$f":"IF(t.base[[#This Row],[DIAS DE ATRASO]]=0,0,t.base[[#This Row],[TOTAL]])","v":26662}]
["2018-02-02","ALMAPEL E.I.R.L.","Sur","0002-002692","2018-03-04",9,{"v":22986,"d":"22,986"},{"$f":"IF(t.base[[#This Row],[DIAS DE ATRASO]]=0,0,t.base[[#This Row],[TOTAL]])","v":22986}]
["2017-08-01","FAMESOL E.I.R.L.","Sur","0002-007135","2017-09-15",179,{"v":25335,"d":"25,335"},{"$f":"IF(t.base[[#This Row],[DIAS DE ATRASO]]=0,0,t.base[[#This Row],[TOTAL]])","v":25335}]
["2018-01-12","CLICK FARMA S.A.C.","Centro","0001-001358","2018-03-13",0,{"v":14487,"d":"14,487"},{"$f":"IF(t.base[[#This Row],[DIAS DE ATRASO]]=0,0,t.base[[#This Row],[TOTAL]])","v":0}]
["2017-07-04","CHINANGO S.A.C.","Centro","0001-001250","2017-08-18",207,{"v":21055,"d":"21,055"},{"$f":"IF(t.base[[#This Row],[DIAS DE ATRASO]]=0,0,t.base[[#This Row],[TOTAL]])","v":21055}]
["2017-12-13","DARMA S.A","Centro","0002-007073","2018-03-13",0,{"v":10513,"d":"10,513"},{"$f":"IF(t.base[[#This Row],[DIAS DE ATRASO]]=0,0,t.base[[#This Row],[TOTAL]])","v":0}]
["2018-02-26","D'SAYOMA EIRL","Sur","0001-005149","2018-03-13",0,{"v":30657,"d":"30,657"},{"$f":"IF(t.base[[#This Row],[DIAS DE ATRASO]]=0,0,t.base[[#This Row],[TOTAL]])","v":0}]
["2018-02-26","CAO  JINGHUI","Centro","0002-006594","2018-03-13",0,{"v":28505,"d":"28,505"},{"$f":"IF(t.base[[#This Row],[DIAS DE ATRASO]]=0,0,t.base[[#This Row],[TOTAL]])","v":0}]
["2018-01-27","HARBINGER S.A.C.","Centro","0001-003246","2018-03-13",0,{"v":21711,"d":"21,711"},{"$f":"IF(t.base[[#This Row],[DIAS DE ATRASO]]=0,0,t.base[[#This Row],[TOTAL]])","v":0}]
["2017-07-29","MOSOQ INN E.I.R.L.","Sur","0002-004183","2017-08-28",197,{"v":22923,"d":"22,923"},{"$f":"IF(t.base[[#This Row],[DIAS DE ATRASO]]=0,0,t.base[[#This Row],[TOTAL]])","v":22923}]
["2017-12-13","POZO TORRES CLAUDIA","Centro","0002-004869","2018-03-13",0,{"v":25577,"d":"25,577"},{"$f":"IF(t.base[[#This Row],[DIAS DE ATRASO]]=0,0,t.base[[#This Row],[TOTAL]])","v":0}]
["2018-02-21","MAGROF S.A.","Centro","0002-009924","2018-03-08",5,{"v":13911,"d":"13,911"},{"$f":"IF(t.base[[#This Row],[DIAS DE ATRASO]]=0,0,t.base[[#This Row],[TOTAL]])","v":13911}]
["2017-09-29","JOMALUZ E.I.R.L.","Norte","0002-003646","2017-12-28",75,{"v":48271,"d":"48,271"},{"$f":"IF(t.base[[#This Row],[DIAS DE ATRASO]]=0,0,t.base[[#This Row],[TOTAL]])","v":48271}]
["2017-07-04","JIANG JINGYI","Centro","0001-003519","2017-08-18",207,{"v":15270,"d":"15,270"},{"$f":"IF(t.base[[#This Row],[DIAS DE ATRASO]]=0,0,t.base[[#This Row],[TOTAL]])","v":15270}]
["2018-02-26","URETA SOTO SUSANA","Centro","0001-003356","2018-03-13",0,{"v":12601,"d":"12,601"},{"$f":"IF(t.base[[#This Row],[DIAS DE ATRASO]]=0,0,t.base[[#This Row],[TOTAL]])","v":0}]
["2018-02-11","ECOMODA S.A.C.","Centro","0002-008845","2018-03-13",0,{"v":15934,"d":"15,934"},{"$f":"IF(t.base[[#This Row],[DIAS DE ATRASO]]=0,0,t.base[[#This Row],[TOTAL]])","v":0}]
["2018-02-26","ILOHOGAR E.I.R.L.","Sur","0002-003121","2018-03-13",0,{"v":5685,"d":"5,685"},{"$f":"IF(t.base[[#This Row],[DIAS DE ATRASO]]=0,0,t.base[[#This Row],[TOTAL]])","v":0}]
["2018-02-26","HARBINGER S.A.C.","Centro","0002-006463","2018-03-13",0,{"v":23529,"d":"23,529"},{"$f":"IF(t.base[[#This Row],[DIAS DE ATRASO]]=0,0,t.base[[#This Row],[TOTAL]])","v":0}]
["2017-12-08","SERMATFER E.I.R.L","Centro","0001-001192","2018-03-08",5,{"v":27875,"d":"27,875"},{"$f":"IF(t.base[[#This Row],[DIAS DE ATRASO]]=0,0,t.base[[#This Row],[TOTAL]])","v":27875}]
["2017-12-13","RODIMPORT S.R.L.","Norte","0002-004153","2018-03-13",0,{"v":34233,"d":"34,233"},{"$f":"IF(t.base[[#This Row],[DIAS DE ATRASO]]=0,0,t.base[[#This Row],[TOTAL]])","v":0}]
["2018-01-12","INSUVECA PERU SA","Centro","0002-007179","2018-03-13",0,{"v":22383,"d":"22,383"},{"$f":"IF(t.base[[#This Row],[DIAS DE ATRASO]]=0,0,t.base[[#This Row],[TOTAL]])","v":0}]
["2017-10-18","DAGAL S.A.C.","Centro","0002-008524","2017-12-17",86,{"v":20449,"d":"20,449"},{"$f":"IF(t.base[[#This Row],[DIAS DE ATRASO]]=0,0,t.base[[#This Row],[TOTAL]])","v":20449}]
["2018-01-27","INSUVECA PERU SA","Centro","0001-003007","2018-03-13",0,{"v":16270,"d":"16,270"},{"$f":"IF(t.base[[#This Row],[DIAS DE ATRASO]]=0,0,t.base[[#This Row],[TOTAL]])","v":0}]
["2018-02-11","ILOHOGAR E.I.R.L.","Sur","0001-001908","2018-03-13",0,{"v":38974,"d":"38,974"},{"$f":"IF(t.base[[#This Row],[DIAS DE ATRASO]]=0,0,t.base[[#This Row],[TOTAL]])","v":0}]
["2018-01-27","TACTICO MKT S.A.C.","Centro","0002-001994","2018-03-13",0,{"v":21417,"d":"21,417"},{"$f":"IF(t.base[[#This Row],[DIAS DE ATRASO]]=0,0,t.base[[#This Row],[TOTAL]])","v":0}]
["2018-01-12","MEDROA SOTO ORBAL","Norte","0001-001582","2018-03-13",0,{"v":42543,"d":"42,543"},{"$f":"IF(t.base[[#This Row],[DIAS DE ATRASO]]=0,0,t.base[[#This Row],[TOTAL]])","v":0}]
["2017-12-12","VALDEZ OCHOA NHELY","Centro","0002-009783","2018-03-12",1,{"v":19758,"d":"19,758"},{"$f":"IF(t.base[[#This Row],[DIAS DE ATRASO]]=0,0,t.base[[#This Row],[TOTAL]])","v":19758}]
["2018-01-11","AFC BUSSINES SRLTDA","Centro","0001-004764","2018-03-12",1,{"v":29228,"d":"29,228"},{"$f":"IF(t.base[[#This Row],[DIAS DE ATRASO]]=0,0,t.base[[#This Row],[TOTAL]])","v":29228}]
["2018-01-27","AMAR ORTIZ MARIBEL","Centro","0001-008074","2018-02-11",30,{"v":24638,"d":"24,638"},{"$f":"IF(t.base[[#This Row],[DIAS DE ATRASO]]=0,0,t.base[[#This Row],[TOTAL]])","v":24638}]
["2018-01-27","LIANHE SRL","Centro","0001-008763","2018-03-13",0,{"v":23088,"d":"23,088"},{"$f":"IF(t.base[[#This Row],[DIAS DE ATRASO]]=0,0,t.base[[#This Row],[TOTAL]])","v":0}]
["2018-01-23","KUNTUR WASSI S.A.C.","Sur","0002-001869","2018-03-09",4,{"v":49192,"d":"49,192"},{"$f":"IF(t.base[[#This Row],[DIAS DE ATRASO]]=0,0,t.base[[#This Row],[TOTAL]])","v":49192}]
["2018-01-12","H & P TIRE E.I.R.L.","Sur","0002-001683","2018-03-13",0,{"v":8832,"d":"8,832"},{"$f":"IF(t.base[[#This Row],[DIAS DE ATRASO]]=0,0,t.base[[#This Row],[TOTAL]])","v":0}]
["2017-12-28","REDICAL SAC","Norte","0002-008333","2017-12-28",75,{"v":35839,"d":"35,839"},{"$f":"IF(t.base[[#This Row],[DIAS DE ATRASO]]=0,0,t.base[[#This Row],[TOTAL]])","v":35839}]
["2017-10-29","HOCADE S.A.","Centro","0002-006685","2017-11-13",120,{"v":26105,"d":"26,105"},{"$f":"IF(t.base[[#This Row],[DIAS DE ATRASO]]=0,0,t.base[[#This Row],[TOTAL]])","v":26105}]
["2018-03-13","MEDITERRANEO S.A.C.","Sur","0002-003556","2018-03-13",0,{"v":38827,"d":"38,827"},{"$f":"IF(t.base[[#This Row],[DIAS DE ATRASO]]=0,0,t.base[[#This Row],[TOTAL]])","v":0}]
["2017-07-25","SAINT LOUIS S.A.C.","Centro","0001-005471","2017-09-08",186,{"v":25087,"d":"25,087"},{"$f":"IF(t.base[[#This Row],[DIAS DE ATRASO]]=0,0,t.base[[#This Row],[TOTAL]])","v":25087}]
["2018-01-27","X-TRA PLUS E.I.R.L.","Sur","0002-002077","2018-03-13",0,{"v":45035,"d":"45,035"},{"$f":"IF(t.base[[#This Row],[DIAS DE ATRASO]]=0,0,t.base[[#This Row],[TOTAL]])","v":0}]
["2017-12-31","ROSA ELENA S.R.L.","Norte","0002-001024","2018-03-01",12,{"v":63485,"d":"63,485"},{"$f":"IF(t.base[[#This Row],[DIAS DE ATRASO]]=0,0,t.base[[#This Row],[TOTAL]])","v":63485}]
["2018-02-19","BOMPER E.I.R.L.","Centro","0001-005517","2018-02-19",22,{"v":23562,"d":"23,562"},{"$f":"IF(t.base[[#This Row],[DIAS DE ATRASO]]=0,0,t.base[[#This Row],[TOTAL]])","v":23562}]
["2018-02-25","TOP CENTER E.I.R.L.","Sur","0002-007380","2018-03-12",1,{"v":20065,"d":"20,065"},{"$f":"IF(t.base[[#This Row],[DIAS DE ATRASO]]=0,0,t.base[[#This Row],[TOTAL]])","v":20065}]
["2017-11-28","KOZUMI PERU S.A.","Centro","0001-009351","2018-02-26",15,{"v":17826,"d":"17,826"},{"$f":"IF(t.base[[#This Row],[DIAS DE ATRASO]]=0,0,t.base[[#This Row],[TOTAL]])","v":17826}]
["2017-09-14","GOSHE E.I.R.L.","Centro","0002-008039","2017-10-14",150,{"v":15448,"d":"15,448"},{"$f":"IF(t.base[[#This Row],[DIAS DE ATRASO]]=0,0,t.base[[#This Row],[TOTAL]])","v":15448}]
["2018-01-17","CARFIDERM E.I.R.L.","Centro","0002-001567","2018-02-16",25,{"v":26367,"d":"26,367"},{"$f":"IF(t.base[[#This Row],[DIAS DE ATRASO]]=0,0,t.base[[#This Row],[TOTAL]])","v":26367}]
["2017-12-16","CUEROTEX S.A.C","Centro","0002-001782","2017-12-31",72,{"v":13747,"d":"13,747"},{"$f":"IF(t.base[[#This Row],[DIAS DE ATRASO]]=0,0,t.base[[#This Row],[TOTAL]])","v":13747}]
["2018-02-11","S'DROP'S E.I.R.L.","Centro","0002-006717","2018-03-13",0,{"v":16744,"d":"16,744"},{"$f":"IF(t.base[[#This Row],[DIAS DE ATRASO]]=0,0,t.base[[#This Row],[TOTAL]])","v":0}]
["2017-08-28","VHL FOOD SAC","Centro","0001-001630","2017-10-12",152,{"v":26451,"d":"26,451"},{"$f":"IF(t.base[[#This Row],[DIAS DE ATRASO]]=0,0,t.base[[#This Row],[TOTAL]])","v":26451}]
["2018-01-27","SAAD SAID T I","Centro","0001-002825","2018-03-13",0,{"v":12138,"d":"12,138"},{"$f":"IF(t.base[[#This Row],[DIAS DE ATRASO]]=0,0,t.base[[#This Row],[TOTAL]])","v":0}]
["2018-02-11","VILLA DENT SRL","Centro","0001-007385","2018-03-13",0,{"v":15286,"d":"15,286"},{"$f":"IF(t.base[[#This Row],[DIAS DE ATRASO]]=0,0,t.base[[#This Row],[TOTAL]])","v":0}]
["2018-03-08","MRP E.I.R.L.","Centro","0001-001973","2018-03-08",5,{"v":14987,"d":"14,987"},{"$f":"IF(t.base[[#This Row],[DIAS DE ATRASO]]=0,0,t.base[[#This Row],[TOTAL]])","v":14987}]
["2018-02-18","BAGSERVIS S.A.C.","Norte","0001-008896","2018-03-05",8,{"v":68574,"d":"68,574"},{"$f":"IF(t.base[[#This Row],[DIAS DE ATRASO]]=0,0,t.base[[#This Row],[TOTAL]])","v":68574}]
["2018-02-26","DARMA S.A","Centro","0001-007529","2018-03-13",0,{"v":24266,"d":"24,266"},{"$f":"IF(t.base[[#This Row],[DIAS DE ATRASO]]=0,0,t.base[[#This Row],[TOTAL]])","v":0}]
["2017-12-05","TECENG S.A.C.","Centro","0001-003024","2018-02-03",38,{"v":13916,"d":"13,916"},{"$f":"IF(t.base[[#This Row],[DIAS DE ATRASO]]=0,0,t.base[[#This Row],[TOTAL]])","v":13916}]
["2018-01-12","C.V.GLOBAL S.A.C.","Centro","0002-005877","2018-03-13",0,{"v":10956,"d":"10,956"},{"$f":"IF(t.base[[#This Row],[DIAS DE ATRASO]]=0,0,t.base[[#This Row],[TOTAL]])","v":0}]
["2017-11-07","RIFUSE EIRL","Sur","0002-004035","2017-12-22",81,{"v":42244,"d":"42,244"},{"$f":"IF(t.base[[#This Row],[DIAS DE ATRASO]]=0,0,t.base[[#This Row],[TOTAL]])","v":42244}]
["2018-01-20","GRUPO VIGO S.A.C.","Centro","0002-007631","2018-03-06",7,{"v":20849,"d":"20,849"},{"$f":"IF(t.base[[#This Row],[DIAS DE ATRASO]]=0,0,t.base[[#This Row],[TOTAL]])","v":20849}]
["2017-11-25","MODULEC S.A.C.","Centro","0002-006935","2017-12-25",78,{"v":28305,"d":"28,305"},{"$f":"IF(t.base[[#This Row],[DIAS DE ATRASO]]=0,0,t.base[[#This Row],[TOTAL]])","v":28305}]
["2017-12-12","AGRORETAIL  S.A.C.","Centro","0002-004710","2018-03-12",1,{"v":21399,"d":"21,399"},{"$f":"IF(t.base[[#This Row],[DIAS DE ATRASO]]=0,0,t.base[[#This Row],[TOTAL]])","v":21399}]
["2018-01-12","CBMARKETERS S.A.C.","Centro","0002-008232","2018-03-13",0,{"v":17334,"d":"17,334"},{"$f":"IF(t.base[[#This Row],[DIAS DE ATRASO]]=0,0,t.base[[#This Row],[TOTAL]])","v":0}]
["2018-03-13","USATEL S.A.C.","Centro","0001-007079","2018-03-13",0,{"v":18006,"d":"18,006"},{"$f":"IF(t.base[[#This Row],[DIAS DE ATRASO]]=0,0,t.base[[#This Row],[TOTAL]])","v":0}]
["2018-01-27","AVETSA E.I.R.L.","Sur","0002-007997","2018-03-13",0,{"v":48965,"d":"48,965"},{"$f":"IF(t.base[[#This Row],[DIAS DE ATRASO]]=0,0,t.base[[#This Row],[TOTAL]])","v":0}]
["2017-11-24","JOYAS ANTHONY EIRL","Centro","0002-008455","2018-01-23",49,{"v":23111,"d":"23,111"},{"$f":"IF(t.base[[#This Row],[DIAS DE ATRASO]]=0,0,t.base[[#This Row],[TOTAL]])","v":23111}]
["2017-12-13","LIMBERT E.I.R.L.","Sur","0001-008086","2018-03-13",0,{"v":45736,"d":"45,736"},{"$f":"IF(t.base[[#This Row],[DIAS DE ATRASO]]=0,0,t.base[[#This Row],[TOTAL]])","v":0}]
["2017-12-14","VERA PLAV S.A.C.","Centro","0002-001391","2018-01-28",44,{"v":17763,"d":"17,763"},{"$f":"IF(t.base[[#This Row],[DIAS DE ATRASO]]=0,0,t.base[[#This Row],[TOTAL]])","v":17763}]
["2017-10-22","LEE WEI LIN","Centro","0002-006133","2017-12-06",97,{"v":27046,"d":"27,046"},{"$f":"IF(t.base[[#This Row],[DIAS DE ATRASO]]=0,0,t.base[[#This Row],[TOTAL]])","v":27046}]
["2018-01-27","KUNTUR WASSI S.A.C.","Sur","0002-005725","2018-03-13",0,{"v":14101,"d":"14,101"},{"$f":"IF(t.base[[#This Row],[DIAS DE ATRASO]]=0,0,t.base[[#This Row],[TOTAL]])","v":0}]
["2017-06-23","ARCATEX S.A.C.","Centro","0001-005698","2017-08-07",218,{"v":29029,"d":"29,029"},{"$f":"IF(t.base[[#This Row],[DIAS DE ATRASO]]=0,0,t.base[[#This Row],[TOTAL]])","v":29029}]
["2018-01-27","REYES HUANCA GIL","Centro","0002-004867","2018-03-13",0,{"v":12982,"d":"12,982"},{"$f":"IF(t.base[[#This Row],[DIAS DE ATRASO]]=0,0,t.base[[#This Row],[TOTAL]])","v":0}]
["2017-04-29","MIRJANA S.A.C.","Centro","0001-008297","2017-07-28",228,{"v":14812,"d":"14,812"},{"$f":"IF(t.base[[#This Row],[DIAS DE ATRASO]]=0,0,t.base[[#This Row],[TOTAL]])","v":14812}]
["2017-12-12","PATIMOVIL SRLTDA","Centro","0001-004512","2018-03-12",1,{"v":12304,"d":"12,304"},{"$f":"IF(t.base[[#This Row],[DIAS DE ATRASO]]=0,0,t.base[[#This Row],[TOTAL]])","v":12304}]
["2017-11-05","YANG HUIXIAN","Centro","0002-004718","2018-02-03",38,{"v":22480,"d":"22,480"},{"$f":"IF(t.base[[#This Row],[DIAS DE ATRASO]]=0,0,t.base[[#This Row],[TOTAL]])","v":22480}]
["2017-11-20","MULTIMUELLES S.A.","Centro","0001-004613","2018-01-04",68,{"v":26674,"d":"26,674"},{"$f":"IF(t.base[[#This Row],[DIAS DE ATRASO]]=0,0,t.base[[#This Row],[TOTAL]])","v":26674}]
["2018-02-10","KORN S.A.C.","Centro","0002-007301","2018-02-10",31,{"v":19971,"d":"19,971"},{"$f":"IF(t.base[[#This Row],[DIAS DE ATRASO]]=0,0,t.base[[#This Row],[TOTAL]])","v":19971}]
["2018-02-26","SEGURINDUSTRIA SA","Norte","0001-001402","2018-03-13",0,{"v":52409,"d":"52,409"},{"$f":"IF(t.base[[#This Row],[DIAS DE ATRASO]]=0,0,t.base[[#This Row],[TOTAL]])","v":0}]
["2018-03-13","SCHENONE S A","Centro","0002-008687","2018-03-13",0,{"v":16435,"d":"16,435"},{"$f":"IF(t.base[[#This Row],[DIAS DE ATRASO]]=0,0,t.base[[#This Row],[TOTAL]])","v":0}]
["2017-12-12","TROQPA SAC","Centro","0001-006731","2018-01-26",46,{"v":14529,"d":"14,529"},{"$f":"IF(t.base[[#This Row],[DIAS DE ATRASO]]=0,0,t.base[[#This Row],[TOTAL]])","v":14529}]
["2018-02-26","WALLPA SUA  S.A.C","Sur","0002-002137","2018-03-13",0,{"v":32103,"d":"32,103"},{"$f":"IF(t.base[[#This Row],[DIAS DE ATRASO]]=0,0,t.base[[#This Row],[TOTAL]])","v":0}]
["2018-01-26","ILOP  S.A.C.","Centro","0002-009275","2018-03-12",1,{"v":27565,"d":"27,565"},{"$f":"IF(t.base[[#This Row],[DIAS DE ATRASO]]=0,0,t.base[[#This Row],[TOTAL]])","v":27565}]
["2017-12-27","ZOEY EIRL","Norte","0002-006070","2018-02-25",16,{"v":19671,"d":"19,671"},{"$f":"IF(t.base[[#This Row],[DIAS DE ATRASO]]=0,0,t.base[[#This Row],[TOTAL]])","v":19671}]
["2017-11-20","DELI.COM S.A.C.","Centro","0001-003468","2018-02-18",23,{"v":22546,"d":"22,546"},{"$f":"IF(t.base[[#This Row],[DIAS DE ATRASO]]=0,0,t.base[[#This Row],[TOTAL]])","v":22546}]
["2017-09-30","MAMANI ANCCO DAMIAN","Centro","0002-001088","2017-12-29",74,{"v":16570,"d":"16,570"},{"$f":"IF(t.base[[#This Row],[DIAS DE ATRASO]]=0,0,t.base[[#This Row],[TOTAL]])","v":16570}]
["2018-03-13","TRANEDO S.R.L.","Norte","0002-008130","2018-03-13",0,{"v":52819,"d":"52,819"},{"$f":"IF(t.base[[#This Row],[DIAS DE ATRASO]]=0,0,t.base[[#This Row],[TOTAL]])","v":0}]
["2018-01-27","TIERRA SUR E.I.R.L.","Sur","0001-008056","2018-03-13",0,{"v":34380,"d":"34,380"},{"$f":"IF(t.base[[#This Row],[DIAS DE ATRASO]]=0,0,t.base[[#This Row],[TOTAL]])","v":0}]
["2018-02-11","APAZA DE CRUZ IRENE","Centro","0002-004221","2018-03-13",0,{"v":25347,"d":"25,347"},{"$f":"IF(t.base[[#This Row],[DIAS DE ATRASO]]=0,0,t.base[[#This Row],[TOTAL]])","v":0}]
["2017-12-13","BECAR E.I.R.L.","Sur","0002-006426","2018-03-13",0,{"v":5970,"d":"5,970"},{"$f":"IF(t.base[[#This Row],[DIAS DE ATRASO]]=0,0,t.base[[#This Row],[TOTAL]])","v":0}]
["2018-02-11","PUBLICITY S.R.L","Centro","0002-003559","2018-03-13",0,{"v":13161,"d":"13,161"},{"$f":"IF(t.base[[#This Row],[DIAS DE ATRASO]]=0,0,t.base[[#This Row],[TOTAL]])","v":0}]
["2017-12-13","PRU SAC","Centro","0001-004518","2018-03-13",0,{"v":28345,"d":"28,345"},{"$f":"IF(t.base[[#This Row],[DIAS DE ATRASO]]=0,0,t.base[[#This Row],[TOTAL]])","v":0}]
["2018-02-26","REAL EQUIPOS S R L.","Centro","0002-003474","2018-03-13",0,{"v":28669,"d":"28,669"},{"$f":"IF(t.base[[#This Row],[DIAS DE ATRASO]]=0,0,t.base[[#This Row],[TOTAL]])","v":0}]
["2018-01-27","NABILA S.A.C.","Centro","0002-008563","2018-03-13",0,{"v":10109,"d":"10,109"},{"$f":"IF(t.base[[#This Row],[DIAS DE ATRASO]]=0,0,t.base[[#This Row],[TOTAL]])","v":0}]
["2017-07-27","CUTITON S.A.C","Centro","0001-001314","2017-07-27",229,{"v":26335,"d":"26,335"},{"$f":"IF(t.base[[#This Row],[DIAS DE ATRASO]]=0,0,t.base[[#This Row],[TOTAL]])","v":26335}]
["2017-09-21","RADIO ASTORIA S A","Norte","0002-007198","2017-10-06",158,{"v":13678,"d":"13,678"},{"$f":"IF(t.base[[#This Row],[DIAS DE ATRASO]]=0,0,t.base[[#This Row],[TOTAL]])","v":13678}]
["2017-12-13","KARPATRI S.A.C.","Centro","0001-002805","2018-03-13",0,{"v":12030,"d":"12,030"},{"$f":"IF(t.base[[#This Row],[DIAS DE ATRASO]]=0,0,t.base[[#This Row],[TOTAL]])","v":0}]
["2018-03-04","CACERES RAMOS JORGE","Centro","0001-001306","2018-03-04",9,{"v":13333,"d":"13,333"},{"$f":"IF(t.base[[#This Row],[DIAS DE ATRASO]]=0,0,t.base[[#This Row],[TOTAL]])","v":13333}]
["2018-01-12","INSUVECA PERU SA","Centro","0002-008955","2018-03-13",0,{"v":24481,"d":"24,481"},{"$f":"IF(t.base[[#This Row],[DIAS DE ATRASO]]=0,0,t.base[[#This Row],[TOTAL]])","v":0}]
["2018-01-13","INSUVECA PERU SA","Centro","0002-003870","2018-01-13",59,{"v":28346,"d":"28,346"},{"$f":"IF(t.base[[#This Row],[DIAS DE ATRASO]]=0,0,t.base[[#This Row],[TOTAL]])","v":28346}]
["2018-02-26","NEGOCIOS VEGA SAC","Norte","0001-002356","2018-03-13",0,{"v":66867,"d":"66,867"},{"$f":"IF(t.base[[#This Row],[DIAS DE ATRASO]]=0,0,t.base[[#This Row],[TOTAL]])","v":0}]
["2018-01-12","CLICK FARMA S.A.C.","Centro","0002-001667","2018-03-13",0,{"v":24739,"d":"24,739"},{"$f":"IF(t.base[[#This Row],[DIAS DE ATRASO]]=0,0,t.base[[#This Row],[TOTAL]])","v":0}]
["2017-09-15","CONTRACTORS SAC","Centro","0002-007033","2017-12-14",89,{"v":15526,"d":"15,526"},{"$f":"IF(t.base[[#This Row],[DIAS DE ATRASO]]=0,0,t.base[[#This Row],[TOTAL]])","v":15526}]
["2018-01-27","CLAS ZAMACOLA","Sur","0001-004922","2018-03-13",0,{"v":45715,"d":"45,715"},{"$f":"IF(t.base[[#This Row],[DIAS DE ATRASO]]=0,0,t.base[[#This Row],[TOTAL]])","v":0}]
["2017-12-13","ÐAHUIS LEYVA PABLO","Centro","0001-004899","2018-03-13",0,{"v":14598,"d":"14,598"},{"$f":"IF(t.base[[#This Row],[DIAS DE ATRASO]]=0,0,t.base[[#This Row],[TOTAL]])","v":0}]
["2017-11-29","ZOE DESIGN S.A.C.","Centro","0001-008967","2018-01-28",44,{"v":17030,"d":"17,030"},{"$f":"IF(t.base[[#This Row],[DIAS DE ATRASO]]=0,0,t.base[[#This Row],[TOTAL]])","v":17030}]
["2017-12-13","SYSTCOM IMPORT SAC","Centro","0002-005659","2018-03-13",0,{"v":13133,"d":"13,133"},{"$f":"IF(t.base[[#This Row],[DIAS DE ATRASO]]=0,0,t.base[[#This Row],[TOTAL]])","v":0}]
["2017-11-06","AGREGA S.A.C.","Centro","0002-001549","2018-02-04",37,{"v":14208,"d":"14,208"},{"$f":"IF(t.base[[#This Row],[DIAS DE ATRASO]]=0,0,t.base[[#This Row],[TOTAL]])","v":14208}]
["2018-02-26","RIE SAKATA E.I.R.L.","Centro","0001-001977","2018-03-13",0,{"v":28649,"d":"28,649"},{"$f":"IF(t.base[[#This Row],[DIAS DE ATRASO]]=0,0,t.base[[#This Row],[TOTAL]])","v":0}]
["2018-02-18","TANZACO S.A.C","Centro","0002-002185","2018-02-18",23,{"v":16080,"d":"16,080"},{"$f":"IF(t.base[[#This Row],[DIAS DE ATRASO]]=0,0,t.base[[#This Row],[TOTAL]])","v":16080}]
["2017-12-19","ORE TAIPE YOLANDA","Centro","0002-001225","2018-01-18",54,{"v":27657,"d":"27,657"},{"$f":"IF(t.base[[#This Row],[DIAS DE ATRASO]]=0,0,t.base[[#This Row],[TOTAL]])","v":27657}]
["2017-12-29","S.J2 S.A.C.","Norte","0002-001286","2018-02-27",14,{"v":26216,"d":"26,216"},{"$f":"IF(t.base[[#This Row],[DIAS DE ATRASO]]=0,0,t.base[[#This Row],[TOTAL]])","v":26216}]
["2018-01-12","RIOS SOLIS ALCIDES","Centro","0001-004336","2018-03-13",0,{"v":22933,"d":"22,933"},{"$f":"IF(t.base[[#This Row],[DIAS DE ATRASO]]=0,0,t.base[[#This Row],[TOTAL]])","v":0}]
["2018-01-27","MZF EIRL","Centro","0002-007155","2018-03-13",0,{"v":20298,"d":"20,298"},{"$f":"IF(t.base[[#This Row],[DIAS DE ATRASO]]=0,0,t.base[[#This Row],[TOTAL]])","v":0}]
["2018-02-20","CLINICA ELERA S.R.L","Centro","0002-004495","2018-03-07",6,{"v":18321,"d":"18,321"},{"$f":"IF(t.base[[#This Row],[DIAS DE ATRASO]]=0,0,t.base[[#This Row],[TOTAL]])","v":18321}]
["2017-12-06","KOZUMI PERU S.A.","Centro","0001-007731","2017-12-21",82,{"v":13309,"d":"13,309"},{"$f":"IF(t.base[[#This Row],[DIAS DE ATRASO]]=0,0,t.base[[#This Row],[TOTAL]])","v":13309}]
["2018-01-27","ARMERIA CALIBRE SAC","Centro","0002-001221","2018-03-13",0,{"v":24428,"d":"24,428"},{"$f":"IF(t.base[[#This Row],[DIAS DE ATRASO]]=0,0,t.base[[#This Row],[TOTAL]])","v":0}]
["2017-12-13","ALPAMEL S.A.C.","Sur","0001-006169","2018-03-13",0,{"v":40760,"d":"40,760"},{"$f":"IF(t.base[[#This Row],[DIAS DE ATRASO]]=0,0,t.base[[#This Row],[TOTAL]])","v":0}]
["2018-03-13","PROVESUR S.A.C","Centro","0001-001823","2018-03-13",0,{"v":16499,"d":"16,499"},{"$f":"IF(t.base[[#This Row],[DIAS DE ATRASO]]=0,0,t.base[[#This Row],[TOTAL]])","v":0}]
["2017-08-28","T-APRUEBO S.A.C.","Centro","0001-007143","2017-09-12",182,{"v":10458,"d":"10,458"},{"$f":"IF(t.base[[#This Row],[DIAS DE ATRASO]]=0,0,t.base[[#This Row],[TOTAL]])","v":10458}]
["2017-12-15","GUIA SEMANAL S.A.C","Norte","0001-003335","2017-12-15",88,{"v":22129,"d":"22,129"},{"$f":"IF(t.base[[#This Row],[DIAS DE ATRASO]]=0,0,t.base[[#This Row],[TOTAL]])","v":22129}]
["2017-12-14","DAMIAN SRLTDA.","Centro","0002-004530","2017-12-29",74,{"v":11082,"d":"11,082"},{"$f":"IF(t.base[[#This Row],[DIAS DE ATRASO]]=0,0,t.base[[#This Row],[TOTAL]])","v":11082}]
["2018-01-12","DIENST S.A.C.","Centro","0002-002508","2018-03-13",0,{"v":22650,"d":"22,650"},{"$f":"IF(t.base[[#This Row],[DIAS DE ATRASO]]=0,0,t.base[[#This Row],[TOTAL]])","v":0}]
["2018-02-25","WIBGUS S.A.C.","Centro","0001-008088","2018-03-12",1,{"v":27314,"d":"27,314"},{"$f":"IF(t.base[[#This Row],[DIAS DE ATRASO]]=0,0,t.base[[#This Row],[TOTAL]])","v":27314}]
["2018-03-13","LUCMOIS E.I.R.L.","Centro","0001-002650","2018-03-13",0,{"v":26333,"d":"26,333"},{"$f":"IF(t.base[[#This Row],[DIAS DE ATRASO]]=0,0,t.base[[#This Row],[TOTAL]])","v":0}]
["2018-03-05","CLAS CABANACONDE","Sur","0001-003454","2018-03-05",8,{"v":45678,"d":"45,678"},{"$f":"IF(t.base[[#This Row],[DIAS DE ATRASO]]=0,0,t.base[[#This Row],[TOTAL]])","v":45678}]
["2018-02-11","ARMERIA CALIBRE SAC","Centro","0001-006272","2018-03-13",0,{"v":13093,"d":"13,093"},{"$f":"IF(t.base[[#This Row],[DIAS DE ATRASO]]=0,0,t.base[[#This Row],[TOTAL]])","v":0}]
["2018-01-12","MULTIVISION S.R.L.","Sur","0001-009843","2018-03-13",0,{"v":29600,"d":"29,600"},{"$f":"IF(t.base[[#This Row],[DIAS DE ATRASO]]=0,0,t.base[[#This Row],[TOTAL]])","v":0}]
["2017-12-26","PLUS MEDIC E.I.R.L.","Centro","0002-001950","2018-02-09",32,{"v":23663,"d":"23,663"},{"$f":"IF(t.base[[#This Row],[DIAS DE ATRASO]]=0,0,t.base[[#This Row],[TOTAL]])","v":23663}]
["2017-12-12","TECH HOME E.I.R.L.","Sur","0002-005095","2018-03-12",1,{"v":27418,"d":"27,418"},{"$f":"IF(t.base[[#This Row],[DIAS DE ATRASO]]=0,0,t.base[[#This Row],[TOTAL]])","v":27418}]
["2018-01-20","AUTOS MH EIRL","Centro","0002-008359","2018-03-06",7,{"v":16662,"d":"16,662"},{"$f":"IF(t.base[[#This Row],[DIAS DE ATRASO]]=0,0,t.base[[#This Row],[TOTAL]])","v":16662}]
["2018-01-26","SAINT LOUIS S.A.C.","Centro","0002-002534","2018-03-12",1,{"v":20316,"d":"20,316"},{"$f":"IF(t.base[[#This Row],[DIAS DE ATRASO]]=0,0,t.base[[#This Row],[TOTAL]])","v":20316}]
["2017-11-19","ARCATEX S.A.C.","Centro","0001-007917","2018-01-18",54,{"v":25804,"d":"25,804"},{"$f":"IF(t.base[[#This Row],[DIAS DE ATRASO]]=0,0,t.base[[#This Row],[TOTAL]])","v":25804}]
["2018-01-27","LOLA & MIGUEL SAC","Centro","0002-009203","2018-03-13",0,{"v":21363,"d":"21,363"},{"$f":"IF(t.base[[#This Row],[DIAS DE ATRASO]]=0,0,t.base[[#This Row],[TOTAL]])","v":0}]
["2018-01-04","GAGLIARDO E.I.R.L.","Centro","0002-004016","2018-01-04",68,{"v":23749,"d":"23,749"},{"$f":"IF(t.base[[#This Row],[DIAS DE ATRASO]]=0,0,t.base[[#This Row],[TOTAL]])","v":23749}]
["2018-02-26","FIVE PERU E.I.R.L.","Centro","0001-006528","2018-03-13",0,{"v":20624,"d":"20,624"},{"$f":"IF(t.base[[#This Row],[DIAS DE ATRASO]]=0,0,t.base[[#This Row],[TOTAL]])","v":0}]
["2018-01-12","REHOBOT PC E.I.R.L.","Centro","0001-005627","2018-03-13",0,{"v":21477,"d":"21,477"},{"$f":"IF(t.base[[#This Row],[DIAS DE ATRASO]]=0,0,t.base[[#This Row],[TOTAL]])","v":0}]
["2018-02-10","SUPERPRINT S.A.C.","Centro","0001-007210","2018-03-12",1,{"v":16114,"d":"16,114"},{"$f":"IF(t.base[[#This Row],[DIAS DE ATRASO]]=0,0,t.base[[#This Row],[TOTAL]])","v":16114}]
["2017-07-18","ÐAHUIS LEYVA PABLO","Centro","0002-006438","2017-09-16",178,{"v":15372,"d":"15,372"},{"$f":"IF(t.base[[#This Row],[DIAS DE ATRASO]]=0,0,t.base[[#This Row],[TOTAL]])","v":15372}]
["2017-09-01","CBMARKETERS S.A.C.","Centro","0002-009610","2017-09-01",193,{"v":19773,"d":"19,773"},{"$f":"IF(t.base[[#This Row],[DIAS DE ATRASO]]=0,0,t.base[[#This Row],[TOTAL]])","v":19773}]
["2018-01-26","CAO JINHONG","Centro","0001-005175","2018-03-12",1,{"v":27228,"d":"27,228"},{"$f":"IF(t.base[[#This Row],[DIAS DE ATRASO]]=0,0,t.base[[#This Row],[TOTAL]])","v":27228}]
["2017-12-13","MOSOQ INN E.I.R.L.","Sur","0002-009672","2017-12-28",75,{"v":26816,"d":"26,816"},{"$f":"IF(t.base[[#This Row],[DIAS DE ATRASO]]=0,0,t.base[[#This Row],[TOTAL]])","v":26816}]
["2018-01-26","VICENT S.A.C.","Centro","0002-004336","2018-03-12",1,{"v":22537,"d":"22,537"},{"$f":"IF(t.base[[#This Row],[DIAS DE ATRASO]]=0,0,t.base[[#This Row],[TOTAL]])","v":22537}]
["2017-12-13","PROYECONSA S.A.C.","Centro","0001-003641","2018-03-13",0,{"v":29224,"d":"29,224"},{"$f":"IF(t.base[[#This Row],[DIAS DE ATRASO]]=0,0,t.base[[#This Row],[TOTAL]])","v":0}]
["2018-03-13","PEREA VELA JANETH","Centro","0002-001417","2018-03-13",0,{"v":28411,"d":"28,411"},{"$f":"IF(t.base[[#This Row],[DIAS DE ATRASO]]=0,0,t.base[[#This Row],[TOTAL]])","v":0}]
["2017-12-03","MI CASA JNC S.A.C.","Centro","0001-003855","2017-12-18",85,{"v":27527,"d":"27,527"},{"$f":"IF(t.base[[#This Row],[DIAS DE ATRASO]]=0,0,t.base[[#This Row],[TOTAL]])","v":27527}]
["2018-02-11","SERVITEC S A","Centro","0002-009538","2018-03-13",0,{"v":16876,"d":"16,876"},{"$f":"IF(t.base[[#This Row],[DIAS DE ATRASO]]=0,0,t.base[[#This Row],[TOTAL]])","v":0}]
["2018-03-13","CELESTE GAS S.A.C.","Centro","0001-004955","2018-03-13",0,{"v":15239,"d":"15,239"},{"$f":"IF(t.base[[#This Row],[DIAS DE ATRASO]]=0,0,t.base[[#This Row],[TOTAL]])","v":0}]
["2017-12-13","G & T CARGO S.A.C.","Centro","0001-006179","2018-03-13",0,{"v":16464,"d":"16,464"},{"$f":"IF(t.base[[#This Row],[DIAS DE ATRASO]]=0,0,t.base[[#This Row],[TOTAL]])","v":0}]
["2017-10-15","PROYECONSA S.A.C.","Centro","0002-003954","2017-10-30",134,{"v":17245,"d":"17,245"},{"$f":"IF(t.base[[#This Row],[DIAS DE ATRASO]]=0,0,t.base[[#This Row],[TOTAL]])","v":17245}]
["2017-12-13","EFC EXPRESS SAC","Centro","0001-006268","2018-03-13",0,{"v":17406,"d":"17,406"},{"$f":"IF(t.base[[#This Row],[DIAS DE ATRASO]]=0,0,t.base[[#This Row],[TOTAL]])","v":0}]
["2017-10-21","SERVIMAX E.I.R.L","Norte","0002-002624","2017-11-20",113,{"v":38055,"d":"38,055"},{"$f":"IF(t.base[[#This Row],[DIAS DE ATRASO]]=0,0,t.base[[#This Row],[TOTAL]])","v":38055}]
["2018-03-13","SISCOM E.I.R.L.","Sur","0001-008783","2018-03-13",0,{"v":46991,"d":"46,991"},{"$f":"IF(t.base[[#This Row],[DIAS DE ATRASO]]=0,0,t.base[[#This Row],[TOTAL]])","v":0}]
["2018-01-27","CONTRACTORS SAC","Centro","0002-001582","2018-03-13",0,{"v":16234,"d":"16,234"},{"$f":"IF(t.base[[#This Row],[DIAS DE ATRASO]]=0,0,t.base[[#This Row],[TOTAL]])","v":0}]
["2018-01-12","NEGYSER PERU S.A.C.","Centro","0002-006963","2018-03-13",0,{"v":24617,"d":"24,617"},{"$f":"IF(t.base[[#This Row],[DIAS DE ATRASO]]=0,0,t.base[[#This Row],[TOTAL]])","v":0}]
["2017-11-07","MARCESA S.R.L.","Centro","0001-004912","2018-02-05",36,{"v":20293,"d":"20,293"},{"$f":"IF(t.base[[#This Row],[DIAS DE ATRASO]]=0,0,t.base[[#This Row],[TOTAL]])","v":20293}]
["2018-02-26","NEGYSER PERU S.A.C.","Centro","0001-009803","2018-03-13",0,{"v":21887,"d":"21,887"},{"$f":"IF(t.base[[#This Row],[DIAS DE ATRASO]]=0,0,t.base[[#This Row],[TOTAL]])","v":0}]
["2018-01-27","MARVE E.I.R.L.","Sur","0001-004776","2018-03-13",0,{"v":13489,"d":"13,489"},{"$f":"IF(t.base[[#This Row],[DIAS DE ATRASO]]=0,0,t.base[[#This Row],[TOTAL]])","v":0}]
["2018-01-02","POLYTEX S.A.","Centro","0002-008784","2018-03-03",10,{"v":14652,"d":"14,652"},{"$f":"IF(t.base[[#This Row],[DIAS DE ATRASO]]=0,0,t.base[[#This Row],[TOTAL]])","v":14652}]
["2018-01-20","TUPER S.A.C.","Centro","0002-008005","2018-03-06",7,{"v":21560,"d":"21,560"},{"$f":"IF(t.base[[#This Row],[DIAS DE ATRASO]]=0,0,t.base[[#This Row],[TOTAL]])","v":21560}]
["2017-12-26","ALFA & ALFA E.I.R.L","Centro","0002-003903","2018-01-10",62,{"v":21296,"d":"21,296"},{"$f":"IF(t.base[[#This Row],[DIAS DE ATRASO]]=0,0,t.base[[#This Row],[TOTAL]])","v":21296}]
["2018-01-27","AUTOSERVIS E.I.R.L.","Norte","0002-008394","2018-03-13",0,{"v":55877,"d":"55,877"},{"$f":"IF(t.base[[#This Row],[DIAS DE ATRASO]]=0,0,t.base[[#This Row],[TOTAL]])","v":0}]
["2017-12-09","SALCOM S.A.C.","Centro","0002-007081","2018-01-23",49,{"v":10168,"d":"10,168"},{"$f":"IF(t.base[[#This Row],[DIAS DE ATRASO]]=0,0,t.base[[#This Row],[TOTAL]])","v":10168}]
["2017-12-21","CUEROS TAURO S.A.C.","Centro","0002-008721","2018-01-05",67,{"v":17237,"d":"17,237"},{"$f":"IF(t.base[[#This Row],[DIAS DE ATRASO]]=0,0,t.base[[#This Row],[TOTAL]])","v":17237}]
["2017-08-02","CIA VALQUI E.I.R.L.","Sur","0002-002258","2017-10-31",133,{"v":7740,"d":"7,740"},{"$f":"IF(t.base[[#This Row],[DIAS DE ATRASO]]=0,0,t.base[[#This Row],[TOTAL]])","v":7740}]
["2018-02-13","S A RINCON GAUCHO","Centro","0002-002944","2018-02-28",13,{"v":24334,"d":"24,334"},{"$f":"IF(t.base[[#This Row],[DIAS DE ATRASO]]=0,0,t.base[[#This Row],[TOTAL]])","v":24334}]
["2017-11-24","EL CAIRO S.A.C.","Centro","0001-006534","2018-01-08",64,{"v":19982,"d":"19,982"},{"$f":"IF(t.base[[#This Row],[DIAS DE ATRASO]]=0,0,t.base[[#This Row],[TOTAL]])","v":19982}]
["2018-01-27","COPY  GRAPH S.A.C.","Centro","0001-009629","2018-03-13",0,{"v":11619,"d":"11,619"},{"$f":"IF(t.base[[#This Row],[DIAS DE ATRASO]]=0,0,t.base[[#This Row],[TOTAL]])","v":0}]
["2018-03-05","TRANSILMAR S.A.C.","Sur","0002-008263","2018-03-05",8,{"v":41714,"d":"41,714"},{"$f":"IF(t.base[[#This Row],[DIAS DE ATRASO]]=0,0,t.base[[#This Row],[TOTAL]])","v":41714}]
["2017-12-15","PC MAGIMPORT S.A.C.","Centro","0002-003348","2017-12-30",73,{"v":15948,"d":"15,948"},{"$f":"IF(t.base[[#This Row],[DIAS DE ATRASO]]=0,0,t.base[[#This Row],[TOTAL]])","v":15948}]
["2018-02-25","TAGA S.R.LTDA","Sur","0002-003469","2018-03-12",1,{"v":15317,"d":"15,317"},{"$f":"IF(t.base[[#This Row],[DIAS DE ATRASO]]=0,0,t.base[[#This Row],[TOTAL]])","v":15317}]
["2017-12-26","ROSA ELENA S.R.L.","Norte","0001-005978","2018-02-24",17,{"v":11038,"d":"11,038"},{"$f":"IF(t.base[[#This Row],[DIAS DE ATRASO]]=0,0,t.base[[#This Row],[TOTAL]])","v":11038}]
["2018-01-27","PROVINAK S.A.C.","Centro","0002-006875","2018-03-13",0,{"v":23643,"d":"23,643"},{"$f":"IF(t.base[[#This Row],[DIAS DE ATRASO]]=0,0,t.base[[#This Row],[TOTAL]])","v":0}]
["2018-01-25","R.K.S. E.I.R.L.","Centro","0002-004925","2018-02-24",17,{"v":16271,"d":"16,271"},{"$f":"IF(t.base[[#This Row],[DIAS DE ATRASO]]=0,0,t.base[[#This Row],[TOTAL]])","v":16271}]
["2017-12-13","IMPRENTA W&Y EIRL","Norte","0001-009885","2018-03-13",0,{"v":67980,"d":"67,980"},{"$f":"IF(t.base[[#This Row],[DIAS DE ATRASO]]=0,0,t.base[[#This Row],[TOTAL]])","v":0}]
["2018-01-31","DEMAFER S.R.L.","Norte","0001-001418","2018-03-02",11,{"v":21755,"d":"21,755"},{"$f":"IF(t.base[[#This Row],[DIAS DE ATRASO]]=0,0,t.base[[#This Row],[TOTAL]])","v":21755}]
["2017-11-21","SAINT LOUIS S.A.C.","Centro","0001-001759","2018-02-19",22,{"v":11363,"d":"11,363"},{"$f":"IF(t.base[[#This Row],[DIAS DE ATRASO]]=0,0,t.base[[#This Row],[TOTAL]])","v":11363}]
["2018-02-11","KOIMED S.A.C.","Centro","0001-009283","2018-03-13",0,{"v":24661,"d":"24,661"},{"$f":"IF(t.base[[#This Row],[DIAS DE ATRASO]]=0,0,t.base[[#This Row],[TOTAL]])","v":0}]
["2018-01-12","SATORI S.A.C.","Centro","0001-002698","2018-03-13",0,{"v":21333,"d":"21,333"},{"$f":"IF(t.base[[#This Row],[DIAS DE ATRASO]]=0,0,t.base[[#This Row],[TOTAL]])","v":0}]
["2018-02-18","ALVARADO VEGA LESLY","Centro","0001-004316","2018-03-05",8,{"v":27281,"d":"27,281"},{"$f":"IF(t.base[[#This Row],[DIAS DE ATRASO]]=0,0,t.base[[#This Row],[TOTAL]])","v":27281}]
["2018-01-06","TUBOS SAUL E.I.R.L.","Centro","0002-008335","2018-03-07",6,{"v":23728,"d":"23,728"},{"$f":"IF(t.base[[#This Row],[DIAS DE ATRASO]]=0,0,t.base[[#This Row],[TOTAL]])","v":23728}]
["2017-12-31","CHIANG JIANG S.A.C.","Centro","0002-007155","2018-01-30",42,{"v":27949,"d":"27,949"},{"$f":"IF(t.base[[#This Row],[DIAS DE ATRASO]]=0,0,t.base[[#This Row],[TOTAL]])","v":27949}]
["2017-06-22","SPRIND S.A.C.","Centro","0002-007021","2017-08-06",219,{"v":19477,"d":"19,477"},{"$f":"IF(t.base[[#This Row],[DIAS DE ATRASO]]=0,0,t.base[[#This Row],[TOTAL]])","v":19477}]
["2018-01-12","J.D. PLASTIC S.A.C.","Centro","0001-003056","2018-03-13",0,{"v":18712,"d":"18,712"},{"$f":"IF(t.base[[#This Row],[DIAS DE ATRASO]]=0,0,t.base[[#This Row],[TOTAL]])","v":0}]
["2018-01-26","BIOFER S.A.C.","Centro","0002-009631","2018-03-12",1,{"v":25616,"d":"25,616"},{"$f":"IF(t.base[[#This Row],[DIAS DE ATRASO]]=0,0,t.base[[#This Row],[TOTAL]])","v":25616}]
["2018-03-13","CLAS CAYLLOMA ALTA","Sur","0002-008062","2018-03-13",0,{"v":45166,"d":"45,166"},{"$f":"IF(t.base[[#This Row],[DIAS DE ATRASO]]=0,0,t.base[[#This Row],[TOTAL]])","v":0}]
["2018-01-27","ECOREP S.A.C.","Centro","0002-005860","2018-03-13",0,{"v":24365,"d":"24,365"},{"$f":"IF(t.base[[#This Row],[DIAS DE ATRASO]]=0,0,t.base[[#This Row],[TOTAL]])","v":0}]
["2018-01-12","JEPALA EIRL.","Sur","0001-003751","2018-03-13",0,{"v":32482,"d":"32,482"},{"$f":"IF(t.base[[#This Row],[DIAS DE ATRASO]]=0,0,t.base[[#This Row],[TOTAL]])","v":0}]
["2018-02-11","VGO S.A.C.","Norte","0002-009566","2018-03-13",0,{"v":14696,"d":"14,696"},{"$f":"IF(t.base[[#This Row],[DIAS DE ATRASO]]=0,0,t.base[[#This Row],[TOTAL]])","v":0}]
["2018-01-11","SILIMEDIC S.A.C.","Centro","0002-003693","2018-03-12",1,{"v":23606,"d":"23,606"},{"$f":"IF(t.base[[#This Row],[DIAS DE ATRASO]]=0,0,t.base[[#This Row],[TOTAL]])","v":23606}]
["2018-02-26","DAVILA RIVERA MARIA","Centro","0001-003523","2018-03-13",0,{"v":12137,"d":"12,137"},{"$f":"IF(t.base[[#This Row],[DIAS DE ATRASO]]=0,0,t.base[[#This Row],[TOTAL]])","v":0}]
["2018-01-12","PEQUE E.I.R.L.","Centro","0001-004568","2018-03-13",0,{"v":13767,"d":"13,767"},{"$f":"IF(t.base[[#This Row],[DIAS DE ATRASO]]=0,0,t.base[[#This Row],[TOTAL]])","v":0}]
["2017-11-26","RB & RD S.R.L.","Sur","0002-009286","2018-01-10",62,{"v":49684,"d":"49,684"},{"$f":"IF(t.base[[#This Row],[DIAS DE ATRASO]]=0,0,t.base[[#This Row],[TOTAL]])","v":49684}]
["2018-02-10","CRISTHIANS E.I.R.L","Centro","0002-005854","2018-03-12",1,{"v":19378,"d":"19,378"},{"$f":"IF(t.base[[#This Row],[DIAS DE ATRASO]]=0,0,t.base[[#This Row],[TOTAL]])","v":19378}]
["2017-11-11","ERTI SRL","Sur","0002-002178","2018-02-09",32,{"v":11402,"d":"11,402"},{"$f":"IF(t.base[[#This Row],[DIAS DE ATRASO]]=0,0,t.base[[#This Row],[TOTAL]])","v":11402}]
["2018-02-07","SUPERPRINT S.A.C.","Centro","0002-003038","2018-02-07",34,{"v":11784,"d":"11,784"},{"$f":"IF(t.base[[#This Row],[DIAS DE ATRASO]]=0,0,t.base[[#This Row],[TOTAL]])","v":11784}]
["2018-02-15","CHIFA FULLRUM EIRL","Centro","0002-003499","2018-02-15",26,{"v":12137,"d":"12,137"},{"$f":"IF(t.base[[#This Row],[DIAS DE ATRASO]]=0,0,t.base[[#This Row],[TOTAL]])","v":12137}]
["2018-02-11","TECH LAB S.A.C.","Centro","0002-006618","2018-03-13",0,{"v":29026,"d":"29,026"},{"$f":"IF(t.base[[#This Row],[DIAS DE ATRASO]]=0,0,t.base[[#This Row],[TOTAL]])","v":0}]
["2018-02-26","ACEROS JK S.A.C.","Centro","0001-006156","2018-03-13",0,{"v":28256,"d":"28,256"},{"$f":"IF(t.base[[#This Row],[DIAS DE ATRASO]]=0,0,t.base[[#This Row],[TOTAL]])","v":0}]
["2018-02-10","PLAZA MOTORS S.A.C.","Centro","0001-009166","2018-03-12",1,{"v":22453,"d":"22,453"},{"$f":"IF(t.base[[#This Row],[DIAS DE ATRASO]]=0,0,t.base[[#This Row],[TOTAL]])","v":22453}]
["2018-02-11","D'SAYOMA EIRL","Sur","0002-008164","2018-03-13",0,{"v":38284,"d":"38,284"},{"$f":"IF(t.base[[#This Row],[DIAS DE ATRASO]]=0,0,t.base[[#This Row],[TOTAL]])","v":0}]
["2017-05-17","LAGO IMPORT EIRL","Centro","0001-005857","2017-08-15",210,{"v":21562,"d":"21,562"},{"$f":"IF(t.base[[#This Row],[DIAS DE ATRASO]]=0,0,t.base[[#This Row],[TOTAL]])","v":21562}]
["2018-01-27","QUIMICHEM S.A.C.","Centro","0002-007183","2018-03-13",0,{"v":15232,"d":"15,232"},{"$f":"IF(t.base[[#This Row],[DIAS DE ATRASO]]=0,0,t.base[[#This Row],[TOTAL]])","v":0}]
["2017-12-13","SAMANTHA S.A.C.","Norte","0002-009042","2018-03-13",0,{"v":31022,"d":"31,022"},{"$f":"IF(t.base[[#This Row],[DIAS DE ATRASO]]=0,0,t.base[[#This Row],[TOTAL]])","v":0}]
["2017-12-12","MAYO TAQUIA JOVANA","Centro","0001-005357","2018-03-12",1,{"v":26215,"d":"26,215"},{"$f":"IF(t.base[[#This Row],[DIAS DE ATRASO]]=0,0,t.base[[#This Row],[TOTAL]])","v":26215}]
["2018-02-26","G & T CARGO S.A.C.","Centro","0001-005289","2018-03-13",0,{"v":12941,"d":"12,941"},{"$f":"IF(t.base[[#This Row],[DIAS DE ATRASO]]=0,0,t.base[[#This Row],[TOTAL]])","v":0}]
["2017-05-28","FARMABCO S.A.C","Centro","0002-006917","2017-08-26",199,{"v":26991,"d":"26,991"},{"$f":"IF(t.base[[#This Row],[DIAS DE ATRASO]]=0,0,t.base[[#This Row],[TOTAL]])","v":26991}]
["2018-01-27","ICM CONSULTING SAC","Centro","0001-005907","2018-03-13",0,{"v":19812,"d":"19,812"},{"$f":"IF(t.base[[#This Row],[DIAS DE ATRASO]]=0,0,t.base[[#This Row],[TOTAL]])","v":0}]
["2017-12-13","DIMACAR S.A.C.","Sur","0001-007453","2018-03-13",0,{"v":37201,"d":"37,201"},{"$f":"IF(t.base[[#This Row],[DIAS DE ATRASO]]=0,0,t.base[[#This Row],[TOTAL]])","v":0}]
["2018-01-27","FUJIN EIRL","Centro","0002-002932","2018-03-13",0,{"v":15818,"d":"15,818"},{"$f":"IF(t.base[[#This Row],[DIAS DE ATRASO]]=0,0,t.base[[#This Row],[TOTAL]])","v":0}]
["2018-02-11","HUISA MERMA DORIS","Centro","0002-006384","2018-03-13",0,{"v":17237,"d":"17,237"},{"$f":"IF(t.base[[#This Row],[DIAS DE ATRASO]]=0,0,t.base[[#This Row],[TOTAL]])","v":0}]
["2018-01-03","DIVESA SERVICE S A","Centro","0002-003232","2018-02-17",24,{"v":21198,"d":"21,198"},{"$f":"IF(t.base[[#This Row],[DIAS DE ATRASO]]=0,0,t.base[[#This Row],[TOTAL]])","v":21198}]
["2018-02-10","KUNTUR WASSI S.A.C.","Sur","0001-004490","2018-02-25",16,{"v":18620,"d":"18,620"},{"$f":"IF(t.base[[#This Row],[DIAS DE ATRASO]]=0,0,t.base[[#This Row],[TOTAL]])","v":18620}]
["2018-02-26","SERVIMEDICOS S.A.C.","Norte","0002-004842","2018-03-13",0,{"v":65756,"d":"65,756"},{"$f":"IF(t.base[[#This Row],[DIAS DE ATRASO]]=0,0,t.base[[#This Row],[TOTAL]])","v":0}]
["2017-12-18","JERI LUNA JORGE","Centro","0001-004638","2018-01-02",70,{"v":26029,"d":"26,029"},{"$f":"IF(t.base[[#This Row],[DIAS DE ATRASO]]=0,0,t.base[[#This Row],[TOTAL]])","v":26029}]
["2018-02-26","CHUMANCORP E.I.R.L.","Centro","0002-009876","2018-03-13",0,{"v":19686,"d":"19,686"},{"$f":"IF(t.base[[#This Row],[DIAS DE ATRASO]]=0,0,t.base[[#This Row],[TOTAL]])","v":0}]
["2018-03-01","INVERMEDIC SAC","Norte","0002-006506","2018-03-01",12,{"v":27950,"d":"27,950"},{"$f":"IF(t.base[[#This Row],[DIAS DE ATRASO]]=0,0,t.base[[#This Row],[TOTAL]])","v":27950}]
["2017-12-22","MIAMI -SHOP S.A.C.","Centro","0001-001024","2018-01-06",66,{"v":22689,"d":"22,689"},{"$f":"IF(t.base[[#This Row],[DIAS DE ATRASO]]=0,0,t.base[[#This Row],[TOTAL]])","v":22689}]
["2018-01-12","SERV&DATA S.A.C.","Centro","0001-002384","2018-01-27",45,{"v":20277,"d":"20,277"},{"$f":"IF(t.base[[#This Row],[DIAS DE ATRASO]]=0,0,t.base[[#This Row],[TOTAL]])","v":20277}]
["2017-11-09","CIRFOSA PERU S.R.L.","Norte","0001-004648","2017-12-24",79,{"v":16013,"d":"16,013"},{"$f":"IF(t.base[[#This Row],[DIAS DE ATRASO]]=0,0,t.base[[#This Row],[TOTAL]])","v":16013}]
["2017-12-13","IMPRENTA W&Y EIRL","Norte","0001-008551","2018-03-13",0,{"v":23532,"d":"23,532"},{"$f":"IF(t.base[[#This Row],[DIAS DE ATRASO]]=0,0,t.base[[#This Row],[TOTAL]])","v":0}]
["2017-12-12","GOMEZ YUCRA SIMEON","Centro","0002-005926","2018-01-11",61,{"v":28049,"d":"28,049"},{"$f":"IF(t.base[[#This Row],[DIAS DE ATRASO]]=0,0,t.base[[#This Row],[TOTAL]])","v":28049}]
["2017-07-16","SISCOM E.I.R.L.","Sur","0001-004742","2017-07-16",240,{"v":14438,"d":"14,438"},{"$f":"IF(t.base[[#This Row],[DIAS DE ATRASO]]=0,0,t.base[[#This Row],[TOTAL]])","v":14438}]
["2017-07-15","FERRICENTRO SAC","Norte","0002-006588","2017-09-13",181,{"v":15969,"d":"15,969"},{"$f":"IF(t.base[[#This Row],[DIAS DE ATRASO]]=0,0,t.base[[#This Row],[TOTAL]])","v":15969}]
["2017-12-13","MICROTEC S.A.C.","Norte","0001-003803","2018-03-13",0,{"v":14919,"d":"14,919"},{"$f":"IF(t.base[[#This Row],[DIAS DE ATRASO]]=0,0,t.base[[#This Row],[TOTAL]])","v":0}]
["2017-12-23","TEXMACHINE S.A.C.","Centro","0001-004176","2018-01-07",65,{"v":28953,"d":"28,953"},{"$f":"IF(t.base[[#This Row],[DIAS DE ATRASO]]=0,0,t.base[[#This Row],[TOTAL]])","v":28953}]
["2017-10-22","OXIMARC S.R.L.","Norte","0001-008057","2018-01-20",52,{"v":45951,"d":"45,951"},{"$f":"IF(t.base[[#This Row],[DIAS DE ATRASO]]=0,0,t.base[[#This Row],[TOTAL]])","v":45951}]
["2017-09-28","TEXTILES PAULA SAC","Centro","0001-006455","2017-12-27",76,{"v":22171,"d":"22,171"},{"$f":"IF(t.base[[#This Row],[DIAS DE ATRASO]]=0,0,t.base[[#This Row],[TOTAL]])","v":22171}]
["2018-02-10","MARVE E.I.R.L.","Sur","0002-002421","2018-03-12",1,{"v":41812,"d":"41,812"},{"$f":"IF(t.base[[#This Row],[DIAS DE ATRASO]]=0,0,t.base[[#This Row],[TOTAL]])","v":41812}]
["2017-12-11","TRAUMA S.A.C.","Centro","0002-009585","2018-01-25",47,{"v":24376,"d":"24,376"},{"$f":"IF(t.base[[#This Row],[DIAS DE ATRASO]]=0,0,t.base[[#This Row],[TOTAL]])","v":24376}]
["2018-02-10","SPORT FREE E.I.R.L.","Centro","0001-001359","2018-03-12",1,{"v":25005,"d":"25,005"},{"$f":"IF(t.base[[#This Row],[DIAS DE ATRASO]]=0,0,t.base[[#This Row],[TOTAL]])","v":25005}]
["2018-02-25","VASQUEZ CAMPOS BETY","Centro","0002-009826","2018-03-12",1,{"v":29531,"d":"29,531"},{"$f":"IF(t.base[[#This Row],[DIAS DE ATRASO]]=0,0,t.base[[#This Row],[TOTAL]])","v":29531}]
["2017-10-02","SOLO SERVICE S.A.C.","Norte","0002-001984","2017-12-31",72,{"v":41591,"d":"41,591"},{"$f":"IF(t.base[[#This Row],[DIAS DE ATRASO]]=0,0,t.base[[#This Row],[TOTAL]])","v":41591}]
["2018-03-13","LIZFEL E.I.R.L.","Centro","0002-005345","2018-03-13",0,{"v":13431,"d":"13,431"},{"$f":"IF(t.base[[#This Row],[DIAS DE ATRASO]]=0,0,t.base[[#This Row],[TOTAL]])","v":0}]
["2018-01-27","C. CHINININ S.A.C.","Centro","0001-005057","2018-03-13",0,{"v":27611,"d":"27,611"},{"$f":"IF(t.base[[#This Row],[DIAS DE ATRASO]]=0,0,t.base[[#This Row],[TOTAL]])","v":0}]
["2018-03-13","METALES FINOS S.A.","Centro","0002-006605","2018-03-13",0,{"v":23451,"d":"23,451"},{"$f":"IF(t.base[[#This Row],[DIAS DE ATRASO]]=0,0,t.base[[#This Row],[TOTAL]])","v":0}]
["2017-11-21","JIANG HUANYI","Centro","0002-008430","2017-12-21",82,{"v":10755,"d":"10,755"},{"$f":"IF(t.base[[#This Row],[DIAS DE ATRASO]]=0,0,t.base[[#This Row],[TOTAL]])","v":10755}]
["2018-01-26","VIDA CORAL PERU SAC","Centro","0001-007875","2018-03-12",1,{"v":19602,"d":"19,602"},{"$f":"IF(t.base[[#This Row],[DIAS DE ATRASO]]=0,0,t.base[[#This Row],[TOTAL]])","v":19602}]
["2018-03-13","LOLA & MIGUEL SAC","Centro","0002-005656","2018-03-13",0,{"v":15709,"d":"15,709"},{"$f":"IF(t.base[[#This Row],[DIAS DE ATRASO]]=0,0,t.base[[#This Row],[TOTAL]])","v":0}]
["2018-01-12","ZOEY EIRL","Norte","0002-004281","2018-03-13",0,{"v":59762,"d":"59,762"},{"$f":"IF(t.base[[#This Row],[DIAS DE ATRASO]]=0,0,t.base[[#This Row],[TOTAL]])","v":0}]
["2018-03-12","VEGA RIOS GLORIA","Centro","0002-006245","2018-03-12",1,{"v":12183,"d":"12,183"},{"$f":"IF(t.base[[#This Row],[DIAS DE ATRASO]]=0,0,t.base[[#This Row],[TOTAL]])","v":12183}]
["2018-01-12","HACEB DEL PERU S.A.","Centro","0001-006501","2018-03-13",0,{"v":17430,"d":"17,430"},{"$f":"IF(t.base[[#This Row],[DIAS DE ATRASO]]=0,0,t.base[[#This Row],[TOTAL]])","v":0}]
["2018-02-08","YUT WU S.A.C.","Centro","0002-007274","2018-02-23",18,{"v":29417,"d":"29,417"},{"$f":"IF(t.base[[#This Row],[DIAS DE ATRASO]]=0,0,t.base[[#This Row],[TOTAL]])","v":29417}]
["2017-06-21","AYUMI S.A.C.","Centro","0002-001818","2017-07-21",235,{"v":19971,"d":"19,971"},{"$f":"IF(t.base[[#This Row],[DIAS DE ATRASO]]=0,0,t.base[[#This Row],[TOTAL]])","v":19971}]
["2017-12-09","EL REPOSTERO SAC","Centro","0002-006053","2018-01-23",49,{"v":28271,"d":"28,271"},{"$f":"IF(t.base[[#This Row],[DIAS DE ATRASO]]=0,0,t.base[[#This Row],[TOTAL]])","v":28271}]
["2017-11-09","RODIMPORT S.R.L.","Norte","0002-005346","2017-12-24",79,{"v":38898,"d":"38,898"},{"$f":"IF(t.base[[#This Row],[DIAS DE ATRASO]]=0,0,t.base[[#This Row],[TOTAL]])","v":38898}]
["2018-01-26","CODYGOZ S.A.C.","Centro","0002-002936","2018-03-12",1,{"v":11784,"d":"11,784"},{"$f":"IF(t.base[[#This Row],[DIAS DE ATRASO]]=0,0,t.base[[#This Row],[TOTAL]])","v":11784}]
["2018-01-27","PEREZ RUBIO IRENE","Centro","0001-004743","2018-03-13",0,{"v":19022,"d":"19,022"},{"$f":"IF(t.base[[#This Row],[DIAS DE ATRASO]]=0,0,t.base[[#This Row],[TOTAL]])","v":0}]
["2018-01-27","CLAS CONDESUYOS","Sur","0002-006253","2018-03-13",0,{"v":45203,"d":"45,203"},{"$f":"IF(t.base[[#This Row],[DIAS DE ATRASO]]=0,0,t.base[[#This Row],[TOTAL]])","v":0}]
["2018-01-12","T-APRUEBO S.A.C.","Centro","0002-009734","2018-03-13",0,{"v":27953,"d":"27,953"},{"$f":"IF(t.base[[#This Row],[DIAS DE ATRASO]]=0,0,t.base[[#This Row],[TOTAL]])","v":0}]
["2017-12-13","CASAPAN PERU S.A.C.","Centro","0001-008577","2018-03-13",0,{"v":13614,"d":"13,614"},{"$f":"IF(t.base[[#This Row],[DIAS DE ATRASO]]=0,0,t.base[[#This Row],[TOTAL]])","v":0}]
["2018-03-12","M & R TANQUE SAC","Centro","0001-009526","2018-03-12",1,{"v":24176,"d":"24,176"},{"$f":"IF(t.base[[#This Row],[DIAS DE ATRASO]]=0,0,t.base[[#This Row],[TOTAL]])","v":24176}]
["2017-12-13","AVETSA E.I.R.L.","Sur","0002-005574","2018-03-13",0,{"v":24175,"d":"24,175"},{"$f":"IF(t.base[[#This Row],[DIAS DE ATRASO]]=0,0,t.base[[#This Row],[TOTAL]])","v":0}]
["2018-02-20","XIAN CHUYAO","Centro","0001-004748","2018-02-20",21,{"v":12604,"d":"12,604"},{"$f":"IF(t.base[[#This Row],[DIAS DE ATRASO]]=0,0,t.base[[#This Row],[TOTAL]])","v":12604}]
["2017-12-31","ANDINA IMEX S.A.C","Centro","0002-003346","2018-01-15",57,{"v":24909,"d":"24,909"},{"$f":"IF(t.base[[#This Row],[DIAS DE ATRASO]]=0,0,t.base[[#This Row],[TOTAL]])","v":24909}]
["2017-12-13","PARKETON S.A.C.","Centro","0001-007466","2018-03-13",0,{"v":23357,"d":"23,357"},{"$f":"IF(t.base[[#This Row],[DIAS DE ATRASO]]=0,0,t.base[[#This Row],[TOTAL]])","v":0}]
["2017-09-23","D'BEGASA S.A.C.","Centro","0001-002649","2017-12-22",81,{"v":18918,"d":"18,918"},{"$f":"IF(t.base[[#This Row],[DIAS DE ATRASO]]=0,0,t.base[[#This Row],[TOTAL]])","v":18918}]
["2018-01-12","COPA S A","Centro","0002-001398","2018-03-13",0,{"v":18854,"d":"18,854"},{"$f":"IF(t.base[[#This Row],[DIAS DE ATRASO]]=0,0,t.base[[#This Row],[TOTAL]])","v":0}]
["2017-10-04","SOJITZ PERU S.A.","Centro","0002-008579","2018-01-02",70,{"v":19577,"d":"19,577"},{"$f":"IF(t.base[[#This Row],[DIAS DE ATRASO]]=0,0,t.base[[#This Row],[TOTAL]])","v":19577}]
["2018-02-10","CINSA E.I.R.L","Sur","0002-007465","2018-03-12",1,{"v":40110,"d":"40,110"},{"$f":"IF(t.base[[#This Row],[DIAS DE ATRASO]]=0,0,t.base[[#This Row],[TOTAL]])","v":40110}]
["2018-02-26","AD LIBITUM S.A.C.","Centro","0001-009454","2018-03-13",0,{"v":25034,"d":"25,034"},{"$f":"IF(t.base[[#This Row],[DIAS DE ATRASO]]=0,0,t.base[[#This Row],[TOTAL]])","v":0}]
["2017-10-13","KETZI S.A.C.","Norte","0002-004774","2018-01-11",61,{"v":42337,"d":"42,337"},{"$f":"IF(t.base[[#This Row],[DIAS DE ATRASO]]=0,0,t.base[[#This Row],[TOTAL]])","v":42337}]
["2018-01-27","GAVA PERU S.A.C.","Centro","0001-005206","2018-03-13",0,{"v":21822,"d":"21,822"},{"$f":"IF(t.base[[#This Row],[DIAS DE ATRASO]]=0,0,t.base[[#This Row],[TOTAL]])","v":0}]
["2017-11-04","JIREH D & M S.A.C.","Centro","0001-002035","2018-01-03",69,{"v":13267,"d":"13,267"},{"$f":"IF(t.base[[#This Row],[DIAS DE ATRASO]]=0,0,t.base[[#This Row],[TOTAL]])","v":13267}]
["2018-02-02","SALISARA SAC","Centro","0002-005971","2018-02-02",39,{"v":12935,"d":"12,935"},{"$f":"IF(t.base[[#This Row],[DIAS DE ATRASO]]=0,0,t.base[[#This Row],[TOTAL]])","v":12935}]
["2018-01-27","M & ST SALUD S.A.C","Centro","0002-006615","2018-03-13",0,{"v":24323,"d":"24,323"},{"$f":"IF(t.base[[#This Row],[DIAS DE ATRASO]]=0,0,t.base[[#This Row],[TOTAL]])","v":0}]
["2018-01-12","MAMICLUB S.A.C.","Centro","0002-007200","2018-03-13",0,{"v":15719,"d":"15,719"},{"$f":"IF(t.base[[#This Row],[DIAS DE ATRASO]]=0,0,t.base[[#This Row],[TOTAL]])","v":0}]
["2018-01-27","POZO TORRES CLAUDIA","Centro","0001-008067","2018-03-13",0,{"v":29230,"d":"29,230"},{"$f":"IF(t.base[[#This Row],[DIAS DE ATRASO]]=0,0,t.base[[#This Row],[TOTAL]])","v":0}]
["2018-02-11","ALMAPEL E.I.R.L.","Sur","0001-007466","2018-03-13",0,{"v":43480,"d":"43,480"},{"$f":"IF(t.base[[#This Row],[DIAS DE ATRASO]]=0,0,t.base[[#This Row],[TOTAL]])","v":0}]
["2018-01-12","SOLOT PERU S.A.C.","Centro","0002-001628","2018-03-13",0,{"v":22729,"d":"22,729"},{"$f":"IF(t.base[[#This Row],[DIAS DE ATRASO]]=0,0,t.base[[#This Row],[TOTAL]])","v":0}]
["2018-03-12","IMPORT JHV E.I.R.L.","Centro","0002-006587","2018-03-12",1,{"v":15529,"d":"15,529"},{"$f":"IF(t.base[[#This Row],[DIAS DE ATRASO]]=0,0,t.base[[#This Row],[TOTAL]])","v":15529}]
["2018-01-27","MAQUIHER E.I.R.L.","Sur","0001-005352","2018-03-13",0,{"v":46534,"d":"46,534"},{"$f":"IF(t.base[[#This Row],[DIAS DE ATRASO]]=0,0,t.base[[#This Row],[TOTAL]])","v":0}]
["2017-12-13","AMEDEP E.I.R.L.","Centro","0001-008061","2018-03-13",0,{"v":11535,"d":"11,535"},{"$f":"IF(t.base[[#This Row],[DIAS DE ATRASO]]=0,0,t.base[[#This Row],[TOTAL]])","v":0}]
["2018-02-11","CAIMI PERU S.A.C.","Centro","0002-008107","2018-03-13",0,{"v":21723,"d":"21,723"},{"$f":"IF(t.base[[#This Row],[DIAS DE ATRASO]]=0,0,t.base[[#This Row],[TOTAL]])","v":0}]
["2018-02-26","DIENST S.A.C.","Centro","0001-007455","2018-03-13",0,{"v":21726,"d":"21,726"},{"$f":"IF(t.base[[#This Row],[DIAS DE ATRASO]]=0,0,t.base[[#This Row],[TOTAL]])","v":0}]
["2017-11-25","CARROTEK S.A.C","Centro","0001-001415","2017-11-25",108,{"v":17086,"d":"17,086"},{"$f":"IF(t.base[[#This Row],[DIAS DE ATRASO]]=0,0,t.base[[#This Row],[TOTAL]])","v":17086}]
["2018-02-26","TRANEDO S.R.L.","Norte","0002-009862","2018-03-13",0,{"v":67606,"d":"67,606"},{"$f":"IF(t.base[[#This Row],[DIAS DE ATRASO]]=0,0,t.base[[#This Row],[TOTAL]])","v":0}]
["2018-02-26","SALLO LEVA ISABEL","Centro","0002-006983","2018-03-13",0,{"v":13215,"d":"13,215"},{"$f":"IF(t.base[[#This Row],[DIAS DE ATRASO]]=0,0,t.base[[#This Row],[TOTAL]])","v":0}]
["2018-03-13","CEM JEANS E.I.R.L.","Centro","0001-001575","2018-03-13",0,{"v":28243,"d":"28,243"},{"$f":"IF(t.base[[#This Row],[DIAS DE ATRASO]]=0,0,t.base[[#This Row],[TOTAL]])","v":0}]
["2017-09-08","VILELA ABAD JUAN","Centro","0002-002564","2017-10-23",141,{"v":19285,"d":"19,285"},{"$f":"IF(t.base[[#This Row],[DIAS DE ATRASO]]=0,0,t.base[[#This Row],[TOTAL]])","v":19285}]
["2018-01-09","GREY GROUP S.A.C","Centro","0002-007645","2018-03-10",3,{"v":17673,"d":"17,673"},{"$f":"IF(t.base[[#This Row],[DIAS DE ATRASO]]=0,0,t.base[[#This Row],[TOTAL]])","v":17673}]
["2018-02-26","PAXI PAUCAR TEODORO","Centro","0001-009036","2018-03-13",0,{"v":18444,"d":"18,444"},{"$f":"IF(t.base[[#This Row],[DIAS DE ATRASO]]=0,0,t.base[[#This Row],[TOTAL]])","v":0}]
["2017-11-20","FULL MARKET S.A.C.","Sur","0002-005576","2018-02-18",23,{"v":49956,"d":"49,956"},{"$f":"IF(t.base[[#This Row],[DIAS DE ATRASO]]=0,0,t.base[[#This Row],[TOTAL]])","v":49956}]
["2017-12-13","VIDA CORAL PERU SAC","Centro","0002-007234","2018-03-13",0,{"v":11605,"d":"11,605"},{"$f":"IF(t.base[[#This Row],[DIAS DE ATRASO]]=0,0,t.base[[#This Row],[TOTAL]])","v":0}]
["2018-01-27","FRANK MEDICA S.A.C","Centro","0002-003842","2018-03-13",0,{"v":19083,"d":"19,083"},{"$f":"IF(t.base[[#This Row],[DIAS DE ATRASO]]=0,0,t.base[[#This Row],[TOTAL]])","v":0}]
["2018-01-12","D'SAYOMA EIRL","Sur","0001-001629","2018-03-13",0,{"v":5056,"d":"5,056"},{"$f":"IF(t.base[[#This Row],[DIAS DE ATRASO]]=0,0,t.base[[#This Row],[TOTAL]])","v":0}]
["2018-01-27","QUEA TAPIA EULALIA","Centro","0001-007463","2018-03-13",0,{"v":22222,"d":"22,222"},{"$f":"IF(t.base[[#This Row],[DIAS DE ATRASO]]=0,0,t.base[[#This Row],[TOTAL]])","v":0}]
["2017-10-14","CBMARKETERS S.A.C.","Centro","0001-001942","2018-01-12",60,{"v":13795,"d":"13,795"},{"$f":"IF(t.base[[#This Row],[DIAS DE ATRASO]]=0,0,t.base[[#This Row],[TOTAL]])","v":13795}]
["2018-02-11","TROQPA SAC","Centro","0002-008985","2018-03-13",0,{"v":12138,"d":"12,138"},{"$f":"IF(t.base[[#This Row],[DIAS DE ATRASO]]=0,0,t.base[[#This Row],[TOTAL]])","v":0}]
["2017-12-13","MEDELCO SRL","Sur","0001-001841","2018-03-13",0,{"v":37771,"d":"37,771"},{"$f":"IF(t.base[[#This Row],[DIAS DE ATRASO]]=0,0,t.base[[#This Row],[TOTAL]])","v":0}]
["2018-02-26","RIMASSA S.A.C.","Sur","0001-005845","2018-03-13",0,{"v":45869,"d":"45,869"},{"$f":"IF(t.base[[#This Row],[DIAS DE ATRASO]]=0,0,t.base[[#This Row],[TOTAL]])","v":0}]
["2018-02-26","PROIMPULSA SAC","Centro","0002-002979","2018-03-13",0,{"v":10553,"d":"10,553"},{"$f":"IF(t.base[[#This Row],[DIAS DE ATRASO]]=0,0,t.base[[#This Row],[TOTAL]])","v":0}]
["2018-02-26","CLINICA ELERA S.R.L","Centro","0001-008209","2018-03-13",0,{"v":10469,"d":"10,469"},{"$f":"IF(t.base[[#This Row],[DIAS DE ATRASO]]=0,0,t.base[[#This Row],[TOTAL]])","v":0}]
["2017-12-22","RAMOS ROCHA CARLOS","Centro","0002-005507","2018-01-21",51,{"v":12229,"d":"12,229"},{"$f":"IF(t.base[[#This Row],[DIAS DE ATRASO]]=0,0,t.base[[#This Row],[TOTAL]])","v":12229}]
["2018-01-12","GHL INVERSIONES SA","Centro","0002-001726","2018-03-13",0,{"v":17376,"d":"17,376"},{"$f":"IF(t.base[[#This Row],[DIAS DE ATRASO]]=0,0,t.base[[#This Row],[TOTAL]])","v":0}]
["2018-01-27","CUEROS TAURO S.A.C.","Centro","0001-003784","2018-03-13",0,{"v":27792,"d":"27,792"},{"$f":"IF(t.base[[#This Row],[DIAS DE ATRASO]]=0,0,t.base[[#This Row],[TOTAL]])","v":0}]
["2018-02-26","SOTO VILA ROBERTO","Centro","0002-008140","2018-03-13",0,{"v":25355,"d":"25,355"},{"$f":"IF(t.base[[#This Row],[DIAS DE ATRASO]]=0,0,t.base[[#This Row],[TOTAL]])","v":0}]
["2018-03-13","PUROCORAZON S.A.C.","Centro","0001-007620","2018-03-13",0,{"v":22547,"d":"22,547"},{"$f":"IF(t.base[[#This Row],[DIAS DE ATRASO]]=0,0,t.base[[#This Row],[TOTAL]])","v":0}]
["2018-01-14","MAQUERA RAMOS IRMA","Centro","0001-003696","2018-01-29",43,{"v":13414,"d":"13,414"},{"$f":"IF(t.base[[#This Row],[DIAS DE ATRASO]]=0,0,t.base[[#This Row],[TOTAL]])","v":13414}]
["2018-01-11","REFLECENTRO SRL","Centro","0001-001573","2018-03-12",1,{"v":21101,"d":"21,101"},{"$f":"IF(t.base[[#This Row],[DIAS DE ATRASO]]=0,0,t.base[[#This Row],[TOTAL]])","v":21101}]
["2018-02-11","ENERGY GASS SRL","Norte","0001-006050","2018-03-13",0,{"v":35403,"d":"35,403"},{"$f":"IF(t.base[[#This Row],[DIAS DE ATRASO]]=0,0,t.base[[#This Row],[TOTAL]])","v":0}]
["2017-12-12","SERV&DATA S.A.C.","Centro","0002-001693","2018-03-12",1,{"v":22924,"d":"22,924"},{"$f":"IF(t.base[[#This Row],[DIAS DE ATRASO]]=0,0,t.base[[#This Row],[TOTAL]])","v":22924}]
["2018-02-26","ARMYCOX S.A.","Centro","0001-006371","2018-03-13",0,{"v":17951,"d":"17,951"},{"$f":"IF(t.base[[#This Row],[DIAS DE ATRASO]]=0,0,t.base[[#This Row],[TOTAL]])","v":0}]
["2017-12-18","SAMMYTEC S.A.","Centro","0001-005978","2017-12-18",85,{"v":25404,"d":"25,404"},{"$f":"IF(t.base[[#This Row],[DIAS DE ATRASO]]=0,0,t.base[[#This Row],[TOTAL]])","v":25404}]
["2018-01-26","STYLO EDWIL SRL","Centro","0002-007704","2018-03-12",1,{"v":25050,"d":"25,050"},{"$f":"IF(t.base[[#This Row],[DIAS DE ATRASO]]=0,0,t.base[[#This Row],[TOTAL]])","v":25050}]
["2017-12-11","TIERRA SUR E.I.R.L.","Sur","0001-007203","2018-01-10",62,{"v":48968,"d":"48,968"},{"$f":"IF(t.base[[#This Row],[DIAS DE ATRASO]]=0,0,t.base[[#This Row],[TOTAL]])","v":48968}]
["2017-09-05","HUAMAN NAPA ABRAHAM","Centro","0002-005885","2017-09-05",189,{"v":15095,"d":"15,095"},{"$f":"IF(t.base[[#This Row],[DIAS DE ATRASO]]=0,0,t.base[[#This Row],[TOTAL]])","v":15095}]
["2017-10-21","LOGISTICA PERU SRL","Norte","0001-007145","2017-12-20",83,{"v":53170,"d":"53,170"},{"$f":"IF(t.base[[#This Row],[DIAS DE ATRASO]]=0,0,t.base[[#This Row],[TOTAL]])","v":53170}]
["2018-02-25","C. CHINININ S.A.C.","Centro","0001-002816","2018-03-12",1,{"v":24902,"d":"24,902"},{"$f":"IF(t.base[[#This Row],[DIAS DE ATRASO]]=0,0,t.base[[#This Row],[TOTAL]])","v":24902}]
["2017-12-13","LEON GROUP E.I.R.L.","Sur","0001-009281","2018-03-13",0,{"v":13645,"d":"13,645"},{"$f":"IF(t.base[[#This Row],[DIAS DE ATRASO]]=0,0,t.base[[#This Row],[TOTAL]])","v":0}]
["2018-02-11","LOZANO IMPORT SAC.","Norte","0001-001895","2018-03-13",0,{"v":20444,"d":"20,444"},{"$f":"IF(t.base[[#This Row],[DIAS DE ATRASO]]=0,0,t.base[[#This Row],[TOTAL]])","v":0}]
["2018-02-11","SUPER MECANO S.A.C.","Centro","0001-009908","2018-03-13",0,{"v":12242,"d":"12,242"},{"$f":"IF(t.base[[#This Row],[DIAS DE ATRASO]]=0,0,t.base[[#This Row],[TOTAL]])","v":0}]
["2018-03-13","AMG KYODAI S.A.C.","Centro","0001-008986","2018-03-13",0,{"v":21640,"d":"21,640"},{"$f":"IF(t.base[[#This Row],[DIAS DE ATRASO]]=0,0,t.base[[#This Row],[TOTAL]])","v":0}]
["2018-01-12","METRICO E.I.R.L.","Centro","0001-004355","2018-03-13",0,{"v":26657,"d":"26,657"},{"$f":"IF(t.base[[#This Row],[DIAS DE ATRASO]]=0,0,t.base[[#This Row],[TOTAL]])","v":0}]
["2018-02-11","PEREZ ROMERO ROGER","Centro","0001-005261","2018-03-13",0,{"v":21647,"d":"21,647"},{"$f":"IF(t.base[[#This Row],[DIAS DE ATRASO]]=0,0,t.base[[#This Row],[TOTAL]])","v":0}]
["2017-12-12","RPS PERU S.A.C.","Centro","0001-001193","2018-03-12",1,{"v":15296,"d":"15,296"},{"$f":"IF(t.base[[#This Row],[DIAS DE ATRASO]]=0,0,t.base[[#This Row],[TOTAL]])","v":15296}]
["2018-03-13","MORE CLASS S.A.C","Centro","0002-003170","2018-03-13",0,{"v":13187,"d":"13,187"},{"$f":"IF(t.base[[#This Row],[DIAS DE ATRASO]]=0,0,t.base[[#This Row],[TOTAL]])","v":0}]
["2018-01-27","SANTO MARTIN S.A.C.","Centro","0002-003997","2018-03-13",0,{"v":18572,"d":"18,572"},{"$f":"IF(t.base[[#This Row],[DIAS DE ATRASO]]=0,0,t.base[[#This Row],[TOTAL]])","v":0}]
["2017-09-10","HUAMAN NAPA ABRAHAM","Centro","0002-009150","2017-09-10",184,{"v":23610,"d":"23,610"},{"$f":"IF(t.base[[#This Row],[DIAS DE ATRASO]]=0,0,t.base[[#This Row],[TOTAL]])","v":23610}]
["2018-02-10","ASCLEPIO S.A.C.","Centro","0001-009451","2018-03-12",1,{"v":13255,"d":"13,255"},{"$f":"IF(t.base[[#This Row],[DIAS DE ATRASO]]=0,0,t.base[[#This Row],[TOTAL]])","v":13255}]
["2018-03-13","SONMAR S.R.L.","Sur","0002-005120","2018-03-13",0,{"v":41515,"d":"41,515"},{"$f":"IF(t.base[[#This Row],[DIAS DE ATRASO]]=0,0,t.base[[#This Row],[TOTAL]])","v":0}]
["2017-09-13","VALTER SPORT SAC","Centro","0002-008545","2017-10-28",136,{"v":24133,"d":"24,133"},{"$f":"IF(t.base[[#This Row],[DIAS DE ATRASO]]=0,0,t.base[[#This Row],[TOTAL]])","v":24133}]
["2017-06-29","DERMASALUD S.R.L.","Centro","0002-003061","2017-08-13",212,{"v":15050,"d":"15,050"},{"$f":"IF(t.base[[#This Row],[DIAS DE ATRASO]]=0,0,t.base[[#This Row],[TOTAL]])","v":15050}]
["2018-01-27","PLUS MEDIC E.I.R.L.","Centro","0001-007440","2018-03-13",0,{"v":25211,"d":"25,211"},{"$f":"IF(t.base[[#This Row],[DIAS DE ATRASO]]=0,0,t.base[[#This Row],[TOTAL]])","v":0}]
["2018-02-26","RIE SAKATA E.I.R.L.","Centro","0001-009420","2018-03-13",0,{"v":25063,"d":"25,063"},{"$f":"IF(t.base[[#This Row],[DIAS DE ATRASO]]=0,0,t.base[[#This Row],[TOTAL]])","v":0}]
["2017-12-13","MARINAS GUZMAN JOSE","Centro","0002-003612","2018-03-13",0,{"v":15602,"d":"15,602"},{"$f":"IF(t.base[[#This Row],[DIAS DE ATRASO]]=0,0,t.base[[#This Row],[TOTAL]])","v":0}]
["2017-11-18","AQUINO PEREZ RONEL","Centro","0001-003173","2018-01-17",55,{"v":11289,"d":"11,289"},{"$f":"IF(t.base[[#This Row],[DIAS DE ATRASO]]=0,0,t.base[[#This Row],[TOTAL]])","v":11289}]
["2018-02-11","MEDICAL CT S.A.C.","Centro","0002-006103","2018-03-13",0,{"v":11421,"d":"11,421"},{"$f":"IF(t.base[[#This Row],[DIAS DE ATRASO]]=0,0,t.base[[#This Row],[TOTAL]])","v":0}]
["2017-12-13","AD LIBITUM S.A.C.","Centro","0001-003196","2018-01-27",45,{"v":28439,"d":"28,439"},{"$f":"IF(t.base[[#This Row],[DIAS DE ATRASO]]=0,0,t.base[[#This Row],[TOTAL]])","v":28439}]
["2017-12-08","G.M. TRAMAS S.A.","Centro","0001-007822","2018-01-22",50,{"v":21084,"d":"21,084"},{"$f":"IF(t.base[[#This Row],[DIAS DE ATRASO]]=0,0,t.base[[#This Row],[TOTAL]])","v":21084}]
["2018-02-26","SAAD SAID T I","Centro","0001-002599","2018-03-13",0,{"v":15553,"d":"15,553"},{"$f":"IF(t.base[[#This Row],[DIAS DE ATRASO]]=0,0,t.base[[#This Row],[TOTAL]])","v":0}]
["2018-02-11","PATIMOVIL SRLTDA","Centro","0002-009213","2018-03-13",0,{"v":18744,"d":"18,744"},{"$f":"IF(t.base[[#This Row],[DIAS DE ATRASO]]=0,0,t.base[[#This Row],[TOTAL]])","v":0}]
["2018-02-24","BIONOVA S.A.C.","Centro","0002-004795","2018-03-11",2,{"v":13976,"d":"13,976"},{"$f":"IF(t.base[[#This Row],[DIAS DE ATRASO]]=0,0,t.base[[#This Row],[TOTAL]])","v":13976}]
["2018-01-27","CRITIKOS S.A.C.","Centro","0002-003451","2018-03-13",0,{"v":11303,"d":"11,303"},{"$f":"IF(t.base[[#This Row],[DIAS DE ATRASO]]=0,0,t.base[[#This Row],[TOTAL]])","v":0}]
["2017-06-08","MOVILLANTAS S.A.C.","Centro","0001-004058","2017-07-23",233,{"v":14108,"d":"14,108"},{"$f":"IF(t.base[[#This Row],[DIAS DE ATRASO]]=0,0,t.base[[#This Row],[TOTAL]])","v":14108}]
["2017-08-22","TECNO COLOR S R L","Centro","0002-008155","2017-10-21",143,{"v":10242,"d":"10,242"},{"$f":"IF(t.base[[#This Row],[DIAS DE ATRASO]]=0,0,t.base[[#This Row],[TOTAL]])","v":10242}]
["2018-01-26","RAMOS JACINTO PEDRO","Centro","0002-003863","2018-03-12",1,{"v":27545,"d":"27,545"},{"$f":"IF(t.base[[#This Row],[DIAS DE ATRASO]]=0,0,t.base[[#This Row],[TOTAL]])","v":27545}]
["2018-03-13","KE JIANQING","Centro","0002-005426","2018-03-13",0,{"v":11935,"d":"11,935"},{"$f":"IF(t.base[[#This Row],[DIAS DE ATRASO]]=0,0,t.base[[#This Row],[TOTAL]])","v":0}]
["2018-01-26","MPK E.I.R.L.","Sur","0001-001667","2018-03-12",1,{"v":14123,"d":"14,123"},{"$f":"IF(t.base[[#This Row],[DIAS DE ATRASO]]=0,0,t.base[[#This Row],[TOTAL]])","v":14123}]
["2018-01-26","REY - SIL E.I.R.L.","Norte","0001-004910","2018-03-12",1,{"v":16231,"d":"16,231"},{"$f":"IF(t.base[[#This Row],[DIAS DE ATRASO]]=0,0,t.base[[#This Row],[TOTAL]])","v":16231}]
["2018-02-11","GRANJA AZUL S A","Centro","0001-009382","2018-03-13",0,{"v":26727,"d":"26,727"},{"$f":"IF(t.base[[#This Row],[DIAS DE ATRASO]]=0,0,t.base[[#This Row],[TOTAL]])","v":0}]
["2018-02-25","CIRFOSA PERU S.R.L.","Norte","0001-007543","2018-03-12",1,{"v":25672,"d":"25,672"},{"$f":"IF(t.base[[#This Row],[DIAS DE ATRASO]]=0,0,t.base[[#This Row],[TOTAL]])","v":25672}]
["2017-12-04","FAVINOX S.A.C.","Centro","0001-009186","2018-01-18",54,{"v":13871,"d":"13,871"},{"$f":"IF(t.base[[#This Row],[DIAS DE ATRASO]]=0,0,t.base[[#This Row],[TOTAL]])","v":13871}]
["2018-02-07","RUIZ LAVADO HEBER","Centro","0002-002281","2018-02-22",19,{"v":17855,"d":"17,855"},{"$f":"IF(t.base[[#This Row],[DIAS DE ATRASO]]=0,0,t.base[[#This Row],[TOTAL]])","v":17855}]
["2018-01-12","BEKTON S.A.C.","Centro","0002-007041","2018-03-13",0,{"v":19607,"d":"19,607"},{"$f":"IF(t.base[[#This Row],[DIAS DE ATRASO]]=0,0,t.base[[#This Row],[TOTAL]])","v":0}]
["2018-01-12","ERTI SRL","Sur","0001-001213","2018-03-13",0,{"v":10027,"d":"10,027"},{"$f":"IF(t.base[[#This Row],[DIAS DE ATRASO]]=0,0,t.base[[#This Row],[TOTAL]])","v":0}]
["2017-08-21","SOTO ZAMORA TITO","Centro","0001-002212","2017-10-20",144,{"v":27931,"d":"27,931"},{"$f":"IF(t.base[[#This Row],[DIAS DE ATRASO]]=0,0,t.base[[#This Row],[TOTAL]])","v":27931}]
["2018-03-13","MULTIVISION S.R.L.","Sur","0002-003369","2018-03-13",0,{"v":28897,"d":"28,897"},{"$f":"IF(t.base[[#This Row],[DIAS DE ATRASO]]=0,0,t.base[[#This Row],[TOTAL]])","v":0}]
["2018-02-26","F Y F CORP. S.A.C.","Centro","0002-006751","2018-03-13",0,{"v":10077,"d":"10,077"},{"$f":"IF(t.base[[#This Row],[DIAS DE ATRASO]]=0,0,t.base[[#This Row],[TOTAL]])","v":0}]
["2018-02-25","RIE SAKATA E.I.R.L.","Centro","0001-009169","2018-03-12",1,{"v":12030,"d":"12,030"},{"$f":"IF(t.base[[#This Row],[DIAS DE ATRASO]]=0,0,t.base[[#This Row],[TOTAL]])","v":12030}]
["2018-02-11","D'BEGASA S.A.C.","Centro","0001-008871","2018-03-13",0,{"v":21414,"d":"21,414"},{"$f":"IF(t.base[[#This Row],[DIAS DE ATRASO]]=0,0,t.base[[#This Row],[TOTAL]])","v":0}]
["2018-03-13","SAMMYTEC S.A.","Centro","0001-005403","2018-03-13",0,{"v":12368,"d":"12,368"},{"$f":"IF(t.base[[#This Row],[DIAS DE ATRASO]]=0,0,t.base[[#This Row],[TOTAL]])","v":0}]
["2018-02-26","PASTAGIORNO E.I.R.L","Centro","0002-005105","2018-03-13",0,{"v":22753,"d":"22,753"},{"$f":"IF(t.base[[#This Row],[DIAS DE ATRASO]]=0,0,t.base[[#This Row],[TOTAL]])","v":0}]
["2017-11-03","ALI - MART S.A.C.","Centro","0002-009278","2017-11-18",115,{"v":25894,"d":"25,894"},{"$f":"IF(t.base[[#This Row],[DIAS DE ATRASO]]=0,0,t.base[[#This Row],[TOTAL]])","v":25894}]
["2018-03-13","EL HERMANO E.I.R.L.","Sur","0002-002808","2018-03-13",0,{"v":36143,"d":"36,143"},{"$f":"IF(t.base[[#This Row],[DIAS DE ATRASO]]=0,0,t.base[[#This Row],[TOTAL]])","v":0}]
["2018-01-12","NORIKIRU S.A.C.","Centro","0001-004585","2018-03-13",0,{"v":19507,"d":"19,507"},{"$f":"IF(t.base[[#This Row],[DIAS DE ATRASO]]=0,0,t.base[[#This Row],[TOTAL]])","v":0}]
["2018-02-26","CREDIVILSA EIRL","Norte","0002-007028","2018-03-13",0,{"v":60078,"d":"60,078"},{"$f":"IF(t.base[[#This Row],[DIAS DE ATRASO]]=0,0,t.base[[#This Row],[TOTAL]])","v":0}]
["2017-10-25","ILOHOGAR E.I.R.L.","Sur","0002-004948","2017-11-24",109,{"v":7812,"d":"7,812"},{"$f":"IF(t.base[[#This Row],[DIAS DE ATRASO]]=0,0,t.base[[#This Row],[TOTAL]])","v":7812}]
["2018-01-27","MORAN VALENCIA ENMA","Centro","0001-001595","2018-03-13",0,{"v":12035,"d":"12,035"},{"$f":"IF(t.base[[#This Row],[DIAS DE ATRASO]]=0,0,t.base[[#This Row],[TOTAL]])","v":0}]
["2017-12-01","RESANPE S.R.L.","Sur","0001-004847","2018-01-15",57,{"v":32069,"d":"32,069"},{"$f":"IF(t.base[[#This Row],[DIAS DE ATRASO]]=0,0,t.base[[#This Row],[TOTAL]])","v":32069}]
["2018-01-27","CUEROTEX S.A.C","Centro","0001-006217","2018-03-13",0,{"v":24898,"d":"24,898"},{"$f":"IF(t.base[[#This Row],[DIAS DE ATRASO]]=0,0,t.base[[#This Row],[TOTAL]])","v":0}]
["2017-12-12","INKACLOTH S.A.C.","Centro","0001-001591","2018-03-12",1,{"v":16584,"d":"16,584"},{"$f":"IF(t.base[[#This Row],[DIAS DE ATRASO]]=0,0,t.base[[#This Row],[TOTAL]])","v":16584}]
["2018-01-11","KAMASENI S.A.C.","Centro","0002-003105","2018-03-12",1,{"v":12057,"d":"12,057"},{"$f":"IF(t.base[[#This Row],[DIAS DE ATRASO]]=0,0,t.base[[#This Row],[TOTAL]])","v":12057}]
["2017-11-06","SVITZER ANDINO S.A.","Centro","0002-009864","2017-12-21",82,{"v":28127,"d":"28,127"},{"$f":"IF(t.base[[#This Row],[DIAS DE ATRASO]]=0,0,t.base[[#This Row],[TOTAL]])","v":28127}]
["2017-09-07","GORVEZ E.I.R.L.","Norte","0002-001355","2017-10-22",142,{"v":48005,"d":"48,005"},{"$f":"IF(t.base[[#This Row],[DIAS DE ATRASO]]=0,0,t.base[[#This Row],[TOTAL]])","v":48005}]
["2017-12-12","DUNKEL E.I.R.L.","Sur","0002-004656","2018-03-12",1,{"v":43303,"d":"43,303"},{"$f":"IF(t.base[[#This Row],[DIAS DE ATRASO]]=0,0,t.base[[#This Row],[TOTAL]])","v":43303}]
["2018-03-13","DOLLAR GROUP SA","Centro","0001-004043","2018-03-13",0,{"v":18405,"d":"18,405"},{"$f":"IF(t.base[[#This Row],[DIAS DE ATRASO]]=0,0,t.base[[#This Row],[TOTAL]])","v":0}]
["2018-02-11","OROMONTE S.A","Centro","0002-004218","2018-02-11",30,{"v":11620,"d":"11,620"},{"$f":"IF(t.base[[#This Row],[DIAS DE ATRASO]]=0,0,t.base[[#This Row],[TOTAL]])","v":11620}]
["2017-11-01","NMS CORP S.A.C","Centro","0002-006283","2017-12-16",87,{"v":10597,"d":"10,597"},{"$f":"IF(t.base[[#This Row],[DIAS DE ATRASO]]=0,0,t.base[[#This Row],[TOTAL]])","v":10597}]
["2018-02-16","RIVERA COSME CAYO","Centro","0002-007463","2018-02-16",25,{"v":28369,"d":"28,369"},{"$f":"IF(t.base[[#This Row],[DIAS DE ATRASO]]=0,0,t.base[[#This Row],[TOTAL]])","v":28369}]
["2018-01-27","CASA LE MAN'S S.A.","Centro","0002-007953","2018-03-13",0,{"v":22687,"d":"22,687"},{"$f":"IF(t.base[[#This Row],[DIAS DE ATRASO]]=0,0,t.base[[#This Row],[TOTAL]])","v":0}]
["2017-12-28","PROIMPULSA SAC","Centro","0002-006503","2018-02-11",30,{"v":16849,"d":"16,849"},{"$f":"IF(t.base[[#This Row],[DIAS DE ATRASO]]=0,0,t.base[[#This Row],[TOTAL]])","v":16849}]
["2017-11-06","SUPERPRINT S.A.C.","Centro","0001-003163","2018-01-05",67,{"v":17191,"d":"17,191"},{"$f":"IF(t.base[[#This Row],[DIAS DE ATRASO]]=0,0,t.base[[#This Row],[TOTAL]])","v":17191}]

{"sheet":"FX","index":3,"n_rows":947,"n_cols":45,"rows_kept":947,"hidden":true}
[null,"REGION","Centro"]
[]
[null,"Etiquetas de fila","Cuenta de DOCUMENTO","Suma de TOTAL","Suma de ATRASADO","Promedio de TOTAL2",null,null,"Region","Oper","Total","Atraso","Prom",null,null,"Cliente","Oper","Total","Atraso","Prom",{"$nulls":3},"Dias","Atraso 1","Atraso 2",null,"Mes","Nº Oper","Prom Venta",null,"Fecha","Ventas","Por Cobrar",{"$nulls":3},"Centro",10000,30000,null,{"$f":"{\"=[@[FECHA VCTO]]-ELEGIR(ALEATORIO.ENTRE(1,6),0,15,30,45,60,90)\"}","v":"=[@[FECHA VCTO]]-ELEGIR(ALEATORIO.ENTRE(1,6),0,15,30,45,60,90)"}]
[null,"ITAPIER S.R.L.",15,318661,205308,21244.066666666666,null,null,"Centro",{"$f":"COUNTIFS(t.base[REGION],$I4)","v":{"v":3779,"d":"3,779"}},{"$f":"SUMIFS(t.base[TOTAL],t.base[REGION],$I4)","v":{"v":75403259,"d":"75,403,259"}},{"$f":"SUMIFS(t.base[TOTAL],t.base[REGION],$I4,t.base[DIAS DE ATRASO],\"<>0\")","v":{"v":37666992,"d":"37,666,992"}},{"$f":"AVERAGEIFS(t.base[TOTAL],t.base[REGION],$I4)","v":{"v":19953.230748875365,"d":"19,953"}},null,null,{"$f":"OFFSET($A$3,ROWS($O$4:$O4)+$Q$13-1,COLUMNS($P$3:P$3))","v":"GOMEZ YUCRA SIMEON"},{"$f":"OFFSET($A$3,ROWS($O$4:$O4)+$Q$13-1,COLUMNS($P$3:Q$3))","v":8},{"$f":"OFFSET($A$3,ROWS($O$4:$O4)+$Q$13-1,COLUMNS($P$3:R$3))","v":182659},{"$f":"OFFSET($A$3,ROWS($O$4:$O4)+$Q$13-1,COLUMNS($P$3:S$3))","v":144020},{"$f":"OFFSET($A$3,ROWS($O$4:$O4)+$Q$13-1,COLUMNS($P$3:T$3))","v":{"v":22832.375,"d":"22832"}},null,0,30,{"$f":"V4&\" - \"&W4","v":"0 - 30"},{"$f":"SUMIFS(t.base[ATRASADO],t.base[DIAS DE ATRASO],\">=\"&FX!V4,t.base[DIAS DE ATRASO],\"<=\"&FX!W4,t.base[REGION],$C$1)","v":{"v":14843177,"d":"$ 14,843,177 "}},{"$f":"Y4","v":{"v":14843177,"d":"$ 14,843,177 "}},null,{"$f":"EOMONTH(MAX(t.base[FECHA EMISION]),ROWS($AA$4:$AA4)-7)","v":"2017-09-30"},{"$f":"COUNTIFS(t.base[FECHA EMISION],\">=\"&EOMONTH(AB4,-1)+1,t.base[FECHA EMISION],\"<=\"&AB4,t.base[REGION],$C$1)","v":107},{"$f":"AVERAGEIFS(t.base[TOTAL],t.base[FECHA EMISION],\">=\"&EOMONTH(AB4,-1)+1,t.base[FECHA EMISION],\"<=\"&AB4,t.base[REGION],$C$1)","v":{"v":19693.1214953271,"d":"$ 19,693 "}},null,{"$f":"EOMONTH(MIN(t.base[FECHA EMISION]),ROWS($AF$4:$AF4)-1)","v":"2017-04-30"},{"$f":"RANDBETWEEN($AH$14,$AH$13)*(1+$AG$20)","v":{"v":40181698.28,"d":"40,181,698"}},{"$f":"SUMIFS(t.base[TOTAL],t.base[FECHA EMISION],\">=\"&EOMONTH(AF4,-1)+1,t.base[FECHA EMISION],\"<=\"&AF4)","v":{"v":261107,"d":"261,107"}},{"$nulls":3},"Sur",5000,50000,null,{"$f":"{\"=INDICE(t.cliente[NOMBRE O RAZON SOCIAL],ALEATORIO.ENTRE(1,CONTARA(t.cliente[NOMBRE O RAZON SOCIAL])))\"}","v":"=INDICE(t.cliente[NOMBRE O RAZON SOCIAL],ALEATORIO.ENTRE(1,CONTARA(t.cliente[NOMBRE O RAZON SOCIAL])))"}]
[null,"C. CHINININ S.A.C.",12,267504,158314,22292,null,null,"Norte",{"$f":"COUNTIFS(t.base[REGION],$I5)","v":584},{"$f":"SUMIFS(t.base[TOTAL],t.base[REGION],$I5)","v":{"v":23693029,"d":"23,693,029"}},{"$f":"SUMIFS(t.base[TOTAL],t.base[REGION],$I5,t.base[DIAS DE ATRASO],\"<>0\")","v":{"v":11253410,"d":"11,253,410"}},{"$f":"AVERAGEIFS(t.base[TOTAL],t.base[REGION],$I5)","v":{"v":40570.2551369863,"d":"40,570"}},null,null,{"$f":"OFFSET($A$3,ROWS($O$4:$O5)+$Q$13-1,COLUMNS($P$3:P$3))","v":"ALBACONSULT S.A.C."},{"$f":"OFFSET($A$3,ROWS($O$4:$O5)+$Q$13-1,COLUMNS($P$3:Q$3))","v":9},{"$f":"OFFSET($A$3,ROWS($O$4:$O5)+$Q$13-1,COLUMNS($P$3:R$3))","v":186601},{"$f":"OFFSET($A$3,ROWS($O$4:$O5)+$Q$13-1,COLUMNS($P$3:S$3))","v":138791},{"$f":"OFFSET($A$3,ROWS($O$4:$O5)+$Q$13-1,COLUMNS($P$3:T$3))","v":{"v":20733.444444444445,"d":"20733"}},null,31,60,{"$f":"V5&\" - \"&W5","v":"31 - 60"},{"$f":"SUMIFS(t.base[ATRASADO],t.base[DIAS DE ATRASO],\">=\"&FX!V5,t.base[DIAS DE ATRASO],\"<=\"&FX!W5,t.base[REGION],$C$1)","v":{"v":7554297,"d":"$ 7,554,297 "}},null,null,{"$f":"EOMONTH(MAX(t.base[FECHA EMISION]),ROWS($AA$4:$AA5)-7)","v":"2017-10-31"},{"$f":"COUNTIFS(t.base[FECHA EMISION],\">=\"&EOMONTH(AB5,-1)+1,t.base[FECHA EMISION],\"<=\"&AB5,t.base[REGION],$C$1)","v":155},{"$f":"AVERAGEIFS(t.base[TOTAL],t.base[FECHA EMISION],\">=\"&EOMONTH(AB5,-1)+1,t.base[FECHA EMISION],\"<=\"&AB5,t.base[REGION],$C$1)","v":{"v":19699.567741935483,"d":"$ 19,700 "}},null,{"$f":"EOMONTH(MIN(t.base[FECHA EMISION]),ROWS($AF$4:$AF5)-1)","v":"2017-05-31"},{"v":39000222.96,"d":"39,000,223"},{"$f":"SUMIFS(t.base[TOTAL],t.base[FECHA EMISION],\">=\"&EOMONTH(AF5,-1)+1,t.base[FECHA EMISION],\"<=\"&AF5)","v":{"v":561486,"d":"561,486"}},{"$nulls":3},"Norte",10000,70000,null,{"$f":"{\"=BUSCARV([@CLIENTE],t.cliente[[NOMBRE O RAZON SOCIAL]:[REGION]],3,0)\"}","v":"=BUSCARV([@CLIENTE],t.cliente[[NOMBRE O RAZON SOCIAL]:[REGION]],3,0)"}]
[null,"SERMATFER E.I.R.L",10,193721,155331,19372.1,null,null,"Sur",{"$f":"COUNTIFS(t.base[REGION],$I6)","v":637},{"$f":"SUMIFS(t.base[TOTAL],t.base[REGION],$I6)","v":{"v":17257656,"d":"17,257,656"}},{"$f":"SUMIFS(t.base[TOTAL],t.base[REGION],$I6,t.base[DIAS DE ATRASO],\"<>0\")","v":{"v":8274721,"d":"8,274,721"}},{"$f":"AVERAGEIFS(t.base[TOTAL],t.base[REGION],$I6)","v":{"v":27092.081632653062,"d":"27,092"}},null,null,{"$f":"OFFSET($A$3,ROWS($O$4:$O6)+$Q$13-1,COLUMNS($P$3:P$3))","v":"GOMEZ ROMANI LEONOR"},{"$f":"OFFSET($A$3,ROWS($O$4:$O6)+$Q$13-1,COLUMNS($P$3:Q$3))","v":10},{"$f":"OFFSET($A$3,ROWS($O$4:$O6)+$Q$13-1,COLUMNS($P$3:R$3))","v":231604},{"$f":"OFFSET($A$3,ROWS($O$4:$O6)+$Q$13-1,COLUMNS($P$3:S$3))","v":136672},{"$f":"OFFSET($A$3,ROWS($O$4:$O6)+$Q$13-1,COLUMNS($P$3:T$3))","v":{"v":23160.4,"d":"23160"}},null,61,90,{"$f":"V6&\" - \"&W6","v":"61 - 90"},{"$f":"SUMIFS(t.base[ATRASADO],t.base[DIAS DE ATRASO],\">=\"&FX!V6,t.base[DIAS DE ATRASO],\"<=\"&FX!W6,t.base[REGION],$C$1)","v":{"v":7698618,"d":"$ 7,698,618 "}},null,null,{"$f":"EOMONTH(MAX(t.base[FECHA EMISION]),ROWS($AA$4:$AA6)-7)","v":"2017-11-30"},{"$f":"COUNTIFS(t.base[FECHA EMISION],\">=\"&EOMONTH(AB6,-1)+1,t.base[FECHA EMISION],\"<=\"&AB6,t.base[REGION],$C$1)","v":297},{"$f":"AVERAGEIFS(t.base[TOTAL],t.base[FECHA EMISION],\">=\"&EOMONTH(AB6,-1)+1,t.base[FECHA EMISION],\"<=\"&AB6,t.base[REGION],$C$1)","v":{"v":20127.73400673401,"d":"$ 20,128 "}},null,{"$f":"EOMONTH(MIN(t.base[FECHA EMISION]),ROWS($AF$4:$AF6)-1)","v":"2017-06-30"},{"v":38937442.620000005,"d":"38,937,443"},{"$f":"SUMIFS(t.base[TOTAL],t.base[FECHA EMISION],\">=\"&EOMONTH(AF6,-1)+1,t.base[FECHA EMISION],\"<=\"&AF6)","v":{"v":971659,"d":"971,659"}},{"$nulls":7},{"$f":"{\"=TEXTO(ALEATORIO.ENTRE(1,2),\"\"0000\"\")&\"\"-\"\"&TEXTO(ALEATORIO.ENTRE(1000,9999),\"\"000000\"\")\"}","v":"=TEXTO(ALEATORIO.ENTRE(1,2),\"0000\")&\"-\"&TEXTO(ALEATORIO.ENTRE(1000,9999),\"000000\")"}]
[null,"LMS MENAGE S.A.C.",8,166807,153643,20850.875,{"$nulls":9},{"$f":"OFFSET($A$3,ROWS($O$4:$O7)+$Q$13-1,COLUMNS($P$3:P$3))","v":"LOPEZ ARIAS MANUEL"},{"$f":"OFFSET($A$3,ROWS($O$4:$O7)+$Q$13-1,COLUMNS($P$3:Q$3))","v":10},{"$f":"OFFSET($A$3,ROWS($O$4:$O7)+$Q$13-1,COLUMNS($P$3:R$3))","v":226519},{"$f":"OFFSET($A$3,ROWS($O$4:$O7)+$Q$13-1,COLUMNS($P$3:S$3))","v":135836},{"$f":"OFFSET($A$3,ROWS($O$4:$O7)+$Q$13-1,COLUMNS($P$3:T$3))","v":{"v":22651.9,"d":"22652"}},null,91,500,{"$f":"V7&\" + \"","v":"91 + "},{"$f":"SUMIFS(t.base[ATRASADO],t.base[DIAS DE ATRASO],\">=\"&FX!V7,t.base[DIAS DE ATRASO],\"<=\"&FX!W7,t.base[REGION],$C$1)","v":{"v":7570900,"d":"$ 7,570,900 "}},null,null,{"$f":"EOMONTH(MAX(t.base[FECHA EMISION]),ROWS($AA$4:$AA7)-7)","v":"2017-12-31"},{"$f":"COUNTIFS(t.base[FECHA EMISION],\">=\"&EOMONTH(AB7,-1)+1,t.base[FECHA EMISION],\"<=\"&AB7,t.base[REGION],$C$1)","v":720},{"$f":"AVERAGEIFS(t.base[TOTAL],t.base[FECHA EMISION],\">=\"&EOMONTH(AB7,-1)+1,t.base[FECHA EMISION],\"<=\"&AB7,t.base[REGION],$C$1)","v":{"v":19792.9375,"d":"$ 19,793 "}},null,{"$f":"EOMONTH(MIN(t.base[FECHA EMISION]),ROWS($AF$4:$AF7)-1)","v":"2017-07-31"},{"v":39609530.34,"d":"39,609,530"},{"$f":"SUMIFS(t.base[TOTAL],t.base[FECHA EMISION],\">=\"&EOMONTH(AF7,-1)+1,t.base[FECHA EMISION],\"<=\"&AF7)","v":{"v":1839040,"d":"1,839,040"}},{"$nulls":7},{"$f":"{\"=HOY()-[@[DIAS DE ATRASO]]\"}","v":"=HOY()-[@[DIAS DE ATRASO]]"}]
[null,"ILOP  S.A.C.",10,196403,152368,19640.3,{"$nulls":9},{"$f":"OFFSET($A$3,ROWS($O$4:$O8)+$Q$13-1,COLUMNS($P$3:P$3))","v":"COPY SERVICE MV SAC"},{"$f":"OFFSET($A$3,ROWS($O$4:$O8)+$Q$13-1,COLUMNS($P$3:Q$3))","v":7},{"$f":"OFFSET($A$3,ROWS($O$4:$O8)+$Q$13-1,COLUMNS($P$3:R$3))","v":146748},{"$f":"OFFSET($A$3,ROWS($O$4:$O8)+$Q$13-1,COLUMNS($P$3:S$3))","v":135614},{"$f":"OFFSET($A$3,ROWS($O$4:$O8)+$Q$13-1,COLUMNS($P$3:T$3))","v":20964},{"$nulls":7},{"$f":"EOMONTH(MAX(t.base[FECHA EMISION]),ROWS($AA$4:$AA8)-7)","v":"2018-01-31"},{"$f":"COUNTIFS(t.base[FECHA EMISION],\">=\"&EOMONTH(AB8,-1)+1,t.base[FECHA EMISION],\"<=\"&AB8,t.base[REGION],$C$1)","v":989},{"$f":"AVERAGEIFS(t.base[TOTAL],t.base[FECHA EMISION],\">=\"&EOMONTH(AB8,-1)+1,t.base[FECHA EMISION],\"<=\"&AB8,t.base[REGION],$C$1)","v":{"v":20240.946410515673,"d":"$ 20,241 "}},null,{"$f":"EOMONTH(MIN(t.base[FECHA EMISION]),ROWS($AF$4:$AF8)-1)","v":"2017-08-31"},{"v":39828704.760000005,"d":"39,828,705"},{"$f":"SUMIFS(t.base[TOTAL],t.base[FECHA EMISION],\">=\"&EOMONTH(AF8,-1)+1,t.base[FECHA EMISION],\"<=\"&AF8)","v":{"v":2290465,"d":"2,290,465"}},{"$nulls":7},{"$f":"{\"=ELEGIR(ALEATORIO.ENTRE(1,10),ALEATORIO.ENTRE(0,0),ALEATORIO.ENTRE(0,0),ALEATORIO.ENTRE(0,0),ALEATORIO.ENTRE(0,0),ALEATORIO.ENTRE(0,1),ALEATORIO.ENTRE(0,1),ALEATORIO.ENTRE(0,30),ALEATORIO.ENTRE(31,60),ALEATORIO.ENTRE(61,90),ALEATORIO.ENTRE(90,240))\"}","v":"=ELEGIR(ALEATORIO.ENTRE(1,10),ALEATORIO.ENTRE(0,0),ALEATORIO.ENTRE(0,0),ALEATORIO.ENTRE(0,0),ALEATORIO.ENTRE(0,0),ALEATORIO.ENTRE(0,1),ALEATORIO.ENTRE(0,1),ALEATORIO.ENTRE(0,30),ALEATORIO.ENTRE(31,60),ALEATORIO.ENTRE(61,90),ALEATORIO.ENTRE(90,240))"}]
[null,"TRAUMA S.A.C.",11,191446,151892,17404.18181818182,{"$nulls":9},{"$f":"OFFSET($A$3,ROWS($O$4:$O9)+$Q$13-1,COLUMNS($P$3:P$3))","v":"APAZA PUMA LEONARDA"},{"$f":"OFFSET($A$3,ROWS($O$4:$O9)+$Q$13-1,COLUMNS($P$3:Q$3))","v":9},{"$f":"OFFSET($A$3,ROWS($O$4:$O9)+$Q$13-1,COLUMNS($P$3:R$3))","v":186470},{"$f":"OFFSET($A$3,ROWS($O$4:$O9)+$Q$13-1,COLUMNS($P$3:S$3))","v":135167},{"$f":"OFFSET($A$3,ROWS($O$4:$O9)+$Q$13-1,COLUMNS($P$3:T$3))","v":{"v":20718.88888888889,"d":"20719"}},{"$nulls":7},{"$f":"EOMONTH(MAX(t.base[FECHA EMISION]),ROWS($AA$4:$AA9)-7)","v":"2018-02-28"},{"$f":"COUNTIFS(t.base[FECHA EMISION],\">=\"&EOMONTH(AB9,-1)+1,t.base[FECHA EMISION],\"<=\"&AB9,t.base[REGION],$C$1)","v":898},{"$f":"AVERAGEIFS(t.base[TOTAL],t.base[FECHA EMISION],\">=\"&EOMONTH(AB9,-1)+1,t.base[FECHA EMISION],\"<=\"&AB9,t.base[REGION],$C$1)","v":{"v":19844.805122494432,"d":"$ 19,845 "}},null,{"$f":"EOMONTH(MIN(t.base[FECHA EMISION]),ROWS($AF$4:$AF9)-1)","v":"2017-09-30"},{"v":37750777.480000004,"d":"37,750,777"},{"$f":"SUMIFS(t.base[TOTAL],t.base[FECHA EMISION],\">=\"&EOMONTH(AF9,-1)+1,t.base[FECHA EMISION],\"<=\"&AF9)","v":{"v":2954267,"d":"2,954,267"}},{"$nulls":7},{"$f":"{\"=ALEATORIO.ENTRE(BUSCARV(C2,$AB$2:$AD$4,2,0),BUSCARV(C2,$AB$2:$AD$4,3,0))\"}","v":"=ALEATORIO.ENTRE(BUSCARV(C2,$AB$2:$AD$4,2,0),BUSCARV(C2,$AB$2:$AD$4,3,0))"}]
[null,"AMG KYODAI S.A.C.",9,214225,144890,23802.777777777777,{"$nulls":9},{"$f":"OFFSET($A$3,ROWS($O$4:$O10)+$Q$13-1,COLUMNS($P$3:P$3))","v":"EL CAIRO S.A.C."},{"$f":"OFFSET($A$3,ROWS($O$4:$O10)+$Q$13-1,COLUMNS($P$3:Q$3))","v":7},{"$f":"OFFSET($A$3,ROWS($O$4:$O10)+$Q$13-1,COLUMNS($P$3:R$3))","v":177387},{"$f":"OFFSET($A$3,ROWS($O$4:$O10)+$Q$13-1,COLUMNS($P$3:S$3))","v":135144},{"$f":"OFFSET($A$3,ROWS($O$4:$O10)+$Q$13-1,COLUMNS($P$3:T$3))","v":25341},{"$nulls":7},{"$f":"EOMONTH(MAX(t.base[FECHA EMISION]),ROWS($AA$4:$AA10)-7)","v":"2018-03-31"},{"$f":"COUNTIFS(t.base[FECHA EMISION],\">=\"&EOMONTH(AB10,-1)+1,t.base[FECHA EMISION],\"<=\"&AB10,t.base[REGION],$C$1)","v":401},{"$f":"AVERAGEIFS(t.base[TOTAL],t.base[FECHA EMISION],\">=\"&EOMONTH(AB10,-1)+1,t.base[FECHA EMISION],\"<=\"&AB10,t.base[REGION],$C$1)","v":{"v":19862.149625935162,"d":"$ 19,862 "}},null,{"$f":"EOMONTH(MIN(t.base[FECHA EMISION]),ROWS($AF$4:$AF10)-1)","v":"2017-10-31"},{"v":39367858.660000004,"d":"39,367,859"},{"$f":"SUMIFS(t.base[TOTAL],t.base[FECHA EMISION],\">=\"&EOMONTH(AF10,-1)+1,t.base[FECHA EMISION],\"<=\"&AF10)","v":{"v":4960763,"d":"4,960,763"}}]
[null,"MRP E.I.R.L.",9,172246,144289,19138.444444444445,{"$nulls":25},{"$f":"EOMONTH(MIN(t.base[FECHA EMISION]),ROWS($AF$4:$AF11)-1)","v":"2017-11-30"},{"v":39581230.88,"d":"39,581,231"},{"$f":"SUMIFS(t.base[TOTAL],t.base[FECHA EMISION],\">=\"&EOMONTH(AF11,-1)+1,t.base[FECHA EMISION],\"<=\"&AF11)","v":{"v":9184644,"d":"9,184,644"}}]
[null,"GOMEZ YUCRA SIMEON",8,182659,144020,22832.375,{"$nulls":25},{"$f":"EOMONTH(MIN(t.base[FECHA EMISION]),ROWS($AF$4:$AF12)-1)","v":"2017-12-31"},{"$f":"AH12*(1+$AG$20)","v":{"v":30698708.560000002,"d":"30,698,709"}},{"$f":"SUMIFS(t.base[TOTAL],t.base[FECHA EMISION],\">=\"&EOMONTH(AF12,-1)+1,t.base[FECHA EMISION],\"<=\"&AF12)","v":{"v":22909484,"d":"22,909,484"}},{"$nulls":7},"RUC","NOMBRE O RAZON SOCIAL","UBICACIÓN","REGION"]
[null,"ALBACONSULT S.A.C.",9,186601,138791,20733.444444444445,{"$nulls":9},"Lista de clientes",9,{"$nulls":14},{"$f":"EOMONTH(MIN(t.base[FECHA EMISION]),ROWS($AF$4:$AF13)-1)","v":"2018-01-31"},{"$f":"AH13*(1+$AG$20)","v":{"v":40394230.32,"d":"40,394,230"}},{"$f":"SUMIFS(t.base[TOTAL],t.base[FECHA EMISION],\">=\"&EOMONTH(AF13,-1)+1,t.base[FECHA EMISION],\"<=\"&AF13)","v":{"v":30144948,"d":"30,144,948"}},{"$nulls":7},20455210799,"2M SERVICIOS S.A.C.","AREQUIPA","Sur"]
[null,"GOMEZ ROMANI LEONOR",10,231604,136672,23160.4,{"$nulls":25},{"$f":"EOMONTH(MIN(t.base[FECHA EMISION]),ROWS($AF$4:$AF14)-1)","v":"2018-02-28"},{"$f":"AH14*(1+$AG$20)","v":{"v":36966180.68,"d":"36,966,181"}},{"$f":"SUMIFS(t.base[TOTAL],t.base[FECHA EMISION],\">=\"&EOMONTH(AF14,-1)+1,t.base[FECHA EMISION],\"<=\"&AF14)","v":{"v":27586702,"d":"27,586,702"}},{"$nulls":7},20267432571,"35-17 CARGO S.A.C.","LIMA","Centro"]
[null,"LOPEZ ARIAS MANUEL",10,226519,135836,22651.9,{"$nulls":25},{"$f":"EOMONTH(MIN(t.base[FECHA EMISION]),ROWS($AF$4:$AF15)-1)","v":"2018-03-31"},{"$f":"AH15*(1+$AG$20)","v":{"v":17003767.86,"d":"17,003,768"}},{"$f":"SUMIFS(t.base[TOTAL],t.base[FECHA EMISION],\">=\"&EOMONTH(AF15,-1)+1,t.base[FECHA EMISION],\"<=\"&AF15)","v":{"v":12689379,"d":"12,689,379"}},{"$nulls":7},20518396171,"3E SERVICIOS S.A.C.","LIMA","Centro"]
[null,"COPY SERVICE MV SAC",7,146748,135614,20964,{"$nulls":35},20452635411,"A & G S.A.C.","ICA","Sur"]
[null,"APAZA PUMA LEONARDA",9,186470,135167,20718.88888888889,{"$nulls":26},{"$f":"SUM(AG4:AG15)","v":{"v":439320353.4000001,"d":"439,320,353"}},{"$f":"SUM(AH4:AH15)","v":{"v":116353944,"d":"116,353,944"}},{"$nulls":7},20513519673,"A & SAN JOSE S.A.C","LIMA","Centro"]
[null,"EL CAIRO S.A.C.",7,177387,135144,25341,{"$nulls":27},{"$f":"AH17/AG17*360","v":95.345957718152},{"$nulls":7},20303179047,"A Z CHEMICAL EIRL","LIMA","Centro"]
[null,"NAYMLAP INN S.A.C",8,186695,134924,23336.875,{"$nulls":35},20532396175,"A.C.D. S.R.L.","MOQUEGUA","Sur"]
[null,"COPLASTGROUP S.A.",8,176467,134635,22058.375,{"$nulls":26},{"$f":"RANDBETWEEN(0,35)%","v":0.34},{"$nulls":8},20492893162,"ACEROS JK S.A.C.","LIMA","Centro"]
[null,"COPY  GRAPH S.A.C.",11,250835,131863,22803.18181818182,{"$nulls":35},20122457002,"ACQUAM S.R.LTDA","LIMA","Centro"]
[null,"CBMARKETERS S.A.C.",8,168001,130383,21000.125,{"$nulls":35},20501592995,"AD LIBITUM S.A.C.","LIMA","Centro"]
[null,"CONDORCO S.R.L.",8,172784,129147,21598,{"$nulls":35},20210366505,"AFC BUSSINES SRLTDA","LIMA","Centro"]
[null,"IMPORT JHV E.I.R.L.",8,165538,129082,20692.25,{"$nulls":35},20502823923,"AGF VULCANO S.R.L.","CALLAO","Centro"]
[null,"G.M. TRAMAS S.A.",8,141441,125984,17680.125,{"$nulls":35},20514349780,"AGREGA S.A.C.","LIMA","Centro"]
[null,"VIRGO PERU SAC",6,150267,125017,25044.5,{"$nulls":35},20528918841,"AGRO FALCON S.R.L.","HUANUCO","Norte"]
[null,"JOMI TOURS S.A.C",7,162144,124496,23163.428571428572,{"$nulls":35},20515259067,"AGRO SELECTO S.A.C.","LIMA","Centro"]
[null,"RIVERA COSME CAYO",7,168545,124212,24077.85714285714,{"$nulls":35},20498095063,"AGROCAUCHO EIRL","AREQUIPA","Sur"]
[null,"ALI - MART S.A.C.",7,135837,122764,19405.285714285714,{"$nulls":35},20523052684,"AGRORETAIL  S.A.C.","LIMA","Centro"]
[null,"TECNO COLOR S R L",8,160447,122314,20055.875,{"$nulls":35},20260935110,"AGROSANTA E.I.R.L.","LIMA","Centro"]
[null,"SAINT LOUIS S.A.C.",8,167542,121874,20942.75,{"$nulls":35},20486151553,"AGROVISION E.I.R.L.","JUNIN","Centro"]
[null,"TRIGOZO DIAZ CLELIA",9,198409,121104,22045.444444444445,{"$nulls":35},20516278065,"AIR JMC EIRL","LIMA","Centro"]
[null,"HUAMALI ANCO TITO",6,130410,118611,21735,{"$nulls":35},20390680016,"AIS PERU S.A.","LIMA","Centro"]
[null,"VHL FOOD SAC",10,228630,117954,22863,{"$nulls":35},20508384981,"AITER'S SRL","LIMA","Centro"]
[null,"FIVE PERU E.I.R.L.",8,188554,116911,23569.25,{"$nulls":35},15505416063,"AJRAZ THOME FELIPE","LIMA","Centro"]
[null,"MODULEC S.A.C.",7,148108,115780,21158.285714285714,{"$nulls":35},20468103410,"ALBACONSULT S.A.C.","LIMA","Centro"]
[null,"AITER'S SRL",12,245516,115693,20459.666666666668,{"$nulls":35},20518621719,"ALCANZANDO","LIMA","Centro"]
[null,"PLASTILEON EIRL",6,141845,115396,23640.833333333332,{"$nulls":35},20118508123,"ALDELI S.A.","LIMA","Centro"]
[null,"QUEA TAPIA EULALIA",6,137343,115121,22890.5,{"$nulls":35},20454088922,"ALDI S.A.C.","AREQUIPA","Sur"]
[null,"URETA SOTO SUSANA",9,188880,115079,20986.666666666668,{"$nulls":35},20521382300,"ALEFRAN E.I.R.L.","LIMA","Centro"]
[null,"PLAZA MOTORS S.A.C.",7,147351,112717,21050.14285714286,{"$nulls":35},20519309590,"ALFA & ALFA E.I.R.L","LIMA","Centro"]
[null,"SUNI NUNONCCA SIMON",5,132284,112641,26456.8,{"$nulls":35},20510148631,"ALFAMODA S.A.C.","LIMA","Centro"]
[null,"SERV&DATA S.A.C.",7,141198,112408,20171.14285714286,{"$nulls":35},20454131950,"ALFAR S.A.C.","AREQUIPA","Sur"]
[null,"TEXMACHINE S.A.C.",11,237025,112006,21547.727272727272,{"$nulls":35},20492928217,"ALI - MART S.A.C.","LIMA","Centro"]
[null,"SALLO LEVA ISABEL",8,137499,111715,17187.375,{"$nulls":35},20438083201,"ALI & CIA S.A.C","LAMBAYEQUE","Norte"]
[null,"CONTRACTORS SAC",10,229438,111650,22943.8,{"$nulls":35},20511046255,"ALIFAD E.I.R.L.","LIMA","Centro"]
[null,"SALCOM S.A.C.",11,166195,111635,15108.636363636364,{"$nulls":35},20393062801,"ALMAPEL E.I.R.L.","UCAYALI","Sur"]
[null,"ARENAS RAMOS FREDY",11,204584,111509,18598.545454545456,{"$nulls":35},20455213381,"ALPAMEL S.A.C.","AREQUIPA","Sur"]
[null,"SOBITEC PERU S.A.C.",10,204831,109869,20483.1,{"$nulls":35},20493274636,"ALTAMIRANO SRL","LORETO","Norte"]
[null,"QUISPE TORRES OLGA",7,151011,109703,21573,{"$nulls":35},10180212600,"ALVARADO VEGA LESLY","LIMA","Centro"]
[null,"INTELECTRIC  S.A.C.",8,164444,109652,20555.5,{"$nulls":35},20516746778,"ALYJOV FARMA SRL","LIMA","Centro"]
[null,"SALVADOR LAZO FIDEL",8,145031,108826,18128.875,{"$nulls":35},10405660488,"AMAR ORTIZ MARIBEL","LIMA","Centro"]
[null,"REGALOS BENJI SAC",6,126226,107745,21037.666666666668,{"$nulls":35},20513030321,"AMEDEP E.I.R.L.","LIMA","Centro"]
[null,"CHR HANSEN S.A.",10,180220,106716,18022,{"$nulls":35},20512740911,"AMG KYODAI S.A.C.","LIMA","Centro"]
[null,"MI CASA JNC S.A.C.",8,161518,106374,20189.75,{"$nulls":35},20480267703,"AMIJE S.R.L.","LAMBAYEQUE","Norte"]
[null,"FARMABCO S.A.C",6,148453,106127,24742.166666666668,{"$nulls":35},20512384863,"ANDINA IMEX S.A.C","LIMA","Centro"]
[null,"ALFA & ALFA E.I.R.L",8,181613,105550,22701.625,{"$nulls":35},20100533236,"ANTONIO CARBONE SA","LIMA","Centro"]
[null,"ALVARADO VEGA LESLY",6,116238,105482,19373,{"$nulls":35},20518131118,"ANVACHRIS E.I.R.L.","LIMA","Centro"]
[null,"HELENTEX S.A.C.",7,139157,105146,19879.571428571428,{"$nulls":35},20146027041,"ANVI'S S.R.L.","HUANUCO","Norte"]
[null,"ACEROS JK S.A.C.",7,157577,104202,22511,{"$nulls":35},10305604246,"APAZA DE CRUZ IRENE","LIMA","Centro"]
[null,"DR GAS S.A.C.",7,143587,104124,20512.428571428572,{"$nulls":35},10020351824,"APAZA MAMANI NATTY","LIMA","Centro"]
[null,"MAQ DEPOT S.A.C.",6,116865,103378,19477.5,{"$nulls":35},10239613484,"APAZA PUMA LEONARDA","LIMA","Centro"]
[null,"POLIMAT S.A.C.",6,116008,103334,19334.666666666668,{"$nulls":35},20518741536,"APRENDA S.A.","LIMA","Centro"]
[null,"COANDINA S R LTDA",7,142915,103145,20416.428571428572,{"$nulls":35},20453850278,"AQP BROKERS S.A.C.","AREQUIPA","Sur"]
[null,"MEPAL S.A.C",6,123710,103120,20618.333333333332,{"$nulls":35},10077623413,"AQUINO PEREZ RONEL","LIMA","Centro"]
[null,"AMAR ORTIZ MARIBEL",6,129727,101402,21621.166666666668,{"$nulls":35},20520558226,"ARCATEX S.A.C.","LIMA","Centro"]
[null,"ROSATEX E.I.R.L.",8,194901,101220,24362.625,{"$nulls":35},20525953981,"ARCPERU S.A.C.","PIURA","Norte"]
[null,"MIWA SPORT S.A.",5,101013,101013,20202.6,{"$nulls":35},20518293525,"ARDESIA SAC","LIMA","Centro"]
[null,"NEGYSER PERU S.A.C.",11,226872,100886,20624.727272727272,{"$nulls":35},10800406990,"ARENAS RAMOS FREDY","LIMA","Centro"]
[null,"AGRORETAIL  S.A.C.",8,157229,100837,19653.625,{"$nulls":35},20518726227,"ARMERIA CALIBRE SAC","LIMA","Centro"]
[null,"PORCELL  S.A.C.",8,155487,99095,19435.875,{"$nulls":35},20509693553,"ARMESSO S.A.C","LIMA","Centro"]
[null,"FEMAT S.A.C.",10,196244,98985,19624.4,{"$nulls":35},20514579602,"ARMYCOX S.A.","LIMA","Centro"]
[null,"TLI ADUANAS S.A.C.",4,98886,98886,24721.5,{"$nulls":35},20161354377,"ARPE EIRL","PIURA","Norte"]
[null,"NEYRA MEDINA RAFAEL",7,156776,98783,22396.571428571428,{"$nulls":35},20513779314,"ARTIFICIUM S.A.C.","CALLAO","Centro"]
[null,"GB ELECTRIC SAC",9,191013,97684,21223.666666666668,{"$nulls":35},20517289800,"ARTROSTICO EIRL","LIMA","Centro"]
[null,"CAPITEX S.A.C",8,176890,97421,22111.25,{"$nulls":35},20512160248,"ARTROTRAUMAS SAC","LIMA","Centro"]
[null,"CASTRO NUÐEZ NELSON",6,116167,97365,19361.166666666668,{"$nulls":35},20521956675,"ASCLEPIO S.A.C.","LIMA","Centro"]
[null,"IRYOVI E.I.R.L.",7,137317,97294,19616.714285714286,{"$nulls":35},20518470834,"ASTRIB S.A.C.","LIMA","Centro"]
[null,"TRANSPORTE ZEM EIRL",6,144754,97005,24125.666666666668,{"$nulls":35},20504892990,"ATELCINE PERU SAC","LIMA","Centro"]
[null,"PERALTA ROMAN YOISY",13,229384,96899,17644.923076923078,{"$nulls":35},20509791482,"AURODISA EIRL","LIMA","Centro"]
[null,"LAGO IMPORT EIRL",12,255904,96854,21325.333333333332,{"$nulls":35},20264745404,"AUTOS MH EIRL","LIMA","Centro"]
[null,"KENUAL S.A.C.",8,138702,96341,17337.75,{"$nulls":35},20481141991,"AUTOSERVIS E.I.R.L.","LA LIBERTAD","Norte"]
[null,"KOZUMI PERU S.A.",8,147734,95799,18466.75,{"$nulls":35},20454157754,"AVETSA E.I.R.L.","AREQUIPA","Sur"]
[null,"TRICOTTON S.A.C",7,178280,95797,25468.571428571428,{"$nulls":35},20515694740,"AYAME S.A.C.","LIMA","Centro"]
[null,"KE JIANQING",8,146113,95590,18264.125,{"$nulls":35},20512383468,"AYC FLORES S.A.C.","LIMA","Centro"]
[null,"BIONOVA S.A.C.",7,134259,95540,19179.85714285714,{"$nulls":35},20515634682,"AYUMI S.A.C.","LIMA","Centro"]
[null,"EURO PERUANA S.A.C.",7,134004,95406,19143.428571428572,{"$nulls":35},20518340035,"AZHOMBRO EIRL","CALLAO","Centro"]
[null,"MAMANI SOSA ANA",9,221644,94834,24627.11111111111,{"$nulls":35},20494239931,"B. CHANG E.I.R.L.","ICA","Sur"]
[null,"ARCATEX S.A.C.",6,144486,94743,24081,{"$nulls":35},20492055621,"B2B CENTER S.A.C","LIMA","Centro"]
[null,"KOIMED S.A.C.",7,142075,94397,20296.428571428572,{"$nulls":35},20492462854,"BABY KNIT S.A.C","LIMA","Centro"]
[null,"MATOS CAMAC FELIX",5,113371,93737,22674.2,{"$nulls":35},20481320900,"BAGSERVIS S.A.C.","LA LIBERTAD","Norte"]
[null,"SOTO ZAMORA TITO",4,92734,92734,23183.5,{"$nulls":35},20504619045,"BALTRONIX E.I.R.L.","LIMA","Centro"]
[null,"COMFAST S.A.C.",5,92622,92622,18524.4,{"$nulls":35},20511229252,"BAN CAN S.A.C.","LIMA","Centro"]
[null,"JARRO ROJAS IRMA",7,134216,92209,19173.714285714286,{"$nulls":35},20186292678,"BAZAR SUBCAFAE","PIURA","Norte"]
[null,"MAC HARE S.A.C.",8,165018,91647,20627.25,{"$nulls":35},20520086545,"BECAR E.I.R.L.","TACNA","Sur"]
[null,"MARCESA S.R.L.",6,140284,91037,23380.666666666668,{"$nulls":35},20514931845,"BEKTON S.A.C.","LIMA","Centro"]
[null,"SYSTCOM IMPORT SAC",11,205570,90846,18688.18181818182,{"$nulls":35},20493547209,"BENING S.A.C.","LORETO","Norte"]
[null,"GEOINFORMACION S.A.",7,137305,90449,19615,{"$nulls":35},20492961931,"BEPERU S.A.C.","LIMA","Centro"]
[null,"ORE TAIPE YOLANDA",7,149908,89720,21415.428571428572,{"$nulls":35},20518211065,"BESTSOLTI SAC","LIMA","Centro"]
[null,"EYE BUSINESS S.A.C",8,139549,89558,17443.625,{"$nulls":35},20393459787,"BIOCARE S.A.C.","UCAYALI","Sur"]
[null,"ARMYCOX S.A.",7,139962,89019,19994.571428571428,{"$nulls":35},20506992002,"BIOFER S.A.C.","LIMA","Centro"]
[null,"MIRJANA S.A.C.",5,88998,88998,17799.6,{"$nulls":35},20504458521,"BIONOVA S.A.C.","LIMA","Centro"]
[null,"DETAILHOUSE S.A.C.",7,135885,88300,19412.14285714286,{"$nulls":35},20420563168,"BIOS PERU S.A.C.","LIMA","Centro"]
[null,"DISCOFERT SRL",5,101843,88262,20368.6,{"$nulls":35},20484201847,"BISMAR E.I.R.L","PIURA","Norte"]
[null,"BOMPER E.I.R.L.",7,151520,87883,21645.714285714286,{"$nulls":35},20467089626,"BLAIROC E.I.R.L.","LIMA","Centro"]
[null,"XIAN CHUYAO",5,105626,87799,21125.2,{"$nulls":35},20136157133,"BODEGA OJEDA","ANCASH","Norte"]
[null,"DICASA Y CIA S.A.C",10,219236,87477,21923.6,{"$nulls":35},20514732214,"BOMPER E.I.R.L.","LIMA","Centro"]
[null,"GEEKS  E.I.R.L.",5,109034,87465,21806.8,{"$nulls":35},20481316384,"BOTANY S.A.C.","LA LIBERTAD","Norte"]
[null,"SEIKATSU  SAC",7,107635,87340,15376.42857142857,{"$nulls":35},20105149914,"BOTICA MUNICIPAL","AMAZONAS","Norte"]
[null,"AGREGA S.A.C.",8,145102,87295,18137.75,{"$nulls":35},10209608621,"BOZA GOMEZ JUAN","LIMA","Centro"]
[null,"CALIGAS S.R.L.",5,139659,86796,27931.8,{"$nulls":35},20504831001,"BRANAT E.I.R.L.","LIMA","Centro"]
[null,"SPRIND S.A.C.",9,177889,86496,19765.444444444445,{"$nulls":35},20480375344,"BRENCO SAC","LAMBAYEQUE","Norte"]
[null,"REYAL SRLTDA",9,180382,86297,20042.444444444445,{"$nulls":35},20123344279,"BRIDAG E.I.R.LTDA.","CALLAO","Centro"]
[null,"SUPERPRINT S.A.C.",6,105368,86139,17561.333333333332,{"$nulls":35},20521900025,"C & F PRINTS S.A.C.","LIMA","Centro"]
[null,"FIDUCIARIA GBC S.A.",10,197714,86138,19771.4,{"$nulls":35},20454809417,"C&C FARM S.R.L.","AREQUIPA","Sur"]
[null,"CLINICA ELERA S.R.L",7,120905,86059,17272.14285714286,{"$nulls":35},20522671372,"C. CHINININ S.A.C.","LIMA","Centro"]
[null,"BRIDAG E.I.R.LTDA.",5,112113,85753,22422.6,{"$nulls":35},20532390215,"C.S.I. S.A.C.","TACNA","Sur"]
[null,"HONGYING ZHOU",6,135707,85732,22617.833333333332,{"$nulls":35},20502237871,"C.V INVESTMENTS S.A","LIMA","Centro"]
[null,"TANG KONG FU",6,104521,85701,17420.166666666668,{"$nulls":35},20516768747,"C.V.GLOBAL S.A.C.","LIMA","Centro"]
[null,"L M MOTORS SA",6,84397,84397,14066.166666666666,{"$nulls":35},20521272547,"CABERY S.A.C.","LIMA","Centro"]
[null,"SIZU S.A.C.",5,113514,84246,22702.8,{"$nulls":35},10098775761,"CACERES RAMOS JORGE","LIMA","Centro"]
[null,"LUMOGA   E.I.R.L.",9,180310,83968,20034.444444444445,{"$nulls":35},20100683122,"CACERESA S.A.C.","CALLAO","Centro"]
[null,"MIYAGUI S.A.C.",6,104323,83848,17387.166666666668,{"$nulls":35},20518239822,"CAIMI PERU S.A.C.","LIMA","Centro"]
[null,"TRANSOIL S.A.C.",6,122955,83591,20492.5,{"$nulls":35},20513841729,"CAIRSA E.I.R.L","LIMA","Centro"]
[null,"GHL INVERSIONES SA",6,127342,83483,21223.666666666668,{"$nulls":35},20517850617,"CALIGAS S.R.L.","LIMA","Centro"]
[null,"TRANSJOHNNY S.A.C.",8,173070,83075,21633.75,{"$nulls":35},10419811331,"CAM DE KAM KEN WAN","LIMA","Centro"]
[null,"KARPATRI S.A.C.",9,203174,82873,22574.88888888889,{"$nulls":35},20482085840,"CAMILO E.I.R.L.","LA LIBERTAD","Norte"]
[null,"INKACLOTH S.A.C.",9,196238,82753,21804.222222222223,{"$nulls":35},20513294574,"CAMPO LIMPIO","LIMA","Centro"]
[null,"MEDICAL MED SAC",7,141524,82598,20217.714285714286,{"$nulls":35},10248839584,"CAMPOS QUISPE MARIO","LIMA","Centro"]
[null,"EFC EXPRESS SAC",9,180529,82527,20058.777777777777,{"$nulls":35},15522966921,"CAO  JINGHUI","LIMA","Centro"]
[null,"CAIMI PERU S.A.C.",9,169792,82398,18865.777777777777,{"$nulls":35},15525852102,"CAO JINHONG","LIMA","Centro"]
[null,"LAM LEUNG ALEJANDRO",4,82368,82368,20592,{"$nulls":35},20513690178,"CAPIRENA S.A.C.","LIMA","Centro"]
[null,"CHINANGO S.A.C.",8,146943,82179,18367.875,{"$nulls":35},20514824330,"CAPITEX S.A.C","LIMA","Centro"]
[null,"CARFIDERM E.I.R.L.",7,150753,81893,21536.14285714286,{"$nulls":35},20502237790,"CAR SALES E.I.R.L.","LIMA","Centro"]
[null,"ANVACHRIS E.I.R.L.",6,135197,81407,22532.833333333332,{"$nulls":35},20512775030,"CARBOTEC II S.R.L.","LIMA","Centro"]
[null,"CASAPAN PERU S.A.C.",10,191780,81364,19178,{"$nulls":35},20107346652,"CARBOTEC S.A.","LIMA","Centro"]
[null,"UNIGRUAS S.A.C.",7,154771,81037,22110.14285714286,{"$nulls":35},20504956718,"CARFIDERM E.I.R.L.","LIMA","Centro"]
[null,"METALAB S.A.C.",5,123156,80823,24631.2,{"$nulls":35},20517480429,"CARGRAPHICS S.A.C.","LIMA","Centro"]
[null,"COMERCIAL ISIS SAC",6,119223,80542,19870.5,{"$nulls":35},10056310326,"CARRASCO RUIZ ELINO","LIMA","Centro"]
[null,"MAGROF S.A.",8,166856,80401,20857,{"$nulls":35},20493034911,"CARROTEK S.A.C","LIMA","Centro"]
[null,"MORE CLASS S.A.C",10,182172,80330,18217.2,{"$nulls":35},20100769434,"CASA LE MAN'S S.A.","LIMA","Centro"]
[null,"PRO VERDE SAC",5,95980,80211,19196,{"$nulls":35},20515633449,"CASAPAN PERU S.A.C.","LIMA","Centro"]
[null,"MAMANI ANCCO DAMIAN",6,107362,79662,17893.666666666668,{"$nulls":35},20481357901,"CASINOS AMERICA SAC","LA LIBERTAD","Norte"]
[null,"DELPHINUS S.A.C.",7,125016,79634,17859.428571428572,{"$nulls":35},10415384772,"CASTRO NUÐEZ NELSON","LIMA","Centro"]
[null,"ISA BARHAM S.A.C.",8,158808,79577,19851,{"$nulls":35},20518036476,"CBMARKETERS S.A.C.","LIMA","Centro"]
[null,"ALDELI S.A.",4,79464,79464,19866,{"$nulls":35},20355198155,"CEGNE SAN LUIS EIRL","LA LIBERTAD","Norte"]
[null,"CAO JINHONG",6,101782,79087,16963.666666666668,{"$nulls":35},20171047995,"CEIGNE MUNDO AMIGO","LIMA","Centro"]
[null,"PAXI PAUCAR TEODORO",7,161291,79021,23041.571428571428,{"$nulls":35},20101226434,"CELEKSA S R L","LIMA","Centro"]
[null,"COPY DATA E.I.R.L.",7,132088,78902,18869.714285714286,{"$nulls":35},20520667785,"CELESTE GAS S.A.C.","LIMA","Centro"]
[null,"SERVITEC S A",6,113233,78899,18872.166666666668,{"$nulls":35},20523335392,"CEM JEANS E.I.R.L.","LIMA","Centro"]
[null,"BEKTON S.A.C.",7,153471,78825,21924.428571428572,{"$nulls":35},20251764051,"CEP KERPEN HORREN","LIMA","Centro"]
[null,"CHIFA FULLRUM EIRL",6,103265,78667,17210.833333333332,{"$nulls":35},20138915914,"CEP SAN RAFAEL","LIMA","Centro"]
[null,"GAGLIARDO E.I.R.L.",6,124109,78474,20684.833333333332,{"$nulls":35},20287413085,"CEPE APOSTOL PABLO","AYACUCHO","Sur"]
[null,"URDICH SAC",4,95798,78448,23949.5,{"$nulls":35},20356594551,"CHAHUERRE S.C.R.L","PIURA","Norte"]
[null,"MHO IMPORT S.A.C.",7,156864,78411,22409.14285714286,{"$nulls":35},20522754073,"CHAMS S.R.L.","LIMA","Centro"]
[null,"NOVAX E.I.R.L.",8,179141,78300,22392.625,{"$nulls":35},10411622873,"CHAVEZ FLORES BETZY","LIMA","Centro"]
[null,"JIANG JINGYI",8,128470,78298,16058.75,{"$nulls":35},20516293021,"CHEMAYOL E.I.R.L.","LIMA","Centro"]
[null,"PEREZ RUBIO IRENE",5,118225,78223,23645,{"$nulls":35},20512345531,"CHIANG JIANG S.A.C.","CALLAO","Centro"]
[null,"NABILA S.A.C.",6,101342,78124,16890.333333333332,{"$nulls":35},20530950388,"CHIFA FULLRUM EIRL","LIMA","Centro"]
[null,"GLOBAL PAPER SAC",5,105704,77919,21140.8,{"$nulls":35},20518723040,"CHINANGO S.A.C.","LIMA","Centro"]
[null,"STYLO EDWIL SRL",8,173482,77755,21685.25,{"$nulls":35},10296818912,"CHOQUE COPA CARLOS","LIMA","Centro"]
[null,"INTERBIKE EIRL",7,144971,77750,20710.14285714286,{"$nulls":35},20505960361,"CHR HANSEN S.A.","LIMA","Centro"]
[null,"PROVINAK S.A.C.",10,195992,77505,19599.2,{"$nulls":35},20520855867,"CHUMANCORP E.I.R.L.","LIMA","Centro"]
[null,"PC MAGIMPORT S.A.C.",4,77332,77332,19333,{"$nulls":35},20410467675,"CIA NEMER SAC","AYACUCHO","Sur"]
[null,"CREAKTIVO S.A.C.",5,87857,76869,17571.4,{"$nulls":35},20494513341,"CIA VALQUI E.I.R.L.","AYACUCHO","Sur"]
[null,"AD LIBITUM S.A.C.",9,183964,76739,20440.444444444445,{"$nulls":35},20520530640,"CIGREN PERU S.A.C.","CALLAO","Centro"]
[null,"DERMASALUD S.R.L.",5,98816,76727,19763.2,{"$nulls":35},20494720729,"CINSA E.I.R.L","AYACUCHO","Sur"]
[null,"PRO MAKEUP E.I.R.L.",7,136940,76556,19562.85714285714,{"$nulls":35},20440474625,"CIRFOSA PERU S.R.L.","LA LIBERTAD","Norte"]
[null,"CUTITON S.A.C",6,145596,76358,24266,{"$nulls":35},20520900595,"CIRIACA S.A.C.","LIMA","Centro"]
[null,"ROL EMPRESARIAL S A",7,143765,76334,20537.85714285714,{"$nulls":35},20505958111,"CJ TELECOM SAC","LIMA","Centro"]
[null,"CAM DE KAM KEN WAN",7,150064,75965,21437.714285714286,{"$nulls":35},20521411172,"CLARIGO S.A.C.","LIMA","Centro"]
[null,"C.V INVESTMENTS S.A",5,102004,75837,20400.8,{"$nulls":35},20498359907,"CLAS CABANACONDE","AREQUIPA","Sur"]
[null,"SAAD SAID T I",8,130607,75728,16325.875,{"$nulls":35},20498356479,"CLAS CAYLLOMA ALTA","AREQUIPA","Sur"]
[null,"DAVILA RIVERA MARIA",8,158058,75721,19757.25,{"$nulls":35},20498357441,"CLAS CHIVAY","AREQUIPA","Sur"]
[null,"VICENT S.A.C.",4,87198,75444,21799.5,{"$nulls":35},20498356550,"CLAS CIUDAD DE DIOS","AREQUIPA","Sur"]
[null,"XIE SHIYA",5,86400,75085,17280,{"$nulls":35},20498350438,"CLAS CONDESUYOS","AREQUIPA","Sur"]
[null,"FUMIGUERRA EIRL",7,126940,75057,18134.285714285714,{"$nulls":35},20498350942,"CLAS ZAMACOLA","AREQUIPA","Sur"]
[null,"SEBAL S.A.C.",3,74853,74853,24951,{"$nulls":35},20521020149,"CLICK FARMA S.A.C.","LIMA","Centro"]
[null,"ASCLEPIO S.A.C.",6,104700,74322,17450,{"$nulls":35},20444626055,"CLINICA ELERA S.R.L","JUNIN","Centro"]
[null,"INSUVECA PERU SA",9,190341,74013,21149,{"$nulls":35},20492547922,"CLORINA S.A.C.","LIMA","Centro"]
[null,"S A RINCON GAUCHO",7,146093,73907,20870.428571428572,{"$nulls":35},20450639410,"COAGROECO S.R.L.","CUSCO","Sur"]
[null,"VILLA FIORI S.A.C.",8,193094,73865,24136.75,{"$nulls":35},20100900247,"COANDINA S R LTDA","LIMA","Centro"]
[null,"AGF VULCANO S.R.L.",4,87322,73843,21830.5,{"$nulls":35},20390399406,"CODICENTRO S.A.C.","LIMA","Centro"]
[null,"WAGER SLOTS S.A.C.",8,179422,73744,22427.75,{"$nulls":35},20505692412,"CODIGO 55 S.A.C.","LIMA","Centro"]
[null,"EQUIPROBEZ E.I.R.L.",5,132053,73509,26410.6,{"$nulls":35},20515075411,"CODYGOZ S.A.C.","LIMA","Centro"]
[null,"TECENG S.A.C.",9,157035,73286,17448.333333333332,{"$nulls":35},10072667587,"COK LINO ROBERTO","LIMA","Centro"]
[null,"ENCANTADA E.I.R.L.",5,83762,73175,16752.4,{"$nulls":35},20498640860,"COLCA TREK EIRL.","AREQUIPA","Sur"]
[null,"INSANOR S.A.C.",6,111827,72708,18637.833333333332,{"$nulls":35},20481491038,"COLOR Y BELLEZA SAC","LA LIBERTAD","Norte"]
[null,"ZEF PERU S.A.C.",3,72584,72584,24194.666666666668,{"$nulls":35},20491910730,"COMERCIAL ISIS SAC","LIMA","Centro"]
[null,"ESTETICA VENUS SRL",8,179135,72478,22391.875,{"$nulls":35},20514316938,"COMERCIAL LIVCI SAC","LIMA","Centro"]
[null,"KINSA WARMI SRL",7,121461,72468,17351.571428571428,{"$nulls":35},20406549250,"COMERCIAL M&P SRL","PUNO","Sur"]
[null,"TAI FENG SAC",6,111017,72419,18502.833333333332,{"$nulls":35},20510816766,"COMFAST S.A.C.","LIMA","Centro"]
[null,"CONSORCIO LIMA",6,120002,72389,20000.333333333332,{"$nulls":35},20513728914,"COMPUMAGIC S.A.C.","LIMA","Centro"]
[null,"ECONO TAXI S.R.L.",5,92532,72351,18506.4,{"$nulls":35},20511538557,"COMPUVAL E.I.R.L.","LIMA","Centro"]
[null,"GARCIA PEÐA MANUEL",4,72152,72152,18038,{"$nulls":35},20450103927,"CONASEM E.I.R.L.","CALLAO","Centro"]
[null,"POLYTEX S.A.",5,97908,71662,19581.6,{"$nulls":35},20501792226,"CONDORCO S.R.L.","LIMA","Centro"]
[null,"CYPRESS PERU S.A.C.",5,94281,71594,18856.2,{"$nulls":35},20520798537,"CONSORCIO LIMA","LIMA","Centro"]
[null,"PENTAGRAF S.A.C.",5,100450,71435,20090,{"$nulls":35},20516226189,"CONSORCIO LIPESOL","LIMA","Centro"]
[null,"COMERCIAL LIVCI SAC",7,132928,71384,18989.714285714286,{"$nulls":35},20501803368,"CONTRACTORS SAC","LIMA","Centro"]
[null,"PAR OFFICE SAC",7,139770,71287,19967.14285714286,{"$nulls":35},20100262534,"COPA S A","LIMA","Centro"]
[null,"VILLA GALVEZ NEYCER",7,151308,71051,21615.428571428572,{"$nulls":35},20492029891,"COPLASTGROUP S.A.","CALLAO","Centro"]
[null,"VIP CHANNEL S.A.C.",5,117242,70983,23448.4,{"$nulls":35},20516580608,"COPY  GRAPH S.A.C.","CALLAO","Centro"]
[null,"NUTRE PERU E.I.R.L.",9,188111,70950,20901.222222222223,{"$nulls":35},20521018322,"COPY DATA E.I.R.L.","LIMA","Centro"]
[null,"AURODISA EIRL",7,141767,70763,20252.428571428572,{"$nulls":35},20516834391,"COPY SERVICE MV SAC","LIMA","Centro"]
[null,"ANDINA IMEX S.A.C",5,98663,70716,19732.6,{"$nulls":35},20504791531,"COPYNET DATA S.A.C.","LIMA","Centro"]
[null,"HUAMAN NAPA ABRAHAM",7,113528,70592,16218.285714285714,{"$nulls":35},10035060656,"CORTES ROMAN NAHUM","LIMA","Centro"]
[null,"BOZA GOMEZ JUAN",4,80509,70011,20127.25,{"$nulls":35},20455287406,"COS E.I.R.L.","AREQUIPA","Sur"]
[null,"RPS PERU S.A.C.",7,106604,69578,15229.142857142857,{"$nulls":35},20515853210,"CPTECH S.A.C","LIMA","Centro"]
[null,"SOLOT PERU S.A.C.",6,118113,69545,19685.5,{"$nulls":35},20521495252,"CREAKTIVO S.A.C.","LIMA","Centro"]
[null,"NEOSALUD S.A.C.",6,113389,69371,18898.166666666668,{"$nulls":35},20479752711,"CREDIVILSA EIRL","AMAZONAS","Norte"]
[null,"SURCO SURCO RAFAEL",4,81871,69317,20467.75,{"$nulls":35},20515016911,"CRISTHIANS E.I.R.L","LIMA","Centro"]
[null,"CRISTHIANS E.I.R.L",5,106334,69164,21266.8,{"$nulls":35},20518180089,"CRITIKOS S.A.C.","LIMA","Centro"]
[null,"NOVA GAS S A",4,69063,69063,17265.75,{"$nulls":35},20517466868,"CROWN GAMING S.A.C.","LIMA","Centro"]
[null,"POZO TORRES CLAUDIA",8,179120,69056,22390,{"$nulls":35},20522382265,"CUBO MAGICO S.A.C.","LIMA","Centro"]
[null,"FARMA OBLEA SAC",6,106833,68615,17805.5,{"$nulls":35},20481054088,"CUEROS R SAC","LA LIBERTAD","Norte"]
[null,"RUWA S.A.C.",8,144560,68553,18070,{"$nulls":35},20517582001,"CUEROS TAURO S.A.C.","LIMA","Centro"]
[null,"LIU LING XIANG EIRL",6,102702,68523,17117,{"$nulls":35},20516013355,"CUEROTEX S.A.C","LIMA","Centro"]
[null,"G & M PNEUMATIC SAC",8,168630,68461,21078.75,{"$nulls":35},10232764428,"CURASMA POMA YODI","LIMA","Centro"]
[null,"SERVISAIR S.A.C.",6,100024,68401,16670.666666666668,{"$nulls":35},20514875911,"CUTITON S.A.C","LIMA","Centro"]
[null,"ALEFRAN E.I.R.L.",4,91069,68222,22767.25,{"$nulls":35},20521013444,"CYPRESS PERU S.A.C.","LIMA","Centro"]
[null,"EAC SAC",3,68123,68123,22707.666666666668,{"$nulls":35},20512783300,"D & M MEDICAL EIRL","LIMA","Centro"]
[null,"WHC DEL PERU S.A.",6,143426,68081,23904.333333333332,{"$nulls":35},20510564937,"DACIA TRADING SAC","LIMA","Centro"]
[null,"HUISA MERMA DORIS",9,183232,67580,20359.11111111111,{"$nulls":35},20519254752,"DAGAL S.A.C.","LIMA","Centro"]
[null,"HUISA ZAMATA JORGE",6,116228,67324,19371.333333333332,{"$nulls":35},10254199562,"ÐAHUIS LEYVA PABLO","LIMA","Centro"]
[null,"REYES HUANCA GIL",6,104033,67298,17338.833333333332,{"$nulls":35},20508737573,"DAMERED S.A.C.","LIMA","Centro"]
[null,"MI ROSEDAL S.A.C.",5,94913,67175,18982.6,{"$nulls":35},20124080054,"DAMIAN SRLTDA.","LIMA","Centro"]
[null,"TBS LOGISTICS S.A.",6,101362,67058,16893.666666666668,{"$nulls":35},20269474484,"DARMA S.A","LIMA","Centro"]
[null,"RUIZ PIÐA REMIGIO",8,180577,67006,22572.125,{"$nulls":35},20498574387,"DATA PC S.R.L.","AREQUIPA","Sur"]
[null,"J & F TRADERS S.A.",7,136474,66852,19496.285714285714,{"$nulls":35},10189814904,"DAVILA RIVERA MARIA","LIMA","Centro"]
[null,"KORPAK E.I.R.L.",6,123531,66807,20588.5,{"$nulls":35},20520470051,"D'BEGASA S.A.C.","LIMA","Centro"]
[null,"DELI.COM S.A.C.",4,79329,66805,19832.25,{"$nulls":35},20449488777,"DDP ADUANAS S.A.C.","TACNA","Sur"]
[null,"C & F PRINTS S.A.C.",7,124008,66224,17715.428571428572,{"$nulls":35},20454641729,"DELFINO MAR S.R.L.","AREQUIPA","Sur"]
[null,"AUTOS MH EIRL",6,107347,66098,17891.166666666668,{"$nulls":35},10084423691,"DELGADO DIAZ ABEL","LIMA","Centro"]
[null,"CEP KERPEN HORREN",6,140492,66045,23415.333333333332,{"$nulls":35},20517472248,"DELI.COM S.A.C.","LIMA","Centro"]
[null,"PINO VASQUEZ ALCIRA",4,88391,65906,22097.75,{"$nulls":35},20136572891,"DELNOREP S.R.L.","LIMA","Centro"]
[null,"YANG  JINZHAO",6,129352,65706,21558.666666666668,{"$nulls":35},20492847721,"DELPHINUS S.A.C.","LIMA","Centro"]
[null,"TUPER S.A.C.",7,141420,65587,20202.85714285714,{"$nulls":35},20482244743,"DEMAFER S.R.L.","LA LIBERTAD","Norte"]
[null,"TRANSPOVAR S.R.L.",4,78248,65345,19562,{"$nulls":35},20100044626,"DEPOSITOS S A DEPSA","LIMA","Centro"]
[null,"PUBLICITY S.R.L",5,95845,65173,19169,{"$nulls":35},20518949285,"DERMASALUD S.R.L.","LIMA","Centro"]
[null,"BIOFER S.A.C.",5,116459,64919,23291.8,{"$nulls":35},20505262671,"DESANA S.A.C.","LIMA","Centro"]
[null,"PEREZ ROMERO ROGER",6,127688,64912,21281.333333333332,{"$nulls":35},20520840754,"DETAILHOUSE S.A.C.","LIMA","Centro"]
[null,"WIBGUS S.A.C.",5,104152,64912,20830.4,{"$nulls":35},20517549488,"DICASA Y CIA S.A.C","LIMA","Centro"]
[null,"CARGRAPHICS S.A.C.",7,142950,64893,20421.428571428572,{"$nulls":35},20101556493,"DICORO S.A.C.","LIMA","Centro"]
[null,"ZHENG HE",3,64683,64683,21561,{"$nulls":35},20492147231,"DIENST S.A.C.","LIMA","Centro"]
[null,"PROVESUR S.A.C",11,225265,64677,20478.636363636364,{"$nulls":35},20515289489,"DIFMAG S.A.C","CALLAO","Centro"]
[null,"RUIZ LAVADO HEBER",7,131008,64551,18715.428571428572,{"$nulls":35},20454072414,"DIMACAR S.A.C.","AREQUIPA","Sur"]
[null,"DISTRIMED S.A.C.",6,126041,64324,21006.833333333332,{"$nulls":35},20132118681,"D'IONS SRLTDA","LA LIBERTAD","Norte"]
[null,"MIAMI -SHOP S.A.C.",7,144011,64214,20573,{"$nulls":35},20482101390,"DIOS ES AMOR S.A.C.","LA LIBERTAD","Norte"]
[null,"KORN S.A.C.",4,88300,64214,22075,{"$nulls":35},20347072274,"DISCOFERT SRL","LIMA","Centro"]
[null,"DAGAL S.A.C.",5,83688,63998,16737.6,{"$nulls":35},20454163991,"DISGAR S.A.C.","AREQUIPA","Sur"]
[null,"ALCANZANDO",9,162800,63878,18088.88888888889,{"$nulls":35},20107113127,"DISMOTSA","LIMA","Centro"]
[null,"GREEN STAR S.A.C",10,194341,63756,19434.1,{"$nulls":35},20509629111,"DISTRIMED S.A.C.","LIMA","Centro"]
[null,"VALDEZ OCHOA NHELY",5,87984,63614,17596.8,{"$nulls":35},20100708991,"DIVESA SERVICE S A","LIMA","Centro"]
[null,"J & W CIA S.A.",10,197695,62786,19769.5,{"$nulls":35},20517979229,"DKARGA S.A.C.","LIMA","Centro"]
[null,"DREAM POWER S.A.C.",5,76455,62367,15291,{"$nulls":35},20454237782,"D'MARCAS E.I.R.L.","AREQUIPA","Sur"]
[null,"DESANA S.A.C.",6,129779,62336,21629.833333333332,{"$nulls":35},20522193292,"DOCTOR SALUD S.A.C.","LIMA","Centro"]
[null,"VALTER SPORT SAC",6,134881,62167,22480.166666666668,{"$nulls":35},20471809374,"DOLLAR GROUP SA","LIMA","Centro"]
[null,"CROWN GAMING S.A.C.",5,97180,62028,19436,{"$nulls":35},20445728269,"D'OLPHINS E.I.R.L.","ANCASH","Norte"]
[null,"NORCOSTA S.A.C",5,98080,61962,19616,{"$nulls":35},20514558788,"DOMNAR S.A.C.","LIMA","Centro"]
[null,"HATHOR S.R.L.",6,105449,61891,17574.833333333332,{"$nulls":35},20518939212,"DR GAS S.A.C.","LIMA","Centro"]
[null,"MR MACELLAIO S.A.C.",4,82016,61613,20504,{"$nulls":35},20521213885,"DREAM POWER S.A.C.","LIMA","Centro"]
[null,"KATHY R S.A.C.",6,121171,61567,20195.166666666668,{"$nulls":35},20481321116,"DRY CORP SAC","LA LIBERTAD","Norte"]
[null,"JURO CHAPARRO ISAAC",3,61223,61223,20407.666666666668,{"$nulls":35},20518400623,"DS GLOBAL S.A.C","LIMA","Centro"]
[null,"LA ROCCA SAC",7,102121,61110,14588.714285714286,{"$nulls":35},20449391935,"D'SAYOMA EIRL","MOQUEGUA","Sur"]
[null,"TEXTILES PAULA SAC",8,145902,61099,18237.75,{"$nulls":35},20455282439,"DUNKEL E.I.R.L.","AREQUIPA","Sur"]
[null,"NORSOL S.A.C",3,61041,61041,20347,{"$nulls":35},20514052850,"E - MARKET E.I.R.L.","LIMA","Centro"]
[null,"MENESES SAC",5,118372,60927,23674.4,{"$nulls":35},20516622378,"EAC SAC","LIMA","Centro"]
[null,"NATURMEDIZIN S.A.C.",3,60786,60786,20262,{"$nulls":35},20506768544,"ECO GRANJA S.R.L.","LIMA","Centro"]
[null,"PRU SAC",6,119546,60458,19924.333333333332,{"$nulls":35},20492356400,"ECO TAXI S.A.C.","LIMA","Centro"]
[null,"SALISARA SAC",5,107127,60428,21425.4,{"$nulls":35},20478163518,"ECOMODA S.A.C.","LIMA","Centro"]
[null,"MULTIMUELLES S.A.",6,128390,60360,21398.333333333332,{"$nulls":35},20507575448,"ECONO TAXI S.R.L.","LIMA","Centro"]
[null,"PROIMPULSA SAC",6,108663,60354,18110.5,{"$nulls":35},20471118118,"ECONOFARMA S.A.C.","LIMA","Centro"]
[null,"JERI LUNA JORGE",4,72202,60326,18050.5,{"$nulls":35},20512834656,"ECOREP S.A.C.","LIMA","Centro"]
[null,"KEMALU S.A.C.",6,126839,60215,21139.833333333332,{"$nulls":35},20491998483,"EFC EXPRESS SAC","LIMA","Centro"]
[null,"MISOKA S.A.C.",5,104624,59692,20924.8,{"$nulls":35},20452231914,"EINS PERU   S.A.C.","LIMA","Centro"]
[null,"MAYO TAQUIA JOVANA",5,116984,59673,23396.8,{"$nulls":35},20486373025,"EL CAIRO S.A.C.","JUNIN","Centro"]
[null,"CEIGNE MUNDO AMIGO",4,82933,59644,20733.25,{"$nulls":35},20393321670,"EL HERMANO E.I.R.L.","UCAYALI","Sur"]
[null,"MEYTEX SAC",7,140753,59639,20107.571428571428,{"$nulls":35},20492632016,"EL REPOSTERO SAC","LIMA","Centro"]
[null,"QUIMICHEM S.A.C.",6,94790,59434,15798.333333333334,{"$nulls":35},20494830664,"ELENA MARKET S.R.L.","ICA","Sur"]
[null,"RONG YINGLIN",5,104789,59355,20957.8,{"$nulls":35},20452713404,"ELITSUR S.R.L.","AYACUCHO","Sur"]
[null,"MELASUR S.A.C.",4,74381,59149,18595.25,{"$nulls":35},20163549027,"EMAPAVIGSSA","ICA","Sur"]
[null,"CELEKSA S R L",3,71466,59099,23822,{"$nulls":35},20486953889,"ENCANTADA E.I.R.L.","JUNIN","Centro"]
[null,"LI XINNAN",4,85205,58952,21301.25,{"$nulls":35},20480200382,"ENERGY GASS SRL","LAMBAYEQUE","Norte"]
[null,"GRANJA TOSHI S.A.",5,69504,58909,13900.8,{"$nulls":35},20505188412,"ENERWELD SAC","LIMA","Centro"]
[null,"EL REPOSTERO SAC",4,71285,58773,17821.25,{"$nulls":35},20452815070,"ENVER E.I.R.L.","AYACUCHO","Sur"]
[null,"SURTIDORES S.A.C.",6,117095,58751,19515.833333333332,{"$nulls":35},20506894841,"EPIC LABS S.A.C.","LIMA","Centro"]
[null,"TRANSUNION PERU SAC",7,149918,58690,21416.85714285714,{"$nulls":35},20508752963,"EPOJE S.A.C","LIMA","Centro"]
[null,"ÐAHUIS LEYVA PABLO",4,73174,58576,18293.5,{"$nulls":35},20391166855,"EPSON PERU S.A","LIMA","Centro"]
[null,"PLUS MEDIC E.I.R.L.",8,148558,58433,18569.75,{"$nulls":35},20513398434,"EQUIPROBEZ E.I.R.L.","LIMA","Centro"]
[null,"LUZ Y COLOR S.A.C.",4,75004,58070,18751,{"$nulls":35},10073466801,"ERAZO ERAZO TULIO","LIMA","Centro"]
[null,"CAPIRENA S.A.C.",6,137007,57988,22834.5,{"$nulls":35},20480609272,"ERICELL S.A.C.","CAJAMARCA","Norte"]
[null,"ECONOFARMA S.A.C.",5,89300,57727,17860,{"$nulls":35},20385979739,"ERIKA LENS E.I.R.L.","LIMA","Centro"]
[null,"FE GOLD S.A.C.",7,123901,57692,17700.14285714286,{"$nulls":35},20452750512,"ERTI SRL","ICA","Sur"]
[null,"BEPERU S.A.C.",5,85697,57578,17139.4,{"$nulls":35},10232613101,"ESCOBAR VILLA EDGAR","LIMA","Centro"]
[null,"NEXO GRAFICO S.A.C.",4,68257,56960,17064.25,{"$nulls":35},20518434366,"ESTETICA VENUS SRL","LIMA","Centro"]
[null,"RELINO OTR S.A.C.",4,56742,56742,14185.5,{"$nulls":35},20522093743,"ESTRATEGICA S.A.C.","LIMA","Centro"]
[null,"GREY GROUP S.A.C",7,125799,56693,17971.285714285714,{"$nulls":35},20138520731,"EURO PERUANA S.A.C.","LIMA","Centro"]
[null,"MECDRILL  E.I.R.L.",6,131011,56553,21835.166666666668,{"$nulls":35},20375404126,"EXACT S.A.C.","LIMA","Centro"]
[null,"DIENST S.A.C.",7,159260,56078,22751.428571428572,{"$nulls":35},20507551000,"EXPROM EIRL","LIMA","Centro"]
[null,"YOAAN EIRL",6,130601,56020,21766.833333333332,{"$nulls":35},20492198227,"EYE BUSINESS S.A.C","LIMA","Centro"]
[null,"SCHENONE S A",5,107644,55768,21528.8,{"$nulls":35},20256189802,"F Y F CORP. S.A.C.","LIMA","Centro"]
[null,"GIGABRANDS S.A.C.",5,109044,55742,21808.8,{"$nulls":35},20515784811,"FENIX DEL PERU SRL","LIMA","Centro"]
[null,"ODFJELL PERU S.A.C.",6,94912,55627,15818.666666666666,{"$nulls":35},10256284265,"FALLA CHALEN SAMUEL","LIMA","Centro"]
[null,"A Z CHEMICAL EIRL",6,123796,55600,20632.666666666668,{"$nulls":35},20454415711,"FAMESOL E.I.R.L.","AREQUIPA","Sur"]
[null,"CHUMANCORP E.I.R.L.",5,125678,55449,25135.6,{"$nulls":35},20515488091,"FARMA OBLEA SAC","LIMA","Centro"]
[null,"SCHIENZA S.A.",4,101098,55215,25274.5,{"$nulls":35},20514646644,"FARMABCO S.A.C","LIMA","Centro"]
[null,"SOLISA S.A.C.",6,108546,55186,18091,{"$nulls":35},20494329337,"FAVET E.I.R.L.","LORETO","Norte"]
[null,"OBILABS  PERU  SAC",5,79990,54944,15998,{"$nulls":35},20518938089,"FAVINOX S.A.C.","CALLAO","Centro"]
[null,"EXACT S.A.C.",4,90804,54720,22701,{"$nulls":35},20517681831,"FE GOLD S.A.C.","LIMA","Centro"]
[null,"DAMERED S.A.C.",9,177254,54683,19694.88888888889,{"$nulls":35},20519410711,"FEMAT S.A.C.","LIMA","Centro"]
[null,"CODYGOZ S.A.C.",7,109954,54445,15707.714285714286,{"$nulls":35},20512423435,"FEMMEGIN E.I.R.L.","LIMA","Centro"]
[null,"SYO PERU S.A.C.",4,94832,54444,23708,{"$nulls":35},20167217789,"FERNANDEZ SRL","PIURA","Norte"]
[null,"RICAVA S.A.C.",7,151344,54348,21620.571428571428,{"$nulls":35},20530981003,"FERRICENTRO SAC","ANCASH","Norte"]
[null,"SOTO BAZAN WILFREDO",4,53999,53999,13499.75,{"$nulls":35},20519151279,"FIDUCIARIA GBC S.A.","LIMA","Centro"]
[null,"CEM JEANS E.I.R.L.",5,106274,53763,21254.8,{"$nulls":35},20481647143,"FINAS COMPUTER SAC","LA LIBERTAD","Norte"]
[null,"SLENDER SAC",5,91560,53761,18312,{"$nulls":35},20492920828,"FIVE PERU E.I.R.L.","LIMA","Centro"]
[null,"ANTONIO CARBONE SA",4,83678,53750,20919.5,{"$nulls":35},10098358205,"FLORES PARI ROSALIA","LIMA","Centro"]
[null,"GLEW SAC",6,123173,53597,20528.833333333332,{"$nulls":35},20155649209,"FM INDUSTRIAL S.A.","LIMA","Centro"]
[null,"BAN CAN S.A.C.",3,72195,53497,24065,{"$nulls":35},20107525581,"FOSAM S.A.C.","LIMA","Centro"]
[null,"TEXARIAN E.I.R.L.",7,147569,53333,21081.285714285714,{"$nulls":35},20470228190,"FRANK MEDICA S.A.C","LIMA","Centro"]
[null,"RUTHY S S.R.LTDA",6,100615,53003,16769.166666666668,{"$nulls":35},20517461556,"FUJIN EIRL","LIMA","Centro"]
[null,"JARRO ROJAS AMADOR",9,178658,52997,19850.88888888889,{"$nulls":35},20517092097,"FUKU E.I.R.L.","LIMA","Centro"]
[null,"LONGE VITA SAC",4,69000,52922,17250,{"$nulls":35},20494632358,"FULL MARKET S.A.C.","AYACUCHO","Sur"]
[null,"YANG SHAO ZHONG",4,71145,52557,17786.25,{"$nulls":35},20252907395,"FUMIGUERRA EIRL","LIMA","Centro"]
[null,"MEGA GESTION S.A.C",4,68008,52512,17002,{"$nulls":35},20479109436,"G & M PNEUMATIC SAC","LIMA","Centro"]
[null,"AJRAZ THOME FELIPE",4,99301,52393,24825.25,{"$nulls":35},20519312388,"G & T CARGO S.A.C.","CALLAO","Centro"]
[null,"HURTADO CAMPO JUANA",8,164247,52356,20530.875,{"$nulls":35},20417940899,"G.M. TRAMAS S.A.","LIMA","Centro"]
[null,"RAMOS JACINTO PEDRO",7,143147,52296,20449.571428571428,{"$nulls":35},20477862749,"GAGLIARDO E.I.R.L.","LIMA","Centro"]
[null,"DOLLAR GROUP SA",4,95248,52214,23812,{"$nulls":35},20128728288,"GALAXY S R L","LIMA","Centro"]
[null,"D & M MEDICAL EIRL",6,80889,51996,13481.5,{"$nulls":35},20514205354,"GALKEM E.I.R.L.","LIMA","Centro"]
[null,"JHOSBET E.I.R.L.",4,74101,51935,18525.25,{"$nulls":35},10190310987,"GARCIA CAVERO MAURA","LIMA","Centro"]
[null,"TOPOGIS S.A.C.",5,93832,51835,18766.4,{"$nulls":35},10108780784,"GARCIA PEÐA MANUEL","LIMA","Centro"]
[null,"LEOPAN E.I.R.L.",4,66867,51752,16716.75,{"$nulls":35},20482230874,"GAS ANTONIO'S SAC","LA LIBERTAD","Norte"]
[null,"FALLA CHALEN SAMUEL",5,106912,51475,21382.4,{"$nulls":35},20513681004,"GAVA PERU S.A.C.","LIMA","Centro"]
[null,"CUBO MAGICO S.A.C.",7,159003,51412,22714.714285714286,{"$nulls":35},20464354272,"GB ELECTRIC SAC","LIMA","Centro"]
[null,"TRANS ITAL S.A.C.",3,63891,51260,21297,{"$nulls":35},20493062451,"GEEKS  E.I.R.L.","LIMA","Centro"]
[null,"MAQUERA RAMOS IRMA",10,203514,51116,20351.4,{"$nulls":35},20516558343,"GEOINFORMACION S.A.","LIMA","Centro"]
[null,"GRUPO 27 S.A.C.",5,99805,50990,19961,{"$nulls":35},20262444717,"GHL INVERSIONES SA","LIMA","Centro"]
[null,"CAIRSA E.I.R.L",2,50576,50576,25288,{"$nulls":35},20509906646,"GIGABRANDS S.A.C.","LIMA","Centro"]
[null,"YANG HUIXIAN",5,102586,50417,20517.2,{"$nulls":35},20424348687,"GLASSCORP S.A.C.","LIMA","Centro"]
[null,"KARCIL S.A.C",4,79184,50314,19796,{"$nulls":35},20515667009,"GLEW SAC","CALLAO","Centro"]
[null,"LI SHUI PIN",3,50271,50271,16757,{"$nulls":35},20517319300,"GLOBAL PAPER SAC","LIMA","Centro"]
[null,"YUT WU S.A.C.",6,133930,49931,22321.666666666668,{"$nulls":35},20513570601,"GOLD TEXTIL S.A.C.","LIMA","Centro"]
[null,"CRITIKOS S.A.C.",11,186075,49869,16915.909090909092,{"$nulls":35},10084251688,"GOMEZ ROMANI LEONOR","LIMA","Centro"]
[null,"LUCMOIS E.I.R.L.",8,151245,49499,18905.625,{"$nulls":35},10070554718,"GOMEZ YUCRA SIMEON","LIMA","Centro"]
[null,"SVITZER ANDINO S.A.",6,135909,49375,22651.5,{"$nulls":35},20521774305,"GONCORP S.A.C.","LIMA","Centro"]
[null,"VIDA CORAL PERU SAC",5,106551,49135,21310.2,{"$nulls":35},20480455020,"GORVEZ E.I.R.L.","PIURA","Norte"]
[null,"PRINT METAL S.A",4,73966,48963,18491.5,{"$nulls":35},20517721485,"GOSHE E.I.R.L.","LIMA","Centro"]
[null,"SALAS TUANAMA HIDA",3,60745,48474,20248.333333333332,{"$nulls":35},20112378864,"GRANJA AZUL S A","LIMA","Centro"]
[null,"BLAIROC E.I.R.L.",5,94310,48425,18862,{"$nulls":35},20106976113,"GRANJA TOSHI S.A.","LIMA","Centro"]
[null,"JADE TRES SAC",5,123043,48206,24608.6,{"$nulls":35},20498406590,"GRAVICOM S.A.C.","AREQUIPA","Sur"]
[null,"PATIMOVIL SRLTDA",5,83154,48088,16630.8,{"$nulls":35},20506933502,"GREEN STAR S.A.C","CALLAO","Centro"]
[null,"FOSAM S.A.C.",5,86965,48077,17393,{"$nulls":35},20514556149,"GREY GROUP S.A.C","LIMA","Centro"]
[null,"JOSHEL IMPORT SAC",3,64235,48065,21411.666666666668,{"$nulls":35},20497626588,"GRIFOS AQP S.R.L.","AREQUIPA","Sur"]
[null,"OMAN E.I.R.L.",6,108739,48051,18123.166666666668,{"$nulls":35},20486968304,"GROUP E Y R S.R.L.","JUNIN","Centro"]
[null,"GARCIA CAVERO MAURA",6,116311,48011,19385.166666666668,{"$nulls":35},20521413035,"GRUPO 27 S.A.C.","LIMA","Centro"]
[null,"ESCOBAR VILLA EDGAR",4,97142,47903,24285.5,{"$nulls":35},20455346267,"GRUPO GXM E.I.R.L.","AREQUIPA","Sur"]
[null,"DACIA TRADING SAC",6,92353,47709,15392.166666666666,{"$nulls":35},20481480770,"GRUPO IMPORT EIRL","LA LIBERTAD","Norte"]
[null,"RV COMPUTER S.A.C.",5,88617,47686,17723.4,{"$nulls":35},20519475767,"GRUPO VASQUEZ SAC","CALLAO","Centro"]
[null,"REFLECENTRO SRL",5,94365,47614,18873,{"$nulls":35},20491968061,"GRUPO VIGO S.A.C.","LIMA","Centro"]
[null,"SAMMYTEC S.A.",7,162171,47599,23167.285714285714,{"$nulls":35},20481321469,"GUIA SEMANAL S.A.C","LA LIBERTAD","Norte"]
[null,"XIN HUI SAC",6,104818,47481,17469.666666666668,{"$nulls":35},20481589194,"GZM EIRL","LA LIBERTAD","Norte"]
[null,"JON MARSIL E.I.R.L",8,173877,47212,21734.625,{"$nulls":35},20494487595,"H & P TIRE E.I.R.L.","ICA","Sur"]
[null,"M & R TANQUE SAC",6,127721,47143,21286.833333333332,{"$nulls":35},20520625357,"HACEB DEL PERU S.A.","LIMA","Centro"]
[null,"MISS TOPAZIO S.A.C.",4,82463,47133,20615.75,{"$nulls":35},20516022851,"HARBINGER S.A.C.","LIMA","Centro"]
[null,"EXPROM EIRL",4,91666,47028,22916.5,{"$nulls":35},20513660007,"HATHOR S.R.L.","LIMA","Centro"]
[null,"SUPER MECANO S.A.C.",4,70409,46760,17602.25,{"$nulls":35},20512652469,"HELENTEX S.A.C.","LIMA","Centro"]
[null,"M & ST SALUD S.A.C",6,93026,46723,15504.333333333334,{"$nulls":35},20481874042,"HIROSHI S.A.C.","LA LIBERTAD","Norte"]
[null,"INFOGESTION S.A.C.",4,90659,46707,22664.75,{"$nulls":35},20462488999,"HOCADE S.A.","LIMA","Centro"]
[null,"RAMOS ROCHA CARLOS",6,91711,46441,15285.166666666666,{"$nulls":35},20481875448,"HOJA GRANDE S.A.C.","LA LIBERTAD","Norte"]
[null,"RIE SAKATA E.I.R.L.",6,117976,46430,19662.666666666668,{"$nulls":35},15481757671,"HONGYING ZHOU","LIMA","Centro"]
[null,"MAMANI TONE MARLENI",5,104447,46429,20889.4,{"$nulls":35},20496093616,"HOSTAL RUIZ SRL","CAJAMARCA","Norte"]
[null,"ORBE EMPRESARIAL SA",5,89271,46414,17854.2,{"$nulls":35},10413392131,"HOYOS CAMPOS LAZARO","LIMA","Centro"]
[null,"ROBERCAR EIRL",4,66878,46394,16719.5,{"$nulls":35},20521964694,"HT NAYELI S.A.C","LIMA","Centro"]
[null,"SOTO VILA ROBERTO",7,151274,46327,21610.571428571428,{"$nulls":35},10208949433,"HUAMALI ANCO TITO","LIMA","Centro"]
[null,"MOVILLANTAS S.A.C.",6,121717,46222,20286.166666666668,{"$nulls":35},10218136473,"HUAMAN NAPA ABRAHAM","LIMA","Centro"]
[null,"INVESTCORP S.A.",3,71267,46147,23755.666666666668,{"$nulls":35},15516341286,"HUANG LISHA","LIMA","Centro"]
[null,"SILVA RIVERA HAYDEE",7,117946,45994,16849.428571428572,{"$nulls":35},10310308523,"HUARACA ARIAS FABIO","LIMA","Centro"]
[null,"PUROCORAZON S.A.C.",7,167934,45872,23990.571428571428,{"$nulls":35},20509728284,"HUAXIN MOTOR S.A.C.","LIMA","Centro"]
[null,"KYODAI PERU S.A.C.",4,79143,45841,19785.75,{"$nulls":35},10294231361,"HUISA MERMA DORIS","LIMA","Centro"]
[null,"ZOE DESIGN S.A.C.",3,72225,45780,24075,{"$nulls":35},10248747281,"HUISA ZAMATA JORGE","LIMA","Centro"]
[null,"JJJ KADAR S.A.C.",3,72516,45716,24172,{"$nulls":35},10048191679,"HURTADO CAMPO JUANA","LIMA","Centro"]
[null,"CAR SALES E.I.R.L.",4,62899,45594,15724.75,{"$nulls":35},20516070588,"ICM CONSULTING SAC","LIMA","Centro"]
[null,"LINDO HOGAR S.A.C",7,143928,45592,20561.14285714286,{"$nulls":35},20454236549,"IKEA E.I.R.L.","AREQUIPA","Sur"]
[null,"OROMONTE S.A",10,164098,45553,16409.8,{"$nulls":35},20449435657,"ILOHOGAR E.I.R.L.","MOQUEGUA","Sur"]
[null,"DELNOREP S.R.L.",5,73402,45526,14680.4,{"$nulls":35},20491930099,"ILOP  S.A.C.","LIMA","Centro"]
[null,"S'DROP'S E.I.R.L.",5,90391,45432,18078.2,{"$nulls":35},20527966796,"IMFARMA E.I.R.L.","CUSCO","Sur"]
[null,"J.O.B GAMES S.A.C.",5,97683,45368,19536.6,{"$nulls":35},20498556567,"IMMETAZ E.I.R.L.","AREQUIPA","Sur"]
[null,"DOCTOR SALUD S.A.C.",4,88085,45317,22021.25,{"$nulls":35},20512596453,"IMPORT JHV E.I.R.L.","LIMA","Centro"]
[null,"TECNO LASER S.A.C.",4,82398,45243,20599.5,{"$nulls":35},20225889318,"IMPRENTA W&Y EIRL","PIURA","Norte"]
[null,"SANKUAY S.R.LTDA.",6,134415,45117,22402.5,{"$nulls":35},20503153719,"INCIVIAS S.A.C.","LIMA","Centro"]
[null,"MG-1 E.I.R.L.",4,78328,45104,19582,{"$nulls":35},20512569642,"INCOSERGEL S.A.C","LIMA","Centro"]
[null,"FM INDUSTRIAL S.A.",3,64437,44999,21479,{"$nulls":35},20222189641,"INDUCOPRA S R LTDA","AREQUIPA","Sur"]
[null,"YON JAU JUAN",5,119027,44857,23805.4,{"$nulls":35},20507151168,"INFOGESTION S.A.C.","LIMA","Centro"]
[null,"CAMPO LIMPIO",7,123951,44737,17707.285714285714,{"$nulls":35},20454224885,"INFOR COLOR S.R.L.","AREQUIPA","Sur"]
[null,"RUIZ VEGA ROBINSON",5,118243,44705,23648.6,{"$nulls":35},20519460221,"INFORHOUSE S.R.L.","LIMA","Centro"]
[null,"SAN CARLOS S.A.C.",8,156993,44665,19624.125,{"$nulls":35},20481569169,"INGEMEC PERU SAC","LA LIBERTAD","Norte"]
[null,"MZF EIRL",5,93327,44506,18665.4,{"$nulls":35},20479924784,"INICIO PC S.R.L.","LAMBAYEQUE","Norte"]
[null,"OTERO NUÐEZ NESTOR",4,82146,44436,20536.5,{"$nulls":35},20492656543,"INKACLOTH S.A.C.","LIMA","Centro"]
[null,"LOZANO E I R LTDA",6,123118,44313,20519.666666666668,{"$nulls":35},20531047975,"INSANOR S.A.C.","LIMA","Centro"]
[null,"LUQUE HUANCA IRMA",4,77627,44303,19406.75,{"$nulls":35},20514509060,"INSUVECA PERU SA","LIMA","Centro"]
[null,"LOLA & MIGUEL SAC",7,136170,44265,19452.85714285714,{"$nulls":35},20492222039,"INTELECTRIC  S.A.C.","LIMA","Centro"]
[null,"VERA PLAV S.A.C.",3,70157,44129,23385.666666666668,{"$nulls":35},20513293179,"INTERBIKE EIRL","LIMA","Centro"]
[null,"MSM INSUMOS S.A.C",10,163565,43956,16356.5,{"$nulls":35},20482070141,"INVERGALAZ S.R.L.","LA LIBERTAD","Norte"]
[null,"ARTROSTICO EIRL",4,63548,43949,15887,{"$nulls":35},20454531974,"INVERIAS S.A.C.","AREQUIPA","Sur"]
[null,"CABERY S.A.C.",2,43856,43856,21928,{"$nulls":35},20480398042,"INVERMEDIC SAC","LAMBAYEQUE","Norte"]
[null,"CIRIACA S.A.C.",6,120887,43743,20147.833333333332,{"$nulls":35},20505481632,"INVERSMEN E.I.R.L.","LIMA","Centro"]
[null,"PMS PERU S.A.C.",4,54494,43706,13623.5,{"$nulls":35},20518837487,"INVESTCORP S.A.","LIMA","Centro"]
[null,"ERIKA LENS E.I.R.L.",6,101314,43688,16885.666666666668,{"$nulls":35},20510216734,"IRYOVI E.I.R.L.","LIMA","Centro"]
[null,"MAQPOL S.A.C.",6,113678,43658,18946.333333333332,{"$nulls":35},20512038361,"ISA BARHAM S.A.C.","LIMA","Centro"]
[null,"KEV S.A.C.",6,136502,43601,22750.333333333332,{"$nulls":35},10097507771,"ISHIZAWA OHBA JULIO","LIMA","Centro"]
[null,"MENDOZA GARCIA RAUL",2,43391,43391,21695.5,{"$nulls":35},20492067718,"ITAPIER S.R.L.","LIMA","Centro"]
[null,"ARMERIA CALIBRE SAC",7,122572,43378,17510.285714285714,{"$nulls":35},20387877721,"J & F TRADERS S.A.","LIMA","Centro"]
[null,"COPA S A",7,151708,43264,21672.571428571428,{"$nulls":35},20520919181,"J & L ALIMENTOS SAC","CALLAO","Centro"]
[null,"DS GLOBAL S.A.C",4,81394,43257,20348.5,{"$nulls":35},20101417451,"J & W CIA S.A.","CALLAO","Centro"]
[null,"OLVA WORLD E.I.R.L.",4,84729,43154,21182.25,{"$nulls":35},20454742321,"J. G Y R S.A.C.","AREQUIPA","Sur"]
[null,"TONG WONG MU CHIN",7,141879,43060,20268.428571428572,{"$nulls":35},20523829981,"J.D. PLASTIC S.A.C.","LIMA","Centro"]
[null,"GALKEM E.I.R.L.",4,87700,42982,21925,{"$nulls":35},20516389304,"J.O.B GAMES S.A.C.","CALLAO","Centro"]
[null,"AQUINO PEREZ RONEL",7,136568,42936,19509.714285714286,{"$nulls":35},20492010368,"JADE TRES SAC","LIMA","Centro"]
[null,"AFC BUSSINES SRLTDA",2,42899,42899,21449.5,{"$nulls":35},20166932514,"JAR DECO EIRL","LIMA","Centro"]
[null,"MORAN VALENCIA ENMA",6,115296,42894,19216,{"$nulls":35},10018418610,"JARRO ROJAS AMADOR","LIMA","Centro"]
[null,"CORTES ROMAN NAHUM",8,171490,42769,21436.25,{"$nulls":35},10004369080,"JARRO ROJAS IRMA","LIMA","Centro"]
[null,"LEE WEI LIN",4,86215,42669,21553.75,{"$nulls":35},20519681235,"JASPE E.I.R.L.","MOQUEGUA","Sur"]
[null,"ERAZO ERAZO TULIO",6,111058,42597,18509.666666666668,{"$nulls":35},20498586041,"JEPALA EIRL.","AREQUIPA","Sur"]
[null,"GRUPO VIGO S.A.C.",4,69915,42378,17478.75,{"$nulls":35},10097252233,"JERI LUNA JORGE","LIMA","Centro"]
[null,"MOTO ANDES S.A.C.",7,158857,42188,22693.85714285714,{"$nulls":35},20519016908,"JHOSBET E.I.R.L.","LIMA","Centro"]
[null,"JICKA S.R.L.",7,109445,42164,15635,{"$nulls":35},15517097133,"JIANG HUANYI","LIMA","Centro"]
[null,"ZHONG YUSHU",3,64547,42144,21515.666666666668,{"$nulls":35},15515898660,"JIANG JINGYI","LIMA","Centro"]
[null,"COK LINO ROBERTO",4,84633,42039,21158.25,{"$nulls":35},20518896149,"JICKA S.R.L.","LIMA","Centro"]
[null,"J & L ALIMENTOS SAC",5,108558,41859,21711.6,{"$nulls":35},20517065871,"JINSEI SAC","LIMA","Centro"]
[null,"EPIC LABS S.A.C.",3,41559,41559,13853,{"$nulls":35},20518321839,"JIREH D & M S.A.C.","LIMA","Centro"]
[null,"COPYNET DATA S.A.C.",6,126273,41537,21045.5,{"$nulls":35},20514469840,"JJJ KADAR S.A.C.","LIMA","Centro"]
[null,"XIE HUA CHUANG",3,60941,41495,20313.666666666668,{"$nulls":35},20493435401,"JOMAHI E.I.R.L.","LORETO","Norte"]
[null,"SOJITZ PERU S.A.",6,117050,41216,19508.333333333332,{"$nulls":35},20481720592,"JOMALUZ E.I.R.L.","LA LIBERTAD","Norte"]
[null,"TECH LAB S.A.C.",6,133666,41175,22277.666666666668,{"$nulls":35},20506562091,"JOMAR KOAN S.A.C.","LIMA","Centro"]
[null,"JOYAS ANTHONY EIRL",5,107615,41073,21523,{"$nulls":35},20510763387,"JOMI TOURS S.A.C","LIMA","Centro"]
[null,"CODIGO 55 S.A.C.",4,84917,41065,21229.25,{"$nulls":35},20505320892,"JON MARSIL E.I.R.L","LIMA","Centro"]
[null,"LAURA PARI ALIPIO",6,129883,40990,21647.166666666668,{"$nulls":35},20517017125,"JORTRANSPORT S.R.L.","LIMA","Centro"]
[null,"WASHOKU S.A.C.",2,40982,40982,20491,{"$nulls":35},20492134253,"JOSHEL IMPORT SAC","LIMA","Centro"]
[null,"CAO  JINGHUI",5,107907,40685,21581.4,{"$nulls":35},20516504502,"JOSLYN PERU S.A.C.","LIMA","Centro"]
[null,"MONICA CHANG S.A.C.",2,40642,40642,20321,{"$nulls":35},20251856258,"JOYAS ANTHONY EIRL","LIMA","Centro"]
[null,"CUEROTEX S.A.C",3,65340,40442,21780,{"$nulls":35},10437909534,"JURO CHAPARRO ISAAC","LIMA","Centro"]
[null,"TMF PERU S.R.L.",5,91557,40422,18311.4,{"$nulls":35},20220280811,"JV ELECTRONICA EIRL","LIMA","Centro"]
[null,"RONESK S.A.C.",4,76708,40173,19177,{"$nulls":35},20516819082,"JYM FASHION EIRL","LIMA","Centro"]
[null,"DAMIAN SRLTDA.",6,99982,40113,16663.666666666668,{"$nulls":35},20521459027,"KAMASENI S.A.C.","LIMA","Centro"]
[null,"WSILVAP E.I.R.L",4,94604,40038,23651,{"$nulls":35},20454050950,"KAMIFE E.I.R.L.","AREQUIPA","Sur"]
[null,"HOCADE S.A.",3,68860,39648,22953.333333333332,{"$nulls":35},20523849400,"KARCIL S.A.C","LIMA","Centro"]
[null,"JORTRANSPORT S.R.L.",4,72363,39548,18090.75,{"$nulls":35},20516623005,"KARPATRI S.A.C.","LIMA","Centro"]
[null,"AGROVISION E.I.R.L.",3,52804,39440,17601.333333333332,{"$nulls":35},20509553468,"KATHY R S.A.C.","LIMA","Centro"]
[null,"PEREA VELA JANETH",6,127539,39388,21256.5,{"$nulls":35},20276874234,"KAVIEL E.I.R.L","PIURA","Norte"]
[null,"CHAMS S.R.L.",2,39288,39288,19644,{"$nulls":35},15507675406,"KE JIANQING","LIMA","Centro"]
[null,"REAL EQUIPOS S R L.",3,67842,39173,22614,{"$nulls":35},20265988777,"KEMALU S.A.C.","LIMA","Centro"]
[null,"CONASEM E.I.R.L.",5,90840,39100,18168,{"$nulls":35},20379966536,"KENUAL S.A.C.","LIMA","Centro"]
[null,"TRANSEQUIP E.I.R.L.",5,101437,39088,20287.4,{"$nulls":35},20528120971,"KETZI S.A.C.","LORETO","Norte"]
[null,"VEGA RIOS GLORIA",6,101698,39082,16949.666666666668,{"$nulls":35},20522728315,"KEV S.A.C.","LIMA","Centro"]
[null,"TRAUMA SPORT S.A.C.",3,38951,38951,12983.666666666666,{"$nulls":35},20521563517,"KINSA WARMI SRL","LIMA","Centro"]
[null,"VICKO Y CO S.A.",3,54384,38514,18128,{"$nulls":35},20519498201,"KIYOTAMA  S.A.C.","LIMA","Centro"]
[null,"CHEMAYOL E.I.R.L.",4,73453,38316,18363.25,{"$nulls":35},20506032025,"KOIMED S.A.C.","LIMA","Centro"]
[null,"KIYOTAMA  S.A.C.",3,61125,38280,20375,{"$nulls":35},20516463121,"KOMAX PERU S.A.C.","LIMA","Centro"]
[null,"ISHIZAWA OHBA JULIO",4,85196,38098,21299,{"$nulls":35},20515661493,"KORN S.A.C.","LIMA","Centro"]
[null,"JAR DECO EIRL",2,37795,37795,18897.5,{"$nulls":35},20492578216,"KORPAK E.I.R.L.","LIMA","Centro"]
[null,"DELGADO DIAZ ABEL",4,91230,37682,22807.5,{"$nulls":35},20520772813,"KOZUMI PERU S.A.","LIMA","Centro"]
[null,"VILLA DENT SRL",5,91431,37664,18286.2,{"$nulls":35},20454324243,"KROMO E.I.R.L.","AREQUIPA","Sur"]
[null,"HARBINGER S.A.C.",7,151460,37440,21637.14285714286,{"$nulls":35},20454925166,"KUNTUR WASSI S.A.C.","AREQUIPA","Sur"]
[null,"PERU BOX AIR S.A.C.",5,96694,37358,19338.8,{"$nulls":35},20519327148,"KYODAI PERU S.A.C.","LIMA","Centro"]
[null,"NEXT CARGO S.A.C.",5,93741,37346,18748.2,{"$nulls":35},20479653900,"L & C SERVIS EIRL","AMAZONAS","Norte"]
[null,"PARKETON S.A.C.",6,98777,37331,16462.833333333332,{"$nulls":35},20300213554,"L M MOTORS SA","LIMA","Centro"]
[null,"PEQUE E.I.R.L.",6,129115,37268,21519.166666666668,{"$nulls":35},20455116938,"LA BRETAÐA S.A.C.","AREQUIPA","Sur"]
[null,"CUEROS TAURO S.A.C.",4,88732,37267,22183,{"$nulls":35},20352426866,"LA GRANJITA E.I.R.L","UCAYALI","Sur"]
[null,"FENIX DEL PERU SRL",5,97286,37230,19457.2,{"$nulls":35},20492605981,"LA JOSEFA S.A.C.","LIMA","Centro"]
[null,"MEDICAL CT S.A.C.",4,48564,37143,12141,{"$nulls":35},20496815263,"LA LUCILA S.R.L.","AREQUIPA","Sur"]
[null,"OTUSS S.A.C.",2,37107,37107,18553.5,{"$nulls":35},20100809321,"LA ROCCA SAC","LIMA","Centro"]
[null,"SILIMEDIC S.A.C.",2,37050,37050,18525,{"$nulls":35},20532385050,"LA TIENDA E.I.R.L.","MOQUEGUA","Sur"]
[null,"CACERES RAMOS JORGE",4,87382,36990,21845.5,{"$nulls":35},20510052367,"LAGO IMPORT EIRL","LIMA","Centro"]
[null,"ZHOU YA S.A.C",6,126861,36853,21143.5,{"$nulls":35},10410922474,"LAM LEUNG ALEJANDRO","LIMA","Centro"]
[null,"CIGREN PERU S.A.C.",7,144737,36463,20676.714285714286,{"$nulls":35},20482154833,"LARCO PETS EIRL","LA LIBERTAD","Norte"]
[null,"TROQPA SAC",6,96510,35953,16085,{"$nulls":35},10004654264,"LAURA PARI ALIPIO","LIMA","Centro"]
[null,"VILELA ABAD JUAN",5,99835,35925,19967,{"$nulls":35},20482045546,"LAURI S.A.C.","LA LIBERTAD","Norte"]
[null,"AYUMI S.A.C.",2,35820,35820,17910,{"$nulls":35},20101915213,"LAVA EXPRESS SAC","LIMA","Centro"]
[null,"APAZA MAMANI NATTY",5,105558,35685,21111.6,{"$nulls":35},15217834632,"LEE WEI LIN","LIMA","Centro"]
[null,"MURPA S.A.",3,63734,35484,21244.666666666668,{"$nulls":35},15418101901,"LEI HUANLAN","LIMA","Centro"]
[null,"CHAVEZ FLORES BETZY",6,124278,35258,20713,{"$nulls":35},20455002339,"LEON GROUP E.I.R.L.","AREQUIPA","Sur"]
[null,"XSTRATA PERU S.A",4,80709,35178,20177.25,{"$nulls":35},20407926278,"LEOPAN E.I.R.L.","LIMA","Centro"]
[null,"S & J IMPORT S.A.C.",5,83908,35094,16781.6,{"$nulls":35},10455305913,"LEUNG PANG EILEEN","LIMA","Centro"]
[null,"R.K.S. E.I.R.L.",3,48338,35033,16112.666666666666,{"$nulls":35},20510727402,"LI & MAN S.R.L.","LIMA","Centro"]
[null,"BALTRONIX E.I.R.L.",4,55953,34718,13988.25,{"$nulls":35},15303459917,"LI SHUI PIN","LIMA","Centro"]
[null,"MENCANI E.I.R.L.",3,57107,34628,19035.666666666668,{"$nulls":35},15516987038,"LI XINNAN","LIMA","Centro"]
[null,"APRENDA S.A.",3,53771,34611,17923.666666666668,{"$nulls":35},20430196783,"LIANHE SRL","LIMA","Centro"]
[null,"ZAMOL S.A.C.",3,52026,34116,17342,{"$nulls":35},15504196574,"LIAO GUO WEI","LIMA","Centro"]
[null,"SCORAL S.A.C.",5,75314,33551,15062.8,{"$nulls":35},20263992629,"LIDER GAS E.I.R.L.","LIMA","Centro"]
[null,"D'BEGASA S.A.C.",5,102179,33354,20435.8,{"$nulls":35},20481057851,"LIDER GRAFICO SRL","LA LIBERTAD","Norte"]
[null,"EPSON PERU S.A",6,127370,33140,21228.333333333332,{"$nulls":35},20413389110,"LIMBERT E.I.R.L.","AREQUIPA","Sur"]
[null,"ARTROTRAUMAS SAC",3,45181,33017,15060.333333333334,{"$nulls":35},10295357920,"LIMPI QUISPE CELIA","LIMA","Centro"]
[null,"JOSLYN PERU S.A.C.",5,79122,33000,15824.4,{"$nulls":35},20518919611,"LINDO HOGAR S.A.C","LIMA","Centro"]
[null,"MERZARIO PERU SAC",3,57057,32794,19019,{"$nulls":35},20523201515,"LIU LING XIANG EIRL","LIMA","Centro"]
[null,"PLASTIJHIM SRL",3,56382,32748,18794,{"$nulls":35},20521428067,"LIZFEL E.I.R.L.","LIMA","Centro"]
[null,"APAZA DE CRUZ IRENE",5,99244,32719,19848.8,{"$nulls":35},20515050265,"LLANGRAF E.I.R.L","LIMA","Centro"]
[null,"AYC FLORES S.A.C.",2,32475,32475,16237.5,{"$nulls":35},20505755431,"LMS MENAGE S.A.C.","LIMA","Centro"]
[null,"MIKOMI SAC",6,116647,32279,19441.166666666668,{"$nulls":35},10310039115,"LOAYZA KARI ENRIQUE","LIMA","Centro"]
[null,"VYLDTECO S R L",6,93873,32174,15645.5,{"$nulls":35},20481107971,"LOGISTICA PERU SRL","LA LIBERTAD","Norte"]
[null,"FLORES PARI ROSALIA",4,76322,32133,19080.5,{"$nulls":35},20521103192,"LOLA & MIGUEL SAC","LIMA","Centro"]
[null,"PNEUMOHELP E.I.R.L.",5,100980,31748,20196,{"$nulls":35},20517136302,"LONGE VITA SAC","LIMA","Centro"]
[null,"JIREH D & M S.A.C.",2,31670,31670,15835,{"$nulls":35},10053221730,"LOPEZ ARIAS MANUEL","LIMA","Centro"]
[null,"QUISPE NINA AMERICO",6,102846,31556,17141,{"$nulls":35},10001118761,"LOPEZ DURAND ISAAC","LIMA","Centro"]
[null,"PILCO VILCA PASTORA",9,188248,31310,20916.444444444445,{"$nulls":35},10438129575,"LOPEZ MEGO DILMER","LIMA","Centro"]
[null,"LIMPI QUISPE CELIA",4,77893,31134,19473.25,{"$nulls":35},20102310358,"LOZANO E I R LTDA","LIMA","Centro"]
[null,"REHOBOT PC E.I.R.L.",6,114553,31095,19092.166666666668,{"$nulls":35},20480520883,"LOZANO IMPORT SAC.","LAMBAYEQUE","Norte"]
[null,"TANZACO S.A.C",7,107111,31033,15301.57142857143,{"$nulls":35},20450230104,"LUBRILLANTE EIRL","SAN MARTIN","Norte"]
[null,"J.D. PLASTIC S.A.C.",8,133491,30766,16686.375,{"$nulls":35},20522967492,"LUCMOIS E.I.R.L.","LIMA","Centro"]
[null,"FUKU E.I.R.L.",8,142767,30649,17845.875,{"$nulls":35},20519316537,"LUMOGA   E.I.R.L.","LIMA","Centro"]
[null,"NIETO MEJIA VILMA",5,93797,30394,18759.4,{"$nulls":35},10004416134,"LUQUE HUANCA IRMA","LIMA","Centro"]
[null,"TRANSLYA S.A.C.",3,55295,29766,18431.666666666668,{"$nulls":35},20491944553,"LUZ Y COLOR S.A.C.","LIMA","Centro"]
[null,"B2B CENTER S.A.C",4,69055,29723,17263.75,{"$nulls":35},20393233622,"LYON SPORT EIRL","UCAYALI","Sur"]
[null,"ATELCINE PERU SAC",6,113276,29611,18879.333333333332,{"$nulls":35},20516097192,"M & R TANQUE SAC","LIMA","Centro"]
[null,"STEKIAN S.A.C.",3,43531,29553,14510.333333333334,{"$nulls":35},20522706184,"M & ST SALUD S.A.C","LIMA","Centro"]
[null,"VASQUEZ CAMPOS BETY",3,79057,29531,26352.333333333332,{"$nulls":35},20101124607,"M Y W SALAS S A","LIMA","Centro"]
[null,"MIDSUTECH S.A.C.",3,75118,29320,25039.333333333332,{"$nulls":35},20522678547,"MAC HARE S.A.C.","CALLAO","Centro"]
[null,"GOLD TEXTIL S.A.C.",8,156678,29237,19584.75,{"$nulls":35},20438516086,"MACOFEVI E.I.R.L.","LA LIBERTAD","Norte"]
[null,"GLASSCORP S.A.C.",2,51402,29058,25701,{"$nulls":35},20514403156,"MACUSU S.A.C.","LIMA","Centro"]
[null,"35-17 CARGO S.A.C.",3,68685,29026,22895,{"$nulls":35},20494212570,"MAGALAB E.I.R.L.","ICA","Sur"]
[null,"QU GU LIQI",3,66701,29001,22233.666666666668,{"$nulls":35},20515468731,"MAGIA GAMING S.A.C.","LIMA","Centro"]
[null,"CURASMA POMA YODI",5,95943,28881,19188.6,{"$nulls":35},20298826900,"MAGROF S.A.","LIMA","Centro"]
[null,"AGRO SELECTO S.A.C.",6,146654,28716,24442.333333333332,{"$nulls":35},10227544207,"MALDONADO CRUZ RAUL","LIMA","Centro"]
[null,"WANG - XIAMENG",2,49320,28697,24660,{"$nulls":35},10401100798,"MAMANI ANCCO DAMIAN","LIMA","Centro"]
[null,"MARINAS GUZMAN JOSE",7,119187,28617,17026.714285714286,{"$nulls":35},10046331058,"MAMANI SOSA ANA","LIMA","Centro"]
[null,"PASTAGIORNO E.I.R.L",7,132868,28333,18981.14285714286,{"$nulls":35},10444479791,"MAMANI TONE MARLENI","LIMA","Centro"]
[null,"VEGA GRAF E.I.R.L.",3,79861,28160,26620.333333333332,{"$nulls":35},20516917769,"MAMICLUB S.A.C.","LIMA","Centro"]
[null,"TEXTIL 1649 S.A.C.",5,91179,28112,18235.8,{"$nulls":35},20492579450,"MANBREN S.A.","LIMA","Centro"]
[null,"CHIANG JIANG S.A.C.",3,84342,27949,28114,{"$nulls":35},20518258886,"MAQ DEPOT S.A.C.","LIMA","Centro"]
[null,"QUAN-FHU S.C.R.L.",7,133915,27894,19130.714285714286,{"$nulls":35},20516975700,"MAQPOL S.A.C.","LIMA","Centro"]
[null,"ORTIZ LOPEZ OSCAR",3,56754,27889,18918,{"$nulls":35},10004186601,"MAQUERA RAMOS IRMA","LIMA","Centro"]
[null,"CJ TELECOM SAC",3,39169,27875,13056.333333333334,{"$nulls":35},20494457840,"MAQUIHER E.I.R.L.","ICA","Sur"]
[null,"TELSER S.R.L",2,27785,27785,13892.5,{"$nulls":35},20520663011,"MARCESA S.R.L.","LIMA","Centro"]
[null,"CLORINA S.A.C.",5,104667,27637,20933.4,{"$nulls":35},20509691429,"MARCOTEX S.R.L.","LIMA","Centro"]
[null,"F Y F CORP. S.A.C.",4,82815,27540,20703.75,{"$nulls":35},10009617707,"MARINAS GUZMAN JOSE","LIMA","Centro"]
[null,"ECOMODA S.A.C.",4,90395,27440,22598.75,{"$nulls":35},20498640941,"MARVE E.I.R.L.","AREQUIPA","Sur"]
[null,"GRUPO VASQUEZ SAC",5,117287,27316,23457.4,{"$nulls":35},10104315343,"MATOS CAMAC FELIX","LIMA","Centro"]
[null,"ARDESIA SAC",3,60606,27299,20202,{"$nulls":35},10424250274,"MAYO TAQUIA JOVANA","LIMA","Centro"]
[null,"BRANAT E.I.R.L.",6,95290,27285,15881.666666666666,{"$nulls":35},20453773851,"MC SERVICE EIRL","CAJAMARCA","Norte"]
[null,"TOLDOS J.J.V S.R.L.",3,74561,27242,24853.666666666668,{"$nulls":35},20517960714,"MECDRILL  E.I.R.L.","LIMA","Centro"]
[null,"RENGIFO LOPEZ SARA",3,54470,27159,18156.666666666668,{"$nulls":35},20208310730,"MEDELCO SRL","AREQUIPA","Sur"]
[null,"JYM FASHION EIRL",2,53129,27037,26564.5,{"$nulls":35},20481567204,"MEDFARMA EIRL","LA LIBERTAD","Norte"]
[null,"M Y W SALAS S A",6,84404,27027,14067.333333333334,{"$nulls":35},20516824167,"MEDICAL CT S.A.C.","LIMA","Centro"]
[null,"PERUVIANDENT S.A.C.",3,69213,26882,23071,{"$nulls":35},20511430276,"MEDICAL HOPE S.A.C.","LIMA","Centro"]
[null,"CONSORCIO LIPESOL",5,87426,26754,17485.2,{"$nulls":35},20516024551,"MEDICAL MED SAC","LIMA","Centro"]
[null,"ECO GRANJA S.R.L.",3,72793,26739,24264.333333333332,{"$nulls":35},20498415157,"MEDITERRANEO S.A.C.","AREQUIPA","Sur"]
[null,"TITANIUM S.A.C.",4,63761,26734,15940.25,{"$nulls":35},10040365350,"MEDROA SOTO ORBAL","PASCO","Norte"]
[null,"3E SERVICIOS S.A.C.",2,49848,26686,24924,{"$nulls":35},20509937797,"MEGA GESTION S.A.C","LIMA","Centro"]
[null,"AYAME S.A.C.",6,117986,26638,19664.333333333332,{"$nulls":35},20508611120,"MEI-NOI SAC.","LIMA","Centro"]
[null,"ECOREP S.A.C.",4,89719,26621,22429.75,{"$nulls":35},20524293740,"MELASUR S.A.C.","LIMA","Centro"]
[null,"STANY S.A.C.",2,44611,26475,22305.5,{"$nulls":35},20446317688,"MENCANI E.I.R.L.","LIMA","Centro"]
[null,"TRAUMATOLOGIA S.A.",4,81938,26451,20484.5,{"$nulls":35},10091133542,"MENDOZA GARCIA RAUL","LIMA","Centro"]
[null,"CHOQUE COPA CARLOS",7,133150,26445,19021.428571428572,{"$nulls":35},20509825646,"MENESES SAC","LIMA","Centro"]
[null,"JINSEI SAC",6,124131,26384,20688.5,{"$nulls":35},20514808300,"MEPAL S.A.C","LIMA","Centro"]
[null,"GROUP E Y R S.R.L.",2,45597,26356,22798.5,{"$nulls":35},10425327351,"MERMA CHOQUE HECTOR","LIMA","Centro"]
[null,"CARBOTEC S.A.",2,26349,26349,13174.5,{"$nulls":35},20513960906,"MERP S.A.C.","LIMA","Centro"]
[null,"ICM CONSULTING SAC",5,91087,26219,18217.4,{"$nulls":35},20101912541,"MERZARIO PERU SAC","LIMA","Centro"]
[null,"ZOGRAS E.I.R.L.",2,43686,26160,21843,{"$nulls":35},20517444465,"METALAB S.A.C.","LIMA","Centro"]
[null,"CARRASCO RUIZ ELINO",5,88809,26020,17761.8,{"$nulls":35},20112103415,"METALES FINOS S.A.","LIMA","Centro"]
[null,"DISMOTSA",4,78129,25924,19532.25,{"$nulls":35},20511801517,"METRICO E.I.R.L.","LIMA","Centro"]
[null,"FAVINOX S.A.C.",3,47150,25773,15716.666666666666,{"$nulls":35},20522268993,"MEYTEX SAC","LIMA","Centro"]
[null,"MAGIA GAMING S.A.C.",3,68217,25663,22739,{"$nulls":35},20505014422,"MG-1 E.I.R.L.","CALLAO","Centro"]
[null,"SPORTRADE S.A.C.",4,92610,25523,23152.5,{"$nulls":35},20477799877,"MHO IMPORT S.A.C.","LIMA","Centro"]
[null,"CAMPOS QUISPE MARIO",4,80261,25241,20065.25,{"$nulls":35},20508014890,"MI CASA JNC S.A.C.","LIMA","Centro"]
[null,"BESTSOLTI SAC",6,115080,25115,19180,{"$nulls":35},20449189273,"MI ROSEDAL S.A.C.","LIMA","Centro"]
[null,"JV ELECTRONICA EIRL",1,25039,25039,25039,{"$nulls":35},20386298671,"MIAMI -SHOP S.A.C.","LIMA","Centro"]
[null,"SEGUNDO POSHA SOFIA",5,93110,25026,18622,{"$nulls":35},20449335431,"MICASA E.I.R.L.","MOQUEGUA","Sur"]
[null,"SPORT FREE E.I.R.L.",2,48618,25005,24309,{"$nulls":35},20533934464,"MICROTEC S.A.C.","ANCASH","Norte"]
[null,"A & SAN JOSE S.A.C",8,152510,24837,19063.75,{"$nulls":35},20512140131,"MIDSUTECH S.A.C.","LIMA","Centro"]
[null,"AIS PERU S.A.",2,43448,24814,21724,{"$nulls":35},20512002090,"MIFARMA S.A.C.","LIMA","Centro"]
[null,"ECO TAXI S.A.C.",5,110344,24760,22068.8,{"$nulls":35},20492878368,"MIKOMI SAC","CALLAO","Centro"]
[null,"PROGERSE S R L",5,87855,24747,17571,{"$nulls":35},20516336286,"MILYON  PERU S.A.C.","LIMA","Centro"]
[null,"LEI HUANLAN",6,135684,24372,22614,{"$nulls":35},10198499728,"MIRANDA YANQUI OLGA","LIMA","Centro"]
[null,"CELESTE GAS S.A.C.",4,69839,24288,17459.75,{"$nulls":35},20509753475,"MIRJANA S.A.C.","LIMA","Centro"]
[null,"QC DOSE S.A.C.",2,44398,24006,22199,{"$nulls":35},20492879763,"MISOKA S.A.C.","LIMA","Centro"]
[null,"MEI-NOI SAC.",5,105569,23994,21113.8,{"$nulls":35},20523728441,"MISS TOPAZIO S.A.C.","LIMA","Centro"]
[null,"TUBOS SAUL E.I.R.L.",1,23728,23728,23728,{"$nulls":35},20349564051,"MIWA SPORT S.A.","LIMA","Centro"]
[null,"CASA LE MAN'S S.A.",4,64661,23705,16165.25,{"$nulls":35},20518779266,"MIYAGUI S.A.C.","LIMA","Centro"]
[null,"TEXCOPE S.A.C.",3,79359,23620,26453,{"$nulls":35},20520715691,"MOCHILEROS S.A.C.","LIMA","Centro"]
[null,"BABY KNIT S.A.C",5,104452,23325,20890.4,{"$nulls":35},20517844137,"MODULEC S.A.C.","CALLAO","Centro"]
[null,"QUIMENSA EIRL",4,79949,23209,19987.25,{"$nulls":35},20494210445,"MODUPLAC S.A.C.","ICA","Sur"]
[null,"TOUS PERU S.A.C.",5,122301,23185,24460.2,{"$nulls":35},20481065101,"MOLVIMAR S.A.C.","LA LIBERTAD","Norte"]
[null,"ASTRIB S.A.C.",3,72207,22734,24069,{"$nulls":35},20506601682,"MONICA CHANG S.A.C.","LIMA","Centro"]
[null,"MERP S.A.C.",5,111205,22150,22241,{"$nulls":35},10420587614,"MORAN VALENCIA ENMA","LIMA","Centro"]
[null,"TEXPLAS S.A.C.",3,57295,21830,19098.333333333332,{"$nulls":35},20507198393,"MORE CLASS S.A.C","LIMA","Centro"]
[null,"SATORI S.A.C.",7,137766,21827,19680.85714285714,{"$nulls":35},20447916411,"MOSOQ INN E.I.R.L.","PUNO","Sur"]
[null,"PERVISAC SRL",4,70670,21677,17667.5,{"$nulls":35},20520813196,"MOTO ANDES S.A.C.","LIMA","Centro"]
[null,"MOCHILEROS S.A.C.",4,84088,21508,21022,{"$nulls":35},20512789685,"MOTOREMA S.A.C.","LIMA","Centro"]
[null,"MILYON  PERU S.A.C.",1,21312,21312,21312,{"$nulls":35},20512228063,"MOVILLANTAS S.A.C.","LIMA","Centro"]
[null,"DIVESA SERVICE S A",4,73445,21198,18361.25,{"$nulls":35},20454012519,"MPK E.I.R.L.","AREQUIPA","Sur"]
[null,"SANTO MARTIN S.A.C.",3,67288,20832,22429.333333333332,{"$nulls":35},20513403021,"MR MACELLAIO S.A.C.","LIMA","Centro"]
[null,"RAINBOW S.A.",4,75468,20794,18867,{"$nulls":35},20520827499,"MRP E.I.R.L.","LIMA","Centro"]
[null,"AGROSANTA E.I.R.L.",3,35707,20698,11902.333333333334,{"$nulls":35},20516572176,"MSM INSUMOS S.A.C","LIMA","Centro"]
[null,"PERU PIMA SA.",2,31616,20544,15808,{"$nulls":35},20136613830,"MULTIMUELLES S.A.","LIMA","Centro"]
[null,"MANBREN S.A.",6,129803,20182,21633.833333333332,{"$nulls":35},20514870528,"MULTITAPS S.A.C.","LIMA","Centro"]
[null,"DOMNAR S.A.C.",5,117766,19929,23553.2,{"$nulls":35},20498375937,"MULTIVISION S.R.L.","AREQUIPA","Sur"]
[null,"DEPOSITOS S A DEPSA",5,106197,19851,21239.4,{"$nulls":35},20512357386,"MURPA S.A.","LIMA","Centro"]
[null,"TRUCK PERU S.A.C.",4,81721,19743,20430.25,{"$nulls":35},20492556166,"MZF EIRL","LIMA","Centro"]
[null,"CACERESA S.A.C.",6,142302,19644,23717,{"$nulls":35},20508945257,"NABILA S.A.C.","LIMA","Centro"]
[null,"JOMAR KOAN S.A.C.",6,118072,19582,19678.666666666668,{"$nulls":35},20506803633,"NATURMEDIZIN S.A.C.","LIMA","Centro"]
[null,"ONCOINVEST E.I.R.L.",4,79688,19528,19922,{"$nulls":35},20480223081,"NAYMLAP INN S.A.C","LIMA","Centro"]
[null,"CARBOTEC II S.R.L.",2,34356,19165,17178,{"$nulls":35},20496030371,"NEGOCIOS A & D SRL","CAJAMARCA","Norte"]
[null,"NENE TEXTIL S.A.C.",1,18970,18970,18970,{"$nulls":35},20482024115,"NEGOCIOS VEGA SAC","LA LIBERTAD","Norte"]
[null,"HT NAYELI S.A.C",2,36983,18550,18491.5,{"$nulls":35},20519282616,"NEGYSER PERU S.A.C.","LIMA","Centro"]
[null,"LIAO GUO WEI",4,76029,18470,19007.25,{"$nulls":35},20516023580,"NENE TEXTIL S.A.C.","LIMA","Centro"]
[null,"ALIFAD E.I.R.L.",5,105323,18469,21064.6,{"$nulls":35},20514196428,"NEOSALUD S.A.C.","LIMA","Centro"]
[null,"ZHU MING S.A.C.",3,57013,18399,19004.333333333332,{"$nulls":35},20452503264,"NESTOR MARTIN S.R.L","ICA","Sur"]
[null,"SANATEL VIDA S.A.C.",4,78696,18361,19674,{"$nulls":35},20466263975,"NEXO GRAFICO S.A.C.","LIMA","Centro"]
[null,"QUEQUE MAMANI LIDIA",4,100820,18239,25205,{"$nulls":35},20511540535,"NEXT CARGO S.A.C.","LIMA","Centro"]
[null,"RIOS SOLIS ALCIDES",5,92798,18138,18559.6,{"$nulls":35},20363053395,"NEYOR E.I.R.L.","MOQUEGUA","Sur"]
[null,"O. UCHIDA S.A.C.",1,18102,18102,18102,{"$nulls":35},10296675496,"NEYRA MEDINA RAFAEL","LIMA","Centro"]
[null,"TRIMAGEN STUDIO SAC",3,74392,17851,24797.333333333332,{"$nulls":35},10167591642,"NIETO MEJIA VILMA","LIMA","Centro"]
[null,"FRANK MEDICA S.A.C",7,143072,17798,20438.85714285714,{"$nulls":35},20514393096,"NMS CORP S.A.C","LIMA","Centro"]
[null,"DIFMAG S.A.C",2,33314,17405,16657,{"$nulls":35},20502779410,"NORCOSTA S.A.C","LIMA","Centro"]
[null,"ROSAS PANDO ANIBAL",4,59650,17340,14912.5,{"$nulls":35},20492695875,"NORIKIRU S.A.C.","LIMA","Centro"]
[null,"MULTITAPS S.A.C.",3,60866,17306,20288.666666666668,{"$nulls":35},20514747670,"NORSOL S.A.C","LIMA","Centro"]
[null,"PROYECONSA S.A.C.",6,132216,17245,22036,{"$nulls":35},20100809088,"NOVA GAS S A","LIMA","Centro"]
[null,"COMPUMAGIC S.A.C.",5,101872,17241,20374.4,{"$nulls":35},20511816972,"NOVAX E.I.R.L.","LIMA","Centro"]
[null,"DKARGA S.A.C.",1,17174,17174,17174,{"$nulls":35},20525237452,"NUEVA ATLANTIS SAC","TUMBES","Norte"]
[null,"TV. CARD E.I.R.L.",4,70022,17136,17505.5,{"$nulls":35},20511816034,"NUTRE PERU E.I.R.L.","LIMA","Centro"]
[null,"CARROTEK S.A.C",4,74021,17086,18505.25,{"$nulls":35},20513719761,"O. UCHIDA S.A.C.","LIMA","Centro"]
[null,"LIZFEL E.I.R.L.",5,83781,17041,16756.2,{"$nulls":35},20516168391,"OBILABS  PERU  SAC","LIMA","Centro"]
[null,"DARMA S.A",6,110533,17038,18422.166666666668,{"$nulls":35},20517049671,"ODFJELL PERU S.A.C.","CALLAO","Centro"]
[null,"HUARACA ARIAS FABIO",1,17024,17024,17024,{"$nulls":35},20480668104,"OFITECC S.A.C.","CAJAMARCA","Norte"]
[null,"TWO STAR S.A.C.",3,52881,16837,17627,{"$nulls":35},20445506797,"OLEVAS E.I.R.L.","ANCASH","Norte"]
[null,"ROJAS VILLANO NILO",6,116426,16630,19404.333333333332,{"$nulls":35},20480520450,"OLRAS SRL.","LAMBAYEQUE","Norte"]
[null,"HOYOS CAMPOS LAZARO",1,16588,16588,16588,{"$nulls":35},20486167123,"OLVA WORLD E.I.R.L.","JUNIN","Centro"]
[null,"METALES FINOS S.A.",2,39858,16407,19929,{"$nulls":35},20111518255,"OMAN E.I.R.L.","LIMA","Centro"]
[null,"KOMAX PERU S.A.C.",1,16284,16284,16284,{"$nulls":35},20449373520,"OMNITEC S.R.L.","MOQUEGUA","Sur"]
[null,"ESTRATEGICA S.A.C.",5,87554,16224,17510.8,{"$nulls":35},20516549948,"ONCOINVEST E.I.R.L.","LIMA","Centro"]
[null,"GOSHE E.I.R.L.",2,26636,15448,13318,{"$nulls":35},20517261387,"OPTICAS JVQ  S.A.C.","LIMA","Centro"]
[null,"FUJIN EIRL",5,86754,14861,17350.8,{"$nulls":35},20109796094,"ORBE EMPRESARIAL SA","LIMA","Centro"]
[null,"AMEDEP E.I.R.L.",5,106453,14404,21290.6,{"$nulls":35},10234692114,"ORE TAIPE YOLANDA","LIMA","Centro"]
[null,"LAVA EXPRESS SAC",7,128185,14299,18312.14285714286,{"$nulls":35},20300293302,"OROMONTE S.A","LIMA","Centro"]
[null,"ARTIFICIUM S.A.C.",5,93584,14196,18716.8,{"$nulls":35},10026969650,"ORTIZ LOPEZ OSCAR","LIMA","Centro"]
[null,"ZELADA SILVA ANIBAL",3,60084,14012,20028,{"$nulls":35},10039003088,"OTERO NUÐEZ NESTOR","LIMA","Centro"]
[null,"FEMMEGIN E.I.R.L.",4,74884,13976,18721,{"$nulls":35},20481296251,"OTUSS S.A.C.","LIMA","Centro"]
[null,"BIOS PERU S.A.C.",1,13917,13917,13917,{"$nulls":35},20534106930,"OXIMARC S.R.L.","ANCASH","Norte"]
[null,"CPTECH S.A.C",3,53337,13894,17779,{"$nulls":35},20530903207,"PABEL S.A.C.","ANCASH","Norte"]
[null,"SEGECAL S.R.L.",6,110538,13685,18423,{"$nulls":35},20510345038,"PAR OFFICE SAC","LIMA","Centro"]
[null,"LLANGRAF E.I.R.L",3,58232,13661,19410.666666666668,{"$nulls":35},20522109097,"PARKETON S.A.C.","LIMA","Centro"]
[null,"MEDICAL HOPE S.A.C.",1,13463,13463,13463,{"$nulls":35},20513926121,"PASTAGIORNO E.I.R.L","LIMA","Centro"]
[null,"LOAYZA KARI ENRIQUE",5,73730,13276,14746,{"$nulls":35},20337209476,"PATIMOVIL SRLTDA","CALLAO","Centro"]
[null,"CLICK FARMA S.A.C.",4,82009,13221,20502.25,{"$nulls":35},10004217620,"PAXI PAUCAR TEODORO","LIMA","Centro"]
[null,"VIP PERU S.A.C.",3,39407,12427,13135.666666666666,{"$nulls":35},20515718436,"PC MAGIMPORT S.A.C.","LIMA","Centro"]
[null,"TRES OSOS SAC",1,12359,12359,12359,{"$nulls":35},20141240049,"PENTAGRAF S.A.C.","LIMA","Centro"]
[null,"TRATAR PERU SAC",3,49330,12220,16443.333333333332,{"$nulls":35},20511803994,"PEQUE E.I.R.L.","LIMA","Centro"]
[null,"ACQUAM S.R.LTDA",4,72810,12138,18202.5,{"$nulls":35},10432130989,"PERALTA ROMAN YOISY","LIMA","Centro"]
[null,"G & T CARGO S.A.C.",7,146199,12102,20885.571428571428,{"$nulls":35},10011438291,"PEREA VELA JANETH","LIMA","Centro"]
[null,"KAMASENI S.A.C.",3,50074,12057,16691.333333333332,{"$nulls":35},10010720252,"PEREZ ROMERO ROGER","LIMA","Centro"]
[null,"AIR JMC EIRL",1,11734,11734,11734,{"$nulls":35},10080433919,"PEREZ RUBIO IRENE","LIMA","Centro"]
[null,"INCOSERGEL S.A.C",4,65213,11040,16303.25,{"$nulls":35},20492060977,"PERU BOX AIR S.A.C.","CALLAO","Centro"]
[null,"GAVA PERU S.A.C.",3,61644,11011,20548,{"$nulls":35},20122742114,"PERU PIMA SA.","LIMA","Centro"]
[null,"TSABAZIS VASSILIOS",6,125272,10938,20878.666666666668,{"$nulls":35},20517867188,"PERUVIANDENT S.A.C.","LIMA","Centro"]
[null,"GONCORP S.A.C.",4,53338,10879,13334.5,{"$nulls":35},20125844741,"PERVISAC SRL","LIMA","Centro"]
[null,"E - MARKET E.I.R.L.",10,171707,10854,17170.7,{"$nulls":35},20356485000,"PHOENIX S.R.LTDA","PIURA","Norte"]
[null,"JIANG HUANYI",6,105021,10755,17503.5,{"$nulls":35},20494745632,"PIGMOOL E.I.R.L.","AYACUCHO","Sur"]
[null,"NMS CORP S.A.C",1,10597,10597,10597,{"$nulls":35},10017045003,"PILCO VILCA PASTORA","LIMA","Centro"]
[null,"T-APRUEBO S.A.C.",4,88114,10458,22028.5,{"$nulls":35},10180364540,"PINO VASQUEZ ALCIRA","LIMA","Centro"]
[null,"AZHOMBRO EIRL",2,36391,10418,18195.5,{"$nulls":35},20450305988,"PJJR EIRL","SAN MARTIN","Norte"]
[null,"MOTOREMA S.A.C.",4,69171,10044,17292.75,{"$nulls":35},20479989304,"PLASTIC JOAN FERN","LAMBAYEQUE","Norte"]
[null,"MIFARMA S.A.C.",2,48429,0,24214.5,{"$nulls":35},20516307936,"PLASTIJHIM SRL","LIMA","Centro"]
[null,"TRANSFORPLAST SAC",4,82560,0,20640,{"$nulls":35},20513810688,"PLASTILEON EIRL","LIMA","Centro"]
[null,"TACTICO MKT S.A.C.",5,88804,0,17760.8,{"$nulls":35},20517324486,"PLAZA MOTORS S.A.C.","LIMA","Centro"]
[null,"MERMA CHOQUE HECTOR",2,39473,0,19736.5,{"$nulls":35},20374484355,"PLUS MEDIC E.I.R.L.","LIMA","Centro"]
[null,"SQHE S.A.C.",2,35413,0,17706.5,{"$nulls":35},20514781851,"PMS PERU S.A.C.","LIMA","Centro"]
[null,"LIDER GAS E.I.R.L.",3,60749,0,20249.666666666668,{"$nulls":35},20338950897,"PNEUMOHELP E.I.R.L.","LIMA","Centro"]
[null,"SILVER & ME S.A.",5,103952,0,20790.4,{"$nulls":35},20456877916,"POLIMAT S.A.C.","LIMA","Centro"]
[null,"USATEL S.A.C.",2,37552,0,18776,{"$nulls":35},20516256843,"POLYTEX S.A.","LIMA","Centro"]
[null,"MIRANDA YANQUI OLGA",2,44113,0,22056.5,{"$nulls":35},20516035839,"PORCELL  S.A.C.","LIMA","Centro"]
[null,"MAMICLUB S.A.C.",2,35515,0,17757.5,{"$nulls":35},10060998464,"POZO TORRES CLAUDIA","LIMA","Centro"]
[null,"RAMA TEX S.A.C",2,35621,0,17810.5,{"$nulls":35},20261464617,"PRINT METAL S.A","LIMA","Centro"]
[null,"RV CONSULTORES SAC",2,41152,0,20576,{"$nulls":35},20512285539,"PRO MAKEUP E.I.R.L.","LIMA","Centro"]
[null,"MACUSU S.A.C.",2,30317,0,15158.5,{"$nulls":35},20516311615,"PRO VERDE SAC","LIMA","Centro"]
[null,"TECNO ALUM E.I.R.L.",1,28817,0,28817,{"$nulls":35},20101435785,"PROGERSE S R L","LIMA","Centro"]
[null,"LIANHE SRL",6,120775,0,20129.166666666668,{"$nulls":35},20492018857,"PROIMPULSA SAC","LIMA","Centro"]
[null,"ROYAL TRANS S.A.C.",4,79900,0,19975,{"$nulls":35},20503067391,"PROVESUR S.A.C","LIMA","Centro"]
[null,"NORIKIRU S.A.C.",4,77892,0,19473,{"$nulls":35},20514987476,"PROVINAK S.A.C.","LIMA","Centro"]
[null,"SUCAROL E.I.R.L.",6,111191,0,18531.833333333332,{"$nulls":35},20514340057,"PROYECONSA S.A.C.","LIMA","Centro"]
[null,"OPTICAS JVQ  S.A.C.",3,51455,0,17151.666666666668,{"$nulls":35},20507543678,"PRU SAC","LIMA","Centro"]
[null,"METRICO E.I.R.L.",5,119300,0,23860,{"$nulls":35},20503776520,"PUBLICITY S.R.L","LIMA","Centro"]
[null,"LOPEZ DURAND ISAAC",2,42992,0,21496,{"$nulls":35},20513456736,"PUROCORAZON S.A.C.","LIMA","Centro"]
[null,"CODICENTRO S.A.C.",3,60940,0,20313.333333333332,{"$nulls":35},20494626030,"QB&A S.A.C.","ICA","Sur"]
[null,"ARMESSO S.A.C",5,106698,0,21339.6,{"$nulls":35},20502168534,"QC DOSE S.A.C.","LIMA","Centro"]
[null,"GRANJA AZUL S A",5,116369,0,23273.8,{"$nulls":35},15379588678,"QU GU LIQI","LIMA","Centro"]
[null,"INFORHOUSE S.R.L.",2,22014,0,11007,{"$nulls":35},20383200505,"QUAN-FHU S.C.R.L.","LIMA","Centro"]
[null,"ALFAMODA S.A.C.",1,17562,0,17562,{"$nulls":35},10004925063,"QUEA TAPIA EULALIA","LIMA","Centro"]
[null,"CLARIGO S.A.C.",3,61625,0,20541.666666666668,{"$nulls":35},10006659981,"QUEQUE MAMANI LIDIA","LIMA","Centro"]
[null,"CEP SAN RAFAEL",5,92524,0,18504.8,{"$nulls":35},20514220078,"QUIMENSA EIRL","LIMA","Centro"]
[null,"EPOJE S.A.C",2,48425,0,24212.5,{"$nulls":35},20511804532,"QUIMICHEM S.A.C.","LIMA","Centro"]
[null,"LA JOSEFA S.A.C.",4,74407,0,18601.75,{"$nulls":35},10046208922,"QUISPE NINA AMERICO","LIMA","Centro"]
[null,"LEUNG PANG EILEEN",4,74741,0,18685.25,{"$nulls":35},10282706038,"QUISPE TORRES OLGA","LIMA","Centro"]
[null,"C.V.GLOBAL S.A.C.",3,43763,0,14587.666666666666,{"$nulls":35},20263637721,"R.K.S. E.I.R.L.","CALLAO","Centro"]
[null,"ALYJOV FARMA SRL",4,81449,0,20362.25,{"$nulls":35},20217339112,"RADIO ASTORIA S A","LORETO","Norte"]
[null,"GALAXY S R L",4,70386,0,17596.5,{"$nulls":35},20101010695,"RADIO LORETO S.A.C","LORETO","Norte"]
[null,"DICORO S.A.C.",3,51638,0,17212.666666666668,{"$nulls":35},20139832087,"RAINBOW S.A.","LIMA","Centro"]
[null,"INCIVIAS S.A.C.",3,76526,0,25508.666666666668,{"$nulls":35},20441161540,"RALP E.I.R.L","PIURA","Norte"]
[null,"EINS PERU   S.A.C.",3,40492,0,13497.333333333334,{"$nulls":35},20504063004,"RAMA TEX S.A.C","LIMA","Centro"]
[null,"ENERWELD SAC",3,58017,0,19339,{"$nulls":35},10074587947,"RAMOS JACINTO PEDRO","LIMA","Centro"]
[null,"INVERSMEN E.I.R.L.",2,35823,0,17911.5,{"$nulls":35},10428267872,"RAMOS ROCHA CARLOS","LIMA","Centro"]
[null,"LI & MAN S.R.L.",5,107374,0,21474.8,{"$nulls":35},20449206461,"RASCH S.A.C.","TACNA","Sur"]
[null,"HACEB DEL PERU S.A.",6,126666,0,21111,{"$nulls":35},20518019628,"RAUDO PERU S.A.C.","LAMBAYEQUE","Norte"]
[null,"HUANG LISHA",1,24333,0,24333,{"$nulls":35},20104710361,"RAVALT S.R.L.","ICA","Sur"]
[null,"COMPUVAL E.I.R.L.",1,11049,0,11049,{"$nulls":35},20449268653,"RB & RD S.R.L.","MOQUEGUA","Sur"]
[{"$nulls":41},20110814799,"REAL EQUIPOS S R L.","CALLAO","Centro"]
[{"$nulls":41},20531280092,"REDICAL SAC","SAN MARTIN","Norte"]
[{"$nulls":41},20455009856,"REDIJUA S.R.L.","AREQUIPA","Sur"]
[{"$nulls":41},20450762378,"REDISCAR E.I.R.L.","CUSCO","Sur"]
[{"$nulls":41},20124901350,"REDITEC E.I.R.L.","AREQUIPA","Sur"]
[{"$nulls":41},20349930502,"REFLECENTRO SRL","LIMA","Centro"]
[{"$nulls":41},20517527751,"REGALOS BENJI SAC","LIMA","Centro"]
[{"$nulls":41},20521835452,"REHOBOT PC E.I.R.L.","LIMA","Centro"]
[{"$nulls":41},20478052953,"RELINO OTR S.A.C.","LIMA","Centro"]
[{"$nulls":41},10076439198,"RENGIFO LOPEZ SARA","LIMA","Centro"]
[{"$nulls":41},20454466200,"REPDA PARTS S.R.L.","AREQUIPA","Sur"]
[{"$nulls":41},20454750421,"RESANPE S.R.L.","AREQUIPA","Sur"]
[{"$nulls":41},20482034269,"REY - SIL E.I.R.L.","LA LIBERTAD","Norte"]
[{"$nulls":41},20176514397,"REYAL SRLTDA","LIMA","Centro"]
[{"$nulls":41},10103593978,"REYES HUANCA GIL","LIMA","Centro"]
[{"$nulls":41},20505577745,"RICAVA S.A.C.","LIMA","Centro"]
[{"$nulls":41},20513881780,"RIE SAKATA E.I.R.L.","LIMA","Centro"]
[{"$nulls":41},20142278813,"RIFUSE EIRL","AREQUIPA","Sur"]
[{"$nulls":41},20449461224,"RIMASSA S.A.C.","TACNA","Sur"]
[{"$nulls":41},10048026147,"RIOS SOLIS ALCIDES","LIMA","Centro"]
[{"$nulls":41},10040164516,"RIVERA COSME CAYO","LIMA","Centro"]
[{"$nulls":41},20482132601,"RMRC E.I.R.L.","LA LIBERTAD","Norte"]
[{"$nulls":41},20512022104,"ROBERCAR EIRL","LIMA","Centro"]
[{"$nulls":41},20445406229,"RODIMPORT S.R.L.","ANCASH","Norte"]
[{"$nulls":41},10311885044,"ROJAS VILLANO NILO","LIMA","Centro"]
[{"$nulls":41},20100472181,"ROL EMPRESARIAL S A","LIMA","Centro"]
[{"$nulls":41},20475236131,"RONESK S.A.C.","LIMA","Centro"]
[{"$nulls":41},15521989171,"RONG YINGLIN","LIMA","Centro"]
[{"$nulls":41},20493651367,"ROSA ELENA S.R.L.","LORETO","Norte"]
[{"$nulls":41},10093988022,"ROSAS PANDO ANIBAL","LIMA","Centro"]
[{"$nulls":41},20486930161,"ROSATEX E.I.R.L.","JUNIN","Centro"]
[{"$nulls":41},20522302172,"ROYAL TRANS S.A.C.","LIMA","Centro"]
[{"$nulls":41},20514703117,"RPS PERU S.A.C.","LIMA","Centro"]
[{"$nulls":41},10178056811,"RUIZ LAVADO HEBER","LIMA","Centro"]
[{"$nulls":41},10008141466,"RUIZ PIÐA REMIGIO","LIMA","Centro"]
[{"$nulls":41},10091464867,"RUIZ VEGA ROBINSON","LIMA","Centro"]
[{"$nulls":41},20251706361,"RUTHY S S.R.LTDA","LIMA","Centro"]
[{"$nulls":41},20505999224,"RUWA S.A.C.","LIMA","Centro"]
[{"$nulls":41},20521991667,"RV COMPUTER S.A.C.","LIMA","Centro"]
[{"$nulls":41},20521593777,"RV CONSULTORES SAC","LIMA","Centro"]
[{"$nulls":41},20516894963,"S & J IMPORT S.A.C.","LIMA","Centro"]
[{"$nulls":41},20100320917,"S A RINCON GAUCHO","LIMA","Centro"]
[{"$nulls":41},20481029997,"S.J2 S.A.C.","LA LIBERTAD","Norte"]
[{"$nulls":41},15517143003,"SAAD SAID T I","LIMA","Centro"]
[{"$nulls":41},20450109020,"SACOSA SAC.","SAN MARTIN","Norte"]
[{"$nulls":41},20511323437,"SAINT LOUIS S.A.C.","LIMA","Centro"]
[{"$nulls":41},10230057589,"SALAS TUANAMA HIDA","LIMA","Centro"]
[{"$nulls":41},20514364312,"SALCOM S.A.C.","LIMA","Centro"]
[{"$nulls":41},20521388251,"SALISARA SAC","LIMA","Centro"]
[{"$nulls":41},10004240907,"SALLO LEVA ISABEL","LIMA","Centro"]
[{"$nulls":41},10085034206,"SALVADOR LAZO FIDEL","LIMA","Centro"]
[{"$nulls":41},20480279035,"SAMANTHA S.A.C.","LAMBAYEQUE","Norte"]
[{"$nulls":41},20511608865,"SAMMYTEC S.A.","LIMA","Centro"]
[{"$nulls":41},20486001152,"SAN CARLOS S.A.C.","JUNIN","Centro"]
[{"$nulls":41},20507240420,"SANATEL VIDA S.A.C.","LIMA","Centro"]
[{"$nulls":41},20253826682,"SANKUAY S.R.LTDA.","LIMA","Centro"]
[{"$nulls":41},20506768030,"SANTO MARTIN S.A.C.","LIMA","Centro"]
[{"$nulls":41},20515745671,"SATORI S.A.C.","LIMA","Centro"]
[{"$nulls":41},20100249601,"SCHENONE S A","CALLAO","Centro"]
[{"$nulls":41},20377397747,"SCHIENZA S.A.","LIMA","Centro"]
[{"$nulls":41},20513866551,"SCORAL S.A.C.","LIMA","Centro"]
[{"$nulls":41},20423909928,"S'DROP'S E.I.R.L.","LIMA","Centro"]
[{"$nulls":41},20522444121,"SEBAL S.A.C.","LIMA","Centro"]
[{"$nulls":41},20514644358,"SEGECAL S.R.L.","LIMA","Centro"]
[{"$nulls":41},10800936905,"SEGUNDO POSHA SOFIA","LIMA","Centro"]
[{"$nulls":41},20131529181,"SEGURINDUSTRIA SA","LA LIBERTAD","Norte"]
[{"$nulls":41},20482221883,"SEGURITEMP E.I.R.L.","LA LIBERTAD","Norte"]
[{"$nulls":41},20492881661,"SEIKATSU  SAC","LIMA","Centro"]
[{"$nulls":41},20452678731,"SEMAPELI S.R.L.","ICA","Sur"]
[{"$nulls":41},20503542375,"SERMATFER E.I.R.L","LIMA","Centro"]
[{"$nulls":41},20276898923,"SERPENOR S.R.LTDA","PIURA","Norte"]
[{"$nulls":41},20454563663,"SERTEGTEC S.A.C.","AREQUIPA","Sur"]
[{"$nulls":41},20479883573,"SERTEL PC S.R.L.","CAJAMARCA","Norte"]
[{"$nulls":41},20512392882,"SERV&DATA S.A.C.","LIMA","Centro"]
[{"$nulls":41},20531332076,"SERVICON S.A.C.","SAN MARTIN","Norte"]
[{"$nulls":41},20316119388,"SERVIMAX E.I.R.L","PIURA","Norte"]
[{"$nulls":41},20394674371,"SERVIMEDICOS S.A.C.","LAMBAYEQUE","Norte"]
[{"$nulls":41},20479940127,"SERVIS JAEN E.I.R.L","CAJAMARCA","Norte"]
[{"$nulls":41},20373019730,"SERVISAIR S.A.C.","LIMA","Centro"]
[{"$nulls":41},20100571243,"SERVITEC S A","LIMA","Centro"]
[{"$nulls":41},20454244134,"SERVITEC S.R.L.","AREQUIPA","Sur"]
[{"$nulls":41},20449499540,"SERVOX S.R.L.","TACNA","Sur"]
[{"$nulls":41},20496082509,"SHAKAVAEL S.R.L.","CAJAMARCA","Norte"]
[{"$nulls":41},20480495838,"SILFER E.I.R.L.","LAMBAYEQUE","Norte"]
[{"$nulls":41},20509644692,"SILIMEDIC S.A.C.","LIMA","Centro"]
[{"$nulls":41},10035959519,"SILVA RIVERA HAYDEE","LIMA","Centro"]
[{"$nulls":41},20519208211,"SILVER & ME S.A.","LIMA","Centro"]
[{"$nulls":41},20452668859,"SIMCA S.A.C.","ICA","Sur"]
[{"$nulls":41},20455143587,"SISCOM E.I.R.L.","AREQUIPA","Sur"]
[{"$nulls":41},20477823841,"SIZU S.A.C.","LIMA","Centro"]
[{"$nulls":41},20505286694,"SLENDER SAC","LIMA","Centro"]
[{"$nulls":41},20513511770,"SOBITEC PERU S.A.C.","LIMA","Centro"]
[{"$nulls":41},20416643122,"SOJITZ PERU S.A.","LIMA","Centro"]
[{"$nulls":41},20512867155,"SOLISA S.A.C.","LIMA","Centro"]
[{"$nulls":41},20482096612,"SOLO SERVICE S.A.C.","LA LIBERTAD","Norte"]
[{"$nulls":41},20513386932,"SOLOT PERU S.A.C.","CALLAO","Centro"]
[{"$nulls":41},20454443331,"SONMAR S.R.L.","AREQUIPA","Sur"]
[{"$nulls":41},20454231075,"SORUM S.R.L.","AREQUIPA","Sur"]
[{"$nulls":41},10070829075,"SOTO BAZAN WILFREDO","LIMA","Centro"]
[{"$nulls":41},10403694776,"SOTO VILA ROBERTO","LIMA","Centro"]
[{"$nulls":41},10101008652,"SOTO ZAMORA TITO","LIMA","Centro"]
[{"$nulls":41},20527418586,"SPEAK EASY","CUSCO","Sur"]
[{"$nulls":41},20519230811,"SPORT FREE E.I.R.L.","LIMA","Centro"]
[{"$nulls":41},20522552284,"SPORTRADE S.A.C.","LIMA","Centro"]
[{"$nulls":41},20463001651,"SPRIND S.A.C.","LIMA","Centro"]
[{"$nulls":41},20510400152,"SQHE S.A.C.","LIMA","Centro"]
[{"$nulls":41},20511789479,"STANY S.A.C.","LIMA","Centro"]
[{"$nulls":41},20510932324,"STEKIAN S.A.C.","LIMA","Centro"]
[{"$nulls":41},20385123311,"STYLO EDWIL SRL","LIMA","Centro"]
[{"$nulls":41},20407951035,"SUCAROL E.I.R.L.","LIMA","Centro"]
[{"$nulls":41},10248878679,"SUNI NUNONCCA SIMON","LIMA","Centro"]
[{"$nulls":41},20379957464,"SUPER MECANO S.A.C.","LIMA","Centro"]
[{"$nulls":41},20509463396,"SUPERPRINT S.A.C.","LIMA","Centro"]
[{"$nulls":41},10060382790,"SURCO SURCO RAFAEL","LIMA","Centro"]
[{"$nulls":41},20100674212,"SURTIDORES S.A.C.","LIMA","Centro"]
[{"$nulls":41},20522581624,"SVITZER ANDINO S.A.","CALLAO","Centro"]
[{"$nulls":41},20520975099,"SYO PERU S.A.C.","LIMA","Centro"]
[{"$nulls":41},20513954841,"SYSTCOM IMPORT SAC","LIMA","Centro"]
[{"$nulls":41},20506684286,"TACTICO MKT S.A.C.","LIMA","Centro"]
[{"$nulls":41},20365227129,"TAGA S.R.LTDA","AYACUCHO","Sur"]
[{"$nulls":41},20515268309,"TAI FENG SAC","LIMA","Centro"]
[{"$nulls":41},15250007491,"TANG KONG FU","LIMA","Centro"]
[{"$nulls":41},20478115467,"TANZACO S.A.C","LIMA","Centro"]
[{"$nulls":41},20482135294,"TAPIPLASTIC  S.A.C.","LA LIBERTAD","Norte"]
[{"$nulls":41},20520727192,"T-APRUEBO S.A.C.","LIMA","Centro"]
[{"$nulls":41},20515536591,"TBS LOGISTICS S.A.","LIMA","Centro"]
[{"$nulls":41},20510837500,"TECENG S.A.C.","LIMA","Centro"]
[{"$nulls":41},20448019901,"TECH HOME E.I.R.L.","PUNO","Sur"]
[{"$nulls":41},20519442915,"TECH LAB S.A.C.","LIMA","Centro"]
[{"$nulls":41},20473606098,"TECNO ALUM E.I.R.L.","LIMA","Centro"]
[{"$nulls":41},20101318801,"TECNO COLOR S R L","LIMA","Centro"]
[{"$nulls":41},20508851945,"TECNO LASER S.A.C.","LIMA","Centro"]
[{"$nulls":41},20527886920,"TECSE MUYOC","CUSCO","Sur"]
[{"$nulls":41},20136650441,"TELSER S.R.L","LIMA","Centro"]
[{"$nulls":41},20513090146,"TEXARIAN E.I.R.L.","LIMA","Centro"]
[{"$nulls":41},20388738228,"TEXCOPE S.A.C.","LIMA","Centro"]
[{"$nulls":41},20501037061,"TEXMACHINE S.A.C.","LIMA","Centro"]
[{"$nulls":41},20519478359,"TEXPLAS S.A.C.","LIMA","Centro"]
[{"$nulls":41},20523552148,"TEXTIL 1649 S.A.C.","LIMA","Centro"]
[{"$nulls":41},20326560210,"TEXTILAN S.R.LTDA","AREQUIPA","Sur"]
[{"$nulls":41},20514086240,"TEXTILES PAULA SAC","LIMA","Centro"]
[{"$nulls":41},20485069683,"TIERRA SUR E.I.R.L.","CUSCO","Sur"]
[{"$nulls":41},20421414611,"TITANIUM S.A.C.","LIMA","Centro"]
[{"$nulls":41},20507389571,"TLI ADUANAS S.A.C.","CALLAO","Centro"]
[{"$nulls":41},20513497769,"TMF PERU S.R.L.","LIMA","Centro"]
[{"$nulls":41},20480507607,"T-MOVIL S.A.C.","AMAZONAS","Norte"]
[{"$nulls":41},20519313783,"TOLDOS J.J.V S.R.L.","LIMA","Centro"]
[{"$nulls":41},10052235214,"TONG WONG MU CHIN","LIMA","Centro"]
[{"$nulls":41},20494650763,"TOP CENTER E.I.R.L.","AYACUCHO","Sur"]
[{"$nulls":41},20440486984,"TOP MODEL S.A.C","LA LIBERTAD","Norte"]
[{"$nulls":41},20523522311,"TOPOGIS S.A.C.","LIMA","Centro"]
[{"$nulls":41},20454987943,"TORSAL E.I.R.L.","AREQUIPA","Sur"]
[{"$nulls":41},20481041857,"TOTY S.A.C.","LA LIBERTAD","Norte"]
[{"$nulls":41},20523130073,"TOUS PERU S.A.C.","LIMA","Centro"]
[{"$nulls":41},20321281495,"TRANEDO S.R.L.","HUANUCO","Norte"]
[{"$nulls":41},20125649964,"TRANS ITAL S.A.C.","CALLAO","Centro"]
[{"$nulls":41},20509660469,"TRANSEQUIP E.I.R.L.","LIMA","Centro"]
[{"$nulls":41},20492855155,"TRANSFORPLAST SAC","CALLAO","Centro"]
[{"$nulls":41},20454403038,"TRANSILMAR S.A.C.","AREQUIPA","Sur"]
[{"$nulls":41},20523303601,"TRANSJOHNNY S.A.C.","LIMA","Centro"]
[{"$nulls":41},20507506985,"TRANSLYA S.A.C.","LIMA","Centro"]
[{"$nulls":41},20419105181,"TRANSOIL S.A.C.","LIMA","Centro"]
[{"$nulls":41},20254882888,"TRANSPORTE ZEM EIRL","LIMA","Centro"]
[{"$nulls":41},20510201541,"TRANSPOVAR S.R.L.","LIMA","Centro"]
[{"$nulls":41},20516072955,"TRANSUNION PERU SAC","LIMA","Centro"]
[{"$nulls":41},20454801432,"TRANSVED S.R.L.","AREQUIPA","Sur"]
[{"$nulls":41},20454229500,"TRASDIP E.I.R.L.","AREQUIPA","Sur"]
[{"$nulls":41},20516175339,"TRATAR PERU SAC","CALLAO","Centro"]
[{"$nulls":41},20503671264,"TRAUMA S.A.C.","LIMA","Centro"]
[{"$nulls":41},20516629038,"TRAUMA SPORT S.A.C.","LIMA","Centro"]
[{"$nulls":41},20260718364,"TRAUMATOLOGIA S.A.","LIMA","Centro"]
[{"$nulls":41},20514633828,"TRES OSOS SAC","LIMA","Centro"]
[{"$nulls":41},20509939901,"TRICOTTON S.A.C","LIMA","Centro"]
[{"$nulls":41},10010611194,"TRIGOZO DIAZ CLELIA","LIMA","Centro"]
[{"$nulls":41},20508704721,"TRIMAGEN STUDIO SAC","LIMA","Centro"]
[{"$nulls":41},20376240712,"TROQPA SAC","LIMA","Centro"]
[{"$nulls":41},20493136756,"TRUCK PERU S.A.C.","LIMA","Centro"]
[{"$nulls":41},15135214172,"TSABAZIS VASSILIOS","LIMA","Centro"]
[{"$nulls":41},20374961978,"TUBOS SAUL E.I.R.L.","LIMA","Centro"]
[{"$nulls":41},20510282010,"TUPER S.A.C.","LIMA","Centro"]
[{"$nulls":41},20407890141,"TV. CARD E.I.R.L.","LIMA","Centro"]
[{"$nulls":41},20373279642,"TWO STAR S.A.C.","LIMA","Centro"]
[{"$nulls":41},20452796342,"UNIDAX E.I.R.L.","AYACUCHO","Sur"]
[{"$nulls":41},20522594441,"UNIGRUAS S.A.C.","LIMA","Centro"]
[{"$nulls":41},20492507548,"URDICH SAC","LIMA","Centro"]
[{"$nulls":41},10804497906,"URETA SOTO SUSANA","LIMA","Centro"]
[{"$nulls":41},20515190270,"USATEL S.A.C.","LIMA","Centro"]
[{"$nulls":41},10291685779,"VALDEZ OCHOA NHELY","LIMA","Centro"]
[{"$nulls":41},20516305640,"VALTER SPORT SAC","LIMA","Centro"]
[{"$nulls":41},20481976392,"VAMER E.I.R.L","LA LIBERTAD","Norte"]
[{"$nulls":41},20530989161,"VARGAS S.R.L.","ANCASH","Norte"]
[{"$nulls":41},10406067756,"VASQUEZ CAMPOS BETY","LIMA","Centro"]
[{"$nulls":41},20518652606,"VEGA GRAF E.I.R.L.","LIMA","Centro"]
[{"$nulls":41},10062151108,"VEGA RIOS GLORIA","LIMA","Centro"]
[{"$nulls":41},20511265992,"VERA PLAV S.A.C.","LIMA","Centro"]
[{"$nulls":41},20482390995,"VGO S.A.C.","LA LIBERTAD","Norte"]
[{"$nulls":41},20503403685,"VHL FOOD SAC","LIMA","Centro"]
[{"$nulls":41},20515649523,"VICENT S.A.C.","LIMA","Centro"]
[{"$nulls":41},20100878993,"VICKO Y CO S.A.","LIMA","Centro"]
[{"$nulls":41},20521617111,"VIDA CORAL PERU SAC","LIMA","Centro"]
[{"$nulls":41},20522823491,"VIGATEC E.I.R.L.","PIURA","Norte"]
[{"$nulls":41},10027811120,"VILELA ABAD JUAN","LIMA","Centro"]
[{"$nulls":41},20462049057,"VILLA DENT SRL","LIMA","Centro"]
[{"$nulls":41},20492481051,"VILLA FIORI S.A.C.","LIMA","Centro"]
[{"$nulls":41},10465113664,"VILLA GALVEZ NEYCER","LIMA","Centro"]
[{"$nulls":41},20515090640,"VIP CHANNEL S.A.C.","LIMA","Centro"]
[{"$nulls":41},20464056417,"VIP PERU S.A.C.","LIMA","Centro"]
[{"$nulls":41},20454903600,"VIPE TOURS E.I.R.L.","AREQUIPA","Sur"]
[{"$nulls":41},20518062710,"VIRGO PERU SAC","LIMA","Centro"]
[{"$nulls":41},20493458796,"VIVEL S.A.","SAN MARTIN","Norte"]
[{"$nulls":41},20227516896,"VLALDO E.I.R.L.","PASCO","Norte"]
[{"$nulls":41},20100898161,"VYLDTECO S R L","LIMA","Centro"]
[{"$nulls":41},20509831026,"WAGER SLOTS S.A.C.","LIMA","Centro"]
[{"$nulls":41},20494411939,"WALLPA SUA  S.A.C","AYACUCHO","Sur"]
[{"$nulls":41},15509021292,"WANG - XIAMENG","LIMA","Centro"]
[{"$nulls":41},20515907085,"WASHOKU S.A.C.","LIMA","Centro"]
[{"$nulls":41},20513793228,"WHC DEL PERU S.A.","LIMA","Centro"]
[{"$nulls":41},20515349996,"WIBGUS S.A.C.","LIMA","Centro"]
[{"$nulls":41},20399273146,"WILCAS S.R.L.","PIURA","Norte"]
[{"$nulls":41},20491633477,"WSILVAP E.I.R.L","LIMA","Centro"]
[{"$nulls":41},15445696550,"XIAN CHUYAO","LIMA","Centro"]
[{"$nulls":41},17104438903,"XIE HUA CHUANG","LIMA","Centro"]
[{"$nulls":41},15440240558,"XIE SHIYA","LIMA","Centro"]
[{"$nulls":41},20508114509,"XIN HUI SAC","LIMA","Centro"]
[{"$nulls":41},20509362956,"XSTRATA PERU S.A","LIMA","Centro"]
[{"$nulls":41},20454565011,"X-TRA PLUS E.I.R.L.","AREQUIPA","Sur"]
[{"$nulls":41},15525907527,"YANG  JINZHAO","LIMA","Centro"]
[{"$nulls":41},15515246085,"YANG HUIXIAN","LIMA","Centro"]
[{"$nulls":41},15306188311,"YANG SHAO ZHONG","LIMA","Centro"]
[{"$nulls":41},20499777869,"YOAAN EIRL","LIMA","Centro"]
[{"$nulls":41},15122855152,"YON JAU JUAN","LIMA","Centro"]
[{"$nulls":41},20516552493,"YUT WU S.A.C.","LIMA","Centro"]
[{"$nulls":41},20502415566,"ZAMOL S.A.C.","LIMA","Centro"]
[{"$nulls":41},20508166568,"ZEF PERU S.A.C.","LIMA","Centro"]
[{"$nulls":41},20481687951,"ZELA KID'S E.I.R.L.","LA LIBERTAD","Norte"]
[{"$nulls":41},10081486234,"ZELADA SILVA ANIBAL","LIMA","Centro"]
[{"$nulls":41},15517901978,"ZHENG HE","LIMA","Centro"]
[{"$nulls":41},15262071429,"ZHONG YUSHU","LIMA","Centro"]
[{"$nulls":41},20518950291,"ZHOU YA S.A.C","LIMA","Centro"]
[{"$nulls":41},20512931856,"ZHU MING S.A.C.","LIMA","Centro"]
[{"$nulls":41},20509460702,"ZOE DESIGN S.A.C.","LIMA","Centro"]
[{"$nulls":41},20481853550,"ZOEY EIRL","LA LIBERTAD","Norte"]
[{"$nulls":41},20522597113,"ZOGRAS E.I.R.L.","LIMA","Centro"]

{"sheet":"xDASHBOARD","index":4,"n_rows":25,"n_cols":15,"rows_kept":25,"hidden":true,"merged":[[1,1,1,9],[2,1,3,1],[2,2,3,2],[2,3,3,3],[2,4,3,4],[2,5,3,6],[2,7,3,8],[2,11,7,14],[8,1,9,1],[8,2,9,2],[8,3,9,3],[8,4,9,4],[8,5,9,5],[8,6,9,6],[8,7,9,7],[8,8,9,8],[8,11,10,12],[8,13,10,14],[11,11,13,12],[11,13,13,14],[14,1,15,1],[14,2,15,2],[14,3,15,3],[14,4,15,4],[14,5,15,6],[14,7,15,8],[14,11,16,12],[14,13,16,13],[14,14,16,14],[17,11,18,11],[17,12,18,12],[17,13,18,13],[17,14,18,14],[19,11,20,12],[19,13,20,14],[24,1,24,9],[24,11,24,14]]}
[]
[null,"Cuentas por cobrar por región"]
[null,"Region","Operaciones","Total por Cobrar","Total atrasadas","Promedio \nVenta",null,"% Retraso",{"$nulls":3},"Cuentas por Cobrar\nDashboard"]
[]
[null,{"$f":"FX!I4","v":"Centro"},{"$f":"FX!J4","v":{"v":3779,"d":"3,779"}},{"$f":"FX!K4","v":{"v":75403259,"d":"$ 75,403,259 "}},{"$f":"FX!L4","v":{"v":37666992,"d":"$ 37,666,992 "}},{"$f":"FX!M4","v":{"v":19953.230748875365,"d":"$ 19,953 "}},{"$f":"F5","v":{"v":19953.230748875365,"d":"S/ 19,953 "}},{"$f":"E5/D5","v":{"v":0.4995406365658545,"d":"49.95%"}},{"$f":"H5","v":{"v":0.4995406365658545,"d":"49.95%"}}]
[null,{"$f":"FX!I5","v":"Norte"},{"$f":"FX!J5","v":584},{"$f":"FX!K5","v":{"v":23693029,"d":"$ 23,693,029 "}},{"$f":"FX!L5","v":{"v":11253410,"d":"$ 11,253,410 "}},{"$f":"FX!M5","v":{"v":40570.2551369863,"d":"$ 40,570 "}},{"$f":"F6","v":{"v":40570.2551369863,"d":"S/ 40,570 "}},{"$f":"E6/D6","v":{"v":0.47496713062732504,"d":"47.50%"}},{"$f":"H6","v":{"v":0.47496713062732504,"d":"47.50%"}}]
[null,{"$f":"FX!I6","v":"Sur"},{"$f":"FX!J6","v":637},{"$f":"FX!K6","v":{"v":17257656,"d":"$ 17,257,656 "}},{"$f":"FX!L6","v":{"v":8274721,"d":"$ 8,274,721 "}},{"$f":"FX!M6","v":{"v":27092.081632653062,"d":"$ 27,092 "}},{"$f":"F7","v":{"v":27092.081632653062,"d":"S/ 27,092 "}},{"$f":"E7/D7","v":{"v":0.47948116476536556,"d":"47.95%"}},{"$f":"H7","v":{"v":0.47948116476536556,"d":"47.95%"}}]
[]
[null,null,{"$f":"SUM(C5:C7)","v":{"v":5000,"d":"5,000"}},{"$f":"SUM(D5:D7)","v":{"v":116353944,"d":"$ 116,353,944 "}},{"$f":"SUM(E5:E7)","v":{"v":57195123,"d":"$ 57,195,123 "}},{"$f":"D9/C9","v":{"v":23270.7888,"d":"$ 23,271 "}},null,{"$f":"E9/D9","v":{"v":0.49156153228462973,"d":"49.16%"}},{"$nulls":3},"Pendientes por cobrar",null,{"$f":"D9","v":{"v":116353944,"d":"$ 116,353,944 "}}]
[]
[]
[{"$nulls":11},"Atrasadas",null,{"$f":"E9","v":{"v":57195123,"d":"$ 57,195,123 "}}]
[]
[null,"Principales clientes con retraso"]
[null,"Cliente","Operaciones","Total por Cobrar","Total atrasadas","Promedio \nVenta",null,"% Retraso",{"$nulls":3},"% Atraso",null,{"$f":"N12/N9","v":{"v":0.49156153228462973,"d":"49.16%"}},{"$f":"N15","v":{"v":0.49156153228462973,"d":"49%"}}]
[]
[null,{"$f":"FX!P4","v":"GOMEZ YUCRA SIMEON"},{"$f":"FX!Q4","v":8},{"$f":"FX!R4","v":{"v":182659,"d":"$ 182,659 "}},{"$f":"FX!S4","v":{"v":144020,"d":"$ 144,020 "}},{"$f":"FX!T4","v":{"v":22832.375,"d":"$ 22,832 "}},{"$f":"F17","v":22832.375},{"$f":"E17/D17","v":{"v":0.7884637493909415,"d":"78.85%"}},{"$f":"H17","v":0.7884637493909415}]
[null,{"$f":"FX!P5","v":"ALBACONSULT S.A.C."},{"$f":"FX!Q5","v":9},{"$f":"FX!R5","v":{"v":186601,"d":"$ 186,601 "}},{"$f":"FX!S5","v":{"v":138791,"d":"$ 138,791 "}},{"$f":"FX!T5","v":{"v":20733.444444444445,"d":"$ 20,733 "}},20733.444444444445,{"v":0.7437848671764888,"d":"74.38%"},0.7437848671764888,null,null,{"$f":"FX!AH18","v":{"v":95.345957718152,"d":"95"}},{"$f":"L18","v":95.345957718152},{"$f":"F9","v":{"v":23270.7888,"d":"$ 23,271 "}},{"$f":"N18","v":23270.7888}]
[null,{"$f":"FX!P6","v":"GOMEZ ROMANI LEONOR"},{"$f":"FX!Q6","v":10},{"$f":"FX!R6","v":{"v":231604,"d":"$ 231,604 "}},{"$f":"FX!S6","v":{"v":136672,"d":"$ 136,672 "}},{"$f":"FX!T6","v":{"v":23160.4,"d":"$ 23,160 "}},23160.4,{"v":0.5901107062054196,"d":"59.01%"},0.5901107062054196]
[null,{"$f":"FX!P7","v":"LOPEZ ARIAS MANUEL"},{"$f":"FX!Q7","v":10},{"$f":"FX!R7","v":{"v":226519,"d":"$ 226,519 "}},{"$f":"FX!S7","v":{"v":135836,"d":"$ 135,836 "}},{"$f":"FX!T7","v":{"v":22651.9,"d":"$ 22,652 "}},22651.9,{"v":0.5996671360901293,"d":"59.97%"},0.5996671360901293,null,null,"Dias promedio de cobranza",null,"Promedio de venta"]
[null,{"$f":"FX!P8","v":"COPY SERVICE MV SAC"},{"$f":"FX!Q8","v":7},{"$f":"FX!R8","v":{"v":146748,"d":"$ 146,748 "}},{"$f":"FX!S8","v":{"v":135614,"d":"$ 135,614 "}},{"$f":"FX!T8","v":{"v":20964,"d":"$ 20,964 "}},20964,{"v":0.9241284378662742,"d":"92.41%"},0.9241284378662742]
[null,{"$f":"FX!P9","v":"APAZA PUMA LEONARDA"},{"$f":"FX!Q9","v":9},{"$f":"FX!R9","v":{"v":186470,"d":"$ 186,470 "}},{"$f":"FX!S9","v":{"v":135167,"d":"$ 135,167 "}},{"$f":"FX!T9","v":{"v":20718.88888888889,"d":"$ 20,719 "}},20718.88888888889,{"v":0.7248726336676141,"d":"72.49%"},0.7248726336676141]
[null,{"$f":"FX!P10","v":"EL CAIRO S.A.C."},{"$f":"FX!Q10","v":7},{"$f":"FX!R10","v":{"v":177387,"d":"$ 177,387 "}},{"$f":"FX!S10","v":{"v":135144,"d":"$ 135,144 "}},{"$f":"FX!T10","v":{"v":25341,"d":"$ 25,341 "}},25341,{"v":0.761859662771229,"d":"76.19%"},0.761859662771229]
[]
[null,"Analisis de Anticuamiento de Deuda",{"$nulls":9},"Promedio de Venta & Nº Operaciones"]